{"text_format":"1","workbook":"xlsx","n_sheets":12,"sheets":["Startseite","Schadstoffkonzentrationen Boden","Tabelle1","Schadstoffkonzentrationen GW","Bodencharakterisierung","Grundwassercharakterisierung","Sanierungsdesign","Schadstoffbelastung","Calculation","Berechnung1","Stoffdatenbank","Heterogenität"],"not_rendered":{"charts":5,"images":33,"macros":1,"external_links":1,"defined_names":54,"comments":0,"pivot_tables":0},"unopened":[],"bounds":{"document_bytes":16777216,"sheet_cells":100000,"rows_first":2000,"rows_last":500,"rows_between":2000,"halvings":0,"cell_chars":16384,"cell_head_chars":4096},"cells_cut":0,"cells_raw":0,"read":"whole","date_system":"1900"}

{"sheet":"Startseite","index":0,"n_rows":5,"n_cols":13,"rows_kept":5,"cut":false,"hidden":false,"merged":[]}
[]
["Berechnung der Sanierungsdauer",null,null,null,null,null,null,null,null,null,null,"Excel-Version",{"$f":"INFO(\"version\")","v":"16.0"}]
["  In-Situ Chemische Oxidation (ISCO)"]
[]
["  Version 1.1"]

{"sheet":"Schadstoffkonzentrationen Boden","index":1,"n_rows":126,"n_cols":29,"rows_kept":126,"cut":false,"hidden":true,"merged":[[22,25,24,25],[23,26,25,26],[76,25,77,25],[76,26,77,26],[76,27,77,27],[76,28,77,28],[0,0,0,21],[20,0,20,21],[22,21,23,21],[25,0,25,21],[40,0,40,21],[68,0,68,21],[60,0,60,21],[75,0,75,20],[76,0,77,0],[22,22,24,22],[22,23,24,23],[22,24,24,24],[76,22,77,22],[76,23,77,23],[75,21,125,21],[78,0,78,20],[76,24,77,24],[93,0,93,20],[121,0,121,20],[113,0,113,20]]}
[]
[]
[]
[]
[]
[]
[]
[]
[]
[]
[]
[]
[]
[]
[]
[]
[]
[]
[]
[]
["  Mittlere Schadstoffmasse im gesättigten Boden (Einheitsfläche) (MB) [mg/m²]                             "]
[]
["Sondierung",1,2,3,4,5,6,7,8,9,10,11,12,13,14,15,16,17,18,19,20,"Summe [kg]"," Mittlere Flächen-Konz. (MB) [mg/m²]"," Standard-abweich. (MB) [mg/m²]","MB + 2 s  [mg/m²]"," Inventar \n(MB-bezogen) [kg]"]
[]
["Flächenrepräsentanz [m²]",null,null,null,null,null,null,null,null,null,null,null,null,null,null,null,null,null,null,null,null,{"$f":"IF(SUM(B25:U25)=Schadstoffbelastung!$J$6,SUM(B25:U25),\"Σ ≠ \"&Schadstoffbelastung!$J$6&\"!\")","v":"Σ ≠ 2436!"}]
["   Leichtflüchtige chlorierte Kohlenwasserstoffe (LCKW) ",null,null,null,null,null,null,null,null,null,null,null,null,null,null,null,null,null,null,null,null,"kg"]
["Tetrachlorethen",null,null,null,null,null,null,null,null,null,null,null,null,null,null,null,null,null,null,null,null,{"$f":"SUMPRODUCT($B$25:$U$25,$B27:$U27)*0.000001","v":0},{"$f":"IFERROR(AVERAGE($B27:$U27),0)","v":0},{"$f":"IF(ISNUMBER(_xlfn.STDEV.S(B27:U27)),_xlfn.STDEV.S(B27:U27),0)","v":0},{"$f":"IF(ISNUMBER(W27+X27*2),(W27+X27*2),0)","v":0},{"$f":"IFERROR(Y27*$V$25/1000/1000,0)","v":0}]
["Trichlorethen",null,null,null,null,null,null,null,null,null,null,null,null,null,null,null,null,null,null,null,null,{"$f":"SUMPRODUCT($B$25:$U$25,$B28:$U28)*0.000001","v":0},0,{"$f":"IF(ISNUMBER(_xlfn.STDEV.S(B28:U28)),_xlfn.STDEV.S(B28:U28),0)","v":0},{"$f":"IF(ISNUMBER(W28+X28*2),(W28+X28*2),0)","v":0},{"$f":"Y28*$V$25/1000/1000","v":{"$error":"#VALUE!"}}]
["cis-1,2-Dichlorethen",null,null,null,null,null,null,null,null,null,null,null,null,null,null,null,null,null,null,null,null,0,0,0,0,{"$error":"#VALUE!"}]
["trans-1,2-Dichlorethen",null,null,null,null,null,null,null,null,null,null,null,null,null,null,null,null,null,null,null,null,0,0,0,0,{"$error":"#VALUE!"}]
["1,1-Dichlorethen",null,null,null,null,null,null,null,null,null,null,null,null,null,null,null,null,null,null,null,null,0,0,0,0,{"$error":"#VALUE!"}]
["Vinylchlorid",null,null,null,null,null,null,null,null,null,null,null,null,null,null,null,null,null,null,null,null,0,0,0,0,{"$error":"#VALUE!"}]
["Tetrachlormethan",null,null,null,null,null,null,null,null,null,null,null,null,null,null,null,null,null,null,null,null,0,0,0,0,{"$f":"Y33*$V$25/1000/1000","v":{"$error":"#VALUE!"}}]
["Trichlormethan",null,null,null,null,null,null,null,null,null,null,null,null,null,null,null,null,null,null,null,null,0,0,0,0,{"$f":"Y34*$V$25/1000/1000","v":{"$error":"#VALUE!"}}]
["Dichlormethan",null,null,null,null,null,null,null,null,null,null,null,null,null,null,null,null,null,null,null,null,{"$f":"SUMPRODUCT($B$25:$U$25,$B35:$U35)*0.000001","v":0},0,0,0,{"$error":"#VALUE!"}]
["1,1,1-Trichlorethan",null,null,null,null,null,null,null,null,null,null,null,null,null,null,null,null,null,null,null,null,0,0,0,0,{"$error":"#VALUE!"}]
["1,1,2-Trichlorethan",null,null,null,null,null,null,null,null,null,null,null,null,null,null,null,null,null,null,null,null,0,0,0,0,{"$error":"#VALUE!"}]
["1,1-Dichlorethan",null,null,null,null,null,null,null,null,null,null,null,null,null,null,null,null,null,null,null,null,0,0,0,0,{"$error":"#VALUE!"}]
["1,2-Dichlorethan",null,null,null,null,null,null,null,null,null,null,null,null,null,null,null,null,null,null,null,null,0,0,0,0,{"$f":"Y39*$V$25/1000/1000","v":{"$error":"#VALUE!"}}]
["LCKW",{"$f":"IF(SUM(B27:B39)>0,SUM(B27:B39),\"\")","v":""},{"$f":"IF(SUM(C27:C39)>0,SUM(C27:C39),\"\")","v":""},"","","","","","","","","","","","","","","","","","",{"$f":"SUM(V27:V39)","v":0},0,0,0,{"$f":"SUM(Z27:Z38)","v":{"$error":"#VALUE!"}}]
["  (Mono)aromatische Kohlenwasserstoffe (AKW) "]
["Benzol",null,null,null,null,null,null,null,null,null,null,null,null,null,null,null,null,null,null,null,null,{"$f":"SUMPRODUCT($B$25:$U$25,$B42:$U42)*0.000001","v":0},{"$f":"IFERROR(AVERAGE($B42:$U42),0)","v":0},{"$f":"IF(ISNUMBER(_xlfn.STDEV.S(B42:U42)),_xlfn.STDEV.S(B42:U42),0)","v":0},0,{"$f":"Y42*$V$25/1000/1000","v":{"$error":"#VALUE!"}}]
["Toluol",null,null,null,null,null,null,null,null,null,null,null,null,null,null,null,null,null,null,null,null,0,{"$f":"IFERROR(AVERAGE($B43:$U43),0)","v":0},{"$f":"IF(ISNUMBER(_xlfn.STDEV.S(B43:U43)),_xlfn.STDEV.S(B43:U43),0)","v":0},0,{"$f":"Y43*$V$25/1000/1000","v":{"$error":"#VALUE!"}}]
["Ethylbenzol",null,null,null,null,null,null,null,null,null,null,null,null,null,null,null,null,null,null,null,null,0,0,0,0,{"$error":"#VALUE!"}]
["o-Xylol",null,null,null,null,null,null,null,null,null,null,null,null,null,null,null,null,null,null,null,null,0,0,0,0,{"$error":"#VALUE!"}]
["m-Xylol",null,null,null,null,null,null,null,null,null,null,null,null,null,null,null,null,null,null,null,null,0,0,0,0,{"$error":"#VALUE!"}]
["p-Xylol",null,null,null,null,null,null,null,null,null,null,null,null,null,null,null,null,null,null,null,null,0,0,0,0,{"$error":"#VALUE!"}]
["n-Propylbenzol",null,null,null,null,null,null,null,null,null,null,null,null,null,null,null,null,null,null,null,null,0,0,0,0,{"$error":"#VALUE!"}]
["Isopropylbenzol",null,null,null,null,null,null,null,null,null,null,null,null,null,null,null,null,null,null,null,null,0,0,0,0,{"$error":"#VALUE!"}]
["o-Ethyltoluol",null,null,null,null,null,null,null,null,null,null,null,null,null,null,null,null,null,null,null,null,0,0,0,0,{"$error":"#VALUE!"}]
["m-Ethyltoluol",null,null,null,null,null,null,null,null,null,null,null,null,null,null,null,null,null,null,null,null,0,0,0,0,{"$error":"#VALUE!"}]
["p-Ethyltoluol",null,null,null,null,null,null,null,null,null,null,null,null,null,null,null,null,null,null,null,null,0,0,0,0,{"$error":"#VALUE!"}]
["1,2-Diethylbenzol",null,null,null,null,null,null,null,null,null,null,null,null,null,null,null,null,null,null,null,null,0,0,0,0,{"$error":"#VALUE!"}]
["1,3-Diethylbenzol",null,null,null,null,null,null,null,null,null,null,null,null,null,null,null,null,null,null,null,null,0,0,0,0,{"$error":"#VALUE!"}]
["1,4-Diethylbenzol",null,null,null,null,null,null,null,null,null,null,null,null,null,null,null,null,null,null,null,null,0,0,0,0,{"$error":"#VALUE!"}]
["1,2,3-Trimethylbenzol",null,null,null,null,null,null,null,null,null,null,null,null,null,null,null,null,null,null,null,null,{"$f":"SUMPRODUCT($B$25:$U$25,$B56:$U56)*0.000001","v":0},0,0,0,{"$error":"#VALUE!"}]
["1,2,4-Trimethylbenzol",null,null,null,null,null,null,null,null,null,null,null,null,null,null,null,null,null,null,null,null,0,0,0,0,{"$error":"#VALUE!"}]
["1,3,5-Trimethylbenzol",null,null,null,null,null,null,null,null,null,null,null,null,null,null,null,null,null,null,null,null,0,0,0,0,{"$error":"#VALUE!"}]
["BTEX",{"$f":"IF(SUM(B42:B47)>0,SUM(B42:B47),\"\")","v":""},{"$f":"IF(SUM(C42:C47)>0,SUM(C42:C47),\"\")","v":""},"","","","","","","","","","","","","","","","","","",{"$f":"SUM(V42:V47)","v":0},{"$f":"IFERROR(AVERAGE($B59:$U59),0)","v":0},0,0,{"$f":"SUM(Z42:Z47)","v":{"$error":"#VALUE!"}}]
["AKW",{"$f":"IF(SUM(B42:B58)>0,SUM(B42:B58),\"\")","v":""},{"$f":"IF(SUM(C42:C58)>0,SUM(C42:C58),\"\")","v":""},"","","","","","","","","","","","","","","","","","",{"$f":"SUM(V42:V58)","v":0},0,0,0,{"$f":"SUM(Z42:Z58)","v":{"$error":"#VALUE!"}}]
["  n-Alkane "]
["  n-Pentan",null,null,null,null,null,null,null,null,null,null,null,null,null,null,null,null,null,null,null,null,{"$f":"SUMPRODUCT($B$25:$U$25,$B62:$U62)*0.000001","v":0},0,{"$f":"IF(ISNUMBER(_xlfn.STDEV.S(B62:U62)),_xlfn.STDEV.S(B62:U62),0)","v":0},0,{"$f":"Y62*$V$25/1000/1000","v":{"$error":"#VALUE!"}}]
["  n-Hexan",null,null,null,null,null,null,null,null,null,null,null,null,null,null,null,null,null,null,null,null,0,0,{"$f":"IF(ISNUMBER(_xlfn.STDEV.S(B63:U63)),_xlfn.STDEV.S(B63:U63),0)","v":0},0,{"$error":"#VALUE!"}]
["  n-Heptan",null,null,null,null,null,null,null,null,null,null,null,null,null,null,null,null,null,null,null,null,0,0,0,0,{"$error":"#VALUE!"}]
["  n-Octan",null,null,null,null,null,null,null,null,null,null,null,null,null,null,null,null,null,null,null,null,0,0,0,0,{"$error":"#VALUE!"}]
["  n-Nonan",null,null,null,null,null,null,null,null,null,null,null,null,null,null,null,null,null,null,null,null,0,0,0,0,{"$error":"#VALUE!"}]
["  n-Decan",null,null,null,null,null,null,null,null,null,null,null,null,null,null,null,null,null,null,null,null,0,0,0,0,{"$error":"#VALUE!"}]
["n-Alkane ",{"$f":"IF(SUM(B62:B67)>0,SUM(B62:B67),\"\")","v":""},{"$f":"IF(SUM(C62:C67)>0,SUM(C62:C67),\"\")","v":""},"","","","","","","","","","","","","","","","","","",{"$f":"SUM(V62:V67)","v":0},0,0,0,{"$f":"SUM(Z62:Z67)","v":{"$error":"#VALUE!"}}]
["  Oxigenate"]
["MTBE (Methyl-tert-butylether)",null,null,null,null,null,null,null,null,null,null,null,null,null,null,null,null,null,null,null,null,{"$f":"SUMPRODUCT($B$25:$U$25,$B70:$U70)*0.000001","v":0},0,{"$f":"IF(ISNUMBER(_xlfn.STDEV.S(B70:U70)),_xlfn.STDEV.S(B70:U70),0)","v":0},0,{"$f":"Y70*$V$25/1000/1000","v":{"$error":"#VALUE!"}}]
["ETBE (Ethyl-tert-butylether)",null,null,null,null,null,null,null,null,null,null,null,null,null,null,null,null,null,null,null,null,0,0,{"$f":"IF(ISNUMBER(_xlfn.STDEV.S(B71:U71)),_xlfn.STDEV.S(B71:U71),0)","v":0},0,{"$error":"#VALUE!"}]
["TBA (tert-Butylalkohol) ",null,null,null,null,null,null,null,null,null,null,null,null,null,null,null,null,null,null,null,null,0,0,0,0,{"$error":"#VALUE!"}]
["Oxigenate ",{"$f":"IF(SUM(B70:B72)>0,SUM(B70:B72),\"\")","v":""},{"$f":"IF(SUM(C70:C72)>0,SUM(C70:C72),\"\")","v":""},"","","","","","","","","","","","","","","","","","",{"$f":"SUM(V70:V72)","v":0},0,{"$f":"IF(ISNUMBER(_xlfn.STDEV.S(B73:U73)),_xlfn.STDEV.S(B73:U73),0)","v":0},0,{"$f":"SUM(Z70:Z72)","v":{"$error":"#VALUE!"}}]
[]
[]
[" Analysierte Schadstoffkonzentrationen im gesättigten Boden  [mg/kg]                             "]
[" Sondierung",1,2,3,4,5,6,7,8,9,10,11,12,13,14,15,16,17,18,19,20,null," Minimum [mg/kg OS]"," Maximum [mg/kg OS]"," Median [mg/kg OS]"," Mittlere Konz. (MW) [mg/kg OS]"," Standard-abweich.  [mg/kg OS]","MW + 2 s  [mg/kg OS]"," Inventar \n(Mittelwert-bezogen) [kg]"]
[]
["   Leichtflüchtige chlorierte Kohlenwasserstoffe (LCKW) "]
["Tetrachlorethen",null,null,null,null,null,null,null,null,null,null,null,null,null,null,null,null,null,null,null,null,null,{"$f":"MIN(B80:U80)","v":0},{"$f":"MAX($B80:$U80)","v":0},{"$f":"IFERROR(MEDIAN($B80:$U80),0)","v":0},{"$f":"IF(ISNUMBER(AVERAGE($B80:$U80)),AVERAGE($B80:$U80),0)","v":0},{"$f":"IF(ISNUMBER(_xlfn.STDEV.S(B80:U80)),_xlfn.STDEV.S(B80:U80),0)","v":0},{"$f":"Z80+AA80*2","v":0},{"$f":"AB80*Schadstoffbelastung!$J$12/1000","v":0}]
["Trichlorethen",null,null,null,null,null,null,null,null,null,null,null,null,null,null,null,null,null,null,null,null,null,{"$f":"MIN(B81:U81)","v":0},0,{"$f":"IFERROR(MEDIAN($B81:$U81),0)","v":0},{"$f":"IF(ISNUMBER(AVERAGE($B81:$U81)),AVERAGE($B81:$U81),0)","v":0},{"$f":"IF(ISNUMBER(_xlfn.STDEV.S(B81:U81)),_xlfn.STDEV.S(B81:U81),0)","v":0},{"$f":"Z81+AA81*2","v":0},{"$f":"AB81*Schadstoffbelastung!$J$12/1000","v":0}]
["cis-1,2-Dichlorethen",null,null,null,null,null,null,null,null,null,null,null,null,null,null,null,null,null,null,null,null,null,0,0,0,0,0,0,{"$f":"AB82*Schadstoffbelastung!$J$12/1000","v":0}]
["trans-1,2-Dichlorethen",null,null,null,null,null,null,null,null,null,null,null,null,null,null,null,null,null,null,null,null,null,0,0,0,0,0,0,{"$f":"AB83*Schadstoffbelastung!$J$12/1000","v":0}]
["1,1-Dichlorethen",null,null,null,null,null,null,null,null,null,null,null,null,null,null,null,null,null,null,null,null,null,0,0,0,0,0,0,{"$f":"AB84*Schadstoffbelastung!$J$12/1000","v":0}]
["Vinylchlorid",null,null,null,null,null,null,null,null,null,null,null,null,null,null,null,null,null,null,null,null,null,0,0,0,0,0,0,{"$f":"AB85*Schadstoffbelastung!$J$12/1000","v":0}]
["Tetrachlormethan",null,null,null,null,null,null,null,null,null,null,null,null,null,null,null,null,null,null,null,null,null,0,0,0,0,0,0,{"$f":"AB86*Schadstoffbelastung!$J$12/1000","v":0}]
["Trichlormethan",null,null,null,null,null,null,null,null,null,null,null,null,null,null,null,null,null,null,null,null,null,0,0,0,0,0,0,{"$f":"AB87*Schadstoffbelastung!$J$12/1000","v":0}]
["Dichlormethan",null,null,null,null,null,null,null,null,null,null,null,null,null,null,null,null,null,null,null,null,null,0,0,0,0,0,0,{"$f":"AB88*Schadstoffbelastung!$J$12/1000","v":0}]
["1,1,1-Trichlorethan",null,null,null,null,null,null,null,null,null,null,null,null,null,null,null,null,null,null,null,null,null,0,0,0,0,0,0,{"$f":"AB89*Schadstoffbelastung!$J$12/1000","v":0}]
["1,1,2-Trichlorethan",null,null,null,null,null,null,null,null,null,null,null,null,null,null,null,null,null,null,null,null,null,0,0,0,0,0,0,{"$f":"AB90*Schadstoffbelastung!$J$12/1000","v":0}]
["1,1-Dichlorethan",null,null,null,null,null,null,null,null,null,null,null,null,null,null,null,null,null,null,null,null,null,0,0,0,0,0,0,{"$f":"AB91*Schadstoffbelastung!$J$12/1000","v":0}]
["1,2-Dichlorethan",null,null,null,null,null,null,null,null,null,null,null,null,null,null,null,null,null,null,null,null,null,0,0,0,0,0,0,{"$f":"AB92*Schadstoffbelastung!$J$12/1000","v":0}]
["LCKW",{"$f":"IF(SUM(B80:B92)>0,SUM(B80:B92),\"\")","v":""},{"$f":"IF(SUM(C80:C92)>0,SUM(C80:C92),\"\")","v":""},"","","","","","","","","","","","","","","","","","",null,0,0,0,0,0,0,{"$f":"AB93*Schadstoffbelastung!$J$12/1000","v":0}]
["(Mono)aromatische Kohlenwasserstoffe (AKW) "]
["Benzol",null,null,null,null,null,null,null,null,null,null,null,null,null,null,null,null,null,null,null,null,null,{"$f":"MIN(B95:U95)","v":0},0,0,0,{"$f":"IF(ISNUMBER(_xlfn.STDEV.S(B95:U95)),_xlfn.STDEV.S(B95:U95),0)","v":0},{"$f":"Z95+AA95*2","v":0},{"$f":"AB95*Schadstoffbelastung!$J$12/1000","v":0}]
["Toluol",null,null,null,null,null,null,null,null,null,null,null,null,null,null,null,null,null,null,null,null,null,{"$f":"MIN(B96:U96)","v":0},0,0,0,{"$f":"IF(ISNUMBER(_xlfn.STDEV.S(B96:U96)),_xlfn.STDEV.S(B96:U96),0)","v":0},{"$f":"Z96+AA96*2","v":0},{"$f":"AB96*Schadstoffbelastung!$J$12/1000","v":0}]
["Ethylbenzol",null,null,null,null,null,null,null,null,null,null,null,null,null,null,null,null,null,null,null,null,null,0,0,0,0,0,0,{"$f":"AB97*Schadstoffbelastung!$J$12/1000","v":0}]
["o-Xylol",null,null,null,null,null,null,null,null,null,null,null,null,null,null,null,null,null,null,null,null,null,0,0,0,0,0,0,{"$f":"AB98*Schadstoffbelastung!$J$12/1000","v":0}]
["m-Xylol",null,null,null,null,null,null,null,null,null,null,null,null,null,null,null,null,null,null,null,null,null,0,0,0,0,0,0,{"$f":"AB99*Schadstoffbelastung!$J$12/1000","v":0}]
["p-Xylol",null,null,null,null,null,null,null,null,null,null,null,null,null,null,null,null,null,null,null,null,null,0,0,0,0,0,0,{"$f":"AB100*Schadstoffbelastung!$J$12/1000","v":0}]
["n-Propylbenzol",null,null,null,null,null,null,null,null,null,null,null,null,null,null,null,null,null,null,null,null,null,0,0,0,0,0,0,{"$f":"AB101*Schadstoffbelastung!$J$12/1000","v":0}]
["Isopropylbenzol",null,null,null,null,null,null,null,null,null,null,null,null,null,null,null,null,null,null,null,null,null,0,0,0,0,0,0,{"$f":"AB102*Schadstoffbelastung!$J$12/1000","v":0}]
["o-Ethyltoluol",null,null,null,null,null,null,null,null,null,null,null,null,null,null,null,null,null,null,null,null,null,0,0,0,0,0,0,{"$f":"AB103*Schadstoffbelastung!$J$12/1000","v":0}]
["m-Ethyltoluol",null,null,null,null,null,null,null,null,null,null,null,null,null,null,null,null,null,null,null,null,null,0,0,0,0,0,0,{"$f":"AB104*Schadstoffbelastung!$J$12/1000","v":0}]
["p-Ethyltoluol",null,null,null,null,null,null,null,null,null,null,null,null,null,null,null,null,null,null,null,null,null,0,0,0,0,0,0,{"$f":"AB105*Schadstoffbelastung!$J$12/1000","v":0}]
["1,2-Diethylbenzol",null,null,null,null,null,null,null,null,null,null,null,null,null,null,null,null,null,null,null,null,null,0,0,0,0,0,0,{"$f":"AB106*Schadstoffbelastung!$J$12/1000","v":0}]
["1,3-Diethylbenzol",null,null,null,null,null,null,null,null,null,null,null,null,null,null,null,null,null,null,null,null,null,0,0,0,0,0,0,{"$f":"AB107*Schadstoffbelastung!$J$12/1000","v":0}]
["1,4-Diethylbenzol",null,null,null,null,null,null,null,null,null,null,null,null,null,null,null,null,null,null,null,null,null,0,0,0,0,0,0,{"$f":"AB108*Schadstoffbelastung!$J$12/1000","v":0}]
["1,2,3-Trimethylbenzol",null,null,null,null,null,null,null,null,null,null,null,null,null,null,null,null,null,null,null,null,null,0,0,0,0,0,0,{"$f":"AB109*Schadstoffbelastung!$J$12/1000","v":0}]
["1,2,4-Trimethylbenzol",null,null,null,null,null,null,null,null,null,null,null,null,null,null,null,null,null,null,null,null,null,0,0,0,0,0,0,{"$f":"AB110*Schadstoffbelastung!$J$12/1000","v":0}]
["1,3,5-Trimethylbenzol",null,null,null,null,null,null,null,null,null,null,null,null,null,null,null,null,null,null,null,null,null,0,0,0,0,0,0,{"$f":"AB111*Schadstoffbelastung!$J$12/1000","v":0}]
["BTEX",{"$f":"IF(SUM(B95:B100)>0,SUM(B95:B100),\"\")","v":""},{"$f":"IF(SUM(C95:C100)>0,SUM(C95:C100),\"\")","v":""},"","","","","","","","","","","","","","","","","","",null,0,0,0,0,0,0,{"$f":"AB112*Schadstoffbelastung!$J$12/1000","v":0}]
["AKW",{"$f":"IF(SUM(B95:B111)>0,SUM(B95:B111),\"\")","v":""},{"$f":"IF(SUM(C95:C111)>0,SUM(C95:C111),\"\")","v":""},"","","","","","","","","","","","","","","","","","",null,0,0,0,0,0,0,{"$f":"AB113*Schadstoffbelastung!$J$12/1000","v":0}]
["n-Alkane "]
["n-Pentan",null,null,null,null,null,null,null,null,null,null,null,null,null,null,null,null,null,null,null,null,null,{"$f":"MIN(B115:U115)","v":0},0,0,0,{"$f":"IF(ISNUMBER(_xlfn.STDEV.S(B115:U115)),_xlfn.STDEV.S(B115:U115),0)","v":0},{"$f":"Z115+AA115*2","v":0},{"$f":"AB115*Schadstoffbelastung!$J$12/1000","v":0}]
["n-Hexan",null,null,null,null,null,null,null,null,null,null,null,null,null,null,null,null,null,null,null,null,null,{"$f":"MIN(B116:U116)","v":0},0,0,0,{"$f":"IF(ISNUMBER(_xlfn.STDEV.S(B116:U116)),_xlfn.STDEV.S(B116:U116),0)","v":0},{"$f":"Z116+AA116*2","v":0},{"$f":"AB116*Schadstoffbelastung!$J$12/1000","v":0}]
["n-Heptan",null,null,null,null,null,null,null,null,null,null,null,null,null,null,null,null,null,null,null,null,null,0,0,0,0,0,0,{"$f":"AB117*Schadstoffbelastung!$J$12/1000","v":0}]
["n-Octan",null,null,null,null,null,null,null,null,null,null,null,null,null,null,null,null,null,null,null,null,null,0,0,0,0,0,0,{"$f":"AB118*Schadstoffbelastung!$J$12/1000","v":0}]
["n-Nonan",null,null,null,null,null,null,null,null,null,null,null,null,null,null,null,null,null,null,null,null,null,0,0,0,0,0,0,{"$f":"AB119*Schadstoffbelastung!$J$12/1000","v":0}]
["n-Decan",null,null,null,null,null,null,null,null,null,null,null,null,null,null,null,null,null,null,null,null,null,0,0,0,0,0,0,{"$f":"AB120*Schadstoffbelastung!$J$12/1000","v":0}]
["n-Alkane ",{"$f":"IF(SUM(B115:B120)>0,SUM(B115:B120),\"\")","v":""},{"$f":"IF(SUM(C115:C120)>0,SUM(C115:C120),\"\")","v":""},"","","","","","","","","","","","","","","","","","",null,0,0,0,0,0,0,{"$f":"AB121*Schadstoffbelastung!$J$12/1000","v":0}]
["Oxigenate"]
[" MTBE (Methyl-tert-butylether)",null,null,null,null,null,null,null,null,null,null,null,null,null,null,null,null,null,null,null,null,null,{"$f":"MIN(B123:U123)","v":0},0,0,0,{"$f":"IF(ISNUMBER(_xlfn.STDEV.S(B123:U123)),_xlfn.STDEV.S(B123:U123),0)","v":0},{"$f":"Z123+AA123*2","v":0},{"$f":"AB123*Schadstoffbelastung!$J$12/1000","v":0}]
[" ETBE (Ethyl-tert-butylether)",null,null,null,null,null,null,null,null,null,null,null,null,null,null,null,null,null,null,null,null,null,{"$f":"MIN(B124:U124)","v":0},0,0,0,{"$f":"IF(ISNUMBER(_xlfn.STDEV.S(B124:U124)),_xlfn.STDEV.S(B124:U124),0)","v":0},{"$f":"Z124+AA124*2","v":0},{"$f":"AB124*Schadstoffbelastung!$J$12/1000","v":0}]
[" TBA (tert-Butylalkohol) ",null,null,null,null,null,null,null,null,null,null,null,null,null,null,null,null,null,null,null,null,null,0,0,0,0,0,0,{"$f":"AB125*Schadstoffbelastung!$J$12/1000","v":0}]
[" Oxigenate ",{"$f":"IF(SUM(B123:B125)>0,SUM(B123:B125),\"\")","v":""},{"$f":"IF(SUM(C123:C125)>0,SUM(C123:C125),\"\")","v":""},"","","","","","","","","","","","","","","","","","",null,0,0,0,0,0,0,{"$f":"AB126*Schadstoffbelastung!$J$12/1000","v":0}]

{"sheet":"Tabelle1","index":2,"n_rows":9,"n_cols":21,"rows_kept":9,"cut":false,"hidden":true,"merged":[]}
["LCKW",{"$f":"'Schadstoffkonzentrationen Boden'!B93","v":""},{"$f":"'Schadstoffkonzentrationen Boden'!C93","v":""},{"$f":"'Schadstoffkonzentrationen Boden'!D93","v":""},{"$f":"'Schadstoffkonzentrationen Boden'!E93","v":""},{"$f":"'Schadstoffkonzentrationen Boden'!F93","v":""},{"$f":"'Schadstoffkonzentrationen Boden'!G93","v":""},{"$f":"'Schadstoffkonzentrationen Boden'!H93","v":""},{"$f":"'Schadstoffkonzentrationen Boden'!I93","v":""},{"$f":"'Schadstoffkonzentrationen Boden'!J93","v":""},{"$f":"'Schadstoffkonzentrationen Boden'!K93","v":""},{"$f":"'Schadstoffkonzentrationen Boden'!L93","v":""},{"$f":"'Schadstoffkonzentrationen Boden'!M93","v":""},{"$f":"'Schadstoffkonzentrationen Boden'!N93","v":""},{"$f":"'Schadstoffkonzentrationen Boden'!O93","v":""},{"$f":"'Schadstoffkonzentrationen Boden'!P93","v":""},{"$f":"'Schadstoffkonzentrationen Boden'!Q93","v":""},{"$f":"'Schadstoffkonzentrationen Boden'!R93","v":""},{"$f":"'Schadstoffkonzentrationen Boden'!S93","v":""},{"$f":"'Schadstoffkonzentrationen Boden'!T93","v":""},{"$f":"'Schadstoffkonzentrationen Boden'!U93","v":""}]
["AKW",{"$f":"'Schadstoffkonzentrationen Boden'!B60","v":""},{"$f":"'Schadstoffkonzentrationen Boden'!C60","v":""},{"$f":"'Schadstoffkonzentrationen Boden'!D60","v":""},{"$f":"'Schadstoffkonzentrationen Boden'!E60","v":""},{"$f":"'Schadstoffkonzentrationen Boden'!F60","v":""},{"$f":"'Schadstoffkonzentrationen Boden'!G60","v":""},{"$f":"'Schadstoffkonzentrationen Boden'!H60","v":""},{"$f":"'Schadstoffkonzentrationen Boden'!I60","v":""},{"$f":"'Schadstoffkonzentrationen Boden'!J60","v":""},{"$f":"'Schadstoffkonzentrationen Boden'!K60","v":""},{"$f":"'Schadstoffkonzentrationen Boden'!L60","v":""},{"$f":"'Schadstoffkonzentrationen Boden'!M60","v":""},{"$f":"'Schadstoffkonzentrationen Boden'!N60","v":""},{"$f":"'Schadstoffkonzentrationen Boden'!O60","v":""},{"$f":"'Schadstoffkonzentrationen Boden'!P60","v":""},{"$f":"'Schadstoffkonzentrationen Boden'!Q60","v":""},{"$f":"'Schadstoffkonzentrationen Boden'!R60","v":""},{"$f":"'Schadstoffkonzentrationen Boden'!S60","v":""},{"$f":"'Schadstoffkonzentrationen Boden'!T60","v":""},{"$f":"'Schadstoffkonzentrationen Boden'!U60","v":""}]
["Oxigenate",{"$f":"'Schadstoffkonzentrationen Boden'!B73","v":""},{"$f":"'Schadstoffkonzentrationen Boden'!C73","v":""},{"$f":"'Schadstoffkonzentrationen Boden'!D73","v":""},{"$f":"'Schadstoffkonzentrationen Boden'!E73","v":""},{"$f":"'Schadstoffkonzentrationen Boden'!F73","v":""},{"$f":"'Schadstoffkonzentrationen Boden'!G73","v":""},{"$f":"'Schadstoffkonzentrationen Boden'!H73","v":""},{"$f":"'Schadstoffkonzentrationen Boden'!I73","v":""},{"$f":"'Schadstoffkonzentrationen Boden'!J73","v":""},{"$f":"'Schadstoffkonzentrationen Boden'!K73","v":""},{"$f":"'Schadstoffkonzentrationen Boden'!L73","v":""},{"$f":"'Schadstoffkonzentrationen Boden'!M73","v":""},{"$f":"'Schadstoffkonzentrationen Boden'!N73","v":""},{"$f":"'Schadstoffkonzentrationen Boden'!O73","v":""},{"$f":"'Schadstoffkonzentrationen Boden'!P73","v":""},{"$f":"'Schadstoffkonzentrationen Boden'!Q73","v":""},{"$f":"'Schadstoffkonzentrationen Boden'!R73","v":""},{"$f":"'Schadstoffkonzentrationen Boden'!S73","v":""},{"$f":"'Schadstoffkonzentrationen Boden'!T73","v":""},{"$f":"'Schadstoffkonzentrationen Boden'!U73","v":""}]
["n-Alkane",{"$f":"'Schadstoffkonzentrationen Boden'!B68","v":""},{"$f":"'Schadstoffkonzentrationen Boden'!C68","v":""},{"$f":"'Schadstoffkonzentrationen Boden'!D68","v":""},{"$f":"'Schadstoffkonzentrationen Boden'!E68","v":""},{"$f":"'Schadstoffkonzentrationen Boden'!F68","v":""},{"$f":"'Schadstoffkonzentrationen Boden'!G68","v":""},{"$f":"'Schadstoffkonzentrationen Boden'!H68","v":""},{"$f":"'Schadstoffkonzentrationen Boden'!I68","v":""},{"$f":"'Schadstoffkonzentrationen Boden'!J68","v":""},{"$f":"'Schadstoffkonzentrationen Boden'!K68","v":""},{"$f":"'Schadstoffkonzentrationen Boden'!L68","v":""},{"$f":"'Schadstoffkonzentrationen Boden'!M68","v":""},{"$f":"'Schadstoffkonzentrationen Boden'!N68","v":""},{"$f":"'Schadstoffkonzentrationen Boden'!O68","v":""},{"$f":"'Schadstoffkonzentrationen Boden'!P68","v":""},{"$f":"'Schadstoffkonzentrationen Boden'!Q68","v":""},{"$f":"'Schadstoffkonzentrationen Boden'!R68","v":""},{"$f":"'Schadstoffkonzentrationen Boden'!S68","v":""},{"$f":"'Schadstoffkonzentrationen Boden'!T68","v":""},{"$f":"'Schadstoffkonzentrationen Boden'!U68","v":""}]
[]
["LCKW",{"$f":"_xlfn.RANK.EQ(B1,$B1:$U1)","v":{"$error":"#VALUE!"}},{"$f":"_xlfn.RANK.EQ(C1,$B1:$U1)","v":{"$error":"#VALUE!"}},{"$error":"#VALUE!"},{"$error":"#VALUE!"},{"$error":"#VALUE!"},{"$error":"#VALUE!"},{"$error":"#VALUE!"},{"$error":"#VALUE!"},{"$error":"#VALUE!"},{"$error":"#VALUE!"},{"$error":"#VALUE!"},{"$error":"#VALUE!"},{"$error":"#VALUE!"},{"$error":"#VALUE!"},{"$error":"#VALUE!"},{"$error":"#VALUE!"},{"$error":"#VALUE!"},{"$error":"#VALUE!"},{"$error":"#VALUE!"},{"$error":"#VALUE!"}]
["AKW",{"$f":"_xlfn.RANK.EQ(B2,$B2:$U2)","v":{"$error":"#VALUE!"}},{"$f":"_xlfn.RANK.EQ(C2,$B2:$U2)","v":{"$error":"#VALUE!"}},{"$error":"#VALUE!"},{"$error":"#VALUE!"},{"$error":"#VALUE!"},{"$error":"#VALUE!"},{"$error":"#VALUE!"},{"$error":"#VALUE!"},{"$error":"#VALUE!"},{"$error":"#VALUE!"},{"$error":"#VALUE!"},{"$error":"#VALUE!"},{"$error":"#VALUE!"},{"$error":"#VALUE!"},{"$error":"#VALUE!"},{"$error":"#VALUE!"},{"$error":"#VALUE!"},{"$error":"#VALUE!"},{"$error":"#VALUE!"},{"$error":"#VALUE!"}]
["Oxigenate",{"$f":"_xlfn.RANK.EQ(B3,$B3:$U3)","v":{"$error":"#VALUE!"}},{"$error":"#VALUE!"},{"$error":"#VALUE!"},{"$error":"#VALUE!"},{"$error":"#VALUE!"},{"$error":"#VALUE!"},{"$error":"#VALUE!"},{"$error":"#VALUE!"},{"$error":"#VALUE!"},{"$error":"#VALUE!"},{"$error":"#VALUE!"},{"$error":"#VALUE!"},{"$error":"#VALUE!"},{"$error":"#VALUE!"},{"$error":"#VALUE!"},{"$error":"#VALUE!"},{"$error":"#VALUE!"},{"$error":"#VALUE!"},{"$error":"#VALUE!"},{"$error":"#VALUE!"}]
["n-Alkane",{"$error":"#VALUE!"},{"$error":"#VALUE!"},{"$error":"#VALUE!"},{"$error":"#VALUE!"},{"$error":"#VALUE!"},{"$error":"#VALUE!"},{"$error":"#VALUE!"},{"$error":"#VALUE!"},{"$error":"#VALUE!"},{"$error":"#VALUE!"},{"$error":"#VALUE!"},{"$error":"#VALUE!"},{"$error":"#VALUE!"},{"$error":"#VALUE!"},{"$error":"#VALUE!"},{"$error":"#VALUE!"},{"$error":"#VALUE!"},{"$error":"#VALUE!"},{"$error":"#VALUE!"},{"$error":"#VALUE!"}]

{"sheet":"Schadstoffkonzentrationen GW","index":3,"n_rows":57,"n_cols":27,"rows_kept":57,"cut":false,"hidden":true,"merged":[[1,8,1,9],[4,21,6,21],[4,22,5,22],[4,23,5,23],[6,0,6,20],[4,30,5,30],[4,31,5,31],[2,0,2,3],[41,0,41,21],[49,0,49,21],[4,28,5,28],[4,29,5,29],[4,24,5,24],[4,25,5,25],[4,26,5,26],[2,8,2,9],[21,0,21,21]]}
[]
[]
["  Schadstoffkonzentrationen im Grundwasser (gelöst) [µg/L]",null,null,null,null,null,null,null,"Korrekturfaktor",null,10,null,null,null,null,null,null,null,null,null,null,null,null,null,null,{"$f":"Schadstoffbelastung!$J$6*Schadstoffbelastung!$J$9*Bodencharakterisierung!$E$8/1000/1000","v":2.4116400000000001E-3},{"$f":"Schadstoffbelastung!$J$6*Schadstoffbelastung!$J$9*Bodencharakterisierung!E11*Bodencharakterisierung!$E$9/1000/1000","v":5.5358099999999994E-5}]
[]
["Messstelle Nr.",1,2,3,4,5,6,7,8,9,10,11,12,13,14,15,16,17,18,19,20,"Summe Inventar [kg]",null,null," Mittlere Konz. (MW) [µg/L]"," Inventar  (gelöst) [kg]"," Inventar (sorbiert) [kg]"]
["Bezeichnung","GWM 23-12","P7","GWM 12-05","GWM 22-08","GWM 10","GWM 13-05","GWM 24-14","GWM 27-14","GWM 28-14","GWM 16-06","GWM 29-14","GWM 25-14","GWM 26-14","GWM 11-05","GWM 15-06","GWM 14-06"]
["   Leichtflüchtige chlorierte Kohlenwasserstoffe (LCKW) "]
["Tetrachlorethen",2310,404,466,1770,44,279,5130,983,2060,549,40,1840,1060,4750,163,834,null,null,null,null,{"$f":"(Z8+AA8)*$K$3","v":316.705306995},null,null,{"$f":"IFERROR(AVERAGE($B8:$U8),0)","v":1417.625},{"$f":"$Z$3*Y8","v":3.4188011550000001},{"$f":"$AA$3*Y8*Stoffdatenbank!$J6","v":28.251729544499998}]
["Trichlorethen",31,12,9,20,1,22,529,10,25,6,1,18,9,41,2,9,null,null,null,null,{"$f":"(Z9+AA9)*$K$3","v":4.4738148656250001},null,null,{"$f":"IFERROR(AVERAGE($B9:$U9),0)","v":46.5625},{"$f":"$Z$3*Y9","v":0.1122919875},{"$f":"$AA$3*Y9*Stoffdatenbank!$J7","v":0.33508949906249996}]
["cis-1,2-Dichlorethen",174,34,56,72,6,34,1267,26,48,8,1,51,34,150,5,20,null,null,null,null,6.4291102312499993,null,null,124.125,{"$f":"$Z$3*Y10","v":0.29934481499999999},{"$f":"$AA$3*Y10*Stoffdatenbank!$J8","v":0.34356620812499999}]
["trans-1,2-Dichlorethen",1,1,null,null,null,null,6,null,null,null,null,null,null,1,null,null,null,null,null,null,0.12899533499999999,null,null,2.25,5.42619E-3,{"$f":"$AA$3*Y11*Stoffdatenbank!$J9","v":7.4733434999999992E-3}]
["1,1-Dichlorethen",null,null,null,null,null,null,3,null,null,null,null,null,null,null,null,null,null,null,null,null,0.18944818893000004,null,null,3,7.2349200000000006E-3,{"$f":"$AA$3*Y12*Stoffdatenbank!$J10","v":1.1709898893E-2}]
["Vinylchlorid",3,null,null,null,null,null,113,null,null,null,null,null,null,4,null,null,null,null,null,null,2.2932503999999998,null,null,40,9.6465599999999999E-2,{"$f":"$AA$3*Y13*Stoffdatenbank!$J11","v":0.13285944}]
["Tetrachlormethan",null,null,null,null,null,null,null,null,null,null,null,null,null,null,null,null,null,null,null,null,0,null,null,0,0,{"$f":"$AA$3*Y14*Stoffdatenbank!$J12","v":0}]
["Trichlormethan",null,null,null,null,null,null,null,null,null,null,null,null,null,null,null,null,null,null,null,null,0,null,null,0,0,{"$f":"$AA$3*Y15*Stoffdatenbank!$J13","v":0}]
["Dichlormethan",null,null,null,null,null,null,null,null,null,null,null,null,null,null,null,null,null,null,null,null,0,null,null,{"$f":"IFERROR(AVERAGE($B16:$U16),0)","v":0},0,{"$f":"$AA$3*Y16*Stoffdatenbank!$J14","v":0}]
["1,1,1-Trichlorethan",null,null,null,null,null,null,null,null,null,null,null,null,null,null,null,null,null,null,null,null,0,null,null,0,0,{"$f":"$AA$3*Y17*Stoffdatenbank!$J15","v":0}]
["1,1,2-Trichlorethan",null,null,null,null,null,null,null,null,null,null,null,null,null,null,null,null,null,null,null,null,0,null,null,0,0,{"$f":"$AA$3*Y18*Stoffdatenbank!$J16","v":0}]
["1,1-Dichlorethan",null,null,null,null,null,null,null,null,null,null,null,null,null,null,null,null,null,null,null,null,0,null,null,0,0,{"$f":"$AA$3*Y19*Stoffdatenbank!$J17","v":0}]
["1,2-Dichlorethan",null,null,null,null,null,null,null,null,null,null,null,null,null,null,null,null,null,null,null,null,{"$f":"(Z20+AA20)*$K$3","v":0},null,null,0,0,{"$f":"$AA$3*Y20*Stoffdatenbank!$J18","v":0}]
["LCKW",{"$f":"IF(SUM(B8:B20)>0,SUM(B8:B20),\"\")","v":2519},{"$f":"IF(SUM(C8:C20)>0,SUM(C8:C20),\"\")","v":451},531,1862,51,335,7048,1019,2133,563,42,1909,1103,4946,170,863,"","","","",{"$f":"SUM(V8:V20)","v":330.21992601580496},null,null,null,null,{"$f":"SUM(AA8:AA20)","v":29.082427934080499}]
["  (Mono)aromatische Kohlenwasserstoffe (AKW) "]
["Benzol",null,null,null,null,null,null,null,null,null,null,null,null,null,null,null,null,null,null,null,null,{"$f":"(Z23+AA23)*$K$3","v":0},null,null,{"$f":"IFERROR(AVERAGE($B23:$U23),0)","v":0},{"$f":"$Z$3*Y23","v":0},{"$f":"$AA$3*Y23*Stoffdatenbank!$J20","v":0}]
["Toluol",null,null,null,null,null,null,null,null,null,null,null,null,null,null,null,null,null,null,null,null,{"$f":"(Z24+AA24)*$K$3","v":0},null,null,0,0,{"$f":"$AA$3*Y24*Stoffdatenbank!$J21","v":0}]
["Ethylbenzol",null,null,null,null,null,null,null,null,null,null,null,null,null,null,null,null,null,null,null,null,0,null,null,0,0,{"$f":"$AA$3*Y25*Stoffdatenbank!$J22","v":0}]
["o-Xylol",null,null,null,null,null,null,null,null,null,null,null,null,null,null,null,null,null,null,null,null,0,null,null,0,0,{"$f":"$AA$3*Y26*Stoffdatenbank!$J23","v":0}]
["m-Xylol",null,null,null,null,null,null,null,null,null,null,null,null,null,null,null,null,null,null,null,null,0,null,null,0,0,{"$f":"$AA$3*Y27*Stoffdatenbank!$J24","v":0}]
["p-Xylol",null,null,null,null,null,null,null,null,null,null,null,null,null,null,null,null,null,null,null,null,0,null,null,0,0,{"$f":"$AA$3*Y28*Stoffdatenbank!$J25","v":0}]
["n-Propylbenzol",null,null,null,null,null,null,null,null,null,null,null,null,null,null,null,null,null,null,null,null,0,null,null,0,0,{"$f":"$AA$3*Y29*Stoffdatenbank!$J26","v":0}]
["Isopropylbenzol",null,null,null,null,null,null,null,null,null,null,null,null,null,null,null,null,null,null,null,null,0,null,null,0,0,{"$f":"$AA$3*Y30*Stoffdatenbank!$J27","v":0}]
["o-Ethyltoluol",null,null,null,null,null,null,null,null,null,null,null,null,null,null,null,null,null,null,null,null,0,null,null,0,0,{"$f":"$AA$3*Y31*Stoffdatenbank!$J28","v":0}]
["m-Ethyltoluol",null,null,null,null,null,null,null,null,null,null,null,null,null,null,null,null,null,null,null,null,0,null,null,0,0,{"$f":"$AA$3*Y32*Stoffdatenbank!$J29","v":0}]
["p-Ethyltoluol",null,null,null,null,null,null,null,null,null,null,null,null,null,null,null,null,null,null,null,null,0,null,null,0,0,{"$f":"$AA$3*Y33*Stoffdatenbank!$J30","v":0}]
["1,2-Diethylbenzol",null,null,null,null,null,null,null,null,null,null,null,null,null,null,null,null,null,null,null,null,0,null,null,0,0,{"$f":"$AA$3*Y34*Stoffdatenbank!$J31","v":0}]
["1,3-Diethylbenzol",null,null,null,null,null,null,null,null,null,null,null,null,null,null,null,null,null,null,null,null,0,null,null,0,0,{"$f":"$AA$3*Y35*Stoffdatenbank!$J32","v":0}]
["1,4-Diethylbenzol",null,null,null,null,null,null,null,null,null,null,null,null,null,null,null,null,null,null,null,null,0,null,null,0,0,{"$f":"$AA$3*Y36*Stoffdatenbank!$J33","v":0}]
["1,2,3-Trimethylbenzol",null,null,null,null,null,null,null,null,null,null,null,null,null,null,null,null,null,null,null,null,0,null,null,0,0,{"$f":"$AA$3*Y37*Stoffdatenbank!$J34","v":0}]
["1,2,4-Trimethylbenzol",null,null,null,null,null,null,null,null,null,null,null,null,null,null,null,null,null,null,null,null,0,null,null,0,0,{"$f":"$AA$3*Y38*Stoffdatenbank!$J35","v":0}]
["1,3,5-Trimethylbenzol",null,null,null,null,null,null,null,null,null,null,null,null,null,null,null,null,null,null,null,null,0,null,null,0,0,{"$f":"$AA$3*Y39*Stoffdatenbank!$J36","v":0}]
["BTEX",{"$f":"IF(SUM(B23:B28)>0,SUM(B23:B28),\"\")","v":""},{"$f":"IF(SUM(C23:C28)>0,SUM(C23:C28),\"\")","v":""},"","","","","","","","","","","","","","","","","","",{"$f":"SUM(V23:V28)","v":0}]
["AKW",{"$f":"IF(SUM(B23:B39)>0,SUM(B23:B39),\"\")","v":""},{"$f":"IF(SUM(C23:C39)>0,SUM(C23:C39),\"\")","v":""},"","","","","","","","","","","","","","","","","","",{"$f":"SUM(V23:V39)","v":0}]
["   n-Alkane "]
["n-Pentan",null,null,null,null,null,null,null,null,null,null,null,null,null,null,null,null,null,null,null,null,{"$f":"(Z43+AA43)*$K$3","v":0},null,null,{"$f":"IFERROR(AVERAGE($B43:$U43),0)","v":0},{"$f":"$Z$3*Y43","v":0},{"$f":"$AA$3*Y43*Stoffdatenbank!$J38","v":0}]
["n-Hexan",null,null,null,null,null,null,null,null,null,null,null,null,null,null,null,null,null,null,null,null,0,null,null,0,0,{"$f":"$AA$3*Y44*Stoffdatenbank!$J39","v":0}]
["n-Heptan",null,null,null,null,null,null,null,null,null,null,null,null,null,null,null,null,null,null,null,null,0,null,null,0,0,{"$f":"$AA$3*Y45*Stoffdatenbank!$J40","v":0}]
["n-Octan",null,null,null,null,null,null,null,null,null,null,null,null,null,null,null,null,null,null,null,null,0,null,null,0,0,{"$f":"$AA$3*Y46*Stoffdatenbank!$J41","v":0}]
["n-Nonan",null,null,null,null,null,null,null,null,null,null,null,null,null,null,null,null,null,null,null,null,0,null,null,0,0,{"$f":"$AA$3*Y47*Stoffdatenbank!$J42","v":0}]
["n-Decan",null,null,null,null,null,null,null,null,null,null,null,null,null,null,null,null,null,null,null,null,0,null,null,0,0,{"$f":"$AA$3*Y48*Stoffdatenbank!$J43","v":0}]
["n-Alkane ",{"$f":"IF(SUM(B43:B48)>0,SUM(B43:B48),\"\")","v":""},{"$f":"IF(SUM(C43:C48)>0,SUM(C43:C48),\"\")","v":""},"","","","",{"$f":"IF(SUM(H43:H48)>0,SUM(H43:H48),\"\")","v":""},"","","","","","","","","","","",{"$f":"IF(SUM(T43:T48)>0,SUM(T43:T48),\"\")","v":""},"",{"$f":"SUM(V43:V48)","v":0}]
["   Oxigenate"]
[" MTBE (Methyl-tert-butylether)",null,null,null,null,null,null,null,null,null,null,null,null,null,null,null,null,null,null,null,null,{"$f":"(Z51+AA51)*$K$3","v":0},null,null,{"$f":"IFERROR(AVERAGE($B51:$U51),0)","v":0},{"$f":"$Z$3*Y51","v":0},{"$f":"$AA$3*Y51*Stoffdatenbank!$J45","v":0}]
[" ETBE (Ethyl-tert-butylether)",null,null,null,null,null,null,null,null,null,null,null,null,null,null,null,null,null,null,null,null,0,null,null,0,0,{"$f":"$AA$3*Y52*Stoffdatenbank!$J46","v":0}]
[" TBA (tert-Butylalkohol) ",null,null,null,null,null,null,null,null,null,null,null,null,null,null,null,null,null,null,null,null,0,null,null,0,0,{"$f":"$AA$3*Y53*Stoffdatenbank!$J47","v":0}]
[" Oxigenate",{"$f":"IF(SUM(B51:B53)>0,SUM(B51:B53),\"\")","v":""},"","","","","","","","","","","","","","","","","",{"$f":"IF(SUM(T51:T53)>0,SUM(T51:T53),\"\")","v":""},{"$f":"IF(SUM(U51:U53)>0,SUM(U51:U53),\"\")","v":""},{"$f":"SUM(V51:V53)","v":0}]
[]
["[mg/m²]"]
[null,null,null,null,null,null,null,null,null,null,null,null,null,null,"[mg/m²]"]

{"sheet":"Bodencharakterisierung","index":4,"n_rows":18,"n_cols":19,"rows_kept":18,"cut":false,"hidden":true,"merged":[[0,0,0,20],[1,14,1,18],[1,1,2,1],[1,0,2,0],[1,3,2,3],[1,12,2,12],[1,11,2,11],[1,13,2,13]]}
[]
[null,"Parameter",null,"Einheit","Hauptbodenart","Nebenbodenart",null,null,null,null,null,null,"Parameter","Einheit","Datenbank"]
[null,null,null,null,null,null,null,null,null,null,null,null,null,null,"Grobsand","Mittelsand","Feinsand","Schluff","Ton"]
[null,"Relativer Anteil (geschätzt)",null,"%",95,{"$f":"100-E4","v":5},null,null,{"$f":"O4","v":"Grobsand"},null,null,null,"Parameter","Einheit","Grobsand","Mittelsand","Feinsand","Schluff","Ton"]
[null,"Wassersättigung (ungesättigter Boden)","SW","-",0.26,0.26,null,null,{"$f":"P4","v":"Mittelsand"},null,null,null,"Wassersättigung (ungesättigter Boden)","-",0.26,0.26,0.26,0.27,0.28999999999999998]
[null,"Durchlässigkeitsbeiwert (kf)","kf","m/s",1E-4,2.0000000000000001E-4,null,{"$f":"F6/E6","v":2},{"$f":"Q4","v":"Feinsand"},null,null,null,"Durchlässigkeitsbeiwert (kf)","m/s",2.0000000000000001E-4,2.7500000000000002E-4,1.0000000000000001E-5,9.9999999999999995E-8,9.9999999999999994E-12]
[null,"Nutzbare Porosität (neff)","neff","-",0.2,0.2,null,null,{"$f":"R4","v":"Schluff"},"Injizierbarkeit von Schluffböden ist nicht gegeben - injizierte Lösung verteilt sich nicht gleichmäßig und Desorption läuft nur viel langsamer ab.",null,null,"Nutzbare Porosität (neff)","-",0.2,0.125,0.1,7.4999999999999997E-2,3.5000000000000003E-2]
[null,"Gesamtporosität (Hohlraumvolumen)","n","-",0.33,0.33,null,null,{"$f":"S4","v":"Ton"},"Injizierbarkeit von Tonböden ist nicht gegeben - injizierte Lösung verteilt sich nicht gleichmäßig und Desorption läuft nur viel langsamer ab.",null,null,"Gesamtporosität (Hohlraumvolumen)","-",0.33,0.33,0.33,0.34,0.35]
[null,"Organische Kohlenstoffgehalt ","fOC","-",5.0000000000000001E-3,0.01,null,null,null,null,null,null,"Organische Kohlenstoffgehalt ","-",0.01,0.01,0.01,0.01,0.01]
[null,"Korndichte","ρs","kg/m³",2650,2650,null,null,null,null,null,null,"Korndichte","kg/m³",2650,2650,2650,2690,2700]
[null,"Lagerungsdichte","d","kg/L",1.5149999999999999,1.5149999999999999,null,null,null,null,null,null,"Schüttdichte","kg/dm³",1.5149999999999999,1.5149999999999999,1.5149999999999999,1.43,1.64]
[null,"Anteil (Bodenkorn)","nM","kg/m³",1015.0499999999997,1015.0499999999997,null,null,null,null,null,null,"Anteil (Bodenkorn)","kg/m³",{"$f":"1000*(1-O8)*O11","v":1015.0499999999997},{"$f":"1000*(1-P8)*P11","v":1015.0499999999997},{"$f":"1000*(1-Q8)*Q11","v":1015.0499999999997},{"$f":"1000*(1-R8)*R11","v":943.79999999999984},{"$f":"1000*(1-S8)*S11","v":1066}]
[null,"Mittlerer Kornradius (d50)","d50","m",4.15E-4,1.315E-3,null,null,null,null,null,null,"Mittlerer Kornradius (d50)","m",1.315E-3,4.15E-4,1.315E-4,3.2499999999999997E-5,1.9999999999999999E-6]
[null,"Tortouistät in der Wasserphase (tw)","tw","-",8,5,null,null,null,null,null,null,"Tortuoistät in der Wasserphase (τw)","-",{"$f":"1/O7","v":5},{"$f":"1/P7","v":8},{"$f":"1/Q7","v":10},{"$f":"1/R7","v":13.333333333333334},{"$f":"1/S7","v":28.571428571428569}]
[null,"Wärmeleitfähigkeit (l)","l","W/(m·K)",3.34,3.72,null,null,null,null,null,null,"Wärmeleitfähigkeit (λ)","W/(m·K)",3.72,3.34,2.75,1.5,1.5]
[null,"Temperaturleitfähigkeit (a)","a","m²/s",1.3359999999999999E-3,1.4880000000000002E-3,null,null,null,null,null,null,"Temperaturleitfähigkeit (α)","m²/s",{"$f":"O15/O18","v":1.4880000000000002E-3},{"$f":"P15/P18","v":1.3359999999999999E-3},{"$f":"Q15/Q18","v":1.1000000000000001E-3},{"$f":"R15/R18","v":6.2500000000000001E-4},{"$f":"S15/S18","v":6.2500000000000001E-4}]
[null,"Untergrundtemperatur (T0)","T0","K",283.14999999999998,283.14999999999998,null,null,null,null,null,null,"Untergrundtemperatur (T0)","K",283.14999999999998,283.14999999999998,283.14999999999998,283.14999999999998,283.14999999999998]
[null,"Spezifische Wärmekapazität (Bodenkorn)","cM","kJ/(kg·K)",2500,2500,null,null,null,null,null,null,"Spezifische Wärmekapazität ","kJ/(kg·K)",2500,2500,2500,2400,2400]

{"sheet":"Grundwassercharakterisierung","index":5,"n_rows":15,"n_cols":7,"rows_kept":15,"cut":false,"hidden":true,"merged":[[0,0,0,21]]}
[]
[null,"Parameter","Einheit","Wert"]
[null,"Mittlerer hydraulischer Gradient (I)","%",0.1]
[null,"Grundwasserabstandsgeschwindigkeit (va)","m/d",{"$f":"Bodencharakterisierung!E6*(Grundwassercharakterisierung!D3/100)/Bodencharakterisierung!E7*3600*24","v":4.3200000000000002E-2}]
[null,"Redoxmilieu (charakteristische Mittelwerte)"]
[null,"pH-Wert","--",6.6,null,null,7]
[null,"Redoxspannung (korr.)","mV",2.2999999999999998,null,null,200]
[null,"Temperatur","°C",16,null,null,10]
[null,"Gelöster Sauerstoff","mg/L",3.9800000000000004,null,null,3]
[null,"Nitrat","mg/L",6.8,null,null,20]
[null,"Mangan (gelöst)","mg/L",1.8,null,null,0]
[null,"Eisen (gelöst)","mg/L",0.04,null,null,0]
[null,"Sulfat","mg/L",33.299999999999997,null,null,200]
[null,"Methan","mg/L",0,null,null,0]
[null,"DOC","mg/L",1.4,null,null,2]

{"sheet":"Sanierungsdesign","index":6,"n_rows":17,"n_cols":22,"rows_kept":17,"cut":false,"hidden":true,"merged":[[0,0,0,19],[7,0,7,4],[2,0,2,4],[1,18,1,21],[1,16,1,17]]}
[]
[null,"Parameter",null,"Einheit","Wert",null,null,null,null,null,null,null,null,null,null,null,"NOD",null,"Intraparticle Parameters"]
["Sanierungszielwert",null,null,null,null,null,null,null,null,null,null,null,null,null,null,null,"Permang.","Persulf.","fOC(P) ","ρ(P)","n(P)","tf(P)"]
[null,"Sanierungszielwert ","LCKW","µg/L",450,null,null,null,null,null,20,"Persulfat","LCKW",null,null,"Bodenart","g MnO4-/kg","g S2O8-2/kg","-","kg/m³","-","-"]
[null,"Sanierungszielwert ","AKW","µg/L",null,null,null,null,null,null,50,"Permanganat","AKW",null,null,"Grobsand",0.1,0.1,4.1000000000000003E-3,2709,1.0999999999999999E-2,90.909090909090921]
[null,"Sanierungszielwert ","Oxigenate","µg/L",null,null,null,null,null,null,100,null,"n-Alkane",null,null,"Mittelsand",1,0.1,0.1,2709,1.0999999999999999E-2,90.909090909090921]
[null,"Sanierungszielwert ","n-Alkane","µg/L",null,null,null,null,null,null,200,null,"Oxigenate",null,null,"Feinsand",7,1,4.1000000000000003E-3,2709,1.0999999999999999E-2,90.909090909090921]
["Ausführungsdesign",null,null,null,null,null,null,null,null,null,null,null,"Bewertungsrelevanter Schadstoff",null,null,"Schluff",30,5,4.1000000000000003E-3,2709,1.0999999999999999E-2,90.909090909090921]
[null,"Sanierungsfläche",null,"m²",{"$f":"Schadstoffbelastung!J6","v":2436},null,null,null,null,null,null,null,null,null,null,"Ton",50,5,4.1000000000000003E-3,2709,1.0999999999999999E-2,90.909090909090921]
[null,"Filterstrecke (Mächtigkeit Belastung)",null,"m",{"$f":"Schadstoffbelastung!J9","v":3}]
[null,"Anzahl der Injektionspegel",null,"--",11,null,null,null,null,null,5]
[null,"ROI",null,"m",{"$f":"SQRT((E9/E11)/PI())","v":8.395902045552905}]
[null,"Injektionsvolumen",null,"m²",{"$f":"PI()*E12^2*E10*Bodencharakterisierung!E7","v":132.87272727272725}]
[null,null,null,"g/kg OS",2,null,null,null,null,null,2]
[null,"Bewertungsrelevanter Schadstoff",null,"--","Permanganat"]
[null,"Bewertungsrelevanter Schadstoff",null,"--","LCKW"]
[null,"Konzentration Oxidationsmittel",null,"g/L",20,null,null,null,null,null,10]

{"sheet":"Schadstoffbelastung","index":7,"n_rows":47,"n_cols":28,"rows_kept":47,"cut":false,"hidden":true,"merged":[[1,20,2,20],[1,21,2,21],[1,22,2,22],[1,23,2,23],[1,25,2,25],[1,24,2,24],[10,6,11,7],[1,11,2,12],[1,13,2,13],[1,14,2,14],[1,15,2,15],[1,17,2,17],[1,9,2,9],[0,0,0,14],[1,8,2,8],[1,3,2,3],[1,1,2,1],[1,6,2,7],[1,16,2,16]]}
[]
[null,"Schadstoff",null,"Inventar \n[kg]",null,null,"Geometrie des Schadensherdes",null,"Einheit","Wert",null," Schadstoffstatistik",null,"Einheit","LCKW","AKW",{"$f":"Stoffdatenbank!A37","v":"n-Alkane"},"Oxigenate",null,null,"Mittl. Konz. (GW) [µg/L]","Mittl. Konz. (GW) [µmol/L]","Ci [µg/L]","Grenzkonz. Boden [mg/kg]","Mittlere Konz. Boden [mg/kg]","Residualphase [mg/kg]"]
[null,null,null,null,null,null,null,null,null,null,null,null,null,null,null,null,null,false,false]
[null,"Tetrachlorethen","PCE",{"$f":"IF($S$3,'Schadstoffkonzentrationen Boden'!Z27,'Schadstoffkonzentrationen GW'!V8)","v":316.705306995},null,null,"Mittlere Länge (Schadensherd)",null,"m",42,null," Minimum",null,"mg/kg OS",{"$f":"IF($S$3,'Schadstoffkonzentrationen Boden'!$W$93,\"\")","v":""},{"$f":"IF($S$3,'Schadstoffkonzentrationen Boden'!$W$113,\"\")","v":""},{"$f":"IF($S$3,'Schadstoffkonzentrationen Boden'!$W$121,\"\")","v":""},{"$f":"IF($S$3,'Schadstoffkonzentrationen Boden'!$W$126,\"\")","v":""},null,"PCE",{"$f":"'Schadstoffkonzentrationen GW'!Y8","v":1417.625},{"$f":"IFERROR(U4/Stoffdatenbank!R6,0)","v":8.5399096385542173},{"$f":"IFERROR(Stoffdatenbank!N6*1000*(Schadstoffbelastung!V4/(Schadstoffbelastung!V$17)),0)","v":125771.49355569556},{"$f":"W4/1000*Bodencharakterisierung!$E$9*Stoffdatenbank!J6","v":226.38868840025202},{"$f":"IFERROR(D4*1000/$J$12,0)","v":28.605146039603962},{"$f":"MAX(0,Y4-X4)","v":0},null,{"$f":"D4/VLOOKUP(Schadstoffbelastung!B4,Stoffdatenbank!$A$6:$S$47,17,FALSE)/1000","v":0.19501558312499997}]
[null,"Trichlorethen","TCE",{"$f":"IF($S$3,'Schadstoffkonzentrationen Boden'!Z28,'Schadstoffkonzentrationen GW'!V9)","v":4.4738148656250001},null,null,"Mittlere Breite (Schadensherd)",null,"m",58,null," Maximum",null,"mg/kg OS",{"$f":"IF($S$3,'Schadstoffkonzentrationen Boden'!$X$93,\"\")","v":""},{"$f":"IF($S$3,'Schadstoffkonzentrationen Boden'!$X$113,\"\")","v":""},{"$f":"IF($S$3,'Schadstoffkonzentrationen Boden'!$X$121,\"\")","v":""},{"$f":"IF($S$3,'Schadstoffkonzentrationen Boden'!$X$126,\"\")","v":""},null,"TCE",{"$f":"'Schadstoffkonzentrationen GW'!Y9","v":46.5625},{"$f":"IFERROR(U5/Stoffdatenbank!R7,0)","v":0.35543893129770993},{"$f":"IFERROR(Stoffdatenbank!N7*1000*(Schadstoffbelastung!V5/(Schadstoffbelastung!V$17)),0)","v":32717.036207950969},{"$f":"W5/1000*Bodencharakterisierung!$E$9*Stoffdatenbank!J7","v":21.266073535168129},{"$f":"IFERROR(D5*1000/$J$12,0)","v":0.40407951732673275},{"$f":"MAX(0,Y5-X5)","v":0},null,{"$f":"D5/VLOOKUP(Schadstoffbelastung!B5,Stoffdatenbank!$A$6:$S$47,17,FALSE)/1000","v":3.0554670575228793E-3}]
[null,"cis-1,2-Dichlorethen","cDCE",{"$f":"IF($S$3,'Schadstoffkonzentrationen Boden'!Z29,'Schadstoffkonzentrationen GW'!V10)","v":6.4291102312499993},null,null,"Fläche der Belastung",null,"m²",{"$f":"J4*J5","v":2436},null," Median",null,"mg/kg OS",{"$f":"IF($S$3,'Schadstoffkonzentrationen Boden'!$Y$93,\"\")","v":""},{"$f":"IF($S$3,'Schadstoffkonzentrationen Boden'!$Y$113,\"\")","v":""},{"$f":"IF($S$3,'Schadstoffkonzentrationen Boden'!$Y$121,\"\")","v":""},{"$f":"IF($S$3,'Schadstoffkonzentrationen Boden'!$Y$126,\"\")","v":""},null,"cDCE",{"$f":"'Schadstoffkonzentrationen GW'!Y10","v":124.125},{"$f":"IFERROR(U6/Stoffdatenbank!R8,0)","v":1.2796391752577319},{"$f":"IFERROR(Stoffdatenbank!N8*1000*(Schadstoffbelastung!V6/(Schadstoffbelastung!V$17)),0)","v":412253.67117238219},{"$f":"W6/1000*Bodencharakterisierung!$E$9*Stoffdatenbank!J8","v":103.06341779309555},0.58068378712871282,0,null,{"$f":"D6/VLOOKUP(Schadstoffbelastung!B6,Stoffdatenbank!$A$6:$S$47,17,FALSE)/1000","v":5.0082653511334414E-3}]
[null,"trans-1,2-Dichlorethen","tDCE",{"$f":"IF($S$3,'Schadstoffkonzentrationen Boden'!Z30,'Schadstoffkonzentrationen GW'!V11)","v":0.12899533499999999},null,null,"Oberkante der Belastung",null,"m u. GOK",3,null," Mittlere Konzentration (arithm.)",null,"mg/kg OS",{"$f":"IF($S$3,'Schadstoffkonzentrationen Boden'!$Z$93,\"\")","v":""},{"$f":"IF($S$3,'Schadstoffkonzentrationen Boden'!$Z$113,\"\")","v":""},{"$f":"IF($S$3,'Schadstoffkonzentrationen Boden'!$Z$121,\"\")","v":""},{"$f":"IF($S$3,'Schadstoffkonzentrationen Boden'!$Z$126,\"\")","v":""},null,"tDCE",{"$f":"'Schadstoffkonzentrationen GW'!Y11","v":2.25},{"$f":"IFERROR(U7/Stoffdatenbank!R9,0)","v":2.3195876288659795E-2},{"$f":"IFERROR(Stoffdatenbank!N9*1000*(Schadstoffbelastung!V7/(Schadstoffbelastung!V$17)),0)","v":13451.177186289207},{"$f":"W7/1000*Bodencharakterisierung!$E$9*Stoffdatenbank!J9","v":4.0353531558867619},1.1650990099009901E-2,0,null,{"$f":"D7/VLOOKUP(Schadstoffbelastung!B7,Stoffdatenbank!$A$6:$S$47,17,FALSE)/1000","v":1.0266242339832869E-4}]
[null,"1,1-Dichlorethen","11DCE",{"$f":"IF($S$3,'Schadstoffkonzentrationen Boden'!Z31,'Schadstoffkonzentrationen GW'!V12)","v":0.18944818893000004},null,null,"Unterkante der Belastung",null,"m u. GOK",6,null," Standardabweichung",null,"mg/kg OS",{"$f":"IF($S$3,'Schadstoffkonzentrationen Boden'!$AA$93,\"\")","v":""},{"$f":"IF($S$3,'Schadstoffkonzentrationen Boden'!$AA$113,\"\")","v":""},{"$f":"IF($S$3,'Schadstoffkonzentrationen Boden'!$AA$121,\"\")","v":""},{"$f":"IF($S$3,'Schadstoffkonzentrationen Boden'!$AA$126,\"\")","v":""},null,"11DCE",{"$f":"'Schadstoffkonzentrationen GW'!Y12","v":3},{"$f":"IFERROR(U8/Stoffdatenbank!R10,0)","v":3.0927835051546393E-2},{"$f":"IFERROR(Stoffdatenbank!N10*1000*(Schadstoffbelastung!V8/(Schadstoffbelastung!V$17)),0)","v":7117.0249662905862},{"$f":"W8/1000*Bodencharakterisierung!$E$9*Stoffdatenbank!J10","v":2.5091071518657464},1.711115346534654E-2,0,null,{"$f":"D8/VLOOKUP(Schadstoffbelastung!B8,Stoffdatenbank!$A$6:$S$47,17,FALSE)/1000","v":1.5554038500000003E-4}]
[null,"Vinylchlorid","VC",{"$f":"IF($S$3,'Schadstoffkonzentrationen Boden'!Z32,'Schadstoffkonzentrationen GW'!V13)","v":2.2932503999999998},null,null,"Mittlere Mächtigkeit (Schadensherd)",null,"m",{"$f":"J8-J7","v":3},null," MW + 2 s",null,"mg/kg OS",{"$f":"IF($S$3,'Schadstoffkonzentrationen Boden'!$AB$93,\"\")","v":""},{"$f":"IF($S$3,'Schadstoffkonzentrationen Boden'!$AB$113,\"\")","v":""},{"$f":"IF($S$3,'Schadstoffkonzentrationen Boden'!$AB$121,\"\")","v":""},{"$f":"IF($S$3,'Schadstoffkonzentrationen Boden'!$AB$126,\"\")","v":""},null,"VC",{"$f":"'Schadstoffkonzentrationen GW'!Y13","v":40},{"$f":"IFERROR(U9/Stoffdatenbank!R11,0)","v":0.63492063492063489},{"$f":"IFERROR(Stoffdatenbank!N11*1000*(Schadstoffbelastung!V9/(Schadstoffbelastung!V$17)),0)","v":64286.693240483},{"$f":"W9/1000*Bodencharakterisierung!$E$9*Stoffdatenbank!J11","v":19.286007972144901},0.20712871287128715,0,null,{"$f":"D9/VLOOKUP(Schadstoffbelastung!B9,Stoffdatenbank!$A$6:$S$47,17,FALSE)/1000","v":2.5142532617037599E-3}]
[null,"Tetrachlormethan","CT",{"$f":"IF($S$3,'Schadstoffkonzentrationen Boden'!Z33,'Schadstoffkonzentrationen GW'!V14)","v":0},null,null,"Bodenlagerungsdichte",null,"kg/L",{"$f":"Bodencharakterisierung!E11","v":1.5149999999999999},null," Schadstoffinventar (mittelwertbezogen)",null,"kg",{"$f":"IF($S$3,'Schadstoffkonzentrationen Boden'!$AC$93,\"\")","v":""},{"$f":"IF($S$3,'Schadstoffkonzentrationen Boden'!$AC$113,\"\")","v":""},{"$f":"IF($S$3,'Schadstoffkonzentrationen Boden'!$AC$121,\"\")","v":""},{"$f":"IF($S$3,'Schadstoffkonzentrationen Boden'!$AC$126,\"\")","v":""},null,"CT",{"$f":"'Schadstoffkonzentrationen GW'!Y14","v":0},{"$f":"IFERROR(U10/Stoffdatenbank!R12,0)","v":0},{"$f":"IFERROR(Stoffdatenbank!N12*1000*(Schadstoffbelastung!V10/(Schadstoffbelastung!V$17)),0)","v":0},{"$f":"W10/1000*Bodencharakterisierung!$E$9*Stoffdatenbank!J12","v":0},0,0,null,{"$f":"D10/VLOOKUP(Schadstoffbelastung!B10,Stoffdatenbank!$A$6:$S$47,17,FALSE)/1000","v":0}]
[null,"Trichlormethan","CF",{"$f":"IF($S$3,'Schadstoffkonzentrationen Boden'!Z34,'Schadstoffkonzentrationen GW'!V15)","v":0},null,null,"Volumen kontaminierter Boden",null,"m³",{"$f":"J9*J6","v":7308},null," Schadstoffinventar (flächengewichtet)",null,"kg",{"$f":"D17","v":330.21992601580496},{"$f":"D35","v":0},{"$f":"D42","v":0},{"$f":"D46","v":0},null,"CF",{"$f":"'Schadstoffkonzentrationen GW'!Y15","v":0},{"$f":"IFERROR(U11/Stoffdatenbank!R13,0)","v":0},{"$f":"IFERROR(Stoffdatenbank!N13*1000*(Schadstoffbelastung!V11/(Schadstoffbelastung!V$17)),0)","v":0},{"$f":"W11/1000*Bodencharakterisierung!$E$9*Stoffdatenbank!J13","v":0},0,0,null,{"$f":"D11/VLOOKUP(Schadstoffbelastung!B11,Stoffdatenbank!$A$6:$S$47,17,FALSE)/1000","v":0}]
[null,"Dichlormethan","DCM",{"$f":"IF($S$3,'Schadstoffkonzentrationen Boden'!Z35,'Schadstoffkonzentrationen GW'!V16)","v":0},null,null,null,null,"t",{"$f":"J11*J10","v":11071.619999999999},null," Schadstoffinventar (residuale Phase)",null,"mg/kg",{"$f":"Z17","v":0},{"$f":"Z35","v":0},{"$f":"Z42","v":0},{"$f":"Z46","v":0},null,"DCM",{"$f":"'Schadstoffkonzentrationen GW'!Y16","v":0},{"$f":"IFERROR(U12/Stoffdatenbank!R14,0)","v":0},{"$f":"IFERROR(Stoffdatenbank!N14*1000*(Schadstoffbelastung!V12/(Schadstoffbelastung!V$17)),0)","v":0},{"$f":"W12/1000*Bodencharakterisierung!$E$9*Stoffdatenbank!J14","v":0},0,0,null,{"$f":"D12/VLOOKUP(Schadstoffbelastung!B12,Stoffdatenbank!$A$6:$S$47,17,FALSE)/1000","v":0}]
[null,"1,1,1-Trichlorethan","111TCA",{"$f":"IF($S$3,'Schadstoffkonzentrationen Boden'!Z36,'Schadstoffkonzentrationen GW'!V17)","v":0},null,null,"Grundwasserflurabstand",null,"m u. GOK",3,null,null,null,null,null,null,null,null,null,"111TCA",{"$f":"'Schadstoffkonzentrationen GW'!Y17","v":0},{"$f":"IFERROR(U13/Stoffdatenbank!R15,0)","v":0},{"$f":"IFERROR(Stoffdatenbank!N15*1000*(Schadstoffbelastung!V13/(Schadstoffbelastung!V$17)),0)","v":0},{"$f":"W13/1000*Bodencharakterisierung!$E$9*Stoffdatenbank!J15","v":0},0,0,null,{"$f":"D13/VLOOKUP(Schadstoffbelastung!B13,Stoffdatenbank!$A$6:$S$47,17,FALSE)/1000","v":0}]
[null,"1,1,2-Trichlorethan","112TCA",{"$f":"IF($S$3,'Schadstoffkonzentrationen Boden'!Z37,'Schadstoffkonzentrationen GW'!V18)","v":0},null,null,null,null,null,null,null,null,null,null,null,null,null,null,null,"112TCA",{"$f":"'Schadstoffkonzentrationen GW'!Y18","v":0},{"$f":"IFERROR(U14/Stoffdatenbank!R16,0)","v":0},{"$f":"IFERROR(Stoffdatenbank!N16*1000*(Schadstoffbelastung!V14/(Schadstoffbelastung!V$17)),0)","v":0},{"$f":"W14/1000*Bodencharakterisierung!$E$9*Stoffdatenbank!J16","v":0},0,0,null,{"$f":"D14/VLOOKUP(Schadstoffbelastung!B14,Stoffdatenbank!$A$6:$S$47,17,FALSE)/1000","v":0}]
[null,"1,1-Dichlorethan","11DCA",{"$f":"IF($S$3,'Schadstoffkonzentrationen Boden'!Z38,'Schadstoffkonzentrationen GW'!V19)","v":0},null,null,null,null,null,null,null,null,null,null,null,null,null,null,null,"11DCA",{"$f":"'Schadstoffkonzentrationen GW'!Y19","v":0},{"$f":"IFERROR(U15/Stoffdatenbank!R17,0)","v":0},{"$f":"IFERROR(Stoffdatenbank!N17*1000*(Schadstoffbelastung!V15/(Schadstoffbelastung!V$17)),0)","v":0},{"$f":"W15/1000*Bodencharakterisierung!$E$9*Stoffdatenbank!J17","v":0},0,0,null,{"$f":"D15/VLOOKUP(Schadstoffbelastung!B15,Stoffdatenbank!$A$6:$S$47,17,FALSE)/1000","v":0}]
[null,"1,2-Dichlorethan","12DCA",{"$f":"IF($S$3,'Schadstoffkonzentrationen Boden'!Z39,'Schadstoffkonzentrationen GW'!V20)","v":0},null,null,null,null,null,null,null,null,null,null,null,null,null,null,null,"12DCA",{"$f":"'Schadstoffkonzentrationen GW'!Y20","v":0},{"$f":"IFERROR(U16/Stoffdatenbank!R18,0)","v":0},{"$f":"IFERROR(Stoffdatenbank!N18*1000*(Schadstoffbelastung!V16/(Schadstoffbelastung!V$17)),0)","v":0},{"$f":"W16/1000*Bodencharakterisierung!$E$9*Stoffdatenbank!J18","v":0},{"$f":"IFERROR(D16*1000/$J$12,0)","v":0},0,null,{"$f":"D16/VLOOKUP(Schadstoffbelastung!B16,Stoffdatenbank!$A$6:$S$47,17,FALSE)/1000","v":0}]
[null,"LCKW",null,{"$f":"SUM(D4:D16)","v":330.21992601580496},null,null,null,null,null,null,null,null,null,null,null,null,null,null,null,"LCKW",{"$f":"SUM(U4:U16)","v":1633.5625},{"$f":"SUM(V4:V16)","v":10.8640320913705},{"$f":"SUM(W4:W16)","v":655597.09632909158},{"$f":"SUM(X4:X16)","v":376.54864800841307},{"$f":"SUM(Y4:Y16)","v":29.825800200495053},0]
[null,"Benzol","B",{"$f":"IF($S$3,'Schadstoffkonzentrationen Boden'!Z42,'Schadstoffkonzentrationen GW'!V23)","v":0},null,null,null,null,null,null,null,null,null,null,null,null,null,{"$f":"(1.24/1000)*0.4","v":4.9600000000000002E-4},null,"B",{"$f":"'Schadstoffkonzentrationen GW'!Y19","v":0},{"$f":"IFERROR(U18/Stoffdatenbank!R20,0)","v":0},{"$f":"IFERROR(Stoffdatenbank!N20*1000*(Schadstoffbelastung!V18/(Schadstoffbelastung!V$35)),0)","v":0},{"$f":"W18/1000*Bodencharakterisierung!$E$9*Stoffdatenbank!J20","v":0},{"$f":"IFERROR(D18*1000/$J$12,0)","v":0},0,null,{"$f":"D18/VLOOKUP(Schadstoffbelastung!B18,Stoffdatenbank!$A$6:$S$47,17,FALSE)/1000","v":0}]
[null,"Toluol","T",{"$f":"IF($S$3,'Schadstoffkonzentrationen Boden'!Z43,'Schadstoffkonzentrationen GW'!V24)","v":0},null,null,null,null,null,null,null,null,null,null,null,null,null,{"$f":"0.0036*1000","v":3.6},null,"T",{"$f":"'Schadstoffkonzentrationen GW'!Y20","v":0},{"$f":"IFERROR(U19/Stoffdatenbank!R21,0)","v":0},{"$f":"IFERROR(Stoffdatenbank!N21*1000*(Schadstoffbelastung!V19/(Schadstoffbelastung!V$35)),0)","v":0},{"$f":"W19/1000*Bodencharakterisierung!$E$9*Stoffdatenbank!J21","v":0},{"$f":"IFERROR(D19*1000/$J$12,0)","v":0},0,null,{"$f":"D19/VLOOKUP(Schadstoffbelastung!B19,Stoffdatenbank!$A$6:$S$47,17,FALSE)/1000","v":0}]
[null,"Ethylbenzol","ETBE",{"$f":"IF($S$3,'Schadstoffkonzentrationen Boden'!Z44,'Schadstoffkonzentrationen GW'!V25)","v":0},null,null,null,null,null,null,null,null,null,null,null,null,null,{"$f":"R18/R19","v":1.3777777777777779E-4},null,"ETBE",{"$f":"'Schadstoffkonzentrationen GW'!Y21","v":0},{"$f":"IFERROR(U20/Stoffdatenbank!R22,0)","v":0},{"$f":"IFERROR(Stoffdatenbank!N22*1000*(Schadstoffbelastung!V20/(Schadstoffbelastung!V$35)),0)","v":0},{"$f":"W20/1000*Bodencharakterisierung!$E$9*Stoffdatenbank!J22","v":0},{"$f":"IFERROR(D20*1000/$J$12,0)","v":0},0,null,{"$f":"D20/VLOOKUP(Schadstoffbelastung!B20,Stoffdatenbank!$A$6:$S$47,17,FALSE)/1000","v":0}]
[null,"o-Xylol","oX",{"$f":"IF($S$3,'Schadstoffkonzentrationen Boden'!Z45,'Schadstoffkonzentrationen GW'!V26)","v":0},null,null,null,null,null,null,null,null,null,null,null,null,null,null,null,"oX",{"$f":"'Schadstoffkonzentrationen GW'!Y22","v":0},{"$f":"IFERROR(U21/Stoffdatenbank!R23,0)","v":0},{"$f":"IFERROR(Stoffdatenbank!N23*1000*(Schadstoffbelastung!V21/(Schadstoffbelastung!V$35)),0)","v":0},{"$f":"W21/1000*Bodencharakterisierung!$E$9*Stoffdatenbank!J23","v":0},0,0,null,{"$f":"D21/VLOOKUP(Schadstoffbelastung!B21,Stoffdatenbank!$A$6:$S$47,17,FALSE)/1000","v":0}]
[null,"m-Xylol","mX",{"$f":"IF($S$3,'Schadstoffkonzentrationen Boden'!Z46,'Schadstoffkonzentrationen GW'!V27)","v":0},null,null,null,null,null,null,null,null,null,null,null,null,null,null,null,"mX",{"$f":"'Schadstoffkonzentrationen GW'!Y23","v":0},{"$f":"IFERROR(U22/Stoffdatenbank!R24,0)","v":0},{"$f":"IFERROR(Stoffdatenbank!N24*1000*(Schadstoffbelastung!V22/(Schadstoffbelastung!V$35)),0)","v":0},{"$f":"W22/1000*Bodencharakterisierung!$E$9*Stoffdatenbank!J24","v":0},0,0,null,{"$f":"D22/VLOOKUP(Schadstoffbelastung!B22,Stoffdatenbank!$A$6:$S$47,17,FALSE)/1000","v":0}]
[null,"p-Xylol","pX",{"$f":"IF($S$3,'Schadstoffkonzentrationen Boden'!Z47,'Schadstoffkonzentrationen GW'!V28)","v":0},null,null,null,null,null,null,null,null,null,null,null,null,null,null,null,"pX",{"$f":"'Schadstoffkonzentrationen GW'!Y24","v":0},{"$f":"IFERROR(U23/Stoffdatenbank!R25,0)","v":0},{"$f":"IFERROR(Stoffdatenbank!N25*1000*(Schadstoffbelastung!V23/(Schadstoffbelastung!V$35)),0)","v":0},{"$f":"W23/1000*Bodencharakterisierung!$E$9*Stoffdatenbank!J25","v":0},{"$f":"IFERROR(D23*1000/$J$12,0)","v":0},0,null,{"$f":"D23/VLOOKUP(Schadstoffbelastung!B23,Stoffdatenbank!$A$6:$S$47,17,FALSE)/1000","v":0}]
[null,"n-Propylbenzol","nPB",{"$f":"IF($S$3,'Schadstoffkonzentrationen Boden'!Z48,'Schadstoffkonzentrationen GW'!V29)","v":0},null,null,null,null,null,null,null,null,null,null,null,null,null,null,null,"nPB",{"$f":"'Schadstoffkonzentrationen GW'!Y25","v":0},{"$f":"IFERROR(U24/Stoffdatenbank!R26,0)","v":0},{"$f":"IFERROR(Stoffdatenbank!N26*1000*(Schadstoffbelastung!V24/(Schadstoffbelastung!V$35)),0)","v":0},{"$f":"W24/1000*Bodencharakterisierung!$E$9*Stoffdatenbank!J26","v":0},{"$f":"IFERROR(D24*1000/$J$12,0)","v":0},0,null,{"$f":"D24/VLOOKUP(Schadstoffbelastung!B24,Stoffdatenbank!$A$6:$S$47,17,FALSE)/1000","v":0}]
[null,"Isopropylbenzol","iPB",{"$f":"IF($S$3,'Schadstoffkonzentrationen Boden'!Z49,'Schadstoffkonzentrationen GW'!V30)","v":0},null,null," Berechnung der Schadstoffinventare mit Daten aus ..",null,null,null,null,null,null,null,null,null,null,null,null,"iPB",{"$f":"'Schadstoffkonzentrationen GW'!Y26","v":0},{"$f":"IFERROR(U25/Stoffdatenbank!R27,0)","v":0},{"$f":"IFERROR(Stoffdatenbank!N27*1000*(Schadstoffbelastung!V25/(Schadstoffbelastung!V$35)),0)","v":0},{"$f":"W25/1000*Bodencharakterisierung!$E$9*Stoffdatenbank!J27","v":0},0,0,null,{"$f":"D25/VLOOKUP(Schadstoffbelastung!B25,Stoffdatenbank!$A$6:$S$47,17,FALSE)/1000","v":0}]
[null,"o-Ethyltoluol","oET",{"$f":"IF($S$3,'Schadstoffkonzentrationen Boden'!Z50,'Schadstoffkonzentrationen GW'!V31)","v":0},null,null,null,null,null,null,null,null,null,null,null,null,null,null,null,"oET",{"$f":"'Schadstoffkonzentrationen GW'!Y27","v":0},{"$f":"IFERROR(U26/Stoffdatenbank!R28,0)","v":0},{"$f":"IFERROR(Stoffdatenbank!N28*1000*(Schadstoffbelastung!V26/(Schadstoffbelastung!V$35)),0)","v":0},{"$f":"W26/1000*Bodencharakterisierung!$E$9*Stoffdatenbank!J28","v":0},0,0,null,{"$f":"D26/VLOOKUP(Schadstoffbelastung!B26,Stoffdatenbank!$A$6:$S$47,17,FALSE)/1000","v":0}]
[null,"m-Ethyltoluol","oET",{"$f":"IF($S$3,'Schadstoffkonzentrationen Boden'!Z51,'Schadstoffkonzentrationen GW'!V32)","v":0},null,null,null,null,null,null,null,null,null,null,null,null,null,null,null,"oET",{"$f":"'Schadstoffkonzentrationen GW'!Y28","v":0},{"$f":"IFERROR(U27/Stoffdatenbank!R29,0)","v":0},{"$f":"IFERROR(Stoffdatenbank!N29*1000*(Schadstoffbelastung!V27/(Schadstoffbelastung!V$35)),0)","v":0},{"$f":"W27/1000*Bodencharakterisierung!$E$9*Stoffdatenbank!J29","v":0},0,0,null,{"$f":"D27/VLOOKUP(Schadstoffbelastung!B27,Stoffdatenbank!$A$6:$S$47,17,FALSE)/1000","v":0}]
[null,"p-Ethyltoluol","pET",{"$f":"IF($S$3,'Schadstoffkonzentrationen Boden'!Z52,'Schadstoffkonzentrationen GW'!V33)","v":0},null,null,null,null,null,null,null,null,null,null,null,null,null,null,null,"pET",{"$f":"'Schadstoffkonzentrationen GW'!Y29","v":0},{"$f":"IFERROR(U28/Stoffdatenbank!R30,0)","v":0},{"$f":"IFERROR(Stoffdatenbank!N30*1000*(Schadstoffbelastung!V28/(Schadstoffbelastung!V$35)),0)","v":0},{"$f":"W28/1000*Bodencharakterisierung!$E$9*Stoffdatenbank!J30","v":0},0,0,null,{"$f":"D28/VLOOKUP(Schadstoffbelastung!B28,Stoffdatenbank!$A$6:$S$47,17,FALSE)/1000","v":0}]
[null,"1,2-Diethylbenzol","12DEB",{"$f":"IF($S$3,'Schadstoffkonzentrationen Boden'!Z53,'Schadstoffkonzentrationen GW'!V34)","v":0},null,null,null,null,null,null,null,null,null,null,null,null,null,null,null,"12DEB",{"$f":"'Schadstoffkonzentrationen GW'!Y30","v":0},{"$f":"IFERROR(U29/Stoffdatenbank!R31,0)","v":0},{"$f":"IFERROR(Stoffdatenbank!N31*1000*(Schadstoffbelastung!V29/(Schadstoffbelastung!V$35)),0)","v":0},{"$f":"W29/1000*Bodencharakterisierung!$E$9*Stoffdatenbank!J31","v":0},0,0,null,{"$f":"D29/VLOOKUP(Schadstoffbelastung!B29,Stoffdatenbank!$A$6:$S$47,17,FALSE)/1000","v":0}]
[null,"1,3-Diethylbenzol","13DEB",{"$f":"IF($S$3,'Schadstoffkonzentrationen Boden'!Z54,'Schadstoffkonzentrationen GW'!V35)","v":0},null,null,null,null,null,null,null,null,null,null,null,null,null,null,null,"13DEB",{"$f":"'Schadstoffkonzentrationen GW'!Y31","v":0},{"$f":"IFERROR(U30/Stoffdatenbank!R32,0)","v":0},{"$f":"IFERROR(Stoffdatenbank!N32*1000*(Schadstoffbelastung!V30/(Schadstoffbelastung!V$35)),0)","v":0},{"$f":"W30/1000*Bodencharakterisierung!$E$9*Stoffdatenbank!J32","v":0},0,0,null,{"$f":"D30/VLOOKUP(Schadstoffbelastung!B30,Stoffdatenbank!$A$6:$S$47,17,FALSE)/1000","v":0}]
[null,"1,4-Diethylbenzol","14DEB",{"$f":"IF($S$3,'Schadstoffkonzentrationen Boden'!Z55,'Schadstoffkonzentrationen GW'!V36)","v":0},null,null,null,null,null,null,null,null,null,null,null,null,null,null,null,"14DEB",{"$f":"'Schadstoffkonzentrationen GW'!Y32","v":0},{"$f":"IFERROR(U31/Stoffdatenbank!R33,0)","v":0},{"$f":"IFERROR(Stoffdatenbank!N33*1000*(Schadstoffbelastung!V31/(Schadstoffbelastung!V$35)),0)","v":0},{"$f":"W31/1000*Bodencharakterisierung!$E$9*Stoffdatenbank!J33","v":0},0,0,null,{"$f":"D31/VLOOKUP(Schadstoffbelastung!B31,Stoffdatenbank!$A$6:$S$47,17,FALSE)/1000","v":0}]
[null,"1,2,3-Trimethylbenzol","123TMB",{"$f":"IF($S$3,'Schadstoffkonzentrationen Boden'!Z56,'Schadstoffkonzentrationen GW'!V37)","v":0},null,null,null,null,null,null,null,null,null,null,null,null,null,null,null,"123TMB",{"$f":"'Schadstoffkonzentrationen GW'!Y33","v":0},{"$f":"IFERROR(U32/Stoffdatenbank!R34,0)","v":0},{"$f":"IFERROR(Stoffdatenbank!N34*1000*(Schadstoffbelastung!V32/(Schadstoffbelastung!V$35)),0)","v":0},{"$f":"W32/1000*Bodencharakterisierung!$E$9*Stoffdatenbank!J34","v":0},0,0,null,{"$f":"D32/VLOOKUP(Schadstoffbelastung!B32,Stoffdatenbank!$A$6:$S$47,17,FALSE)/1000","v":0}]
[null,"1,2,4-Trimethylbenzol","124TMB",{"$f":"IF($S$3,'Schadstoffkonzentrationen Boden'!Z57,'Schadstoffkonzentrationen GW'!V38)","v":0},null,null,null,null,null,null,null,null,null,null,null,null,null,null,null,"124TMB",{"$f":"'Schadstoffkonzentrationen GW'!Y34","v":0},{"$f":"IFERROR(U33/Stoffdatenbank!R35,0)","v":0},{"$f":"IFERROR(Stoffdatenbank!N35*1000*(Schadstoffbelastung!V33/(Schadstoffbelastung!V$35)),0)","v":0},{"$f":"W33/1000*Bodencharakterisierung!$E$9*Stoffdatenbank!J35","v":0},0,0,null,{"$f":"D33/VLOOKUP(Schadstoffbelastung!B33,Stoffdatenbank!$A$6:$S$47,17,FALSE)/1000","v":0}]
[null,"1,3,5-Trimethylbenzol","135TMB",{"$f":"IF($S$3,'Schadstoffkonzentrationen Boden'!Z58,'Schadstoffkonzentrationen GW'!V39)","v":0},null,null,null,null,null,null,null,null,null,null,null,null,null,null,null,"135TMB",{"$f":"'Schadstoffkonzentrationen GW'!Y35","v":0},{"$f":"IFERROR(U34/Stoffdatenbank!R36,0)","v":0},{"$f":"IFERROR(Stoffdatenbank!N36*1000*(Schadstoffbelastung!V34/(Schadstoffbelastung!V$35)),0)","v":0},{"$f":"W34/1000*Bodencharakterisierung!$E$9*Stoffdatenbank!J36","v":0},0,0,null,{"$f":"D34/VLOOKUP(Schadstoffbelastung!B34,Stoffdatenbank!$A$6:$S$47,17,FALSE)/1000","v":0}]
[null,"AKW",null,{"$f":"SUM(D18:D34)","v":0},null,null,null,null,null,null,null,null,null,null,null,null,null,null,null,"AKW",{"$f":"SUM(U18:U34)","v":0},{"$f":"SUM(V18:V34)","v":0},{"$f":"SUM(W18:W34)","v":0},0,0,0]
[null,{"$f":"Stoffdatenbank!A38","v":"n-Pentan"},"nC5",{"$f":"IF($S$3,'Schadstoffkonzentrationen Boden'!Z62,'Schadstoffkonzentrationen GW'!V43)","v":0},null,null,null,null,null,null,null,null,null,null,null,null,null,null,null,"nC5",{"$f":"'Schadstoffkonzentrationen GW'!Y37","v":0},{"$f":"IFERROR(U36/Stoffdatenbank!R38,0)","v":0},{"$f":"IFERROR(Stoffdatenbank!N38*1000*(Schadstoffbelastung!V36/(Schadstoffbelastung!V$42)),0)","v":0},{"$f":"W36/1000*Bodencharakterisierung!$E$9*Stoffdatenbank!J38","v":0},{"$f":"IFERROR(D36*1000/$J$12,0)","v":0},0,null,{"$f":"D36/VLOOKUP(Schadstoffbelastung!B36,Stoffdatenbank!$A$6:$S$47,17,FALSE)/1000","v":0}]
[null,{"$f":"Stoffdatenbank!A39","v":"n-Hexan"},"nC6",{"$f":"IF($S$3,'Schadstoffkonzentrationen Boden'!Z63,'Schadstoffkonzentrationen GW'!V44)","v":0},null,null,null,null,null,null,null,null,null,null,null,null,null,null,null,"nC6",{"$f":"'Schadstoffkonzentrationen GW'!Y38","v":0},{"$f":"IFERROR(U37/Stoffdatenbank!R39,0)","v":0},{"$f":"IFERROR(Stoffdatenbank!N39*1000*(Schadstoffbelastung!V37/(Schadstoffbelastung!V$42)),0)","v":0},{"$f":"W37/1000*Bodencharakterisierung!$E$9*Stoffdatenbank!J39","v":0},0,0,null,{"$f":"D37/VLOOKUP(Schadstoffbelastung!B37,Stoffdatenbank!$A$6:$S$47,17,FALSE)/1000","v":0}]
[null,{"$f":"Stoffdatenbank!A40","v":"n-Heptan"},"nC7",{"$f":"IF($S$3,'Schadstoffkonzentrationen Boden'!Z64,'Schadstoffkonzentrationen GW'!V45)","v":0},null,null,null,null,null,null,null,null,null,null,null,null,null,null,null,"nC7",{"$f":"'Schadstoffkonzentrationen GW'!Y39","v":0},{"$f":"IFERROR(U38/Stoffdatenbank!R40,0)","v":0},{"$f":"IFERROR(Stoffdatenbank!N40*1000*(Schadstoffbelastung!V38/(Schadstoffbelastung!V$42)),0)","v":0},{"$f":"W38/1000*Bodencharakterisierung!$E$9*Stoffdatenbank!J40","v":0},0,0,null,{"$f":"D38/VLOOKUP(Schadstoffbelastung!B38,Stoffdatenbank!$A$6:$S$47,17,FALSE)/1000","v":0}]
[null,{"$f":"Stoffdatenbank!A41","v":"n-Octan"},"nC8",{"$f":"IF($S$3,'Schadstoffkonzentrationen Boden'!Z65,'Schadstoffkonzentrationen GW'!V46)","v":0},null,null,null,null,null,null,null,null,null,null,null,null,null,null,null,"nC8",{"$f":"'Schadstoffkonzentrationen GW'!Y40","v":0},{"$f":"IFERROR(U39/Stoffdatenbank!R41,0)","v":0},{"$f":"IFERROR(Stoffdatenbank!N41*1000*(Schadstoffbelastung!V39/(Schadstoffbelastung!V$42)),0)","v":0},{"$f":"W39/1000*Bodencharakterisierung!$E$9*Stoffdatenbank!J41","v":0},0,0,null,{"$f":"D39/VLOOKUP(Schadstoffbelastung!B39,Stoffdatenbank!$A$6:$S$47,17,FALSE)/1000","v":0}]
[null,{"$f":"Stoffdatenbank!A42","v":"n-Nonan"},"nC9",{"$f":"IF($S$3,'Schadstoffkonzentrationen Boden'!Z66,'Schadstoffkonzentrationen GW'!V47)","v":0},null,null,null,null,null,null,null,null,null,null,null,null,null,null,null,"nC9",{"$f":"'Schadstoffkonzentrationen GW'!Y41","v":0},{"$f":"IFERROR(U40/Stoffdatenbank!R42,0)","v":0},{"$f":"IFERROR(Stoffdatenbank!N42*1000*(Schadstoffbelastung!V40/(Schadstoffbelastung!V$42)),0)","v":0},{"$f":"W40/1000*Bodencharakterisierung!$E$9*Stoffdatenbank!J42","v":0},0,0,null,{"$f":"D40/VLOOKUP(Schadstoffbelastung!B40,Stoffdatenbank!$A$6:$S$47,17,FALSE)/1000","v":0}]
[null,{"$f":"Stoffdatenbank!A43","v":"n-Decan"},"nC10",{"$f":"IF($S$3,'Schadstoffkonzentrationen Boden'!Z67,'Schadstoffkonzentrationen GW'!V48)","v":0},null,null,null,null,null,null,null,null,null,null,null,null,null,null,null,"nC10",{"$f":"'Schadstoffkonzentrationen GW'!Y42","v":0},{"$f":"IFERROR(U41/Stoffdatenbank!R43,0)","v":0},{"$f":"IFERROR(Stoffdatenbank!N43*1000*(Schadstoffbelastung!V41/(Schadstoffbelastung!V$42)),0)","v":0},{"$f":"W41/1000*Bodencharakterisierung!$E$9*Stoffdatenbank!J43","v":0},0,0,null,{"$f":"D41/VLOOKUP(Schadstoffbelastung!B41,Stoffdatenbank!$A$6:$S$47,17,FALSE)/1000","v":0}]
[null,{"$f":"Stoffdatenbank!A37","v":"n-Alkane"},null,{"$f":"SUM(D36:D41)","v":0},null,null,null,null,null,null,null,null,null,null,null,null,null,null,null,"n-Alkane",{"$f":"SUM(U36:U41)","v":0},{"$f":"SUM(V36:V41)","v":0},{"$f":"SUM(W36:W41)","v":0},0,0,0]
[null,"MTBE (Methyl-tert-butylether)",null,{"$f":"IF($S$3,'Schadstoffkonzentrationen Boden'!Z70,'Schadstoffkonzentrationen GW'!V51)","v":0},null,null,null,null,null,null,null,null,null,null,null,null,null,null,null,"MTBE",{"$f":"'Schadstoffkonzentrationen GW'!Y44","v":0},{"$f":"IFERROR(U43/Stoffdatenbank!R45,0)","v":0},{"$f":"IFERROR(Stoffdatenbank!N45*1000*(Schadstoffbelastung!V43/(Schadstoffbelastung!V$42)),0)","v":0},{"$f":"W43/1000*Bodencharakterisierung!$E$9*Stoffdatenbank!J45","v":0},{"$f":"IFERROR(D43*1000/$J$12,0)","v":0},0,null,{"$f":"D43/VLOOKUP(Schadstoffbelastung!B43,Stoffdatenbank!$A$6:$S$47,17,FALSE)/1000","v":0}]
[null,"ETBE (Ethyl-tert-butylether)",null,{"$f":"IF($S$3,'Schadstoffkonzentrationen Boden'!Z71,'Schadstoffkonzentrationen GW'!V52)","v":0},null,null,null,null,null,null,null,null,null,null,null,null,null,null,null,"ETBE",{"$f":"'Schadstoffkonzentrationen GW'!Y45","v":0},{"$f":"IFERROR(U44/Stoffdatenbank!R46,0)","v":0},{"$f":"IFERROR(Stoffdatenbank!N46*1000*(Schadstoffbelastung!V44/(Schadstoffbelastung!V$42)),0)","v":0},{"$f":"W44/1000*Bodencharakterisierung!$E$9*Stoffdatenbank!J46","v":0},0,0,null,{"$f":"D44/VLOOKUP(Schadstoffbelastung!B44,Stoffdatenbank!$A$6:$S$47,17,FALSE)/1000","v":0}]
[null,"TBA (tert-Butylalkohol) ",null,{"$f":"IF($S$3,'Schadstoffkonzentrationen Boden'!Z72,'Schadstoffkonzentrationen GW'!V53)","v":0},null,null,null,null,null,null,null,null,null,null,null,null,null,null,null,"TBA",{"$f":"'Schadstoffkonzentrationen GW'!Y46","v":0},{"$f":"IFERROR(U45/Stoffdatenbank!R47,0)","v":0},{"$f":"IFERROR(Stoffdatenbank!N47*1000*(Schadstoffbelastung!V45/(Schadstoffbelastung!V$42)),0)","v":0},{"$f":"W45/1000*Bodencharakterisierung!$E$9*Stoffdatenbank!J47","v":0},0,0,null,{"$f":"D45/VLOOKUP(Schadstoffbelastung!B45,Stoffdatenbank!$A$6:$S$47,17,FALSE)/1000","v":0}]
[null,"Oxigenate",null,{"$f":"SUM(D43:D45)","v":0},null,null,null,null,null,null,null,null,null,null,null,null,null,null,null,"Oxigenate",{"$f":"SUM(U43:U45)","v":0},{"$f":"SUM(V43:V45)","v":0},{"$f":"SUM(W43:W45)","v":0},0,0,0]
[null,"DOC"]

{"sheet":"Calculation","index":8,"n_rows":11,"n_cols":9,"rows_kept":11,"cut":false,"hidden":true,"merged":[[9,0,9,4],[1,5,1,6],[2,0,2,4],[2,5,2,8],[13,5,15,7],[13,8,15,8],[10,0,12,1],[10,3,12,3],[10,4,12,4],[10,5,12,6],[10,7,12,7],[10,8,12,8],[9,5,9,8]]}
[]
[null,"Parameter",null,"Einheit","Wert","  Ergebnisparameter",null,"Einheit","Wert"]
["Schadstoffbelastung",null,null,null,null,"Dimensionierung Injektionen"]
[null,"Soil Oxygen Demand (SOD)","SOD","g/kg",{"$f":"Sanierungsdesign!E14","v":2}," Injektionen unproduktiver Oxidationsmittelverbrauch",null,"Kampagnen",{"$f":"Berechnung1!C23","v":1}]
[null,"Relevante Konzentration Grundwasser","Cw","µg/L",{"$f":"Berechnung1!C14","v":1633.5625}," Injektionen für Schadstoffabbau",null,"Kampagnen",{"$f":"VLOOKUP(I11,Berechnung1!E5:AS47,40,0)","v":2.9968607065153572}]
[null,"Mittlere Konzentration Boden","Cges"," mg/kg",{"$f":"Berechnung1!C15","v":29.825800200495053}," Gesamtinjektionen für betrachteten Stoff",null,"Kampagnen",{"$f":"I4+I5","v":3.9968607065153572}]
[null,"Konzentration Residualphase","Cres"," mg/kg",{"$f":"Berechnung1!C17","v":0}," Sanierungszielwert",null,"µg/L",{"$f":"VLOOKUP(I11,Berechnung1!E5:P47,12,0)*1000*1000","v":450}]
[null,"Konzentration Sorbierte Phase","Cs"," mg/kg",{"$f":"Berechnung1!C18","v":29.825800200495049}," Schadstoffendkonzentration ",null,"µg/L",{"$f":"Berechnung1!C11","v":448.70743244403855}]
[null,"Sanierungszielwert","-","µg/L",{"$f":"Berechnung1!C19","v":450}]
["Sanierungserfolg"]
[" Gesamtdauer der Sanierung",null,null,"Tage",{"$f":"Berechnung1!C12","v":442.34044288263766}," Betrachteter Schadstoff",null,null,{"$f":"Berechnung1!C2","v":"LCKW"}]

{"sheet":"Berechnung1","index":9,"n_rows":47,"n_cols":47,"rows_kept":47,"cut":false,"hidden":true,"merged":[[0,40,2,40],[0,41,2,41],[0,35,2,35],[0,36,2,36],[0,37,2,37],[0,38,2,38],[0,39,2,39],[0,30,2,30],[0,31,2,31],[0,32,2,32],[0,33,2,33],[0,34,2,34],[0,46,2,46],[0,44,2,44],[0,45,2,45],[0,42,2,42],[0,43,2,43]]}
["Bewertungsrelevanter Schadstoff",null,{"$f":"OFFSET(E5,MATCH(\"Ja\",T5:T47,0)-1,0)","v":{"$error":"#N/A"}},null,null,null,null,null,null,"Ermittlung bewertungsrelevanter Schadstoff",null,null,null,null,null,null,null,null,null,null,null,null,null,null,null,null,null,null,null,null,"Ges. Ox-Bedarf [kg/kgBoden]","NAPL-Auflösung \nFb [kg/m2*s]","Massentransferrate JRW=Fb * A0 [kg/m³*s]","Mass of contaminant [kg]","Time for blobs dissolution [d]","KOC [L/kg]","Rf [-]","Dp [m2/s]","Dap [m2/s]","Desorptionszeit Test 1 [d]","Zielwerte [µg/L]","Retardations-faktor R","Konz. im GW nach 1. Test [µg/L]","1 + Erforderliche Anzahl injektionen","Erforderliche Gesamtzahl injektionen","Schadstoffendkonzentration","Sanierungs-dauer [d]"]
["Betrachteter Stoff:",null,{"$f":"IF(Sanierungsdesign!E16=\"Bewertungsrelevanter Schadstoff\",C1,Sanierungsdesign!E16)","v":"LCKW"},null,null,"Gesamt","Konz im Boden","wäss. Konz","wässrige Konz.",null,"Stoffmenge","Anteil an","Mengen-","K(d)","Löslichkeit","San.Zielwert","Verhältnis","Sanierungs-","Auswahl-","Maximum +","Dichte","Diff.-Koeff.","Grenzkonz.","Mittel.Konz","Residualph.","Sätt.Konz.","Stöchiomet. Faktor","Stöchiomet. Faktor","Welcher Stoff","Welcher Stoff"]
["Oxidationsmittel",null,{"$f":"Sanierungsdesign!E15","v":"Permanganat"},null,"Stoffname","Inventar [kg]","mg/kg","c(w) [kg/m3]","im Gleichgewicht","Molgewicht",null,"Stofgruppe","relevanz?","m3/kg","[kg/m3]","[kg/m3]","c(w)/Zielw.","relevanz?","Formel","bew.Relevanz","kg/L","m²/s","Boden [kg/kg]","Boden [kg/kg]","Boden [kg/kg]","c(i) [kg/m3]","Permang. [g MnO4-/g]","Permang. [g S2O8-2/g]","betrachtet","betrachtet"]
[null,null,null,null,1,{"$f":"E4+1","v":2},{"$f":"F4+1","v":3},4,5,6,7,8,9,10,11,12,13,14,15,16,17,18,19,20,21,22,23,24,25,26,27,28,29,30,31,32,33,34,35,36,37,38,39,40,41,42,43]
["Oxidationsmittelbedarf durch SOD [g/kg] aus Bodenart abgeschätzt",null,{"$f":"Sanierungsdesign!E14","v":2},null,"Tetrachlorethen",{"$f":"Schadstoffbelastung!D4","v":316.705306995},{"$f":"F5/Schadstoffbelastung!$J$12*1000","v":28.605146039603962},{"$f":"Schadstoffbelastung!U4/1000/1000","v":1.4176249999999998E-3},{"$f":"X5/N5","v":1.589174779977998E-2},{"$f":"Stoffdatenbank!R6","v":166},{"$f":"F5/J5","v":1.9078632951506025},{"$f":"IFERROR(K5/$K$18,0)","v":0.93158398940669096},{"$f":"IF(L5>0.05,1,0)","v":1},{"$f":"Stoffdatenbank!J6*0.001*Bodencharakterisierung!$E$9","v":1.8E-3},{"$f":"Stoffdatenbank!N6*0.001","v":0.16},{"$f":"Sanierungsdesign!$E$4/1000000","v":4.4999999999999999E-4},{"$f":"H5/P5","v":3.1502777777777773},{"$f":"IF(AND(M5=1,Q5>1),1,0)","v":1},{"$f":"IF((R5=1),((Q5)^0.5*N5)/((0.15^1.2)*(O5^0.9)),0)","v":0.16196808024995241},{"$f":"IF((S5=MAX($S$5:$S$46)),\"Ja\",\"0\")","v":{"$error":"#DIV/0!"}},{"$f":"Stoffdatenbank!Q6","v":1.6240000000000001},{"$f":"Stoffdatenbank!L6","v":7.49E-10},{"$f":"Schadstoffbelastung!X4/1000/1000","v":2.2638868840025203E-4},{"$f":"Schadstoffbelastung!Y4/1000/1000","v":2.8605146039603965E-5},{"$f":"Schadstoffbelastung!Z4/1000/1000","v":0},{"$f":"Schadstoffbelastung!W4/1000/1000","v":0.12577149355569556},0.96,1,{"$f":"IF($C$2=E5,1,0)","v":0},{"$f":"IF($C$2=F5,1,0)","v":0},{"$f":"IF(Sanierungsdesign!$E$15=\"Permanganat\",Berechnung1!F5*Berechnung1!AA5,Berechnung1!F5*Berechnung1!AB5)","v":304.0370947152},{"$f":"VLOOKUP(E5,Stoffdatenbank!$A$6:$R$47,Stoffdatenbank!$L$2,FALSE)/(Bodencharakterisierung!$E$13/10)*VLOOKUP(E5,Stoffdatenbank!$A$6:$R$47,Stoffdatenbank!$N$2,FALSE)/1000","v":2075161.4457831325},{"$f":"AF5*$C$7","v":1024370.7416098774},{"$f":"VLOOKUP(E5,Schadstoffbelastung!$B$2:$D$46,3,0)","v":316.705306995},{"$f":"IF(Y5>0,Schadstoffbelastung!$J$4/Grundwassercharakterisierung!$D$4*AP5,0)*Heterogenität!$D$17","v":0},{"$f":"Stoffdatenbank!J6*Bodencharakterisierung!$E$9","v":1.8},{"$f":"1+AJ5*VLOOKUP(E5,Stoffdatenbank!$A$6:$S$47,Stoffdatenbank!$Q$2,FALSE)/Bodencharakterisierung!$E$8","v":1.0000361090909091},{"$f":"Stoffdatenbank!L6/Bodencharakterisierung!$E$14","v":9.3625E-11},{"$f":"AL5/AK5","v":9.362161940843372E-11},{"$f":"0.183*Bodencharakterisierung!$E$13^2/Berechnung1!AM5*Heterogenität!$D$17/3600/24","v":4.7874631979464245E-3},{"$f":"Sanierungsdesign!$E$4","v":450},{"$f":"1+U5*1000*(AH5/U5/1000/Schadstoffbelastung!$J$11/Bodencharakterisierung!$E$8)/O5/lblMainSoilPorosityAct","v":5.1038632812499998},{"$f":"G5/AJ5*1000*0.4","v":6356.6991199119911},{"$f":"IFERROR(LOG(AO5/AQ5,0.4),0)","v":2.8899309361343066},{"$f":"IF(F5=0,0,IF(AR5<0,1,1+ROUNDUP(AR5,0)))","v":4},{"$f":"G5/AJ5*1000*0.4^AS5","v":406.82874367436762},{"$f":"(AS5*90)*Heterogenität!$D$17+AI5+AN5","v":442.33902671292509}]
["Relative Porensättigung mit NAPL (S0)","m³/m³",{"$f":"SUM(Schadstoffbelastung!AB4:AB45)/Schadstoffbelastung!J11/Bodencharakterisierung!E8","v":8.5357587203628389E-5},null,"Trichlorethen",{"$f":"Schadstoffbelastung!D5","v":4.4738148656250001},{"$f":"F6/Schadstoffbelastung!$J$12*1000","v":0.40407951732673275},{"$f":"Schadstoffbelastung!U5/1000/1000","v":4.65625E-5},6.2166079588728111E-4,{"$f":"Stoffdatenbank!R7","v":131},{"$f":"F6/J6","v":3.4151258516221375E-2},{"$f":"IFERROR(K6/$K$18,0)","v":1.6675600255357578E-2},0,{"$f":"Stoffdatenbank!J7*0.001*Bodencharakterisierung!$E$9","v":6.5000000000000008E-4},{"$f":"Stoffdatenbank!N7*0.001","v":1},{"$f":"Sanierungsdesign!$E$4/1000000","v":4.4999999999999999E-4},0.10347222222222223,0,0,{"$f":"IF((S6=MAX($S$5:$S$46)),\"Ja\",\"0\")","v":{"$error":"#DIV/0!"}},{"$f":"Stoffdatenbank!Q7","v":1.4641999999999999},{"$f":"Stoffdatenbank!L7","v":8.08E-10},{"$f":"Schadstoffbelastung!X5/1000/1000","v":2.1266073535168127E-5},{"$f":"Schadstoffbelastung!Y5/1000/1000","v":4.0407951732673274E-7},{"$f":"Schadstoffbelastung!Z5/1000/1000","v":0},{"$f":"Schadstoffbelastung!W5/1000/1000","v":3.2717036207950967E-2},1.81,1,0,0,{"$f":"IF(Sanierungsdesign!$E$15=\"Permanganat\",Berechnung1!F6*Berechnung1!AA6,Berechnung1!F6*Berechnung1!AB6)","v":8.0976049067812497},{"$f":"VLOOKUP(E6,Stoffdatenbank!$A$6:$R$47,Stoffdatenbank!$L$2,FALSE)/(Bodencharakterisierung!$E$13/10)*VLOOKUP(E6,Stoffdatenbank!$A$6:$R$47,Stoffdatenbank!$N$2,FALSE)/1000","v":824325.30120481923},{"$f":"AF6*$C$7","v":406915.1929546849},{"$f":"VLOOKUP(E6,Schadstoffbelastung!$B$2:$D$46,3,0)","v":4.4738148656250001},{"$f":"IF(Y6>0,Schadstoffbelastung!$J$4/Grundwassercharakterisierung!$D$4*AP6,0)*Heterogenität!$D$17","v":0},{"$f":"Stoffdatenbank!J7*Bodencharakterisierung!$E$9","v":0.65},{"$f":"1+AJ6*VLOOKUP(E6,Stoffdatenbank!$A$6:$S$47,Stoffdatenbank!$Q$2,FALSE)/Bodencharakterisierung!$E$8","v":1.0000140242424242},{"$f":"Stoffdatenbank!L7/Bodencharakterisierung!$E$14","v":1.01E-10},{"$f":"AL6/AK6","v":1.0099858357137948E-10},{"$f":"0.183*Bodencharakterisierung!$E$13^2/Berechnung1!AM6*Heterogenität!$D$17/3600/24","v":4.4377855767972841E-3},{"$f":"Sanierungsdesign!$E$4","v":450},{"$f":"1+U6*1000*(AH6/U6/1000/Schadstoffbelastung!$J$11/Bodencharakterisierung!$E$8)/O6/lblMainSoilPorosityAct","v":1.0092754616477273},{"$f":"G6/AJ6*1000*0.4","v":248.6643183549125},{"$f":"IFERROR(LOG(AO6/AQ6,0.4),0)","v":-0.6473313482862133},{"$f":"IF(F6=0,0,IF(AR6<0,1,1+ROUNDUP(AR6,0)))","v":1},{"$f":"G6/AJ6*1000*0.4^AS6","v":248.6643183549125},{"$f":"(AS6*90)*Heterogenität!$D$17+AI6+AN6","v":110.58799759800858}]
["Spezifische Grenzflächen (A0)","m²/m³",{"$f":"C6*3*lblMainSoilPorosityAct/(Bodencharakterisierung!$E$13/4)","v":0.49363423924989913},null,"cis-1,2-Dichlorethen",{"$f":"Schadstoffbelastung!D6","v":6.4291102312499993},{"$f":"F7/Schadstoffbelastung!$J$12*1000","v":0.58068378712871282},{"$f":"Schadstoffbelastung!U6/1000/1000","v":1.2412499999999999E-4},2.3227351485148513E-3,{"$f":"Stoffdatenbank!R8","v":97},6.627948692010309E-2,3.2363382113278834E-2,0,{"$f":"Stoffdatenbank!J8*0.001*Bodencharakterisierung!$E$9","v":2.5000000000000001E-4},{"$f":"Stoffdatenbank!N8*0.001","v":3.5},{"$f":"Sanierungsdesign!$E$4/1000000","v":4.4999999999999999E-4},0.27583333333333332,{"$f":"IF(AND(M7=1,Q7>1),1,0)","v":0},0,{"$error":"#DIV/0!"},{"$f":"Stoffdatenbank!Q8","v":1.2837000000000001},{"$f":"Stoffdatenbank!L8","v":8.9500000000000001E-10},{"$f":"Schadstoffbelastung!X6/1000/1000","v":1.0306341779309556E-4},{"$f":"Schadstoffbelastung!Y6/1000/1000","v":5.8068378712871286E-7},{"$f":"Schadstoffbelastung!Z6/1000/1000","v":0},{"$f":"Schadstoffbelastung!W6/1000/1000","v":0.41225367117238221},3.28,1,0,0,{"$f":"IF(Sanierungsdesign!$E$15=\"Permanganat\",Berechnung1!F7*Berechnung1!AA7,Berechnung1!F7*Berechnung1!AB7)","v":21.087481558499995},{"$f":"VLOOKUP(E7,Stoffdatenbank!$A$6:$R$47,Stoffdatenbank!$L$2,FALSE)/(Bodencharakterisierung!$E$13/10)*VLOOKUP(E7,Stoffdatenbank!$A$6:$R$47,Stoffdatenbank!$N$2,FALSE)/1000","v":384421.68674698792},189763.70688851242,{"$f":"VLOOKUP(E7,Schadstoffbelastung!$B$2:$D$46,3,0)","v":6.4291102312499993},{"$f":"IF(Y7>0,Schadstoffbelastung!$J$4/Grundwassercharakterisierung!$D$4*AP7,0)*Heterogenität!$D$17","v":0},{"$f":"Stoffdatenbank!J8*Bodencharakterisierung!$E$9","v":0.25},{"$f":"1+AJ7*VLOOKUP(E7,Stoffdatenbank!$A$6:$S$47,Stoffdatenbank!$Q$2,FALSE)/Bodencharakterisierung!$E$8","v":1.0000059696969696},{"$f":"Stoffdatenbank!L8/Bodencharakterisierung!$E$14","v":1.11875E-10},1.1187433214413842E-10,{"$f":"0.183*Bodencharakterisierung!$E$13^2/Berechnung1!AM7*Heterogenität!$D$17/3600/24","v":4.0063707989116846E-3},{"$f":"Sanierungsdesign!$E$4","v":450},{"$f":"1+U7*1000*(AH7/U7/1000/Schadstoffbelastung!$J$11/Bodencharakterisierung!$E$8)/O7/lblMainSoilPorosityAct","v":1.0038083806818181},{"$f":"G7/AJ7*1000*0.4","v":929.0940594059407},0.7911925480861598,2,{"$f":"G7/AJ7*1000*0.4^AS7","v":371.63762376237634},{"$f":"(AS7*90)*Heterogenität!$D$17+AI7+AN7","v":221.17112599566249}]
["Particle foc fOC(P) ","-",{"$f":"Bodencharakterisierung!E9","v":5.0000000000000001E-3},null,"trans-1,2-Dichlorethen",{"$f":"Schadstoffbelastung!D7","v":0.12899533499999999},{"$f":"F8/Schadstoffbelastung!$J$12*1000","v":1.1650990099009901E-2},{"$f":"Schadstoffbelastung!U7/1000/1000","v":2.2499999999999996E-6},3.8836633663366338E-5,{"$f":"Stoffdatenbank!R9","v":97},1.3298488144329896E-3,6.4934729181392913E-4,0,{"$f":"Stoffdatenbank!J9*0.001*Bodencharakterisierung!$E$9","v":2.9999999999999997E-4},{"$f":"Stoffdatenbank!N9*0.001","v":6.3},{"$f":"Sanierungsdesign!$E$4/1000000","v":4.4999999999999999E-4},4.9999999999999992E-3,0,0,{"$error":"#DIV/0!"},{"$f":"Stoffdatenbank!Q9","v":1.2565},{"$f":"Stoffdatenbank!L9","v":8.8600000000000004E-10},{"$f":"Schadstoffbelastung!X7/1000/1000","v":4.0353531558867621E-6},{"$f":"Schadstoffbelastung!Y7/1000/1000","v":1.1650990099009901E-8},{"$f":"Schadstoffbelastung!Z7/1000/1000","v":0},{"$f":"Schadstoffbelastung!W7/1000/1000","v":1.3451177186289208E-2},3.28,1,0,0,{"$f":"IF(Sanierungsdesign!$E$15=\"Permanganat\",Berechnung1!F8*Berechnung1!AA8,Berechnung1!F8*Berechnung1!AB8)","v":0.42310469879999996},{"$f":"VLOOKUP(E8,Stoffdatenbank!$A$6:$R$47,Stoffdatenbank!$L$2,FALSE)/(Bodencharakterisierung!$E$13/10)*VLOOKUP(E8,Stoffdatenbank!$A$6:$R$47,Stoffdatenbank!$N$2,FALSE)/1000","v":443204.81927710841},218781.07379574445,{"$f":"VLOOKUP(E8,Schadstoffbelastung!$B$2:$D$46,3,0)","v":0.12899533499999999},{"$f":"IF(Y8>0,Schadstoffbelastung!$J$4/Grundwassercharakterisierung!$D$4*AP8,0)*Heterogenität!$D$17","v":0},{"$f":"Stoffdatenbank!J9*Bodencharakterisierung!$E$9","v":0.3},{"$f":"1+AJ8*VLOOKUP(E8,Stoffdatenbank!$A$6:$S$47,Stoffdatenbank!$Q$2,FALSE)/Bodencharakterisierung!$E$8","v":1.0000080272727272},{"$f":"Stoffdatenbank!L9/Bodencharakterisierung!$E$14","v":1.1075000000000001E-10},1.1074911098668183E-10,{"$f":"0.183*Bodencharakterisierung!$E$13^2/Berechnung1!AM8*Heterogenität!$D$17/3600/24","v":4.0470758948477946E-3},{"$f":"Sanierungsdesign!$E$4","v":450},{"$f":"1+U8*1000*(AH8/U8/1000/Schadstoffbelastung!$J$11/Bodencharakterisierung!$E$8)/O8/lblMainSoilPorosityAct","v":1.0000424512987014},15.534653465346535,-3.6736968188988612,1,15.534653465346535,{"$f":"(AS8*90)*Heterogenität!$D$17+AI8+AN8","v":110.58760688832663}]
["Partikelporosiät (nP)","-",1.0999999999999999E-2,null,"1,1-Dichlorethen",{"$f":"Schadstoffbelastung!D8","v":0.18944818893000004},{"$f":"F9/Schadstoffbelastung!$J$12*1000","v":1.711115346534654E-2},{"$f":"Schadstoffbelastung!U8/1000/1000","v":3.0000000000000001E-6},4.8535394881141792E-5,{"$f":"Stoffdatenbank!R10","v":97},1.9530741126804127E-3,9.5365982359555193E-4,0,{"$f":"Stoffdatenbank!J10*0.001*Bodencharakterisierung!$E$9","v":3.5255000000000003E-4},{"$f":"Stoffdatenbank!N10*0.001","v":2.5},{"$f":"Sanierungsdesign!$E$4/1000000","v":4.4999999999999999E-4},6.6666666666666671E-3,0,0,{"$error":"#DIV/0!"},{"$f":"Stoffdatenbank!Q10","v":1.218},{"$f":"Stoffdatenbank!L10","v":1.173E-9},{"$f":"Schadstoffbelastung!X8/1000/1000","v":2.5091071518657465E-6},{"$f":"Schadstoffbelastung!Y8/1000/1000","v":1.711115346534654E-8},{"$f":"Schadstoffbelastung!Z8/1000/1000","v":0},{"$f":"Schadstoffbelastung!W8/1000/1000","v":7.1170249662905862E-3},3.28,1,0,0,{"$f":"IF(Sanierungsdesign!$E$15=\"Permanganat\",Berechnung1!F9*Berechnung1!AA9,Berechnung1!F9*Berechnung1!AB9)","v":0.62139005969040007},{"$f":"VLOOKUP(E9,Stoffdatenbank!$A$6:$R$47,Stoffdatenbank!$L$2,FALSE)/(Bodencharakterisierung!$E$13/10)*VLOOKUP(E9,Stoffdatenbank!$A$6:$R$47,Stoffdatenbank!$N$2,FALSE)/1000","v":466096.58554216876},230081.23342108401,{"$f":"VLOOKUP(E9,Schadstoffbelastung!$B$2:$D$46,3,0)","v":0.18944818893000004},{"$f":"IF(Y9>0,Schadstoffbelastung!$J$4/Grundwassercharakterisierung!$D$4*AP9,0)*Heterogenität!$D$17","v":0},{"$f":"Stoffdatenbank!J10*Bodencharakterisierung!$E$9","v":0.35255000000000003},{"$f":"1+AJ9*VLOOKUP(E9,Stoffdatenbank!$A$6:$S$47,Stoffdatenbank!$Q$2,FALSE)/Bodencharakterisierung!$E$8","v":1.0000105391083334},{"$f":"Stoffdatenbank!L10/Bodencharakterisierung!$E$14","v":1.46625E-10},1.4662345471952649E-10,{"$f":"0.183*Bodencharakterisierung!$E$13^2/Berechnung1!AM9*Heterogenität!$D$17/3600/24","v":3.0568783030477387E-3},{"$f":"Sanierungsdesign!$E$4","v":450},{"$f":"1+U9*1000*(AH9/U9/1000/Schadstoffbelastung!$J$11/Bodencharakterisierung!$E$8)/O9/lblMainSoilPorosityAct","v":1.0001571115000001},19.414157952456716,{"$f":"IFERROR(LOG(AO9/AQ9,0.4),0)","v":-3.4304013804335418},1,19.414157952456716,{"$f":"(AS9*90)*Heterogenität!$D$17+AI9+AN9","v":110.58661669073483}]
[null,null,null,null,"Vinylchlorid",{"$f":"Schadstoffbelastung!D9","v":2.2932503999999998},{"$f":"F10/Schadstoffbelastung!$J$12*1000","v":0.20712871287128712},{"$f":"Schadstoffbelastung!U9/1000/1000","v":4.0000000000000003E-5},6.9042904290429058E-4,{"$f":"Stoffdatenbank!R11","v":63},3.6400799999999997E-2,1.7774021109263106E-2,0,{"$f":"Stoffdatenbank!J11*0.001*Bodencharakterisierung!$E$9","v":2.9999999999999997E-4},{"$f":"Stoffdatenbank!N11*0.001","v":1.1000000000000001},{"$f":"Sanierungsdesign!$E$4/1000000","v":4.4999999999999999E-4},{"$f":"H10/P10","v":8.8888888888888892E-2},0,0,{"$error":"#DIV/0!"},{"$f":"Stoffdatenbank!Q11","v":0.91210000000000002},{"$f":"Stoffdatenbank!L11","v":5.7799999999999997E-10},{"$f":"Schadstoffbelastung!X9/1000/1000","v":1.9286007972144901E-5},{"$f":"Schadstoffbelastung!Y9/1000/1000","v":2.0712871287128714E-7},{"$f":"Schadstoffbelastung!Z9/1000/1000","v":0},{"$f":"Schadstoffbelastung!W9/1000/1000","v":6.4286693240483E-2},6.35,1,0,0,{"$f":"IF(Sanierungsdesign!$E$15=\"Permanganat\",Berechnung1!F10*Berechnung1!AA10,Berechnung1!F10*Berechnung1!AB10)","v":14.562140039999997},{"$f":"VLOOKUP(E10,Stoffdatenbank!$A$6:$R$47,Stoffdatenbank!$L$2,FALSE)/(Bodencharakterisierung!$E$13/10)*VLOOKUP(E10,Stoffdatenbank!$A$6:$R$47,Stoffdatenbank!$N$2,FALSE)/1000","v":527132.53012048197},260210.66548989865,{"$f":"VLOOKUP(E10,Schadstoffbelastung!$B$2:$D$46,3,0)","v":2.2932503999999998},{"$f":"IF(Y10>0,Schadstoffbelastung!$J$4/Grundwassercharakterisierung!$D$4*AP10,0)*Heterogenität!$D$17","v":0},{"$f":"Stoffdatenbank!J11*Bodencharakterisierung!$E$9","v":0.3},{"$f":"1+AJ10*VLOOKUP(E10,Stoffdatenbank!$A$6:$S$47,Stoffdatenbank!$Q$2,FALSE)/Bodencharakterisierung!$E$8","v":1.0000054},{"$f":"Stoffdatenbank!L11/Bodencharakterisierung!$E$14","v":7.2249999999999996E-11},7.2249609852106792E-11,{"$f":"0.183*Bodencharakterisierung!$E$13^2/Berechnung1!AM10*Heterogenität!$D$17/3600/24","v":6.2036329105098036E-3},{"$f":"Sanierungsdesign!$E$4","v":450},{"$f":"1+U10*1000*(AH10/U10/1000/Schadstoffbelastung!$J$11/Bodencharakterisierung!$E$8)/O10/lblMainSoilPorosityAct","v":1.0043223140495867},276.1716171617162,-0.53282772813426027,1,276.1716171617162,{"$f":"(AS10*90)*Heterogenität!$D$17+AI10+AN10","v":110.5897634453423}]
[" Schadstoffendkonzentration ","µg/L",{"$f":"VLOOKUP(C2,E4:AU47,42,0)","v":448.70743244403855},null,"Tetrachlormethan",{"$f":"Schadstoffbelastung!D10","v":0},{"$f":"F11/Schadstoffbelastung!$J$12*1000","v":0},{"$f":"Schadstoffbelastung!U10/1000/1000","v":0},0,{"$f":"Stoffdatenbank!R12","v":154},0,0,0,{"$f":"Stoffdatenbank!J12*0.001*Bodencharakterisierung!$E$9","v":1.4280000000000002E-3},{"$f":"Stoffdatenbank!N12*0.001","v":0.8},{"$f":"Sanierungsdesign!$E$4/1000000","v":4.4999999999999999E-4},0,0,0,{"$error":"#DIV/0!"},{"$f":"Stoffdatenbank!Q12","v":1.5940000000000001},{"$f":"Stoffdatenbank!L12","v":7.2929999999999995E-10},{"$f":"Schadstoffbelastung!X10/1000/1000","v":0},{"$f":"Schadstoffbelastung!Y10/1000/1000","v":0},{"$f":"Schadstoffbelastung!Z10/1000/1000","v":0},{"$f":"Schadstoffbelastung!W10/1000/1000","v":0},1,1,0,0,{"$f":"IF(Sanierungsdesign!$E$15=\"Permanganat\",Berechnung1!F11*Berechnung1!AA11,Berechnung1!F11*Berechnung1!AB11)","v":0},{"$f":"VLOOKUP(E11,Stoffdatenbank!$A$6:$R$47,Stoffdatenbank!$L$2,FALSE)/(Bodencharakterisierung!$E$13/10)*VLOOKUP(E11,Stoffdatenbank!$A$6:$R$47,Stoffdatenbank!$N$2,FALSE)/1000","v":1389805.3012048192},686055.48256571789,{"$f":"VLOOKUP(E11,Schadstoffbelastung!$B$2:$D$46,3,0)","v":0},{"$f":"IF(Y11>0,Schadstoffbelastung!$J$4/Grundwassercharakterisierung!$D$4*AP11,0)*Heterogenität!$D$17","v":0},{"$f":"Stoffdatenbank!J12*Bodencharakterisierung!$E$9","v":1.4280000000000002},{"$f":"1+AJ11*VLOOKUP(E11,Stoffdatenbank!$A$6:$S$47,Stoffdatenbank!$Q$2,FALSE)/Bodencharakterisierung!$E$8","v":1.0000273613454544},{"$f":"Stoffdatenbank!L12/Bodencharakterisierung!$E$14","v":9.1162499999999994E-11},9.1160005739591318E-11,{"$f":"0.183*Bodencharakterisierung!$E$13^2/Berechnung1!AM11*Heterogenität!$D$17/3600/24","v":4.9167401188014931E-3},{"$f":"Sanierungsdesign!$E$4","v":450},{"$f":"1+U11*1000*(AH11/U11/1000/Schadstoffbelastung!$J$11/Bodencharakterisierung!$E$8)/O11/lblMainSoilPorosityAct","v":1},0,0,0,0,{"$f":"(AS11*90)*Heterogenität!$D$17+AI11+AN11","v":4.9167401188014931E-3}]
[" Gesamtdauer der Sanierung","Tage",{"$f":"VLOOKUP(C2,E5:AU47,43,0)","v":442.34044288263766},null,"Trichlormethan",{"$f":"Schadstoffbelastung!D11","v":0},{"$f":"F12/Schadstoffbelastung!$J$12*1000","v":0},{"$f":"Schadstoffbelastung!U11/1000/1000","v":0},0,{"$f":"Stoffdatenbank!R13","v":119},0,0,0,{"$f":"Stoffdatenbank!J13*0.001*Bodencharakterisierung!$E$9","v":2.5605000000000002E-4},{"$f":"Stoffdatenbank!N13*0.001","v":8.1999999999999993},{"$f":"Sanierungsdesign!$E$4/1000000","v":4.4999999999999999E-4},0,0,0,{"$error":"#DIV/0!"},{"$f":"Stoffdatenbank!Q13","v":1.4850000000000001},{"$f":"Stoffdatenbank!L13","v":8.245E-10},{"$f":"Schadstoffbelastung!X11/1000/1000","v":0},{"$f":"Schadstoffbelastung!Y11/1000/1000","v":0},{"$f":"Schadstoffbelastung!Z11/1000/1000","v":0},{"$f":"Schadstoffbelastung!W11/1000/1000","v":0},1,1,0,0,{"$f":"IF(Sanierungsdesign!$E$15=\"Permanganat\",Berechnung1!F12*Berechnung1!AA12,Berechnung1!F12*Berechnung1!AB12)","v":0},{"$f":"VLOOKUP(E12,Stoffdatenbank!$A$6:$R$47,Stoffdatenbank!$L$2,FALSE)/(Bodencharakterisierung!$E$13/10)*VLOOKUP(E12,Stoffdatenbank!$A$6:$R$47,Stoffdatenbank!$N$2,FALSE)/1000","v":337011.15903614461},166360.24710953402,{"$f":"VLOOKUP(E12,Schadstoffbelastung!$B$2:$D$46,3,0)","v":0},{"$f":"IF(Y12>0,Schadstoffbelastung!$J$4/Grundwassercharakterisierung!$D$4*AP12,0)*Heterogenität!$D$17","v":0},{"$f":"Stoffdatenbank!J13*Bodencharakterisierung!$E$9","v":0.25605},{"$f":"1+AJ12*VLOOKUP(E12,Stoffdatenbank!$A$6:$S$47,Stoffdatenbank!$Q$2,FALSE)/Bodencharakterisierung!$E$8","v":1.0000055407668182},{"$f":"Stoffdatenbank!L13/Bodencharakterisierung!$E$14","v":1.030625E-10},1.030619289578838E-10,{"$f":"0.183*Bodencharakterisierung!$E$13^2/Berechnung1!AM12*Heterogenität!$D$17/3600/24","v":4.348939147385684E-3},{"$f":"Sanierungsdesign!$E$4","v":450},{"$f":"1+U12*1000*(AH12/U12/1000/Schadstoffbelastung!$J$11/Bodencharakterisierung!$E$8)/O12/lblMainSoilPorosityAct","v":1},0,0,0,0,{"$f":"(AS12*90)*Heterogenität!$D$17+AI12+AN12","v":4.348939147385684E-3}]
[null,null,null,null,"Dichlormethan",{"$f":"Schadstoffbelastung!D12","v":0},{"$f":"F13/Schadstoffbelastung!$J$12*1000","v":0},{"$f":"Schadstoffbelastung!U12/1000/1000","v":0},0,{"$f":"Stoffdatenbank!R14","v":85},0,0,0,{"$f":"Stoffdatenbank!J14*0.001*Bodencharakterisierung!$E$9","v":6.0749999999999999E-5},{"$f":"Stoffdatenbank!N14*0.001","v":17.798999999999999},{"$f":"Sanierungsdesign!$E$4/1000000","v":4.4999999999999999E-4},0,0,0,{"$error":"#DIV/0!"},{"$f":"Stoffdatenbank!Q14","v":1.3280000000000001},{"$f":"Stoffdatenbank!L14","v":9.8300000000000002E-10},{"$f":"Schadstoffbelastung!X12/1000/1000","v":0},{"$f":"Schadstoffbelastung!Y12/1000/1000","v":0},{"$f":"Schadstoffbelastung!Z12/1000/1000","v":0},{"$f":"Schadstoffbelastung!W12/1000/1000","v":0},1,1,0,0,{"$f":"IF(Sanierungsdesign!$E$15=\"Permanganat\",Berechnung1!F13*Berechnung1!AA13,Berechnung1!F13*Berechnung1!AB13)","v":0},{"$f":"VLOOKUP(E13,Stoffdatenbank!$A$6:$R$47,Stoffdatenbank!$L$2,FALSE)/(Bodencharakterisierung!$E$13/10)*VLOOKUP(E13,Stoffdatenbank!$A$6:$R$47,Stoffdatenbank!$N$2,FALSE)/1000","v":100525.87951807228},49623.016060830625,{"$f":"VLOOKUP(E13,Schadstoffbelastung!$B$2:$D$46,3,0)","v":0},{"$f":"IF(Y13>0,Schadstoffbelastung!$J$4/Grundwassercharakterisierung!$D$4*AP13,0)*Heterogenität!$D$17","v":0},{"$f":"Stoffdatenbank!J14*Bodencharakterisierung!$E$9","v":6.0749999999999992E-2},{"$f":"1+AJ13*VLOOKUP(E13,Stoffdatenbank!$A$6:$S$47,Stoffdatenbank!$Q$2,FALSE)/Bodencharakterisierung!$E$8","v":1.0000015539113636},{"$f":"Stoffdatenbank!L14/Bodencharakterisierung!$E$14","v":1.22875E-10},1.2287480906343789E-10,{"$f":"0.183*Bodencharakterisierung!$E$13^2/Berechnung1!AM13*Heterogenität!$D$17/3600/24","v":3.6476968783619498E-3},{"$f":"Sanierungsdesign!$E$4","v":450},{"$f":"1+U13*1000*(AH13/U13/1000/Schadstoffbelastung!$J$11/Bodencharakterisierung!$E$8)/O13/lblMainSoilPorosityAct","v":1},0,0,0,0,{"$f":"(AS13*90)*Heterogenität!$D$17+AI13+AN13","v":3.6476968783619498E-3}]
["Relevante Konzentration Grundwasser","µg/L",{"$f":"VLOOKUP(C2,Schadstoffbelastung!T4:U46,2,0)","v":1633.5625},null,"1,1,1-Trichlorethan",{"$f":"Schadstoffbelastung!D13","v":0},{"$f":"F14/Schadstoffbelastung!$J$12*1000","v":0},{"$f":"Schadstoffbelastung!U13/1000/1000","v":0},0,{"$f":"Stoffdatenbank!R15","v":133.404},0,0,0,{"$f":"Stoffdatenbank!J15*0.001*Bodencharakterisierung!$E$9","v":7.2000000000000005E-4},{"$f":"Stoffdatenbank!N15*0.001","v":1.3},{"$f":"Sanierungsdesign!$E$4/1000000","v":4.4999999999999999E-4},0,0,0,{"$error":"#DIV/0!"},{"$f":"Stoffdatenbank!Q15","v":1.339},{"$f":"Stoffdatenbank!L15","v":7.6099999999999996E-10},{"$f":"Schadstoffbelastung!X13/1000/1000","v":0},{"$f":"Schadstoffbelastung!Y13/1000/1000","v":0},{"$f":"Schadstoffbelastung!Z13/1000/1000","v":0},{"$f":"Schadstoffbelastung!W13/1000/1000","v":0},1,1,0,0,{"$f":"IF(Sanierungsdesign!$E$15=\"Permanganat\",Berechnung1!F14*Berechnung1!AA14,Berechnung1!F14*Berechnung1!AB14)","v":0},{"$f":"VLOOKUP(E14,Stoffdatenbank!$A$6:$R$47,Stoffdatenbank!$L$2,FALSE)/(Bodencharakterisierung!$E$13/10)*VLOOKUP(E14,Stoffdatenbank!$A$6:$R$47,Stoffdatenbank!$N$2,FALSE)/1000","v":845332.04819277104},417284.84252319759,{"$f":"VLOOKUP(E14,Schadstoffbelastung!$B$2:$D$46,3,0)","v":0},{"$f":"IF(Y14>0,Schadstoffbelastung!$J$4/Grundwassercharakterisierung!$D$4*AP14,0)*Heterogenität!$D$17","v":0},{"$f":"Stoffdatenbank!J15*Bodencharakterisierung!$E$9","v":0.72},{"$f":"1+AJ14*VLOOKUP(E14,Stoffdatenbank!$A$6:$S$47,Stoffdatenbank!$Q$2,FALSE)/Bodencharakterisierung!$E$8","v":1.000014770909091},{"$f":"Stoffdatenbank!L15/Bodencharakterisierung!$E$14","v":9.5124999999999995E-11},9.5123594938026754E-11,{"$f":"0.183*Bodencharakterisierung!$E$13^2/Berechnung1!AM14*Heterogenität!$D$17/3600/24","v":4.7118704643367712E-3},{"$f":"Sanierungsdesign!$E$4","v":450},{"$f":"1+U14*1000*(AH14/U14/1000/Schadstoffbelastung!$J$11/Bodencharakterisierung!$E$8)/O14/lblMainSoilPorosityAct","v":1},0,0,0,0,{"$f":"(AS14*90)*Heterogenität!$D$17+AI14+AN14","v":4.7118704643367712E-3}]
["Mittlere Konzentration Boden","mg/kg",{"$f":"VLOOKUP(C2,E5:G47,3,0)","v":29.825800200495053},null,"1,1,2-Trichlorethan",{"$f":"Schadstoffbelastung!D14","v":0},{"$f":"F15/Schadstoffbelastung!$J$12*1000","v":0},{"$f":"Schadstoffbelastung!U14/1000/1000","v":0},0,{"$f":"Stoffdatenbank!R16","v":133.404},0,0,0,{"$f":"Stoffdatenbank!J16*0.001*Bodencharakterisierung!$E$9","v":2.1819999999999999E-4},{"$f":"Stoffdatenbank!N16*0.001","v":4.5},{"$f":"Sanierungsdesign!$E$4/1000000","v":4.4999999999999999E-4},0,0,0,{"$error":"#DIV/0!"},{"$f":"Stoffdatenbank!Q16","v":1.4410000000000001},{"$f":"Stoffdatenbank!L16","v":6.8000000000000003E-10},{"$f":"Schadstoffbelastung!X14/1000/1000","v":0},{"$f":"Schadstoffbelastung!Y14/1000/1000","v":0},{"$f":"Schadstoffbelastung!Z14/1000/1000","v":0},{"$f":"Schadstoffbelastung!W14/1000/1000","v":0},1,1,0,0,{"$f":"IF(Sanierungsdesign!$E$15=\"Permanganat\",Berechnung1!F15*Berechnung1!AA15,Berechnung1!F15*Berechnung1!AB15)","v":0},{"$f":"VLOOKUP(E15,Stoffdatenbank!$A$6:$R$47,Stoffdatenbank!$L$2,FALSE)/(Bodencharakterisierung!$E$13/10)*VLOOKUP(E15,Stoffdatenbank!$A$6:$R$47,Stoffdatenbank!$N$2,FALSE)/1000","v":316878.97831325297},156422.3133939479,{"$f":"VLOOKUP(E15,Schadstoffbelastung!$B$2:$D$46,3,0)","v":0},{"$f":"IF(Y15>0,Schadstoffbelastung!$J$4/Grundwassercharakterisierung!$D$4*AP15,0)*Heterogenität!$D$17","v":0},{"$f":"Stoffdatenbank!J16*Bodencharakterisierung!$E$9","v":0.21820000000000001},{"$f":"1+AJ15*VLOOKUP(E15,Stoffdatenbank!$A$6:$S$47,Stoffdatenbank!$Q$2,FALSE)/Bodencharakterisierung!$E$8","v":1.0000050252121213},{"$f":"Stoffdatenbank!L16/Bodencharakterisierung!$E$14","v":8.5000000000000004E-11},8.4999572859116171E-11,{"$f":"0.183*Bodencharakterisierung!$E$13^2/Berechnung1!AM15*Heterogenität!$D$17/3600/24","v":5.2730859976545487E-3},{"$f":"Sanierungsdesign!$E$4","v":450},{"$f":"1+U15*1000*(AH15/U15/1000/Schadstoffbelastung!$J$11/Bodencharakterisierung!$E$8)/O15/lblMainSoilPorosityAct","v":1},0,0,0,0,{"$f":"(AS15*90)*Heterogenität!$D$17+AI15+AN15","v":5.2730859976545487E-3}]
[null,null,null,null,"1,1-Dichlorethan",{"$f":"Schadstoffbelastung!D15","v":0},{"$f":"F16/Schadstoffbelastung!$J$12*1000","v":0},{"$f":"Schadstoffbelastung!U15/1000/1000","v":0},0,{"$f":"Stoffdatenbank!R17","v":98.96},0,0,0,{"$f":"Stoffdatenbank!J17*0.001*Bodencharakterisierung!$E$9","v":1.7870000000000001E-4},{"$f":"Stoffdatenbank!N17*0.001","v":8.69},{"$f":"Sanierungsdesign!$E$4/1000000","v":4.4999999999999999E-4},0,0,0,{"$error":"#DIV/0!"},{"$f":"Stoffdatenbank!Q17","v":1.2350000000000001},{"$f":"Stoffdatenbank!L17","v":1.14E-9},{"$f":"Schadstoffbelastung!X15/1000/1000","v":0},{"$f":"Schadstoffbelastung!Y15/1000/1000","v":0},{"$f":"Schadstoffbelastung!Z15/1000/1000","v":0},{"$f":"Schadstoffbelastung!W15/1000/1000","v":0},1,1,0,0,{"$f":"IF(Sanierungsdesign!$E$15=\"Permanganat\",Berechnung1!F16*Berechnung1!AA16,Berechnung1!F16*Berechnung1!AB16)","v":0},{"$f":"VLOOKUP(E16,Stoffdatenbank!$A$6:$R$47,Stoffdatenbank!$L$2,FALSE)/(Bodencharakterisierung!$E$13/10)*VLOOKUP(E16,Stoffdatenbank!$A$6:$R$47,Stoffdatenbank!$N$2,FALSE)/1000","v":267214.63132530119},131906.29125070732,{"$f":"VLOOKUP(E16,Schadstoffbelastung!$B$2:$D$46,3,0)","v":0},{"$f":"IF(Y16>0,Schadstoffbelastung!$J$4/Grundwassercharakterisierung!$D$4*AP16,0)*Heterogenität!$D$17","v":0},{"$f":"Stoffdatenbank!J17*Bodencharakterisierung!$E$9","v":0.17870000000000003},{"$f":"1+AJ16*VLOOKUP(E16,Stoffdatenbank!$A$6:$S$47,Stoffdatenbank!$Q$2,FALSE)/Bodencharakterisierung!$E$8","v":1.0000047111818182},{"$f":"Stoffdatenbank!L17/Bodencharakterisierung!$E$14","v":1.425E-10},1.424993286597537E-10,{"$f":"0.183*Bodencharakterisierung!$E$13^2/Berechnung1!AM16*Heterogenität!$D$17/3600/24","v":3.1453485547305021E-3},{"$f":"Sanierungsdesign!$E$4","v":450},{"$f":"1+U16*1000*(AH16/U16/1000/Schadstoffbelastung!$J$11/Bodencharakterisierung!$E$8)/O16/lblMainSoilPorosityAct","v":1},{"$f":"G16/AJ16*1000*0.4","v":0},0,0,0,{"$f":"(AS16*90)*Heterogenität!$D$17+AI16+AN16","v":3.1453485547305021E-3}]
["Konzentration Residualphase","mg/kg",{"$f":"VLOOKUP(C2,E5:Y47,21,0)*1000*1000","v":0},null,"1,2-Dichlorethan",{"$f":"Schadstoffbelastung!D16","v":0},{"$f":"F17/Schadstoffbelastung!$J$12*1000","v":0},{"$f":"Schadstoffbelastung!U16/1000/1000","v":0},{"$f":"X17/N17","v":0},{"$f":"Stoffdatenbank!R18","v":98.96},0,0,0,{"$f":"Stoffdatenbank!J18*0.001*Bodencharakterisierung!$E$9","v":1.9800000000000002E-4},{"$f":"Stoffdatenbank!N18*0.001","v":8.69},{"$f":"Sanierungsdesign!$E$4/1000000","v":4.4999999999999999E-4},0,0,0,{"$error":"#DIV/0!"},{"$f":"Stoffdatenbank!Q18","v":1.2350000000000001},{"$f":"Stoffdatenbank!L18","v":9.2000000000000003E-10},{"$f":"Schadstoffbelastung!X16/1000/1000","v":0},{"$f":"Schadstoffbelastung!Y16/1000/1000","v":0},{"$f":"Schadstoffbelastung!Z16/1000/1000","v":0},{"$f":"Schadstoffbelastung!W16/1000/1000","v":0},1,1,0,0,{"$f":"IF(Sanierungsdesign!$E$15=\"Permanganat\",Berechnung1!F17*Berechnung1!AA17,Berechnung1!F17*Berechnung1!AB17)","v":0},{"$f":"VLOOKUP(E17,Stoffdatenbank!$A$6:$R$47,Stoffdatenbank!$L$2,FALSE)/(Bodencharakterisierung!$E$13/10)*VLOOKUP(E17,Stoffdatenbank!$A$6:$R$47,Stoffdatenbank!$N$2,FALSE)/1000","v":338451.18072289159},167071.0911193747,{"$f":"VLOOKUP(E17,Schadstoffbelastung!$B$2:$D$46,3,0)","v":0},{"$f":"IF(Y17>0,Schadstoffbelastung!$J$4/Grundwassercharakterisierung!$D$4*AP17,0)*Heterogenität!$D$17","v":0},{"$f":"Stoffdatenbank!J18*Bodencharakterisierung!$E$9","v":0.19800000000000001},{"$f":"1+AJ17*VLOOKUP(E17,Stoffdatenbank!$A$6:$S$47,Stoffdatenbank!$Q$2,FALSE)/Bodencharakterisierung!$E$8","v":1.0000046979999999},{"$f":"Stoffdatenbank!L18/Bodencharakterisierung!$E$14","v":1.15E-10},1.1499945973253819E-10,{"$f":"0.183*Bodencharakterisierung!$E$13^2/Berechnung1!AM17*Heterogenität!$D$17/3600/24","v":3.8974970707901994E-3},{"$f":"Sanierungsdesign!$E$4","v":450},{"$f":"1+U17*1000*(AH17/U17/1000/Schadstoffbelastung!$J$11/Bodencharakterisierung!$E$8)/O17/lblMainSoilPorosityAct","v":1},0,{"$f":"IFERROR(LOG(AO17/AQ17,0.4),0)","v":0},0,{"$f":"G17/AJ17*1000*0.4^AS17","v":0},{"$f":"(AS17*90)*Heterogenität!$D$17+AI17+AN17","v":3.8974970707901994E-3}]
["Konzentration Sorbierte Phase","mg/kg",{"$f":"VLOOKUP(C2,E5:Y47,20,0)*1000*1000-C17","v":29.825800200495049},null,"LCKW",{"$f":"Schadstoffbelastung!D17","v":330.21992601580496},{"$f":"SUM(G5:G17)","v":29.825800200495053},{"$f":"Schadstoffbelastung!U17/1000/1000","v":1.6335625E-3},{"$f":"IFERROR(X18/N18,0)","v":1.7527634079845242E-2},null,{"$f":"SUM(K5:K17)","v":2.0479777635140404},{"$f":"SUM(L5:L17)","v":0.99999999999999989},null,{"$f":"SUMPRODUCT($L5:$L17,N5:N17)","v":1.7016443899174778E-3},{"$f":"(L5*O5)+(L6*O6)+(L7*O7)+(L8*O8)+(L9*O9)+(L10*O10)+(L11*O11)+(L12*O12)+(L13*O13)+(L14*O14)+(L15*O15)+(L16*O16)+(L17*O17)","v":0.3050273366745101},{"$f":"Sanierungsdesign!$E$4/1000000","v":4.4999999999999999E-4},{"$f":"H18/P18","v":3.6301388888888892},null,null,null,{"$f":"SUMPRODUCT($L5:$L17,U5:U17)","v":1.5970428335002389},{"$f":"SUMPRODUCT($L5:$L17,V5:V17)","v":7.5216286893810387E-10},{"$f":"IF(Y18=0,SUM(W5:W17),X18-Y18)","v":3.7654864800841314E-4},{"$f":"SUM(X5:X17)","v":2.9825800200495052E-5},{"$f":"SUM(Y5:Y17)","v":0},{"$f":"SUM(Z5:Z17)","v":0.65559709632909158},{"$f":"SUMPRODUCT($L5:$L17,AA5:AA17)","v":1.1487782570065388},{"$f":"SUMPRODUCT($L5:$L17,AB5:AB17)","v":0.99999999999999989},1,0,{"$f":"IF(Sanierungsdesign!$E$15=\"Permanganat\",Berechnung1!F18*Berechnung1!AA18,Berechnung1!F18*Berechnung1!AB18)","v":379.34947103726461},null,null,null,{"$f":"IF(Y18>0,Schadstoffbelastung!$J$4/Grundwassercharakterisierung!$D$4*AP18,0)*Heterogenität!$D$17","v":0},{"$f":"SUMPRODUCT(L5:L17,AJ5:AJ17)","v":1.7016443899174776},null,null,null,{"$f":"MAX(AN5:AN17)","v":6.2036329105098036E-3},{"$f":"Sanierungsdesign!$E$4","v":450},{"$f":"MAX(AP5:AP17)","v":5.1038632812499998},{"$f":"IFERROR(G18/AJ18*1000*0.4,0)","v":7011.053631938099},{"$f":"IFERROR(LOG(AO18/AQ18,0.4),0)","v":2.9968607065153572},4,{"$f":"IFERROR(G18/AJ18*1000*0.4^AS18,0)","v":448.70743244403855},{"$f":"(AS18*90)*Heterogenität!$D$17+AI18+AN18","v":442.34044288263766}]
["Sanierungszielwert","µg/L",{"$f":"VLOOKUP(C2,E5:AO46,37,0)","v":450},null,"Benzol",{"$f":"Schadstoffbelastung!D18","v":0},{"$f":"F19/Schadstoffbelastung!$J$12*1000","v":0},{"$f":"Schadstoffbelastung!U18/1000/1000","v":0},{"$f":"X19/N19","v":0},{"$f":"Stoffdatenbank!R20","v":78},{"$f":"F19/J19","v":0},{"$f":"IFERROR(K19/$K$36,0)","v":0},{"$f":"IF(L19>0.05,1,0)","v":0},{"$f":"Stoffdatenbank!J20*0.001*Bodencharakterisierung!$E$9","v":4.0000000000000002E-4},{"$f":"Stoffdatenbank!N20*0.001","v":1.77},{"$f":"Sanierungsdesign!$E$5/1000000","v":0},{"$f":"H19/P19","v":{"$error":"#DIV/0!"}},{"$f":"IF(AND(M19=1,Q19>1),1,0)","v":{"$error":"#DIV/0!"}},{"$f":"IF((R19=1),((Q19)^0.5*N19)/((0.15^1.2)*(O19^0.9)),0)","v":{"$error":"#DIV/0!"}},{"$f":"IF((S19=MAX($S$5:$S$46)),\"Ja\",\"0\")","v":{"$error":"#DIV/0!"}},{"$f":"Stoffdatenbank!Q20","v":0.877},{"$f":"Stoffdatenbank!L20","v":8.1499999999999998E-10},{"$f":"Schadstoffbelastung!X18/1000/1000","v":0},{"$f":"Schadstoffbelastung!Y18/1000/1000","v":0},{"$f":"Schadstoffbelastung!Z18/1000/1000","v":0},{"$f":"Schadstoffbelastung!W18/1000/1000","v":0},1,1,0,0,{"$f":"IF(Sanierungsdesign!$E$15=\"Permanganat\",Berechnung1!F19*Berechnung1!AA19,Berechnung1!F19*Berechnung1!AB19)","v":0},{"$f":"VLOOKUP(E19,Stoffdatenbank!$A$6:$R$47,Stoffdatenbank!$L$2,FALSE)/(Bodencharakterisierung!$E$13/10)*VLOOKUP(E19,Stoffdatenbank!$A$6:$R$47,Stoffdatenbank!$N$2,FALSE)/1000","v":837821.6867469881},{"$f":"AF19*$C$7","v":413577.47096441675},{"$f":"VLOOKUP(E19,Schadstoffbelastung!$B$2:$D$46,3,FALSE)","v":0},{"$f":"IF(Y19>0,Schadstoffbelastung!$J$4/Grundwassercharakterisierung!$D$4*AP19,0)*Heterogenität!$D$17","v":0},{"$f":"Stoffdatenbank!J20*Bodencharakterisierung!$E$9","v":0.4},{"$f":"1+AJ19*VLOOKUP(E19,Stoffdatenbank!$A$6:$S$47,Stoffdatenbank!$Q$2,FALSE)/Bodencharakterisierung!$E$8","v":1.0000092},{"$f":"Stoffdatenbank!L20/Bodencharakterisierung!$E$14","v":1.01875E-10},{"$f":"AL19/AK19","v":1.0187406275862262E-10},{"$f":"0.183*Bodencharakterisierung!$E$13^2/Berechnung1!AM19*Heterogenität!$D$17/3600/24","v":4.3996484022827149E-3},{"$f":"Sanierungsdesign!$E$5","v":0},{"$f":"1+U19*1000*(AH19/U19/1000/Schadstoffbelastung!$J$11/Bodencharakterisierung!$E$8)/O19/lblMainSoilPorosityAct","v":1},{"$f":"G19/AJ19*1000*0.4","v":0},{"$f":"IFERROR(LOG(AO19/AQ19,0.4),0)","v":0},{"$f":"IF(F19=0,0,IF(AR19<0,1,1+ROUNDUP(AR19,0)))","v":0},0,{"$f":"(AS19*90)*Heterogenität!$D$17+AI19+AN19","v":4.3996484022827149E-3}]
[null,null,null,null,"Toluol",{"$f":"Schadstoffbelastung!D19","v":0},{"$f":"F20/Schadstoffbelastung!$J$12*1000","v":0},{"$f":"Schadstoffbelastung!U19/1000/1000","v":0},0,{"$f":"Stoffdatenbank!R21","v":92},{"$f":"F20/J20","v":0},{"$f":"IFERROR(K20/$K$36,0)","v":0},{"$f":"IF(L20>0.05,1,0)","v":0},{"$f":"Stoffdatenbank!J21*0.001*Bodencharakterisierung!$E$9","v":1.5E-3},{"$f":"Stoffdatenbank!N21*0.001","v":0.52},{"$f":"Sanierungsdesign!$E$5/1000000","v":0},{"$error":"#DIV/0!"},{"$error":"#DIV/0!"},{"$f":"IF((R20=1),((Q20)^0.5*N20)/((0.15^1.2)*(O20^0.9)),0)","v":{"$error":"#DIV/0!"}},{"$error":"#DIV/0!"},{"$f":"Stoffdatenbank!Q21","v":0.87},{"$f":"Stoffdatenbank!L21","v":7.3400000000000005E-10},{"$f":"Schadstoffbelastung!X19/1000/1000","v":0},{"$f":"Schadstoffbelastung!Y19/1000/1000","v":0},{"$f":"Schadstoffbelastung!Z19/1000/1000","v":0},{"$f":"Schadstoffbelastung!W19/1000/1000","v":0},1,1,0,0,{"$f":"IF(Sanierungsdesign!$E$15=\"Permanganat\",Berechnung1!F20*Berechnung1!AA20,Berechnung1!F20*Berechnung1!AB20)","v":0},{"$f":"VLOOKUP(E20,Stoffdatenbank!$A$6:$R$47,Stoffdatenbank!$L$2,FALSE)/(Bodencharakterisierung!$E$13/10)*VLOOKUP(E20,Stoffdatenbank!$A$6:$R$47,Stoffdatenbank!$N$2,FALSE)/1000","v":2820867.4698795187},1392476.7675187639,{"$f":"VLOOKUP(E20,Schadstoffbelastung!$B$2:$D$46,3,FALSE)","v":0},{"$f":"IF(Y20>0,Schadstoffbelastung!$J$4/Grundwassercharakterisierung!$D$4*AP20,0)*Heterogenität!$D$17","v":0},{"$f":"Stoffdatenbank!J21*Bodencharakterisierung!$E$9","v":1.5},{"$f":"1+AJ20*VLOOKUP(E20,Stoffdatenbank!$A$6:$S$47,Stoffdatenbank!$Q$2,FALSE)/Bodencharakterisierung!$E$8","v":1.0000313636363636},{"$f":"Stoffdatenbank!L21/Bodencharakterisierung!$E$14","v":9.1750000000000006E-11},9.1747122476613248E-11,{"$f":"0.183*Bodencharakterisierung!$E$13^2/Berechnung1!AM20*Heterogenität!$D$17/3600/24","v":4.8852764571910559E-3},{"$f":"Sanierungsdesign!$E$5","v":0},{"$f":"1+U20*1000*(AH20/U20/1000/Schadstoffbelastung!$J$11/Bodencharakterisierung!$E$8)/O20/lblMainSoilPorosityAct","v":1},0,{"$f":"IFERROR(LOG(AO20/AQ20,0.4),0)","v":0},0,0,{"$f":"(AS20*90)*Heterogenität!$D$17+AI20+AN20","v":4.8852764571910559E-3}]
["Bedarf an OxMittel für SOD-Abdeckung","kg",{"$f":"Schadstoffbelastung!J12*C5","v":22143.239999999998},null,"Ethylbenzol",{"$f":"Schadstoffbelastung!D20","v":0},{"$f":"F21/Schadstoffbelastung!$J$12*1000","v":0},{"$f":"Schadstoffbelastung!U20/1000/1000","v":0},0,{"$f":"Stoffdatenbank!R22","v":106},0,0,{"$f":"IF(L21>0.05,1,0)","v":0},{"$f":"Stoffdatenbank!J22*0.001*Bodencharakterisierung!$E$9","v":5.5000000000000005E-3},{"$f":"Stoffdatenbank!N22*0.001","v":0.17},{"$f":"Sanierungsdesign!$E$5/1000000","v":0},{"$error":"#DIV/0!"},{"$error":"#DIV/0!"},{"$f":"IF((R21=1),((Q21)^0.5*N21)/((0.15^1.2)*(O21^0.9)),0)","v":{"$error":"#DIV/0!"}},{"$error":"#DIV/0!"},{"$f":"Stoffdatenbank!Q22","v":0.86599999999999999},{"$f":"Stoffdatenbank!L22","v":6.7600000000000004E-10},{"$f":"Schadstoffbelastung!X20/1000/1000","v":0},{"$f":"Schadstoffbelastung!Y20/1000/1000","v":0},{"$f":"Schadstoffbelastung!Z20/1000/1000","v":0},{"$f":"Schadstoffbelastung!W20/1000/1000","v":0},1,1,0,0,{"$f":"IF(Sanierungsdesign!$E$15=\"Permanganat\",Berechnung1!F21*Berechnung1!AA21,Berechnung1!F21*Berechnung1!AB21)","v":0},{"$f":"VLOOKUP(E21,Stoffdatenbank!$A$6:$R$47,Stoffdatenbank!$L$2,FALSE)/(Bodencharakterisierung!$E$13/10)*VLOOKUP(E21,Stoffdatenbank!$A$6:$R$47,Stoffdatenbank!$N$2,FALSE)/1000","v":10251469.879518073},5060476.5351691591,{"$f":"VLOOKUP(E21,Schadstoffbelastung!$B$2:$D$46,3,FALSE)","v":0},{"$f":"IF(Y21>0,Schadstoffbelastung!$J$4/Grundwassercharakterisierung!$D$4*AP21,0)*Heterogenität!$D$17","v":0},{"$f":"Stoffdatenbank!J22*Bodencharakterisierung!$E$9","v":5.5},{"$f":"1+AJ21*VLOOKUP(E21,Stoffdatenbank!$A$6:$S$47,Stoffdatenbank!$Q$2,FALSE)/Bodencharakterisierung!$E$8","v":1.0001065},{"$f":"Stoffdatenbank!L22/Bodencharakterisierung!$E$14","v":8.4500000000000005E-11},8.4491001708318067E-11,{"$f":"0.183*Bodencharakterisierung!$E$13^2/Berechnung1!AM21*Heterogenität!$D$17/3600/24","v":5.3048259387117333E-3},{"$f":"Sanierungsdesign!$E$5","v":0},{"$f":"1+U21*1000*(AH21/U21/1000/Schadstoffbelastung!$J$11/Bodencharakterisierung!$E$8)/O21/lblMainSoilPorosityAct","v":1},0,0,0,0,{"$f":"(AS21*90)*Heterogenität!$D$17+AI21+AN21","v":5.3048259387117333E-3}]
["Lieferung OxMittel je Injektion","kg",{"$f":"Sanierungsdesign!E13*Sanierungsdesign!E17","v":2657.454545454545},null,"o-Xylol",{"$f":"Schadstoffbelastung!D21","v":0},{"$f":"F22/Schadstoffbelastung!$J$12*1000","v":0},{"$f":"Schadstoffbelastung!U21/1000/1000","v":0},0,{"$f":"Stoffdatenbank!R23","v":106},0,0,{"$f":"IF(L22>0.05,1,0)","v":0},{"$f":"Stoffdatenbank!J23*0.001*Bodencharakterisierung!$E$9","v":4.15E-3},{"$f":"Stoffdatenbank!N23*0.001","v":0.18},{"$f":"Sanierungsdesign!$E$5/1000000","v":0},{"$error":"#DIV/0!"},{"$error":"#DIV/0!"},{"$error":"#DIV/0!"},{"$error":"#DIV/0!"},{"$f":"Stoffdatenbank!Q23","v":0.88},{"$f":"Stoffdatenbank!L23","v":6.8000000000000003E-10},{"$f":"Schadstoffbelastung!X21/1000/1000","v":0},{"$f":"Schadstoffbelastung!Y21/1000/1000","v":0},{"$f":"Schadstoffbelastung!Z21/1000/1000","v":0},{"$f":"Schadstoffbelastung!W21/1000/1000","v":0},1,1,0,0,{"$f":"IF(Sanierungsdesign!$E$15=\"Permanganat\",Berechnung1!F22*Berechnung1!AA22,Berechnung1!F22*Berechnung1!AB22)","v":0},{"$f":"VLOOKUP(E22,Stoffdatenbank!$A$6:$R$47,Stoffdatenbank!$L$2,FALSE)/(Bodencharakterisierung!$E$13/10)*VLOOKUP(E22,Stoffdatenbank!$A$6:$R$47,Stoffdatenbank!$N$2,FALSE)/1000","v":7924600},3911853.8923597508,{"$f":"VLOOKUP(E22,Schadstoffbelastung!$B$2:$D$46,3,FALSE)","v":0},{"$f":"IF(Y22>0,Schadstoffbelastung!$J$4/Grundwassercharakterisierung!$D$4*AP22,0)*Heterogenität!$D$17","v":0},{"$f":"Stoffdatenbank!J23*Bodencharakterisierung!$E$9","v":4.1500000000000004},{"$f":"1+AJ22*VLOOKUP(E22,Stoffdatenbank!$A$6:$S$47,Stoffdatenbank!$Q$2,FALSE)/Bodencharakterisierung!$E$8","v":1.0000807363636364},{"$f":"Stoffdatenbank!L23/Bodencharakterisierung!$E$14","v":8.5000000000000004E-11},8.4993137963106825E-11,{"$f":"0.183*Bodencharakterisierung!$E$13^2/Berechnung1!AM22*Heterogenität!$D$17/3600/24","v":5.2734852270612557E-3},{"$f":"Sanierungsdesign!$E$5","v":0},{"$f":"1+U22*1000*(AH22/U22/1000/Schadstoffbelastung!$J$11/Bodencharakterisierung!$E$8)/O22/lblMainSoilPorosityAct","v":1},0,0,0,0,{"$f":"(AS22*90)*Heterogenität!$D$17+AI22+AN22","v":5.2734852270612557E-3}]
["Bedarf an Injektionenskampagnen für SOD-Abdeckung","-",{"$f":"ROUNDUP((C21/C22)/Sanierungsdesign!E11,0)","v":1},null,"m-Xylol",{"$f":"Schadstoffbelastung!D22","v":0},{"$f":"F23/Schadstoffbelastung!$J$12*1000","v":0},{"$f":"Schadstoffbelastung!U22/1000/1000","v":0},0,{"$f":"Stoffdatenbank!R24","v":106},0,0,0,{"$f":"Stoffdatenbank!J24*0.001*Bodencharakterisierung!$E$9","v":4.8999999999999998E-3},{"$f":"Stoffdatenbank!N24*0.001","v":0.17400000000000002},{"$f":"Sanierungsdesign!$E$5/1000000","v":0},{"$error":"#DIV/0!"},{"$error":"#DIV/0!"},{"$error":"#DIV/0!"},{"$error":"#DIV/0!"},{"$f":"Stoffdatenbank!Q24","v":0.86399999999999999},{"$f":"Stoffdatenbank!L24","v":6.7099999999999996E-10},{"$f":"Schadstoffbelastung!X22/1000/1000","v":0},{"$f":"Schadstoffbelastung!Y22/1000/1000","v":0},{"$f":"Schadstoffbelastung!Z22/1000/1000","v":0},{"$f":"Schadstoffbelastung!W22/1000/1000","v":0},1,1,0,0,{"$f":"IF(Sanierungsdesign!$E$15=\"Permanganat\",Berechnung1!F23*Berechnung1!AA23,Berechnung1!F23*Berechnung1!AB23)","v":0},{"$f":"VLOOKUP(E23,Stoffdatenbank!$A$6:$R$47,Stoffdatenbank!$L$2,FALSE)/(Bodencharakterisierung!$E$13/10)*VLOOKUP(E23,Stoffdatenbank!$A$6:$R$47,Stoffdatenbank!$N$2,FALSE)/1000","v":9133836.1445783135},4508774.2566621471,{"$f":"VLOOKUP(E23,Schadstoffbelastung!$B$2:$D$46,3,FALSE)","v":0},{"$f":"IF(Y23>0,Schadstoffbelastung!$J$4/Grundwassercharakterisierung!$D$4*AP23,0)*Heterogenität!$D$17","v":0},{"$f":"Stoffdatenbank!J24*Bodencharakterisierung!$E$9","v":4.9000000000000004},{"$f":"1+AJ23*VLOOKUP(E23,Stoffdatenbank!$A$6:$S$47,Stoffdatenbank!$Q$2,FALSE)/Bodencharakterisierung!$E$8","v":1.0000944363636364},{"$f":"Stoffdatenbank!L24/Bodencharakterisierung!$E$14","v":8.3874999999999995E-11},8.3867079897945634E-11,{"$f":"0.183*Bodencharakterisierung!$E$13^2/Berechnung1!AM23*Heterogenität!$D$17/3600/24","v":5.3442907276064844E-3},{"$f":"Sanierungsdesign!$E$5","v":0},{"$f":"1+U23*1000*(AH23/U23/1000/Schadstoffbelastung!$J$11/Bodencharakterisierung!$E$8)/O23/lblMainSoilPorosityAct","v":1},0,0,0,0,{"$f":"(AS23*90)*Heterogenität!$D$17+AI23+AN23","v":5.3442907276064844E-3}]
[null,null,null,null,"p-Xylol",{"$f":"Schadstoffbelastung!D23","v":0},{"$f":"F24/Schadstoffbelastung!$J$12*1000","v":0},{"$f":"Schadstoffbelastung!U23/1000/1000","v":0},0,{"$f":"Stoffdatenbank!R25","v":106},0,0,0,{"$f":"Stoffdatenbank!J25*0.001*Bodencharakterisierung!$E$9","v":4.4000000000000003E-3},{"$f":"Stoffdatenbank!N25*0.001","v":0.2},{"$f":"Sanierungsdesign!$E$5/1000000","v":0},{"$error":"#DIV/0!"},{"$error":"#DIV/0!"},{"$error":"#DIV/0!"},{"$error":"#DIV/0!"},{"$f":"Stoffdatenbank!Q25","v":0.86099999999999999},{"$f":"Stoffdatenbank!L25","v":6.7099999999999996E-10},{"$f":"Schadstoffbelastung!X23/1000/1000","v":0},{"$f":"Schadstoffbelastung!Y23/1000/1000","v":0},{"$f":"Schadstoffbelastung!Z23/1000/1000","v":0},{"$f":"Schadstoffbelastung!W23/1000/1000","v":0},1,1,0,0,{"$f":"IF(Sanierungsdesign!$E$15=\"Permanganat\",Berechnung1!F24*Berechnung1!AA24,Berechnung1!F24*Berechnung1!AB24)","v":0},{"$f":"VLOOKUP(E24,Stoffdatenbank!$A$6:$R$47,Stoffdatenbank!$L$2,FALSE)/(Bodencharakterisierung!$E$13/10)*VLOOKUP(E24,Stoffdatenbank!$A$6:$R$47,Stoffdatenbank!$N$2,FALSE)/1000","v":8401985.542168675},4147507.7412970853,{"$f":"VLOOKUP(E24,Schadstoffbelastung!$B$2:$D$46,3,FALSE)","v":0},{"$f":"IF(Y24>0,Schadstoffbelastung!$J$4/Grundwassercharakterisierung!$D$4*AP24,0)*Heterogenität!$D$17","v":0},{"$f":"Stoffdatenbank!J25*Bodencharakterisierung!$E$9","v":4.4000000000000004},{"$f":"1+AJ24*VLOOKUP(E24,Stoffdatenbank!$A$6:$S$47,Stoffdatenbank!$Q$2,FALSE)/Bodencharakterisierung!$E$8","v":1.0000848},{"$f":"Stoffdatenbank!L25/Bodencharakterisierung!$E$14","v":8.3874999999999995E-11},8.3867888003097338E-11,{"$f":"0.183*Bodencharakterisierung!$E$13^2/Berechnung1!AM24*Heterogenität!$D$17/3600/24","v":5.3442392329406231E-3},{"$f":"Sanierungsdesign!$E$5","v":0},{"$f":"1+U24*1000*(AH24/U24/1000/Schadstoffbelastung!$J$11/Bodencharakterisierung!$E$8)/O24/lblMainSoilPorosityAct","v":1},0,0,0,0,{"$f":"(AS24*90)*Heterogenität!$D$17+AI24+AN24","v":5.3442392329406231E-3}]
[null,null,null,null,"n-Propylbenzol",{"$f":"Schadstoffbelastung!D24","v":0},{"$f":"F25/Schadstoffbelastung!$J$12*1000","v":0},{"$f":"Schadstoffbelastung!U24/1000/1000","v":0},0,{"$f":"Stoffdatenbank!R26","v":120},0,0,0,{"$f":"Stoffdatenbank!J26*0.001*Bodencharakterisierung!$E$9","v":4.8999999999999998E-3},{"$f":"Stoffdatenbank!N26*0.001","v":0.06},{"$f":"Sanierungsdesign!$E$5/1000000","v":0},{"$error":"#DIV/0!"},{"$error":"#DIV/0!"},{"$error":"#DIV/0!"},{"$error":"#DIV/0!"},{"$f":"Stoffdatenbank!Q26","v":0.86},{"$f":"Stoffdatenbank!L26","v":6.2000000000000003E-10},{"$f":"Schadstoffbelastung!X24/1000/1000","v":0},{"$f":"Schadstoffbelastung!Y24/1000/1000","v":0},{"$f":"Schadstoffbelastung!Z24/1000/1000","v":0},{"$f":"Schadstoffbelastung!W24/1000/1000","v":0},1,1,0,0,{"$f":"IF(Sanierungsdesign!$E$15=\"Permanganat\",Berechnung1!F25*Berechnung1!AA25,Berechnung1!F25*Berechnung1!AB25)","v":0},{"$f":"VLOOKUP(E25,Stoffdatenbank!$A$6:$R$47,Stoffdatenbank!$L$2,FALSE)/(Bodencharakterisierung!$E$13/10)*VLOOKUP(E25,Stoffdatenbank!$A$6:$R$47,Stoffdatenbank!$N$2,FALSE)/1000","v":9052130.1204819269},4468441.3656151937,{"$f":"VLOOKUP(E25,Schadstoffbelastung!$B$2:$D$46,3,FALSE)","v":0},{"$f":"IF(Y25>0,Schadstoffbelastung!$J$4/Grundwassercharakterisierung!$D$4*AP25,0)*Heterogenität!$D$17","v":0},{"$f":"Stoffdatenbank!J26*Bodencharakterisierung!$E$9","v":4.9000000000000004},{"$f":"1+AJ25*VLOOKUP(E25,Stoffdatenbank!$A$6:$S$47,Stoffdatenbank!$Q$2,FALSE)/Bodencharakterisierung!$E$8","v":1.0000890909090909},{"$f":"Stoffdatenbank!L26/Bodencharakterisierung!$E$14","v":7.7500000000000004E-11},7.7493096069622887E-11,{"$f":"0.183*Bodencharakterisierung!$E$13^2/Berechnung1!AM25*Heterogenität!$D$17/3600/24","v":5.7838708244065161E-3},{"$f":"Sanierungsdesign!$E$5","v":0},{"$f":"1+U25*1000*(AH25/U25/1000/Schadstoffbelastung!$J$11/Bodencharakterisierung!$E$8)/O25/lblMainSoilPorosityAct","v":1},0,0,0,0,{"$f":"(AS25*90)*Heterogenität!$D$17+AI25+AN25","v":5.7838708244065161E-3}]
[null,null,null,null,"Isopropylbenzol",{"$f":"Schadstoffbelastung!D25","v":0},{"$f":"F26/Schadstoffbelastung!$J$12*1000","v":0},{"$f":"Schadstoffbelastung!U25/1000/1000","v":0},0,{"$f":"Stoffdatenbank!R27","v":120},0,0,0,{"$f":"Stoffdatenbank!J27*0.001*Bodencharakterisierung!$E$9","v":4.7000000000000002E-3},{"$f":"Stoffdatenbank!N27*0.001","v":0.05},{"$f":"Sanierungsdesign!$E$5/1000000","v":0},{"$error":"#DIV/0!"},{"$error":"#DIV/0!"},{"$error":"#DIV/0!"},{"$error":"#DIV/0!"},{"$f":"Stoffdatenbank!Q27","v":0.86199999999999999},{"$f":"Stoffdatenbank!L27","v":6.2000000000000003E-10},{"$f":"Schadstoffbelastung!X25/1000/1000","v":0},{"$f":"Schadstoffbelastung!Y25/1000/1000","v":0},{"$f":"Schadstoffbelastung!Z25/1000/1000","v":0},{"$f":"Schadstoffbelastung!W25/1000/1000","v":0},1,1,0,0,{"$f":"IF(Sanierungsdesign!$E$15=\"Permanganat\",Berechnung1!F26*Berechnung1!AA26,Berechnung1!F26*Berechnung1!AB26)","v":0},{"$f":"VLOOKUP(E26,Stoffdatenbank!$A$6:$R$47,Stoffdatenbank!$L$2,FALSE)/(Bodencharakterisierung!$E$13/10)*VLOOKUP(E26,Stoffdatenbank!$A$6:$R$47,Stoffdatenbank!$N$2,FALSE)/1000","v":8305296.3855421692},4099778.6630220455,{"$f":"VLOOKUP(E26,Schadstoffbelastung!$B$2:$D$46,3,FALSE)","v":0},{"$f":"IF(Y26>0,Schadstoffbelastung!$J$4/Grundwassercharakterisierung!$D$4*AP26,0)*Heterogenität!$D$17","v":0},{"$f":"Stoffdatenbank!J27*Bodencharakterisierung!$E$9","v":4.7},{"$f":"1+AJ26*VLOOKUP(E26,Stoffdatenbank!$A$6:$S$47,Stoffdatenbank!$Q$2,FALSE)/Bodencharakterisierung!$E$8","v":1.0000854545454545},{"$f":"Stoffdatenbank!L27/Bodencharakterisierung!$E$14","v":7.7500000000000004E-11},7.7493377838621076E-11,{"$f":"0.183*Bodencharakterisierung!$E$13^2/Berechnung1!AM26*Heterogenität!$D$17/3600/24","v":5.7838497940225879E-3},{"$f":"Sanierungsdesign!$E$5","v":0},{"$f":"1+U26*1000*(AH26/U26/1000/Schadstoffbelastung!$J$11/Bodencharakterisierung!$E$8)/O26/lblMainSoilPorosityAct","v":1},0,0,0,0,{"$f":"(AS26*90)*Heterogenität!$D$17+AI26+AN26","v":5.7838497940225879E-3}]
[null,null,null,null,"o-Ethyltoluol",{"$f":"Schadstoffbelastung!D26","v":0},{"$f":"F27/Schadstoffbelastung!$J$12*1000","v":0},{"$f":"Schadstoffbelastung!U26/1000/1000","v":0},0,{"$f":"Stoffdatenbank!R28","v":120},0,0,0,{"$f":"Stoffdatenbank!J28*0.001*Bodencharakterisierung!$E$9","v":3.9500000000000004E-3},{"$f":"Stoffdatenbank!N28*0.001","v":9.2999999999999999E-2},{"$f":"Sanierungsdesign!$E$5/1000000","v":0},{"$error":"#DIV/0!"},{"$error":"#DIV/0!"},{"$f":"IF((R27=1),((Q27)^0.5*N27)/((0.15^1.2)*(O27^0.9)),0)","v":{"$error":"#DIV/0!"}},{"$error":"#DIV/0!"},{"$f":"Stoffdatenbank!Q28","v":0.88},{"$f":"Stoffdatenbank!L28","v":6.3E-10},{"$f":"Schadstoffbelastung!X26/1000/1000","v":0},{"$f":"Schadstoffbelastung!Y26/1000/1000","v":0},{"$f":"Schadstoffbelastung!Z26/1000/1000","v":0},{"$f":"Schadstoffbelastung!W26/1000/1000","v":0},1,1,0,0,{"$f":"IF(Sanierungsdesign!$E$15=\"Permanganat\",Berechnung1!F27*Berechnung1!AA27,Berechnung1!F27*Berechnung1!AB27)","v":0},{"$f":"VLOOKUP(E27,Stoffdatenbank!$A$6:$R$47,Stoffdatenbank!$L$2,FALSE)/(Bodencharakterisierung!$E$13/10)*VLOOKUP(E27,Stoffdatenbank!$A$6:$R$47,Stoffdatenbank!$N$2,FALSE)/1000","v":7524036.1445783135},3714121.8583176597,{"$f":"VLOOKUP(E27,Schadstoffbelastung!$B$2:$D$46,3,FALSE)","v":0},{"$f":"IF(Y27>0,Schadstoffbelastung!$J$4/Grundwassercharakterisierung!$D$4*AP27,0)*Heterogenität!$D$17","v":0},{"$f":"Stoffdatenbank!J28*Bodencharakterisierung!$E$9","v":3.95},{"$f":"1+AJ27*VLOOKUP(E27,Stoffdatenbank!$A$6:$S$47,Stoffdatenbank!$Q$2,FALSE)/Bodencharakterisierung!$E$8","v":1.0000718181818182},{"$f":"Stoffdatenbank!L28/Bodencharakterisierung!$E$14","v":7.8749999999999999E-11},7.8744344724333426E-11,{"$f":"0.183*Bodencharakterisierung!$E$13^2/Berechnung1!AM27*Heterogenität!$D$17/3600/24","v":5.6919650423037692E-3},{"$f":"Sanierungsdesign!$E$5","v":0},{"$f":"1+U27*1000*(AH27/U27/1000/Schadstoffbelastung!$J$11/Bodencharakterisierung!$E$8)/O27/lblMainSoilPorosityAct","v":1},0,0,0,0,{"$f":"(AS27*90)*Heterogenität!$D$17+AI27+AN27","v":5.6919650423037692E-3}]
[null,null,null,null,"m-Ethyltoluol",{"$f":"Schadstoffbelastung!D27","v":0},{"$f":"F28/Schadstoffbelastung!$J$12*1000","v":0},{"$f":"Schadstoffbelastung!U27/1000/1000","v":0},0,{"$f":"Stoffdatenbank!R29","v":120},0,0,0,{"$f":"Stoffdatenbank!J29*0.001*Bodencharakterisierung!$E$9","v":3.8E-3},{"$f":"Stoffdatenbank!N29*0.001","v":9.7000000000000003E-2},{"$f":"Sanierungsdesign!$E$5/1000000","v":0},{"$error":"#DIV/0!"},{"$error":"#DIV/0!"},{"$error":"#DIV/0!"},{"$error":"#DIV/0!"},{"$f":"Stoffdatenbank!Q29","v":0.86399999999999999},{"$f":"Stoffdatenbank!L29","v":6.2000000000000003E-10},{"$f":"Schadstoffbelastung!X27/1000/1000","v":0},{"$f":"Schadstoffbelastung!Y27/1000/1000","v":0},{"$f":"Schadstoffbelastung!Z27/1000/1000","v":0},{"$f":"Schadstoffbelastung!W27/1000/1000","v":0},1,1,0,0,{"$f":"IF(Sanierungsdesign!$E$15=\"Permanganat\",Berechnung1!F28*Berechnung1!AA28,Berechnung1!F28*Berechnung1!AB28)","v":0},{"$f":"VLOOKUP(E28,Stoffdatenbank!$A$6:$R$47,Stoffdatenbank!$L$2,FALSE)/(Bodencharakterisierung!$E$13/10)*VLOOKUP(E28,Stoffdatenbank!$A$6:$R$47,Stoffdatenbank!$N$2,FALSE)/1000","v":7142168.6746987952},3525619.0003293999,{"$f":"VLOOKUP(E28,Schadstoffbelastung!$B$2:$D$46,3,FALSE)","v":0},{"$f":"IF(Y28>0,Schadstoffbelastung!$J$4/Grundwassercharakterisierung!$D$4*AP28,0)*Heterogenität!$D$17","v":0},{"$f":"Stoffdatenbank!J29*Bodencharakterisierung!$E$9","v":3.8000000000000003},{"$f":"1+AJ28*VLOOKUP(E28,Stoffdatenbank!$A$6:$S$47,Stoffdatenbank!$Q$2,FALSE)/Bodencharakterisierung!$E$8","v":1.000069090909091},{"$f":"Stoffdatenbank!L29/Bodencharakterisierung!$E$14","v":7.7500000000000004E-11},7.7494645824470299E-11,{"$f":"0.183*Bodencharakterisierung!$E$13^2/Berechnung1!AM28*Heterogenität!$D$17/3600/24","v":5.7837551572949173E-3},{"$f":"Sanierungsdesign!$E$5","v":0},{"$f":"1+U28*1000*(AH28/U28/1000/Schadstoffbelastung!$J$11/Bodencharakterisierung!$E$8)/O28/lblMainSoilPorosityAct","v":1},0,0,0,0,{"$f":"(AS28*90)*Heterogenität!$D$17+AI28+AN28","v":5.7837551572949173E-3}]
[null,null,null,null,"p-Ethyltoluol",{"$f":"Schadstoffbelastung!D28","v":0},{"$f":"F29/Schadstoffbelastung!$J$12*1000","v":0},{"$f":"Schadstoffbelastung!U28/1000/1000","v":0},0,{"$f":"Stoffdatenbank!R30","v":120},0,0,0,{"$f":"Stoffdatenbank!J30*0.001*Bodencharakterisierung!$E$9","v":4.5000000000000005E-3},{"$f":"Stoffdatenbank!N30*0.001","v":9.5000000000000001E-2},{"$f":"Sanierungsdesign!$E$5/1000000","v":0},{"$error":"#DIV/0!"},{"$error":"#DIV/0!"},{"$error":"#DIV/0!"},{"$error":"#DIV/0!"},{"$f":"Stoffdatenbank!Q30","v":0.86099999999999999},{"$f":"Stoffdatenbank!L30","v":6.2000000000000003E-10},{"$f":"Schadstoffbelastung!X28/1000/1000","v":0},{"$f":"Schadstoffbelastung!Y28/1000/1000","v":0},{"$f":"Schadstoffbelastung!Z28/1000/1000","v":0},{"$f":"Schadstoffbelastung!W28/1000/1000","v":0},1,1,0,0,{"$f":"IF(Sanierungsdesign!$E$15=\"Permanganat\",Berechnung1!F29*Berechnung1!AA29,Berechnung1!F29*Berechnung1!AB29)","v":0},{"$f":"VLOOKUP(E29,Stoffdatenbank!$A$6:$R$47,Stoffdatenbank!$L$2,FALSE)/(Bodencharakterisierung!$E$13/10)*VLOOKUP(E29,Stoffdatenbank!$A$6:$R$47,Stoffdatenbank!$N$2,FALSE)/1000","v":8434409.6385542192},4163513.3854497285,{"$f":"VLOOKUP(E29,Schadstoffbelastung!$B$2:$D$46,3,FALSE)","v":0},{"$f":"IF(Y29>0,Schadstoffbelastung!$J$4/Grundwassercharakterisierung!$D$4*AP29,0)*Heterogenität!$D$17","v":0},{"$f":"Stoffdatenbank!J30*Bodencharakterisierung!$E$9","v":4.5},{"$f":"1+AJ29*VLOOKUP(E29,Stoffdatenbank!$A$6:$S$47,Stoffdatenbank!$Q$2,FALSE)/Bodencharakterisierung!$E$8","v":1.0000818181818181},{"$f":"Stoffdatenbank!L30/Bodencharakterisierung!$E$14","v":7.7500000000000004E-11},7.7493659609668308E-11,{"$f":"0.183*Bodencharakterisierung!$E$13^2/Berechnung1!AM29*Heterogenität!$D$17/3600/24","v":5.7838287636386605E-3},{"$f":"Sanierungsdesign!$E$5","v":0},{"$f":"1+U29*1000*(AH29/U29/1000/Schadstoffbelastung!$J$11/Bodencharakterisierung!$E$8)/O29/lblMainSoilPorosityAct","v":1},0,0,0,0,{"$f":"(AS29*90)*Heterogenität!$D$17+AI29+AN29","v":5.7838287636386605E-3}]
[null,null,null,null,"1,2-Diethylbenzol",{"$f":"Schadstoffbelastung!D29","v":0},{"$f":"F30/Schadstoffbelastung!$J$12*1000","v":0},{"$f":"Schadstoffbelastung!U29/1000/1000","v":0},0,{"$f":"Stoffdatenbank!R31","v":134},0,0,0,{"$f":"Stoffdatenbank!J31*0.001*Bodencharakterisierung!$E$9","v":2.5000000000000001E-3},{"$f":"Stoffdatenbank!N31*0.001","v":2.4E-2},{"$f":"Sanierungsdesign!$E$5/1000000","v":0},{"$error":"#DIV/0!"},{"$error":"#DIV/0!"},{"$error":"#DIV/0!"},{"$error":"#DIV/0!"},{"$f":"Stoffdatenbank!Q31","v":0.88},{"$f":"Stoffdatenbank!L31","v":5.9000000000000003E-10},{"$f":"Schadstoffbelastung!X29/1000/1000","v":0},{"$f":"Schadstoffbelastung!Y29/1000/1000","v":0},{"$f":"Schadstoffbelastung!Z29/1000/1000","v":0},{"$f":"Schadstoffbelastung!W29/1000/1000","v":0},1,1,0,0,{"$f":"IF(Sanierungsdesign!$E$15=\"Permanganat\",Berechnung1!F30*Berechnung1!AA30,Berechnung1!F30*Berechnung1!AB30)","v":0},{"$f":"VLOOKUP(E30,Stoffdatenbank!$A$6:$R$47,Stoffdatenbank!$L$2,FALSE)/(Bodencharakterisierung!$E$13/10)*VLOOKUP(E30,Stoffdatenbank!$A$6:$R$47,Stoffdatenbank!$N$2,FALSE)/1000","v":4747349.3975903615},2343454.2083329852,{"$f":"VLOOKUP(E30,Schadstoffbelastung!$B$2:$D$46,3,FALSE)","v":0},{"$f":"IF(Y30>0,Schadstoffbelastung!$J$4/Grundwassercharakterisierung!$D$4*AP30,0)*Heterogenität!$D$17","v":0},{"$f":"Stoffdatenbank!J31*Bodencharakterisierung!$E$9","v":2.5},{"$f":"1+AJ30*VLOOKUP(E30,Stoffdatenbank!$A$6:$S$47,Stoffdatenbank!$Q$2,FALSE)/Bodencharakterisierung!$E$8","v":1.0000431818181819},{"$f":"Stoffdatenbank!L31/Bodencharakterisierung!$E$14","v":7.3750000000000004E-11},7.374681547842252E-11,{"$f":"0.183*Bodencharakterisierung!$E$13^2/Berechnung1!AM30*Heterogenität!$D$17/3600/24","v":6.0776869420370331E-3},{"$f":"Sanierungsdesign!$E$5","v":0},{"$f":"1+U30*1000*(AH30/U30/1000/Schadstoffbelastung!$J$11/Bodencharakterisierung!$E$8)/O30/lblMainSoilPorosityAct","v":1},0,0,0,0,{"$f":"(AS30*90)*Heterogenität!$D$17+AI30+AN30","v":6.0776869420370331E-3}]
[null,null,null,null,"1,3-Diethylbenzol",{"$f":"Schadstoffbelastung!D30","v":0},{"$f":"F31/Schadstoffbelastung!$J$12*1000","v":0},{"$f":"Schadstoffbelastung!U30/1000/1000","v":0},0,{"$f":"Stoffdatenbank!R32","v":134},0,0,0,{"$f":"Stoffdatenbank!J32*0.001*Bodencharakterisierung!$E$9","v":2.0999999999999999E-3},{"$f":"Stoffdatenbank!N32*0.001","v":2.7E-2},{"$f":"Sanierungsdesign!$E$5/1000000","v":0},{"$error":"#DIV/0!"},{"$error":"#DIV/0!"},{"$error":"#DIV/0!"},{"$error":"#DIV/0!"},{"$f":"Stoffdatenbank!Q32","v":0.86},{"$f":"Stoffdatenbank!L32","v":5.7999999999999996E-10},{"$f":"Schadstoffbelastung!X30/1000/1000","v":0},{"$f":"Schadstoffbelastung!Y30/1000/1000","v":0},{"$f":"Schadstoffbelastung!Z30/1000/1000","v":0},{"$f":"Schadstoffbelastung!W30/1000/1000","v":0},1,1,0,0,{"$f":"IF(Sanierungsdesign!$E$15=\"Permanganat\",Berechnung1!F31*Berechnung1!AA31,Berechnung1!F31*Berechnung1!AB31)","v":0},{"$f":"VLOOKUP(E31,Stoffdatenbank!$A$6:$R$47,Stoffdatenbank!$L$2,FALSE)/(Bodencharakterisierung!$E$13/10)*VLOOKUP(E31,Stoffdatenbank!$A$6:$R$47,Stoffdatenbank!$N$2,FALSE)/1000","v":3965103.6144578313},1957310.9062699168,{"$f":"VLOOKUP(E31,Schadstoffbelastung!$B$2:$D$46,3,FALSE)","v":0},{"$f":"IF(Y31>0,Schadstoffbelastung!$J$4/Grundwassercharakterisierung!$D$4*AP31,0)*Heterogenität!$D$17","v":0},{"$f":"Stoffdatenbank!J32*Bodencharakterisierung!$E$9","v":2.1},{"$f":"1+AJ31*VLOOKUP(E31,Stoffdatenbank!$A$6:$S$47,Stoffdatenbank!$Q$2,FALSE)/Bodencharakterisierung!$E$8","v":1.0000356363636365},{"$f":"Stoffdatenbank!L32/Bodencharakterisierung!$E$14","v":7.2499999999999995E-11},7.2497416455704478E-11,{"$f":"0.183*Bodencharakterisierung!$E$13^2/Berechnung1!AM31*Heterogenität!$D$17/3600/24","v":6.1824280003671163E-3},{"$f":"Sanierungsdesign!$E$5","v":0},{"$f":"1+U31*1000*(AH31/U31/1000/Schadstoffbelastung!$J$11/Bodencharakterisierung!$E$8)/O31/lblMainSoilPorosityAct","v":1},0,0,0,0,{"$f":"(AS31*90)*Heterogenität!$D$17+AI31+AN31","v":6.1824280003671163E-3}]
[null,null,null,null,"1,4-Diethylbenzol",{"$f":"Schadstoffbelastung!D31","v":0},{"$f":"F32/Schadstoffbelastung!$J$12*1000","v":0},{"$f":"Schadstoffbelastung!U31/1000/1000","v":0},0,{"$f":"Stoffdatenbank!R33","v":134},0,0,0,{"$f":"Stoffdatenbank!J33*0.001*Bodencharakterisierung!$E$9","v":2.3E-3},{"$f":"Stoffdatenbank!N33*0.001","v":2.5000000000000001E-2},{"$f":"Sanierungsdesign!$E$5/1000000","v":0},{"$error":"#DIV/0!"},{"$error":"#DIV/0!"},{"$error":"#DIV/0!"},{"$error":"#DIV/0!"},{"$f":"Stoffdatenbank!Q33","v":0.86199999999999999},{"$f":"Stoffdatenbank!L33","v":5.7999999999999996E-10},{"$f":"Schadstoffbelastung!X31/1000/1000","v":0},{"$f":"Schadstoffbelastung!Y31/1000/1000","v":0},{"$f":"Schadstoffbelastung!Z31/1000/1000","v":0},{"$f":"Schadstoffbelastung!W31/1000/1000","v":0},1,1,0,0,{"$f":"IF(Sanierungsdesign!$E$15=\"Permanganat\",Berechnung1!F32*Berechnung1!AA32,Berechnung1!F32*Berechnung1!AB32)","v":0},{"$f":"VLOOKUP(E32,Stoffdatenbank!$A$6:$R$47,Stoffdatenbank!$L$2,FALSE)/(Bodencharakterisierung!$E$13/10)*VLOOKUP(E32,Stoffdatenbank!$A$6:$R$47,Stoffdatenbank!$N$2,FALSE)/1000","v":4342732.5301204827},2143721.4687718139,{"$f":"VLOOKUP(E32,Schadstoffbelastung!$B$2:$D$46,3,FALSE)","v":0},{"$f":"IF(Y32>0,Schadstoffbelastung!$J$4/Grundwassercharakterisierung!$D$4*AP32,0)*Heterogenität!$D$17","v":0},{"$f":"Stoffdatenbank!J33*Bodencharakterisierung!$E$9","v":2.3000000000000003},{"$f":"1+AJ32*VLOOKUP(E32,Stoffdatenbank!$A$6:$S$47,Stoffdatenbank!$Q$2,FALSE)/Bodencharakterisierung!$E$8","v":1.0000390303030302},{"$f":"Stoffdatenbank!L33/Bodencharakterisierung!$E$14","v":7.2499999999999995E-11},7.2497170413469929E-11,{"$f":"0.183*Bodencharakterisierung!$E$13^2/Berechnung1!AM32*Heterogenität!$D$17/3600/24","v":6.1824489824053317E-3},{"$f":"Sanierungsdesign!$E$5","v":0},{"$f":"1+U32*1000*(AH32/U32/1000/Schadstoffbelastung!$J$11/Bodencharakterisierung!$E$8)/O32/lblMainSoilPorosityAct","v":1},0,0,0,0,{"$f":"(AS32*90)*Heterogenität!$D$17+AI32+AN32","v":6.1824489824053317E-3}]
[null,null,null,null,"1,2,3-Trimethylbenzol",{"$f":"Schadstoffbelastung!D32","v":0},{"$f":"F33/Schadstoffbelastung!$J$12*1000","v":0},{"$f":"Schadstoffbelastung!U32/1000/1000","v":0},0,{"$f":"Stoffdatenbank!R34","v":120},0,0,0,{"$f":"Stoffdatenbank!J34*0.001*Bodencharakterisierung!$E$9","v":3.2500000000000003E-3},{"$f":"Stoffdatenbank!N34*0.001","v":7.4999999999999997E-2},{"$f":"Sanierungsdesign!$E$5/1000000","v":0},{"$error":"#DIV/0!"},{"$error":"#DIV/0!"},{"$error":"#DIV/0!"},{"$error":"#DIV/0!"},{"$f":"Stoffdatenbank!Q34","v":0.89400000000000002},{"$f":"Stoffdatenbank!L34","v":6.3999999999999996E-10},{"$f":"Schadstoffbelastung!X32/1000/1000","v":0},{"$f":"Schadstoffbelastung!Y32/1000/1000","v":0},{"$f":"Schadstoffbelastung!Z32/1000/1000","v":0},{"$f":"Schadstoffbelastung!W32/1000/1000","v":0},1,1,0,0,{"$f":"IF(Sanierungsdesign!$E$15=\"Permanganat\",Berechnung1!F33*Berechnung1!AA33,Berechnung1!F33*Berechnung1!AB33)","v":0},{"$f":"VLOOKUP(E33,Stoffdatenbank!$A$6:$R$47,Stoffdatenbank!$L$2,FALSE)/(Bodencharakterisierung!$E$13/10)*VLOOKUP(E33,Stoffdatenbank!$A$6:$R$47,Stoffdatenbank!$N$2,FALSE)/1000","v":6395530.1204819279},3157052.6456239121,{"$f":"VLOOKUP(E33,Schadstoffbelastung!$B$2:$D$46,3,FALSE)","v":0},{"$f":"IF(Y33>0,Schadstoffbelastung!$J$4/Grundwassercharakterisierung!$D$4*AP33,0)*Heterogenität!$D$17","v":0},{"$f":"Stoffdatenbank!J34*Bodencharakterisierung!$E$9","v":3.25},{"$f":"1+AJ33*VLOOKUP(E33,Stoffdatenbank!$A$6:$S$47,Stoffdatenbank!$Q$2,FALSE)/Bodencharakterisierung!$E$8","v":1.000059090909091},{"$f":"Stoffdatenbank!L34/Bodencharakterisierung!$E$14","v":7.9999999999999995E-11},7.9995273006595059E-11,{"$f":"0.183*Bodencharakterisierung!$E$13^2/Berechnung1!AM33*Heterogenität!$D$17/3600/24","v":5.6029567823722695E-3},{"$f":"Sanierungsdesign!$E$5","v":0},{"$f":"1+U33*1000*(AH33/U33/1000/Schadstoffbelastung!$J$11/Bodencharakterisierung!$E$8)/O33/lblMainSoilPorosityAct","v":1},0,0,0,0,{"$f":"(AS33*90)*Heterogenität!$D$17+AI33+AN33","v":5.6029567823722695E-3}]
[null,null,null,null,"1,2,4-Trimethylbenzol",{"$f":"Schadstoffbelastung!D33","v":0},{"$f":"F34/Schadstoffbelastung!$J$12*1000","v":0},{"$f":"Schadstoffbelastung!U33/1000/1000","v":0},0,{"$f":"Stoffdatenbank!R35","v":120},0,0,0,{"$f":"Stoffdatenbank!J35*0.001*Bodencharakterisierung!$E$9","v":3.2500000000000003E-3},{"$f":"Stoffdatenbank!N35*0.001","v":0.06},{"$f":"Sanierungsdesign!$E$5/1000000","v":0},{"$error":"#DIV/0!"},{"$error":"#DIV/0!"},{"$error":"#DIV/0!"},{"$error":"#DIV/0!"},{"$f":"Stoffdatenbank!Q35","v":0.876},{"$f":"Stoffdatenbank!L35","v":6.3E-10},{"$f":"Schadstoffbelastung!X33/1000/1000","v":0},{"$f":"Schadstoffbelastung!Y33/1000/1000","v":0},{"$f":"Schadstoffbelastung!Z33/1000/1000","v":0},{"$f":"Schadstoffbelastung!W33/1000/1000","v":0},1,1,0,0,{"$f":"IF(Sanierungsdesign!$E$15=\"Permanganat\",Berechnung1!F34*Berechnung1!AA34,Berechnung1!F34*Berechnung1!AB34)","v":0},{"$f":"VLOOKUP(E34,Stoffdatenbank!$A$6:$R$47,Stoffdatenbank!$L$2,FALSE)/(Bodencharakterisierung!$E$13/10)*VLOOKUP(E34,Stoffdatenbank!$A$6:$R$47,Stoffdatenbank!$N$2,FALSE)/1000","v":6134590.3614457836},3028243.846182053,{"$f":"VLOOKUP(E34,Schadstoffbelastung!$B$2:$D$46,3,FALSE)","v":0},{"$f":"IF(Y34>0,Schadstoffbelastung!$J$4/Grundwassercharakterisierung!$D$4*AP34,0)*Heterogenität!$D$17","v":0},{"$f":"Stoffdatenbank!J35*Bodencharakterisierung!$E$9","v":3.25},{"$f":"1+AJ34*VLOOKUP(E34,Stoffdatenbank!$A$6:$S$47,Stoffdatenbank!$Q$2,FALSE)/Bodencharakterisierung!$E$8","v":1.000059090909091},{"$f":"Stoffdatenbank!L35/Bodencharakterisierung!$E$14","v":7.8749999999999999E-11},7.8745346865867011E-11,{"$f":"0.183*Bodencharakterisierung!$E$13^2/Berechnung1!AM34*Heterogenität!$D$17/3600/24","v":5.6918926043146856E-3},{"$f":"Sanierungsdesign!$E$5","v":0},{"$f":"1+U34*1000*(AH34/U34/1000/Schadstoffbelastung!$J$11/Bodencharakterisierung!$E$8)/O34/lblMainSoilPorosityAct","v":1},0,0,0,0,{"$f":"(AS34*90)*Heterogenität!$D$17+AI34+AN34","v":5.6918926043146856E-3}]
[null,null,null,null,"1,3,5-Trimethylbenzol",{"$f":"Schadstoffbelastung!D34","v":0},{"$f":"F35/Schadstoffbelastung!$J$12*1000","v":0},{"$f":"Schadstoffbelastung!U34/1000/1000","v":0},0,{"$f":"Stoffdatenbank!R36","v":120},0,0,0,{"$f":"Stoffdatenbank!J36*0.001*Bodencharakterisierung!$E$9","v":3.3500000000000001E-3},{"$f":"Stoffdatenbank!N36*0.001","v":0.02},{"$f":"Sanierungsdesign!$E$5/1000000","v":0},{"$error":"#DIV/0!"},{"$error":"#DIV/0!"},{"$error":"#DIV/0!"},{"$error":"#DIV/0!"},{"$f":"Stoffdatenbank!Q36","v":0.86499999999999999},{"$f":"Stoffdatenbank!L36","v":6.3E-10},{"$f":"Schadstoffbelastung!X34/1000/1000","v":0},{"$f":"Schadstoffbelastung!Y34/1000/1000","v":0},{"$f":"Schadstoffbelastung!Z34/1000/1000","v":0},{"$f":"Schadstoffbelastung!W34/1000/1000","v":0},1,1,0,0,{"$f":"IF(Sanierungsdesign!$E$15=\"Permanganat\",Berechnung1!F35*Berechnung1!AA35,Berechnung1!F35*Berechnung1!AB35)","v":0},{"$f":"VLOOKUP(E35,Stoffdatenbank!$A$6:$R$47,Stoffdatenbank!$L$2,FALSE)/(Bodencharakterisierung!$E$13/10)*VLOOKUP(E35,Stoffdatenbank!$A$6:$R$47,Stoffdatenbank!$N$2,FALSE)/1000","v":6391961.4457831336},3155291.0256038425,{"$f":"VLOOKUP(E35,Schadstoffbelastung!$B$2:$D$46,3,FALSE)","v":0},{"$f":"IF(Y35>0,Schadstoffbelastung!$J$4/Grundwassercharakterisierung!$D$4*AP35,0)*Heterogenität!$D$17","v":0},{"$f":"Stoffdatenbank!J36*Bodencharakterisierung!$E$9","v":3.35},{"$f":"1+AJ35*VLOOKUP(E35,Stoffdatenbank!$A$6:$S$47,Stoffdatenbank!$Q$2,FALSE)/Bodencharakterisierung!$E$8","v":1.0000609090909092},{"$f":"Stoffdatenbank!L36/Bodencharakterisierung!$E$14","v":7.8749999999999999E-11},7.8745203701229106E-11,{"$f":"0.183*Bodencharakterisierung!$E$13^2/Berechnung1!AM35*Heterogenität!$D$17/3600/24","v":5.6919029525988396E-3},{"$f":"Sanierungsdesign!$E$5","v":0},{"$f":"1+U35*1000*(AH35/U35/1000/Schadstoffbelastung!$J$11/Bodencharakterisierung!$E$8)/O35/lblMainSoilPorosityAct","v":1},0,{"$f":"IFERROR(LOG(AO35/AQ35,0.4),0)","v":0},0,0,{"$f":"(AS35*90)*Heterogenität!$D$17+AI35+AN35","v":5.6919029525988396E-3}]
[null,null,null,null,"AKW",{"$f":"SUM(F19:F35)","v":0},{"$f":"SUM(G19:G35)","v":0},{"$f":"Schadstoffbelastung!U35/1000/1000","v":0},{"$f":"IFERROR(X36/N36,0)","v":0},null,{"$f":"SUM(K19:K35)","v":0},{"$f":"SUM(L19:L35)","v":0},0,{"$f":"SUMPRODUCT($L19:$L35,N19:N35)","v":0},{"$f":"(L19*O19)+(L20*O20)+(L21*O21)+(L22*O22)+(L23*O23)+(L24*O24)+(L25*O25)+(L26*O26)+(L27*O27)+(L28*O28)+(L29*O29)+(L30*O30)+(L31*O31)+(L32*O32)+(L33*O33)+(L34*O34)+(L35*O35)","v":0},{"$f":"Sanierungsdesign!$E$5/1000000","v":0},{"$error":"#DIV/0!"},null,null,null,{"$f":"SUMPRODUCT($L19:$L35,U19:U35)","v":0},{"$f":"SUMPRODUCT($L19:$L35,V19:V35)","v":0},{"$f":"IF(Y36=0,SUM(W19:W35),X36-Y36)","v":0},{"$f":"SUM(X19:X35)","v":0},{"$f":"SUM(Y19:Y35)","v":0},{"$f":"SUM(Z19:Z35)","v":0},{"$f":"SUMPRODUCT($L19:$L35,AA19:AA35)","v":0},{"$f":"SUMPRODUCT($L19:$L35,AB19:AB35)","v":0},0,0,{"$f":"IF(Sanierungsdesign!$E$15=\"Permanganat\",Berechnung1!F36*Berechnung1!AA36,Berechnung1!F36*Berechnung1!AB36)","v":0},null,null,null,{"$f":"IF(Y36>0,Schadstoffbelastung!$J$4/Grundwassercharakterisierung!$D$4*AP36,0)*Heterogenität!$D$17","v":0},{"$f":"SUMPRODUCT(L19:L35,AJ19:AJ35)","v":0},null,null,null,{"$f":"MAX(AN19:AN35)","v":6.1824489824053317E-3},{"$f":"Sanierungsdesign!$E$5","v":0},{"$f":"MAX(AP19:AP35)","v":1},{"$f":"IFERROR(G36/AJ36*1000*0.4,0)","v":0},{"$f":"IFERROR(LOG(AO36/AQ36,0.4),0)","v":0},0,{"$f":"IFERROR(G36/AJ36*1000*0.4^AS36,0)","v":0},{"$f":"(AS36*90)*Heterogenität!$D$17+AI36+AN36","v":6.1824489824053317E-3}]
[null,null,null,null,"n-Pentan",{"$f":"Schadstoffbelastung!D36","v":0},{"$f":"F37/Schadstoffbelastung!$J$12*1000","v":0},{"$f":"Schadstoffbelastung!U36/1000/1000","v":0},{"$f":"X37/N37","v":0},{"$f":"Stoffdatenbank!R38","v":72},{"$f":"F37/J37","v":0},{"$f":"IFERROR(K37/$K$43,0)","v":0},{"$f":"IF(L37>0.05,1,0)","v":0},{"$f":"Stoffdatenbank!J38*0.001*Bodencharakterisierung!$E$9","v":4.3499999999999997E-3},{"$f":"Stoffdatenbank!N38*0.001","v":0.04},{"$f":"Sanierungsdesign!$E$6/1000000","v":0},{"$error":"#DIV/0!"},{"$f":"IF(AND(M37=1,Q37>1),1,0)","v":{"$error":"#DIV/0!"}},{"$f":"IF((R37=1),((Q37)^0.5*N37)/((0.15^1.2)*(O37^0.9)),0)","v":{"$error":"#DIV/0!"}},{"$f":"IF((S37=MAX($S$5:$S$46)),\"Ja\",\"0\")","v":{"$error":"#DIV/0!"}},{"$f":"Stoffdatenbank!Q38","v":0.626},{"$f":"Stoffdatenbank!L38","v":7.0099999999999996E-10},{"$f":"Schadstoffbelastung!X36/1000/1000","v":0},{"$f":"Schadstoffbelastung!Y36/1000/1000","v":0},{"$f":"Schadstoffbelastung!Z36/1000/1000","v":0},{"$f":"Schadstoffbelastung!W36/1000/1000","v":0},1,1,0,0,{"$f":"IF(Sanierungsdesign!$E$15=\"Permanganat\",Berechnung1!F37*Berechnung1!AA37,Berechnung1!F37*Berechnung1!AB37)","v":0},{"$f":"VLOOKUP(E37,Stoffdatenbank!$A$6:$R$47,Stoffdatenbank!$L$2,FALSE)/(Bodencharakterisierung!$E$13/10)*VLOOKUP(E37,Stoffdatenbank!$A$6:$R$47,Stoffdatenbank!$N$2,FALSE)/1000","v":7715956.6265060231},{"$f":"AF37*$C$7","v":3808860.3794105188},{"$f":"VLOOKUP(E37,Schadstoffbelastung!$B$2:$D$46,3,0)","v":0},{"$f":"IF(Y37>0,Schadstoffbelastung!$J$4/Grundwassercharakterisierung!$D$4*AP37,0)*Heterogenität!$D$17","v":0},{"$f":"Stoffdatenbank!J38*Bodencharakterisierung!$E$9","v":4.3500000000000005},{"$f":"1+AJ37*VLOOKUP(E37,Stoffdatenbank!$A$6:$S$47,Stoffdatenbank!$Q$2,FALSE)/Bodencharakterisierung!$E$8","v":1.0000908227272727},{"$f":"Stoffdatenbank!L38/Bodencharakterisierung!$E$14","v":8.7624999999999995E-11},{"$f":"AL37/AK37","v":8.7617042381255366E-11},{"$f":"0.183*Bodencharakterisierung!$E$13^2/Berechnung1!AM37*Heterogenität!$D$17/3600/24","v":5.1155579470451547E-3},{"$f":"Sanierungsdesign!$E$6","v":0},{"$f":"1+U37*1000*(AH37/U37/1000/Schadstoffbelastung!$J$11/Bodencharakterisierung!$E$8)/O37/lblMainSoilPorosityAct","v":1},0,{"$f":"IFERROR(LOG(AO37/AQ37,0.4),0)","v":0},{"$f":"IF(F37=0,0,IF(AR37<0,1,1+ROUNDUP(AR37,0)))","v":0},0,{"$f":"(AS37*90)*Heterogenität!$D$17+AI37+AN37","v":5.1155579470451547E-3}]
[null,null,null,null,"n-Hexan",{"$f":"Schadstoffbelastung!D37","v":0},{"$f":"F38/Schadstoffbelastung!$J$12*1000","v":0},{"$f":"Schadstoffbelastung!U37/1000/1000","v":0},{"$f":"X38/N38","v":0},{"$f":"Stoffdatenbank!R39","v":86},0,{"$f":"IFERROR(K38/$K$43,0)","v":0},{"$f":"IF(L38>0.05,1,0)","v":0},{"$f":"Stoffdatenbank!J39*0.001*Bodencharakterisierung!$E$9","v":1.0200000000000001E-2},{"$f":"Stoffdatenbank!N39*0.001","v":0.01},{"$f":"Sanierungsdesign!$E$6/1000000","v":0},{"$error":"#DIV/0!"},{"$error":"#DIV/0!"},{"$error":"#DIV/0!"},{"$error":"#DIV/0!"},{"$f":"Stoffdatenbank!Q39","v":0.66},{"$f":"Stoffdatenbank!L39","v":6.4900000000000003E-10},{"$f":"Schadstoffbelastung!X37/1000/1000","v":0},{"$f":"Schadstoffbelastung!Y37/1000/1000","v":0},{"$f":"Schadstoffbelastung!Z37/1000/1000","v":0},{"$f":"Schadstoffbelastung!W37/1000/1000","v":0},1,1,0,0,{"$f":"IF(Sanierungsdesign!$E$15=\"Permanganat\",Berechnung1!F38*Berechnung1!AA38,Berechnung1!F38*Berechnung1!AB38)","v":0},{"$f":"VLOOKUP(E38,Stoffdatenbank!$A$6:$R$47,Stoffdatenbank!$L$2,FALSE)/(Bodencharakterisierung!$E$13/10)*VLOOKUP(E38,Stoffdatenbank!$A$6:$R$47,Stoffdatenbank!$N$2,FALSE)/1000","v":17719489.156626508},8746946.5497281626,{"$f":"VLOOKUP(E38,Schadstoffbelastung!$B$2:$D$46,3,0)","v":0},{"$f":"IF(Y38>0,Schadstoffbelastung!$J$4/Grundwassercharakterisierung!$D$4*AP38,0)*Heterogenität!$D$17","v":0},{"$f":"Stoffdatenbank!J39*Bodencharakterisierung!$E$9","v":10.200000000000001},{"$f":"1+AJ38*VLOOKUP(E38,Stoffdatenbank!$A$6:$S$47,Stoffdatenbank!$Q$2,FALSE)/Bodencharakterisierung!$E$8","v":1.0001965818181817},{"$f":"Stoffdatenbank!L39/Bodencharakterisierung!$E$14","v":8.1125000000000004E-11},8.1109055434411705E-11,{"$f":"0.183*Bodencharakterisierung!$E$13^2/Berechnung1!AM38*Heterogenität!$D$17/3600/24","v":5.5260174717786615E-3},{"$f":"Sanierungsdesign!$E$6","v":0},{"$f":"1+U38*1000*(AH38/U38/1000/Schadstoffbelastung!$J$11/Bodencharakterisierung!$E$8)/O38/lblMainSoilPorosityAct","v":1},0,0,0,0,{"$f":"(AS38*90)*Heterogenität!$D$17+AI38+AN38","v":5.5260174717786615E-3}]
[null,null,null,null,"n-Heptan",{"$f":"Schadstoffbelastung!D38","v":0},{"$f":"F39/Schadstoffbelastung!$J$12*1000","v":0},{"$f":"Schadstoffbelastung!U38/1000/1000","v":0},0,{"$f":"Stoffdatenbank!R40","v":100},0,0,{"$f":"IF(L39>0.05,1,0)","v":0},{"$f":"Stoffdatenbank!J40*0.001*Bodencharakterisierung!$E$9","v":2.6249999999999999E-2},{"$f":"Stoffdatenbank!N40*0.001","v":2.2000000000000001E-3},{"$f":"Sanierungsdesign!$E$6/1000000","v":0},{"$error":"#DIV/0!"},{"$error":"#DIV/0!"},{"$error":"#DIV/0!"},{"$error":"#DIV/0!"},{"$f":"Stoffdatenbank!Q40","v":0.68400000000000005},{"$f":"Stoffdatenbank!L40","v":6.0499999999999998E-10},{"$f":"Schadstoffbelastung!X38/1000/1000","v":0},{"$f":"Schadstoffbelastung!Y38/1000/1000","v":0},{"$f":"Schadstoffbelastung!Z38/1000/1000","v":0},{"$f":"Schadstoffbelastung!W38/1000/1000","v":0},1,1,0,0,{"$f":"IF(Sanierungsdesign!$E$15=\"Permanganat\",Berechnung1!F39*Berechnung1!AA39,Berechnung1!F39*Berechnung1!AB39)","v":0},{"$f":"VLOOKUP(E39,Stoffdatenbank!$A$6:$R$47,Stoffdatenbank!$L$2,FALSE)/(Bodencharakterisierung!$E$13/10)*VLOOKUP(E39,Stoffdatenbank!$A$6:$R$47,Stoffdatenbank!$N$2,FALSE)/1000","v":45542168.6746988},22481173.787525527,{"$f":"VLOOKUP(E39,Schadstoffbelastung!$B$2:$D$46,3,0)","v":0},{"$f":"IF(Y39>0,Schadstoffbelastung!$J$4/Grundwassercharakterisierung!$D$4*AP39,0)*Heterogenität!$D$17","v":0},{"$f":"Stoffdatenbank!J40*Bodencharakterisierung!$E$9","v":26.25},{"$f":"1+AJ39*VLOOKUP(E39,Stoffdatenbank!$A$6:$S$47,Stoffdatenbank!$Q$2,FALSE)/Bodencharakterisierung!$E$8","v":1.0004709090909092},{"$f":"Stoffdatenbank!L40/Bodencharakterisierung!$E$14","v":7.5624999999999997E-11},7.5589404262356448E-11,{"$f":"0.183*Bodencharakterisierung!$E$13^2/Berechnung1!AM39*Heterogenität!$D$17/3600/24","v":5.9295355192160422E-3},{"$f":"Sanierungsdesign!$E$6","v":0},{"$f":"1+U39*1000*(AH39/U39/1000/Schadstoffbelastung!$J$11/Bodencharakterisierung!$E$8)/O39/lblMainSoilPorosityAct","v":1},0,0,0,0,{"$f":"(AS39*90)*Heterogenität!$D$17+AI39+AN39","v":5.9295355192160422E-3}]
[null,null,null,null,"n-Octan",{"$f":"Schadstoffbelastung!D39","v":0},{"$f":"F40/Schadstoffbelastung!$J$12*1000","v":0},{"$f":"Schadstoffbelastung!U39/1000/1000","v":0},0,{"$f":"Stoffdatenbank!R41","v":114},0,0,0,{"$f":"Stoffdatenbank!J41*0.001*Bodencharakterisierung!$E$9","v":8.6899999999999991E-2},{"$f":"Stoffdatenbank!N41*0.001","v":6.9999999999999999E-4},{"$f":"Sanierungsdesign!$E$6/1000000","v":0},{"$error":"#DIV/0!"},{"$error":"#DIV/0!"},{"$error":"#DIV/0!"},{"$error":"#DIV/0!"},{"$f":"Stoffdatenbank!Q41","v":0.70250000000000001},{"$f":"Stoffdatenbank!L41","v":5.69E-10},{"$f":"Schadstoffbelastung!X39/1000/1000","v":0},{"$f":"Schadstoffbelastung!Y39/1000/1000","v":0},{"$f":"Schadstoffbelastung!Z39/1000/1000","v":0},{"$f":"Schadstoffbelastung!W39/1000/1000","v":0},1,1,0,0,{"$f":"IF(Sanierungsdesign!$E$15=\"Permanganat\",Berechnung1!F40*Berechnung1!AA40,Berechnung1!F40*Berechnung1!AB40)","v":0},{"$f":"VLOOKUP(E40,Stoffdatenbank!$A$6:$R$47,Stoffdatenbank!$L$2,FALSE)/(Bodencharakterisierung!$E$13/10)*VLOOKUP(E40,Stoffdatenbank!$A$6:$R$47,Stoffdatenbank!$N$2,FALSE)/1000","v":150619686.74698794},74351034.483407512,{"$f":"VLOOKUP(E40,Schadstoffbelastung!$B$2:$D$46,3,0)","v":0},{"$f":"IF(Y40>0,Schadstoffbelastung!$J$4/Grundwassercharakterisierung!$D$4*AP40,0)*Heterogenität!$D$17","v":0},{"$f":"Stoffdatenbank!J41*Bodencharakterisierung!$E$9","v":86.9},{"$f":"1+AJ40*VLOOKUP(E40,Stoffdatenbank!$A$6:$S$47,Stoffdatenbank!$Q$2,FALSE)/Bodencharakterisierung!$E$8","v":1.0014694},{"$f":"Stoffdatenbank!L41/Bodencharakterisierung!$E$14","v":7.1125E-11},7.1020642268251041E-11,{"$f":"0.183*Bodencharakterisierung!$E$13^2/Berechnung1!AM40*Heterogenität!$D$17/3600/24","v":6.3109828795562747E-3},{"$f":"Sanierungsdesign!$E$6","v":0},{"$f":"1+U40*1000*(AH40/U40/1000/Schadstoffbelastung!$J$11/Bodencharakterisierung!$E$8)/O40/lblMainSoilPorosityAct","v":1},0,0,0,0,{"$f":"(AS40*90)*Heterogenität!$D$17+AI40+AN40","v":6.3109828795562747E-3}]
[null,null,null,null,"n-Nonan",{"$f":"Schadstoffbelastung!D40","v":0},{"$f":"F41/Schadstoffbelastung!$J$12*1000","v":0},{"$f":"Schadstoffbelastung!U40/1000/1000","v":0},0,{"$f":"Stoffdatenbank!R42","v":128},0,0,0,{"$f":"Stoffdatenbank!J42*0.001*Bodencharakterisierung!$E$9","v":0.13769999999999999},{"$f":"Stoffdatenbank!N42*0.001","v":1.2E-4},{"$f":"Sanierungsdesign!$E$6/1000000","v":0},{"$error":"#DIV/0!"},{"$error":"#DIV/0!"},{"$error":"#DIV/0!"},{"$error":"#DIV/0!"},{"$f":"Stoffdatenbank!Q42","v":0.72},{"$f":"Stoffdatenbank!L42","v":5.4099999999999999E-10},{"$f":"Schadstoffbelastung!X40/1000/1000","v":0},{"$f":"Schadstoffbelastung!Y40/1000/1000","v":0},{"$f":"Schadstoffbelastung!Z40/1000/1000","v":0},{"$f":"Schadstoffbelastung!W40/1000/1000","v":0},1,1,0,0,{"$f":"IF(Sanierungsdesign!$E$15=\"Permanganat\",Berechnung1!F41*Berechnung1!AA41,Berechnung1!F41*Berechnung1!AB41)","v":0},{"$f":"VLOOKUP(E41,Stoffdatenbank!$A$6:$R$47,Stoffdatenbank!$L$2,FALSE)/(Bodencharakterisierung!$E$13/10)*VLOOKUP(E41,Stoffdatenbank!$A$6:$R$47,Stoffdatenbank!$N$2,FALSE)/1000","v":241077860.24096388},119004286.14004171,{"$f":"VLOOKUP(E41,Schadstoffbelastung!$B$2:$D$46,3,0)","v":0},{"$f":"IF(Y41>0,Schadstoffbelastung!$J$4/Grundwassercharakterisierung!$D$4*AP41,0)*Heterogenität!$D$17","v":0},{"$f":"Stoffdatenbank!J42*Bodencharakterisierung!$E$9","v":137.70000000000002},{"$f":"1+AJ41*VLOOKUP(E41,Stoffdatenbank!$A$6:$S$47,Stoffdatenbank!$Q$2,FALSE)/Bodencharakterisierung!$E$8","v":1.0022157181818181},{"$f":"Stoffdatenbank!L42/Bodencharakterisierung!$E$14","v":6.7624999999999999E-11},6.7475493322617925E-11,{"$f":"0.183*Bodencharakterisierung!$E$13^2/Berechnung1!AM41*Heterogenität!$D$17/3600/24","v":6.6425606598682274E-3},{"$f":"Sanierungsdesign!$E$6","v":0},{"$f":"1+U41*1000*(AH41/U41/1000/Schadstoffbelastung!$J$11/Bodencharakterisierung!$E$8)/O41/lblMainSoilPorosityAct","v":1},0,0,0,0,{"$f":"(AS41*90)*Heterogenität!$D$17+AI41+AN41","v":6.6425606598682274E-3}]
[null,null,null,null,"n-Decan",{"$f":"Schadstoffbelastung!D41","v":0},{"$f":"F42/Schadstoffbelastung!$J$12*1000","v":0},{"$f":"Schadstoffbelastung!U41/1000/1000","v":0},0,{"$f":"Stoffdatenbank!R43","v":142},0,0,0,{"$f":"Stoffdatenbank!J43*0.001*Bodencharakterisierung!$E$9","v":1.0939000000000001},{"$f":"Stoffdatenbank!N43*0.001","v":5.0000000000000002E-5},{"$f":"Sanierungsdesign!$E$6/1000000","v":0},{"$error":"#DIV/0!"},{"$error":"#DIV/0!"},{"$error":"#DIV/0!"},{"$error":"#DIV/0!"},{"$f":"Stoffdatenbank!Q43","v":0.73},{"$f":"Stoffdatenbank!L43","v":5.1299999999999999E-10},{"$f":"Schadstoffbelastung!X41/1000/1000","v":0},{"$f":"Schadstoffbelastung!Y41/1000/1000","v":0},{"$f":"Schadstoffbelastung!Z41/1000/1000","v":0},{"$f":"Schadstoffbelastung!W41/1000/1000","v":0},1,1,0,0,{"$f":"IF(Sanierungsdesign!$E$15=\"Permanganat\",Berechnung1!F42*Berechnung1!AA42,Berechnung1!F42*Berechnung1!AB42)","v":0},{"$f":"VLOOKUP(E42,Stoffdatenbank!$A$6:$R$47,Stoffdatenbank!$L$2,FALSE)/(Bodencharakterisierung!$E$13/10)*VLOOKUP(E42,Stoffdatenbank!$A$6:$R$47,Stoffdatenbank!$N$2,FALSE)/1000","v":1904545797.5903614},940149015.91011035,{"$f":"VLOOKUP(E42,Schadstoffbelastung!$B$2:$D$46,3,0)","v":0},{"$f":"IF(Y42>0,Schadstoffbelastung!$J$4/Grundwassercharakterisierung!$D$4*AP42,0)*Heterogenität!$D$17","v":0},{"$f":"Stoffdatenbank!J43*Bodencharakterisierung!$E$9","v":1093.9000000000001},{"$f":"1+AJ42*VLOOKUP(E42,Stoffdatenbank!$A$6:$S$47,Stoffdatenbank!$Q$2,FALSE)/Bodencharakterisierung!$E$8","v":1.0167399848484848},{"$f":"Stoffdatenbank!L43/Bodencharakterisierung!$E$14","v":6.4124999999999998E-11},6.3069222176361975E-11,{"$f":"0.183*Bodencharakterisierung!$E$13^2/Berechnung1!AM42*Heterogenität!$D$17/3600/24","v":7.1066368346304094E-3},{"$f":"Sanierungsdesign!$E$6","v":0},{"$f":"1+U42*1000*(AH42/U42/1000/Schadstoffbelastung!$J$11/Bodencharakterisierung!$E$8)/O42/lblMainSoilPorosityAct","v":1},0,0,0,0,{"$f":"(AS42*90)*Heterogenität!$D$17+AI42+AN42","v":7.1066368346304094E-3}]
[null,null,null,null,"n-Alkane",{"$f":"Schadstoffbelastung!D42","v":0},{"$f":"SUM(G37:G42)","v":0},{"$f":"Schadstoffbelastung!U42/1000/1000","v":0},{"$f":"IFERROR(X43/N43,0)","v":0},null,{"$f":"SUM(K37:K42)","v":0},{"$f":"SUM(L37:L42)","v":0},0,{"$f":"SUMPRODUCT($L37:$L42,N37:N42)","v":0},{"$f":"(L37*O37)+(L38*O38)+(L39*O39)+(L40*O40)+(L41*O41)+(L42*O42)","v":0},{"$f":"Sanierungsdesign!$E$6/1000000","v":0},{"$error":"#DIV/0!"},null,null,null,{"$f":"SUMPRODUCT($L37:$L42,U37:U42)","v":0},{"$f":"SUMPRODUCT($L37:$L42,V37:V42)","v":0},{"$f":"IF(Y43=0,SUM(W37:W42),X43-Y43)","v":0},{"$f":"SUM(X37:X42)","v":0},{"$f":"SUM(Y37:Y42)","v":0},{"$f":"SUM(Z37:Z42)","v":0},{"$f":"SUMPRODUCT($L37:$L42,AA37:AA42)","v":0},0,0,0,{"$f":"IF(Sanierungsdesign!$E$15=\"Permanganat\",Berechnung1!F43*Berechnung1!AA43,Berechnung1!F43*Berechnung1!AB43)","v":0},null,null,null,{"$f":"IF(Y43>0,Schadstoffbelastung!$J$4/Grundwassercharakterisierung!$D$4*AP43,0)*Heterogenität!$D$17","v":0},{"$f":"SUMPRODUCT(L37:L42,AJ37:AJ42)","v":0},null,null,null,{"$f":"MAX(AN37:AN42)","v":7.1066368346304094E-3},{"$f":"Sanierungsdesign!$E$6","v":0},{"$f":"MAX(AP37:AP42)","v":1},{"$f":"IFERROR(G43/AJ43*1000*0.4,0)","v":0},{"$f":"IFERROR(LOG(AO43/AQ43,0.4),0)","v":0},0,{"$f":"IFERROR(G43/AJ43*1000*0.4^AS43,0)","v":0},{"$f":"(AS43*90)*Heterogenität!$D$17+AI43+AN43","v":7.1066368346304094E-3}]
[null,null,null,null,"MTBE (Methyl-tert-butylether)",{"$f":"Schadstoffbelastung!D43","v":0},{"$f":"F44/Schadstoffbelastung!$J$12*1000","v":0},{"$f":"Schadstoffbelastung!U43/1000/1000","v":0},0,{"$f":"Stoffdatenbank!R45","v":88.147999999999996},{"$f":"F44/J44","v":0},{"$f":"IFERROR(K44/$K$47,0)","v":0},{"$f":"IF(L44>0.05,1,0)","v":0},{"$f":"Stoffdatenbank!J45*0.001*Bodencharakterisierung!$E$9","v":5.4999999999999995E-5},{"$f":"Stoffdatenbank!N45*0.001","v":51.259},{"$f":"Sanierungsdesign!$E$7/1000000","v":0},{"$error":"#DIV/0!"},{"$f":"IF(AND(M44=1,Q44>1),1,0)","v":{"$error":"#DIV/0!"}},{"$error":"#DIV/0!"},{"$f":"IF((S44=MAX($S$5:$S$46)),\"Ja\",\"0\")","v":{"$error":"#DIV/0!"}},{"$f":"Stoffdatenbank!Q45","v":0.74},{"$f":"Stoffdatenbank!L45","v":9.5130000000000001E-10},{"$f":"Schadstoffbelastung!X43/1000/1000","v":0},{"$f":"Schadstoffbelastung!Y43/1000/1000","v":0},{"$f":"Schadstoffbelastung!Z43/1000/1000","v":0},{"$f":"Schadstoffbelastung!W43/1000/1000","v":0},1,1,0,0,{"$f":"IF(Sanierungsdesign!$E$15=\"Permanganat\",Berechnung1!F44*Berechnung1!AA44,Berechnung1!F44*Berechnung1!AB44)","v":0},{"$f":"VLOOKUP(E44,Stoffdatenbank!$A$6:$R$47,Stoffdatenbank!$L$2,FALSE)/(Bodencharakterisierung!$E$13/10)*VLOOKUP(E44,Stoffdatenbank!$A$6:$R$47,Stoffdatenbank!$N$2,FALSE)/1000","v":90210.602409638552},44531.042092757045,{"$f":"VLOOKUP(E44,Schadstoffbelastung!$B$2:$D$46,3,0)","v":0},{"$f":"IF(Y44>0,Schadstoffbelastung!$J$4/Grundwassercharakterisierung!$D$4*AP44,0)*Heterogenität!$D$17","v":0},{"$f":"Stoffdatenbank!J45*Bodencharakterisierung!$E$9","v":5.5E-2},{"$f":"1+AJ44*VLOOKUP(E44,Stoffdatenbank!$A$6:$S$47,Stoffdatenbank!$Q$2,FALSE)/Bodencharakterisierung!$E$8","v":1.0000013809999999},{"$f":"Stoffdatenbank!L45/Bodencharakterisierung!$E$14","v":1.189125E-10},{"$f":"AL44/AK44","v":1.1891233578206429E-10},{"$f":"0.183*Bodencharakterisierung!$E$13^2/Berechnung1!AM44*Heterogenität!$D$17/3600/24","v":3.7692477782244288E-3},{"$f":"Sanierungsdesign!$E$7","v":0},{"$f":"1+U44*1000*(AH44/U44/1000/Schadstoffbelastung!$J$11/Bodencharakterisierung!$E$8)/O44/lblMainSoilPorosityAct","v":1},0,{"$f":"IFERROR(LOG(AO44/AQ44,0.4),0)","v":0},{"$f":"IF(F44=0,0,IF(AR44<0,1,1+ROUNDUP(AR44,0)))","v":0},0,{"$f":"(AS44*90)*Heterogenität!$D$17+AI44+AN44","v":3.7692477782244288E-3}]
[null,null,null,null,"ETBE (Ethyl-tert-butylether)",{"$f":"Schadstoffbelastung!D44","v":0},{"$f":"F45/Schadstoffbelastung!$J$12*1000","v":0},{"$f":"Schadstoffbelastung!U44/1000/1000","v":0},0,{"$f":"Stoffdatenbank!R46","v":102.1748},{"$f":"F45/J45","v":0},{"$f":"IFERROR(K45/$K$47,0)","v":0},{"$f":"IF(L45>0.05,1,0)","v":0},{"$f":"Stoffdatenbank!J46*0.001*Bodencharakterisierung!$E$9","v":4.5000000000000003E-5},{"$f":"Stoffdatenbank!N46*0.001","v":12},{"$f":"Sanierungsdesign!$E$7/1000000","v":0},{"$error":"#DIV/0!"},{"$f":"IF(AND(M45=1,Q45>1),1,0)","v":{"$error":"#DIV/0!"}},{"$error":"#DIV/0!"},{"$error":"#DIV/0!"},{"$f":"Stoffdatenbank!Q46","v":0.75},{"$f":"Stoffdatenbank!L46","v":7.3379629629629627E-10},{"$f":"Schadstoffbelastung!X44/1000/1000","v":0},{"$f":"Schadstoffbelastung!Y44/1000/1000","v":0},{"$f":"Schadstoffbelastung!Z44/1000/1000","v":0},{"$f":"Schadstoffbelastung!W44/1000/1000","v":0},1,1,0,0,{"$f":"IF(Sanierungsdesign!$E$15=\"Permanganat\",Berechnung1!F45*Berechnung1!AA45,Berechnung1!F45*Berechnung1!AB45)","v":0},{"$f":"VLOOKUP(E45,Stoffdatenbank!$A$6:$R$47,Stoffdatenbank!$L$2,FALSE)/(Bodencharakterisierung!$E$13/10)*VLOOKUP(E45,Stoffdatenbank!$A$6:$R$47,Stoffdatenbank!$N$2,FALSE)/1000","v":70128.433734939754},34617.796036533946,{"$f":"VLOOKUP(E45,Schadstoffbelastung!$B$2:$D$46,3,0)","v":0},{"$f":"IF(Y45>0,Schadstoffbelastung!$J$4/Grundwassercharakterisierung!$D$4*AP45,0)*Heterogenität!$D$17","v":0},{"$f":"Stoffdatenbank!J46*Bodencharakterisierung!$E$9","v":4.4999999999999998E-2},{"$f":"1+AJ45*VLOOKUP(E45,Stoffdatenbank!$A$6:$S$47,Stoffdatenbank!$Q$2,FALSE)/Bodencharakterisierung!$E$8","v":1.0000009469696969},{"$f":"Stoffdatenbank!L46/Bodencharakterisierung!$E$14","v":9.1724537037037034E-11},9.1724450176762259E-11,{"$f":"0.183*Bodencharakterisierung!$E$13^2/Berechnung1!AM45*Heterogenität!$D$17/3600/24","v":4.8864839918503428E-3},{"$f":"Sanierungsdesign!$E$7","v":0},{"$f":"1+U45*1000*(AH45/U45/1000/Schadstoffbelastung!$J$11/Bodencharakterisierung!$E$8)/O45/lblMainSoilPorosityAct","v":1},0,0,0,0,{"$f":"(AS45*90)*Heterogenität!$D$17+AI45+AN45","v":4.8864839918503428E-3}]
[null,null,null,null,"TBA (tert-Butylalkohol) ",{"$f":"Schadstoffbelastung!D45","v":0},{"$f":"F46/Schadstoffbelastung!$J$12*1000","v":0},{"$f":"Schadstoffbelastung!U45/1000/1000","v":0},0,{"$f":"Stoffdatenbank!R47","v":74.121600000000001},{"$f":"F46/J46","v":0},{"$f":"IFERROR(K46/$K$47,0)","v":0},{"$f":"IF(L46>0.05,1,0)","v":0},{"$f":"Stoffdatenbank!J47*0.001*Bodencharakterisierung!$E$9","v":1.85E-4},{"$f":"Stoffdatenbank!N47*0.001","v":50},{"$f":"Sanierungsdesign!$E$7/1000000","v":0},{"$error":"#DIV/0!"},{"$f":"IF(AND(M46=1,Q46>1),1,0)","v":{"$error":"#DIV/0!"}},{"$error":"#DIV/0!"},{"$error":"#DIV/0!"},{"$f":"Stoffdatenbank!Q47","v":0.79},{"$f":"Stoffdatenbank!L47","v":6.9999999999999996E-10},{"$f":"Schadstoffbelastung!X45/1000/1000","v":0},{"$f":"Schadstoffbelastung!Y45/1000/1000","v":0},{"$f":"Schadstoffbelastung!Z45/1000/1000","v":0},{"$f":"Schadstoffbelastung!W45/1000/1000","v":0},1,1,0,0,{"$f":"IF(Sanierungsdesign!$E$15=\"Permanganat\",Berechnung1!F46*Berechnung1!AA46,Berechnung1!F46*Berechnung1!AB46)","v":0},{"$f":"VLOOKUP(E46,Stoffdatenbank!$A$6:$R$47,Stoffdatenbank!$L$2,FALSE)/(Bodencharakterisierung!$E$13/10)*VLOOKUP(E46,Stoffdatenbank!$A$6:$R$47,Stoffdatenbank!$N$2,FALSE)/1000","v":553306.02409638558},273130.79827720567,{"$f":"VLOOKUP(E46,Schadstoffbelastung!$B$2:$D$46,3,0)","v":0},{"$f":"IF(Y46>0,Schadstoffbelastung!$J$4/Grundwassercharakterisierung!$D$4*AP46,0)*Heterogenität!$D$17","v":0},{"$f":"Stoffdatenbank!J47*Bodencharakterisierung!$E$9","v":0.185},{"$f":"1+AJ46*VLOOKUP(E46,Stoffdatenbank!$A$6:$S$47,Stoffdatenbank!$Q$2,FALSE)/Bodencharakterisierung!$E$8","v":1.0000034180881665},{"$f":"Stoffdatenbank!L47/Bodencharakterisierung!$E$14","v":8.7499999999999995E-11},8.7499700918307717E-11,{"$f":"0.183*Bodencharakterisierung!$E$13^2/Berechnung1!AM46*Heterogenität!$D$17/3600/24","v":5.122418165388761E-3},{"$f":"Sanierungsdesign!$E$7","v":0},{"$f":"1+U46*1000*(AH46/U46/1000/Schadstoffbelastung!$J$11/Bodencharakterisierung!$E$8)/O46/lblMainSoilPorosityAct","v":1},0,0,0,0,{"$f":"(AS46*90)*Heterogenität!$D$17+AI46+AN46","v":5.122418165388761E-3}]
[null,null,null,null,"Oxigenate",{"$f":"Schadstoffbelastung!D46","v":0},{"$f":"SUM(G44:G46)","v":0},{"$f":"Schadstoffbelastung!U46/1000/1000","v":0},{"$f":"IFERROR(X47/N47,0)","v":0},null,{"$f":"SUM(K44:K46)","v":0},{"$f":"SUM(L44:L46)","v":0},null,{"$f":"SUMPRODUCT($L44:$L46,N44:N46)","v":0},{"$f":"(L44*O44)+(L45*O45)+(L46*O46)","v":0},{"$f":"Sanierungsdesign!$E$7/1000000","v":0},{"$error":"#DIV/0!"},null,null,null,{"$f":"SUMPRODUCT($L44:$L46,U44:U46)","v":0},{"$f":"SUMPRODUCT($L44:$L46,V44:V46)","v":0},{"$f":"IF(Y47=0,SUM(W44:W46),X47-Y47)","v":0},{"$f":"SUM(X44:X46)","v":0},{"$f":"SUM(Y44:Y46)","v":0},{"$f":"SUM(Z44:Z46)","v":0},{"$f":"SUMPRODUCT($L44:$L46,AA44:AA46)","v":0},0,0,0,{"$f":"IF(Sanierungsdesign!$E$15=\"Permanganat\",Berechnung1!F47*Berechnung1!AA47,Berechnung1!F47*Berechnung1!AB47)","v":0},null,null,null,{"$f":"IF(Y47>0,Schadstoffbelastung!$J$4/Grundwassercharakterisierung!$D$4*AP47,0)*Heterogenität!$D$17","v":0},{"$f":"SUMPRODUCT(L44:L46,AJ44:AJ46)","v":0},null,null,null,{"$f":"MAX(AN44:AN46)","v":5.122418165388761E-3},{"$f":"Sanierungsdesign!$E$7","v":0},{"$f":"MAX(AP44:AP46)","v":1},{"$f":"IFERROR(G47/AJ47*1000*0.4,0)","v":0},{"$f":"IFERROR(LOG(AO47/AQ47,0.4),0)","v":0},0,{"$f":"IFERROR(G47/AJ47*1000*0.4^AS47,0)","v":0},{"$f":"(AS47*90)*Heterogenität!$D$17+AI47+AN47","v":5.122418165388761E-3}]

{"sheet":"Stoffdatenbank","index":10,"n_rows":56,"n_cols":22,"rows_kept":56,"cut":false,"hidden":true,"merged":[[4,0,4,18],[18,0,18,18],[36,0,36,18],[43,0,43,18],[0,0,0,19]]}
[]
[1,2,3,null,null,null,null,4,5,6,7,8,9,10,11,12,13,14]
[null,"Abbaurate (Permang.)","Abbaurate (Sufat-Radikal)","Abbaurate (ERD)","Abbaurate (O2)","Abbaurate (Nitrat)","Abbaurate (Sulfat)"," Ver-dampfungs-enthalpie","Gemisch-siedetemp. mit Wasser","Sorptions-koeffizient","Henry-Koeffizient","Diffusions-koeffizient (in Wasser)","Diffusions-koeffizient (in Luft)","Löslichkeit","Dampf-druck","Siede-punkt","Dichte ","Molekular-gewicht",null,null,"Abbaurate (Permang.)","Abbaurate (Sufat-Radikal)"]
["Verbindung","lPM \n[mol-1 s-1]","lPM \n[mol-1 s-1]","lERD \n[d-1]","lOx \n[d-1]","lNO3 \n[d-1]","lSO4 \n[d-1]"," ΔHv \n[kJ/kg]","\n°C","KOC \n[L/kg]","H (15°C) \n[-]","Dw (15°C) \n[m²/s]","Da (15°C) \n[m²/s]","Lw (20°C) \n[mg/L]","Po (15°C) \n[Pa]","\n°C","\n[kg/L]","Mm \n[g/mol]","Bemerkung",null,"lPM \n[mol-1 s-1]","lPM \n[mol-1 s-1]"]
["Leichtflüchtige chlorierte Kohlenwasserstoffe (LCKW)"]
["Tetrachlorethen",3.7999999999999999E-2,44,2.8000000000000001E-2,"--","--","--",239.22,88.7,{"$f":"0.36*1000","v":360},0.64,7.49E-10,6.6200000000000001E-6,160,1479,121.075,1.6240000000000001,166,null,null,3.7999999999999999E-2,44]
["Trichlorethen",0.67,44,2.7E-2,"--","--","--",263.14999999999998,73.5,130,0.33,8.08E-10,7.1199999999999996E-6,1000,6064,86.974999999999994,1.4641999999999999,131,null,null,0.67,44]
["cis-1,2-Dichlorethen",44,44,1.2E-2,"--","--","--",319.07,55.3,50,0.2,8.9500000000000001E-10,7.8800000000000008E-6,3500,17284,60.1875,1.2837000000000001,97,"LW (cDCE) bei 25 °C",null,44,44]
["trans-1,2-Dichlorethen",43.6,44,1.2E-2,"--","--","--",306.55,45.3,60,0.19,8.8600000000000004E-10,8.8300000000000002E-6,6300,29294,48.066000000000003,1.2565,97,null,null,43.6,44]
["1,1-Dichlorethen",2.3199999999999998,44,1.2E-2,"--","--","--",274.33,{"$f":"I8","v":55.3},70.510000000000005,0.8,1.173E-9,9.8649999999999996E-6,2500,6792.77,31.4,1.218,97,null,null,2.3199999999999998,44]
["Vinylchlorid",44,44,1.7999999999999999E-2,0.03,2E-3,2E-3,364.6,-13,60,6.78,5.7799999999999997E-10,5.9399999999999999E-6,1100,285916,-13.757999999999999,0.91210000000000002,63,null,null,44,44]
["Tetrachlormethan",0,0,0.06,"--","--","--",201.95,66,285.60000000000002,1.153,7.2929999999999995E-10,6.3230000000000003E-6,800,11940,76.760000000000005,1.5940000000000001,154,null,null,0,0]
["Trichlormethan",0,0,0.06,"--","--","--",273.11,56.1,51.21,0.185,8.245E-10,7.1409999999999999E-6,8200,20900,61.12,1.4850000000000001,119,null,null,0,0]
["Dichlormethan",0,0,0.03,"--","--","--",343.36,43.5,12.149999999999999,0.1159,9.8300000000000002E-10,8.4409999999999993E-6,17799,39156.78,39.950000000000003,1.3280000000000001,85,null,null,0,0]
["1,1,1-Trichlorethan",0,4,0.01,"--","--","--",243.62,86,144,1,7.6099999999999996E-10,6.7700000000000004E-6,1300,1369.81,74.05,1.339,133.404,null,null,0,4]
["1,1,2-Trichlorethan",0,4,0.01,"--","--","--",301.33999999999997,86,43.64,3.7999999999999999E-2,6.8000000000000003E-10,7.6000000000000001E-6,4500,2500,13.65,1.4410000000000001,133.404,"D abgeschätzt",null,0,4]
["1,1-Dichlorethan",0,4,6.5000000000000006E-3,"--","--","--",310.27999999999997,72.8,35.74,0.25700000000000001,1.14E-9,8.6999999999999997E-6,8690,29100,57.4,1.2350000000000001,98.96,"D abgeschätzt",null,0,4]
["1,2-Dichlorethan",0,4,6.5000000000000006E-3,"--","--","--",354.69,72.844999999999999,39.6,5.0799999999999998E-2,9.2000000000000003E-10,7.8299999999999996E-6,8690,10000,83.6,1.2350000000000001,98.96,null,null,0,4]
["(Mono)aromatische Kohlenwasserstoffe (AKW)"]
["Benzol",6.9999999999999999E-6,1680000000,"--",0.15,1.5E-3,0.01,434.62,69.3,80,0.15,8.1499999999999998E-10,7.5900000000000002E-6,1770,7941,80.150000000000006,0.877,78,null,null,6.9999999999999999E-6,1680000000]
["Toluol",5.6999999999999998E-4,1870000000,"--",0.23,0.5,0.05,390.22,84.6,300,0.16,7.3400000000000005E-10,6.9E-6,520,2215,110.7,0.87,92,null,null,5.6999999999999998E-4,1870000000]
["Ethylbenzol",7.0699999999999999E-3,1000000000,"--",0.15,0.25,3.0000000000000001E-3,386.76,91.5,1100,0.19,6.7600000000000004E-10,6.3899999999999998E-6,170,728,136.19999999999999,0.86599999999999999,106,null,null,7.0699999999999999E-3,1000000000]
["o-Xylol",1.47E-3,1000000000,"--",7.0000000000000007E-2,2.5000000000000001E-2,0.04,396.23,93.3,830,0.12,6.8000000000000003E-10,6.4200000000000004E-6,180,492,143.9,0.88,106,null,null,1.47E-3,1000000000]
["m-Xylol",1E-3,1000000000,"--",0.1,0.1,0.08,386.79,93.3,980,0.16,6.7099999999999996E-10,6.3600000000000001E-6,174,615,139.19999999999999,0.86399999999999999,106,null,null,1E-3,1000000000]
["p-Xylol",2.2200000000000002E-3,2700000000,"--",0.1,0.05,0.04,396.23,93.3,880,0.15,6.7099999999999996E-10,6.3600000000000001E-6,200,657,138.30000000000001,0.86099999999999999,106,null,null,2.2200000000000002E-3,2700000000]
["n-Propylbenzol",1E-3,1000000000,"--",0.1,0.02,3.0000000000000001E-3,383.33,96.5,980,0.2,6.2000000000000003E-10,6.0000000000000002E-6,60,237,158.9,0.86,120,"LW bei 25 °C",null,1E-3,1000000000]
["Isopropylbenzol",1E-3,1000000000,"--",0.15,0.02,0.02,366.67,95,940,0.43,6.2000000000000003E-10,6.0000000000000002E-6,50,427,151.9,0.86199999999999999,120,"LW bei 25 °C",null,1E-3,1000000000]
["o-Ethyltoluol",1E-3,1000000000,"--",0.05,0.02,0.04,395.25,96.5,790,0.11,6.3E-10,6.0000000000000002E-6,93,202,165.2,0.88,120,null,null,1E-3,1000000000]
["m-Ethyltoluol",1E-3,1000000000,"--",0.15,0.1,0.08,390,96.5,760,0.1,6.2000000000000003E-10,6.0000000000000002E-6,97,202,161.4,0.86399999999999999,120,null,null,1E-3,1000000000]
["p-Ethyltoluol",1E-3,1000000000,"--",0.15,0.05,0.04,388.92,96.5,900,0.12,6.2000000000000003E-10,6.0000000000000002E-6,95,230,162,0.86099999999999999,120,null,null,1E-3,1000000000]
["1,2-Diethylbenzol",1E-3,1000000000,"--",7.0000000000000007E-2,1.4999999999999999E-2,0.04,394.03,96.5,500,0.16,5.9000000000000003E-10,5.6999999999999996E-6,24,67,182.9,0.88,134,null,null,1E-3,1000000000]
["1,3-Diethylbenzol",1E-3,1000000000,"--",7.0000000000000007E-2,0.05,0.08,391.79,96.5,420,0.23,5.7999999999999996E-10,5.5999999999999997E-6,27,109,180.9,0.86,134,null,null,1E-3,1000000000]
["1,4-Diethylbenzol",1E-3,1000000000,"--",7.0000000000000007E-2,0.03,0.04,391.79,96.5,460,0.23,5.7999999999999996E-10,5.5999999999999997E-6,25,101,183.7,0.86199999999999999,134,null,null,1E-3,1000000000]
["1,2,3-Trimethylbenzol",1E-3,1000000000,"--",0.12,3.0000000000000001E-3,0.03,408.33,96.5,650,0.08,6.3999999999999996E-10,6.0000000000000002E-6,75,125,176.1,0.89400000000000002,120,null,null,1E-3,1000000000]
["1,2,4-Trimethylbenzol",1E-3,1000000000,"--",0.17,3.0000000000000001E-3,0.05,391.67,96.5,650,0.12,6.3E-10,6.0000000000000002E-6,60,147,169.3,0.876,120,"LW bei 25 °C",null,1E-3,1000000000]
["1,3,5-Trimethylbenzol",1E-3,1000000000,"--",0.05,3.0000000000000001E-3,0.05,395.92,96.5,670,0.48,6.3E-10,6.0000000000000002E-6,20,193,164.7,0.86499999999999999,120,null,null,1E-3,1000000000]
["n-Alkane"]
["n-Pentan",4,125000000,"--",0.06,0.01,5.0000000000000001E-3,368.06,34.6,870,35.69,7.0099999999999996E-10,6.8900000000000001E-6,40,46219,36.049999999999997,0.626,72,null,null,4,125000000]
["n-Hexan",4,160000000,"--",0.11,0.01,5.0000000000000001E-3,360.47,61.6,2040,46.48,6.4900000000000003E-10,6.3600000000000001E-6,10,12922,68.75,0.66,86,null,null,4,160000000]
["n-Heptan",4,247000000,"--",0.15,0.01,5.0000000000000001E-3,360,79.599999999999994,5250,69.3,6.0499999999999998E-10,5.9200000000000001E-6,2.2000000000000002,3645,98.35,0.68400000000000005,100,"LW bei 25 °C",null,4,247000000]
["n-Octan",4,337000000,"--",0.19,0.01,5.0000000000000001E-3,359.65,89.5,17380,70.89,5.69E-10,5.5799999999999999E-6,0.7,1041,125.6,0.70250000000000001,114,null,null,4,337000000]
["n-Nonan",4,337000000,"--",0.22,0.01,5.0000000000000001E-3,363.28,94.8,27540,156.63,5.4099999999999999E-10,5.31E-6,0.12,351,150.69999999999999,0.72,128,"LW bei 25 °C",null,4,337000000]
["n-Decan",4,337000000,"--",0.22,0.01,5.0000000000000001E-3,361.27,97.2,218780,140.30000000000001,5.1299999999999999E-10,5.0499999999999999E-6,0.05,118,174.1,0.73,142,null,null,4,337000000]
["Oxigenate"]
["MTBE (Methyl-tert-butylether)",0,31000000,"--",7.0000000000000007E-2,3.0000000000000001E-3,2E-3,340.34,52.4,11,2.7E-2,9.5130000000000001E-10,8.2859999999999999E-6,51259,33300,55.65,0.74,88.147999999999996,null,null,0,31000000]
["ETBE (Ethyl-tert-butylether)",0,15870000,"--",7.0000000000000007E-2,3.0000000000000001E-3,2E-3,323.37,65.2,9,8.1000000000000003E-2,7.3379629629629627E-10,6.9444444444444439E-6,12000,16500,72.825000000000003,0.75,102.1748,null,null,0,15870000]
["TBA (tert-Butylalkohol) ",0,740000,"--",7.0000000000000007E-2,1E-3,2E-3,620.6,79.900000000000006,37,6.0999999999999997E-4,6.9999999999999996E-10,{"$f":"M45/(L45/L47)","v":6.0971302428256071E-6},50000,5430,82.35,0.79,74.121600000000001,null,null,0,740000]
["grau = abgeschätzt"]
[]
[]
["n-Pentan",4,125000000,"--",0.06,0.01,5.0000000000000001E-3,368.06,34.6,870,35.69,7.0099999999999996E-10,6.8900000000000001E-6,40,46219,36.049999999999997,0.626,72]
["n-Hexan",4,160000000,"--",0.11,0.01,5.0000000000000001E-3,360.47,61.6,2040,46.48,6.4900000000000003E-10,6.3600000000000001E-6,10,12922,68.75,0.66,86]
["n-Heptan",4,247000000,"--",0.15,0.01,5.0000000000000001E-3,360,79.599999999999994,5250,69.3,6.0499999999999998E-10,5.9200000000000001E-6,2.2000000000000002,3645,98.35,0.68400000000000005,100,"LW bei 25 °C"]
["n-Octan",4,337000000,"--",0.19,0.01,5.0000000000000001E-3,359.65,89.5,17380,70.89,5.69E-10,5.5799999999999999E-6,0.7,1041,125.6,0.70250000000000001,114]
["n-Nonan",4,337000000,"--",0.22,0.01,5.0000000000000001E-3,363.28,94.8,27540,156.63,5.4099999999999999E-10,5.31E-6,0.12,351,150.69999999999999,0.72,128,"LW bei 25 °C"]
["n-Decan",4,337000000,"--",0.22,0.01,5.0000000000000001E-3,361.27,97.2,218780,140.30000000000001,5.1299999999999999E-10,5.0499999999999999E-6,0.05,118,174.1,0.73,142]

{"sheet":"Heterogenität","index":11,"n_rows":20,"n_cols":7,"rows_kept":20,"cut":false,"hidden":true,"merged":[[15,0,15,1],[16,0,16,1]]}
[null,null,null,null,null,"Sondierung","Gini-Koeffizient"]
[]
[]
[]
[]
[]
[]
[]
[]
[]
[]
[]
[]
[]
[]
["Heterogenität (Gini-Koeffizient)",null,"Gering",0.2]
["Korrekturfaktor",null,null,{"$f":"1/(1-(1-2.45068336614863*(Schadstoffbelastung!$J$4*Schadstoffbelastung!$J$5)^-0.457209937280527)*$D$16)","v":1.2287062201381309}]
[]
[null,null,null,{"$f":"Bodencharakterisierung!F4","v":5}]
[null,null,null,{"$f":"IF(Bodencharakterisierung!H6>1,Bodencharakterisierung!H6,1/Bodencharakterisierung!H6)","v":2}]