{"text_format":"1","workbook":"xlsx","n_sheets":13,"sheets":["Startseite","Schadstoffbelastung","Schadstoffkonzentrationen GW","Bodencharakterisierung","Grundwassercharakterisierung","Sanierungsdesign","Berechnung","Calculation","Heterogenität","Stoffdatenbank","Schadstoffkonzentrationen Unge","Schadstoffkonzentrationen Boden","Tabelle1"],"not_rendered":{"charts":6,"images":94,"macros":1,"external_links":3,"defined_names":34,"comments":1,"pivot_tables":0},"unopened":[],"bounds":{"document_bytes":16777216,"sheet_cells":100000,"rows_first":2000,"rows_last":500,"rows_between":2000,"halvings":0,"cell_chars":16384,"cell_head_chars":4096},"cells_cut":0,"cells_raw":0,"read":"whole","date_system":"1900"}

{"sheet":"Startseite","index":0,"n_rows":5,"n_cols":13,"rows_kept":5,"cut":false,"hidden":false,"merged":[]}
[]
["Berechnung der Sanierungsdauer",null,null,null,null,null,null,null,null,null,null,"Excel-Version",{"$f":"INFO(\"version\")","v":"16.0"}]
["  Thermische In-Situ-Sanierung mittels festen Heizelementen (TCH-Verfahren)"]
[]
["   Version 1.1"]

{"sheet":"Schadstoffbelastung","index":1,"n_rows":46,"n_cols":26,"rows_kept":46,"cut":false,"hidden":true,"merged":[[1,23,2,23],[1,9,2,9],[1,4,2,4],[1,25,2,25],[1,24,2,24],[1,7,2,8],[1,21,2,21],[1,22,2,22],[0,0,0,15],[26,6,27,10],[3,12,3,18],[12,12,12,18],[1,20,2,20],[1,18,2,18],[10,7,11,8],[1,12,2,13],[1,14,2,14],[1,15,2,15],[1,16,2,16],[1,17,2,17],[1,10,2,10],[1,3,2,3],[21,12,21,18],[1,1,2,1]]}
[null,null,null,null,null,null,null,null,null,null,null,null,null,null,null,null,null,null,null,null,false]
[null,"Schadstoff",null,"MW + 2 s \n[mg/kg OS]","Inventar \n[kg]",null,null,"Geometrie des Schadensherdes",null,"Einheit","Wert",null," Schadstoffstatistik",null,"Einheit","LCKW","AKW","Oxigenate",{"$f":"Stoffdatenbank!A36","v":"n-Alkane"},null,"Mittl. Konz. (GW) \n[µg/L]","Mittl. Konz. (GW) \n[µmol/L]","Ci [µg/L]","Grenzkonz. Boden [mg/kg]","Mittlere Konz. Boden [mg/kg]","Residualphase [mg/kg]"]
[null,null,null,null,null,null,null,null,null,null,null,null,null,null,null,null,null,true]
[null,"Tetrachlorethen","PCE",null,{"$f":"IF($U$1,'Schadstoffkonzentrationen Unge'!V7+'Schadstoffkonzentrationen Boden'!V26,'Schadstoffkonzentrationen Unge'!V7+'Schadstoffkonzentrationen GW'!V8)","v":0},null,null,"Mittlere Länge (Schadensherd)",null,"m",null,null," Ungesättigter Boden",null,null,null,null,null,null,null,{"$f":"'Schadstoffkonzentrationen GW'!Y8","v":318.01428571428568},{"$f":"U4/Stoffdatenbank!R5","v":1.915748709122203},{"$f":"IFERROR(Stoffdatenbank!N5*1000*(Schadstoffbelastung!V4/Schadstoffbelastung!V$17),\"\")","v":42718.255770941018},{"$f":"W4/1000*Bodencharakterisierung!$E$9*Stoffdatenbank!J5","v":153.78572077538769},{"$f":"(E4/$K$12)*1000","v":{"$error":"#DIV/0!"}},{"$f":"IF(Y4<X4,0,Y4-X4)","v":{"$error":"#DIV/0!"}}]
[null,"Trichlorethen","TCE",null,{"$f":"IF($U$1,'Schadstoffkonzentrationen Unge'!V8+'Schadstoffkonzentrationen Boden'!V27,'Schadstoffkonzentrationen Unge'!V8+'Schadstoffkonzentrationen GW'!V9)","v":0},null,null,"Mittlere Breite (Schadensherd)",null,"m",null,null," Minimum",null,"mg/kg OS",{"$f":"'Schadstoffkonzentrationen Unge'!$W74","v":0},{"$f":"'Schadstoffkonzentrationen Unge'!$W94","v":0},{"$f":"'Schadstoffkonzentrationen Unge'!$W107","v":0},{"$f":"'Schadstoffkonzentrationen Unge'!$W102","v":0},null,{"$f":"'Schadstoffkonzentrationen GW'!Y9","v":72.228571428571428},{"$f":"U5/Stoffdatenbank!R6","v":0.5513631406761178},{"$f":"IFERROR(Stoffdatenbank!N6*1000*(Schadstoffbelastung!V5/Schadstoffbelastung!V$17),\"\")","v":76840.9485085333},{"$f":"W5/1000*Bodencharakterisierung!$E$9*Stoffdatenbank!J6","v":99.893233061093298},{"$f":"(E5/$K$12)*1000","v":{"$error":"#DIV/0!"}},{"$f":"IF(Y5<X5,0,Y5-X5)","v":{"$error":"#DIV/0!"}}]
[null,"cis-1,2-Dichlorethen","cDCE",null,{"$f":"IF($U$1,'Schadstoffkonzentrationen Unge'!V9+'Schadstoffkonzentrationen Boden'!V28,'Schadstoffkonzentrationen Unge'!V9+'Schadstoffkonzentrationen GW'!V10)","v":0},null,null,"Fläche der Belastung",null,"m³",{"$f":"K4*K5","v":0},null," Maximum",null,"mg/kg OS",{"$f":"'Schadstoffkonzentrationen Unge'!$X74","v":0},{"$f":"'Schadstoffkonzentrationen Unge'!$X94","v":0},{"$f":"'Schadstoffkonzentrationen Unge'!$X107","v":0},{"$f":"'Schadstoffkonzentrationen Unge'!$X102","v":0},null,{"$f":"'Schadstoffkonzentrationen GW'!Y10","v":169.92857142857142},{"$f":"U6/Stoffdatenbank!R7","v":1.7518409425625918},{"$f":"IFERROR(Stoffdatenbank!N7*1000*(Schadstoffbelastung!V6/Schadstoffbelastung!V$17),\"\")","v":854511.09089614474},{"$f":"W6/1000*Bodencharakterisierung!$E$9*Stoffdatenbank!J7","v":427.25554544807238},{"$error":"#DIV/0!"},{"$error":"#DIV/0!"}]
[null,"trans-1,2-Dichlorethen","tDCE",null,{"$f":"IF($U$1,'Schadstoffkonzentrationen Unge'!V10+'Schadstoffkonzentrationen Boden'!V29,'Schadstoffkonzentrationen Unge'!V10+'Schadstoffkonzentrationen GW'!V11)","v":0},null,null,"Oberkante der Belastung",null,"m u. GOK",null,null," Median",null,"mg/kg OS",{"$f":"'Schadstoffkonzentrationen Unge'!$Y74","v":""},{"$f":"'Schadstoffkonzentrationen Unge'!$Y94","v":""},{"$f":"'Schadstoffkonzentrationen Unge'!$Y107","v":""},{"$f":"'Schadstoffkonzentrationen Unge'!$Y102","v":""},null,{"$f":"'Schadstoffkonzentrationen GW'!Y11","v":0.5},{"$f":"U7/Stoffdatenbank!R8","v":5.1546391752577319E-3},{"$f":"IFERROR(Stoffdatenbank!N8*1000*(Schadstoffbelastung!V7/Schadstoffbelastung!V$17),\"\")","v":4525.7838357677283},{"$f":"W7/1000*Bodencharakterisierung!$E$9*Stoffdatenbank!J8","v":2.7154703014606372},{"$error":"#DIV/0!"},{"$error":"#DIV/0!"}]
[null,"1,1-Dichlorethen","11DCE",null,{"$f":"IF($U$1,'Schadstoffkonzentrationen Unge'!V11+'Schadstoffkonzentrationen Boden'!V30,'Schadstoffkonzentrationen Unge'!V11+'Schadstoffkonzentrationen GW'!V12)","v":0},null,null,"Unterkante der Belastung",null,"m u. GOK",null,null," Mittlere Konzentration (arithm.)",null,"mg/kg OS",{"$f":"'Schadstoffkonzentrationen Unge'!$Z74","v":""},{"$f":"'Schadstoffkonzentrationen Unge'!$Z94","v":""},{"$f":"'Schadstoffkonzentrationen Unge'!$Z107","v":""},{"$f":"'Schadstoffkonzentrationen Unge'!$Z102","v":""},null,{"$f":"'Schadstoffkonzentrationen GW'!Y12","v":14.771428571428572},{"$f":"U8/Stoffdatenbank!R9","v":0.15228276877761415},{"$f":"IFERROR(Stoffdatenbank!N9*1000*(Schadstoffbelastung!V8/Schadstoffbelastung!V$17),\"\")","v":53057.375126800813},{"$f":"W8/1000*Bodencharakterisierung!$E$9*Stoffdatenbank!J9","v":37.410755201907257},{"$f":"(E8/$K$12)*1000","v":{"$error":"#DIV/0!"}},{"$error":"#DIV/0!"}]
[null,"Vinylchlorid","VC",null,{"$f":"IF($U$1,'Schadstoffkonzentrationen Unge'!V12+'Schadstoffkonzentrationen Boden'!V31,'Schadstoffkonzentrationen Unge'!V12+'Schadstoffkonzentrationen GW'!V13)","v":0},null,null,"Mittlere Mächtigkeit (Schadensherd)",null,"m",{"$f":"K8-K7","v":0},null," Standardabweichung",null,"mg/kg OS",{"$f":"'Schadstoffkonzentrationen Unge'!$AA74","v":""},{"$f":"'Schadstoffkonzentrationen Unge'!$AA94","v":""},{"$f":"'Schadstoffkonzentrationen Unge'!$AA107","v":""},{"$f":"'Schadstoffkonzentrationen Unge'!$AA102","v":""},null,{"$f":"'Schadstoffkonzentrationen GW'!Y13","v":4.7142857142857144},{"$f":"U9/Stoffdatenbank!R10","v":7.4829931972789115E-2},{"$f":"IFERROR(Stoffdatenbank!N10*1000*(Schadstoffbelastung!V9/Schadstoffbelastung!V$17),\"\")","v":11471.574318195839},{"$f":"W9/1000*Bodencharakterisierung!$E$9*Stoffdatenbank!J10","v":6.8829445909175035},{"$error":"#DIV/0!"},{"$error":"#DIV/0!"}]
[null,"Tetrachlormethan","CT",null,{"$f":"IF($U$1,'Schadstoffkonzentrationen Unge'!V13+'Schadstoffkonzentrationen Boden'!V32,'Schadstoffkonzentrationen Unge'!V13+'Schadstoffkonzentrationen GW'!V14)","v":0},null,null,"Bodenlagerungsdichte",null,"kg/L",{"$f":"Bodencharakterisierung!E11","v":1.5149999999999999},null," MW + 2 s",null,"mg/kg OS",{"$f":"'Schadstoffkonzentrationen Unge'!$AB74","v":""},{"$f":"'Schadstoffkonzentrationen Unge'!$AB94","v":""},{"$f":"'Schadstoffkonzentrationen Unge'!$AB107","v":""},{"$f":"'Schadstoffkonzentrationen Unge'!$AB102","v":""},null,{"$f":"'Schadstoffkonzentrationen GW'!Y14","v":0.2857142857142857},{"$f":"U10/Stoffdatenbank!R11","v":1.8552875695732837E-3},{"$f":"IFERROR(Stoffdatenbank!N11*1000*(Schadstoffbelastung!V10/Schadstoffbelastung!V$17),\"\")","v":206.85032579767102},{"$f":"W10/1000*Bodencharakterisierung!$E$9*Stoffdatenbank!J11","v":0.59076453047814848},{"$error":"#DIV/0!"},{"$error":"#DIV/0!"}]
[null,"Trichlormethan","CF",null,{"$f":"IF($U$1,'Schadstoffkonzentrationen Unge'!V14+'Schadstoffkonzentrationen Boden'!V33,'Schadstoffkonzentrationen Unge'!V14+'Schadstoffkonzentrationen GW'!V15)","v":0},null,null,"Volumen kontaminierter Boden",null,"m³",{"$f":"K9*K6","v":0},null," Schadstoffinventar (mittelwertbezogen)",null,"kg",{"$f":"'Schadstoffkonzentrationen Unge'!$AC74","v":""},{"$f":"'Schadstoffkonzentrationen Unge'!$AC94","v":""},{"$f":"'Schadstoffkonzentrationen Unge'!$AC107","v":""},{"$f":"'Schadstoffkonzentrationen Unge'!$AC102","v":""},null,{"$f":"'Schadstoffkonzentrationen GW'!Y15","v":223.77142857142857},{"$f":"U11/Stoffdatenbank!R12","v":1.8804321728691478},{"$f":"IFERROR(Stoffdatenbank!N12*1000*(Schadstoffbelastung!V11/Schadstoffbelastung!V$17),\"\")","v":2148950.9999792916},{"$f":"W11/1000*Bodencharakterisierung!$E$9*Stoffdatenbank!J12","v":1100.4778070893954},{"$error":"#DIV/0!"},{"$error":"#DIV/0!"}]
[null,"Dichlormethan","DCM",null,{"$f":"IF($U$1,'Schadstoffkonzentrationen Unge'!V15+'Schadstoffkonzentrationen Boden'!V34,'Schadstoffkonzentrationen Unge'!V15+'Schadstoffkonzentrationen GW'!V16)","v":0},null,null,null,null,"t",{"$f":"K11*K10","v":0},null,null,null,null,null,null,null,null,null,{"$f":"'Schadstoffkonzentrationen GW'!Y16","v":3.4285714285714284},{"$f":"U12/Stoffdatenbank!R13","v":4.0336134453781508E-2},{"$f":"IFERROR(Stoffdatenbank!N13*1000*(Schadstoffbelastung!V12/Schadstoffbelastung!V$17),\"\")","v":100056.39849289463},{"$f":"W12/1000*Bodencharakterisierung!$E$9*Stoffdatenbank!J13","v":12.156852416886696},{"$error":"#DIV/0!"},{"$error":"#DIV/0!"}]
[null,"1,1,1-Trichlorethan","111TCA",null,{"$f":"IF($U$1,'Schadstoffkonzentrationen Unge'!V16+'Schadstoffkonzentrationen Boden'!V35,'Schadstoffkonzentrationen Unge'!V16+'Schadstoffkonzentrationen GW'!V17)","v":0},null,null,"Grundwasserstand",null,"m u. GOK",null,null," Gesättigter Boden",null,null,null,null,null,null,null,{"$f":"'Schadstoffkonzentrationen GW'!Y17","v":48.714285714285715},{"$f":"U13/Stoffdatenbank!R14","v":0.36516360614588556},{"$f":"IFERROR(Stoffdatenbank!N14*1000*(Schadstoffbelastung!V13/Schadstoffbelastung!V$17),\"\")","v":66158.526972675885},{"$f":"W13/1000*Bodencharakterisierung!$E$9*Stoffdatenbank!J14","v":95.268278840653281},{"$error":"#DIV/0!"},{"$error":"#DIV/0!"}]
[null,"1,1,2-Trichlorethan","112TCA",null,{"$f":"IF($U$1,'Schadstoffkonzentrationen Unge'!V17+'Schadstoffkonzentrationen Boden'!V36,'Schadstoffkonzentrationen Unge'!V17+'Schadstoffkonzentrationen GW'!V18)","v":0},null,null,null,null,null,null,null," Minimum",null,"mg/kg OS",{"$f":"IF($U$1,'Schadstoffkonzentrationen Boden'!$W93,\"\")","v":""},{"$f":"IF($U$1,'Schadstoffkonzentrationen Boden'!$W113,\"\")","v":""},{"$f":"IF($U$1,'Schadstoffkonzentrationen Boden'!$W126,\"\")","v":""},{"$f":"IF($U$1,'Schadstoffkonzentrationen Boden'!$W121,\"\")","v":""},null,{"$f":"'Schadstoffkonzentrationen GW'!Y18","v":2},{"$f":"U14/Stoffdatenbank!R15","v":1.4992054211268029E-2},{"$f":"IFERROR(Stoffdatenbank!N15*1000*(Schadstoffbelastung!V14/Schadstoffbelastung!V$17),\"\")","v":9402.1818165544355},{"$f":"W14/1000*Bodencharakterisierung!$E$9*Stoffdatenbank!J15","v":4.1031121447443555},{"$error":"#DIV/0!"},{"$error":"#DIV/0!"}]
[null,"1,1-Dichlorethan","11DCA",null,{"$f":"IF($U$1,'Schadstoffkonzentrationen Unge'!V18+'Schadstoffkonzentrationen Boden'!V37,'Schadstoffkonzentrationen Unge'!V18+'Schadstoffkonzentrationen GW'!V19)","v":0},null,null,null,null,null,null,null," Maximum",null,"mg/kg OS",{"$f":"IF($U$1,'Schadstoffkonzentrationen Boden'!$X93,\"\")","v":""},{"$f":"IF($U$1,'Schadstoffkonzentrationen Boden'!$X113,\"\")","v":""},{"$f":"IF($U$1,'Schadstoffkonzentrationen Boden'!$X126,\"\")","v":""},{"$f":"IF($U$1,'Schadstoffkonzentrationen Boden'!$X121,\"\")","v":""},null,{"$f":"'Schadstoffkonzentrationen GW'!Y19","v":20.414285714285711},{"$f":"U15/Stoffdatenbank!R16","v":0.20628825499480308},{"$f":"IFERROR(Stoffdatenbank!N16*1000*(Schadstoffbelastung!V15/Schadstoffbelastung!V$17),\"\")","v":249832.69110994684},{"$f":"W15/1000*Bodencharakterisierung!$E$9*Stoffdatenbank!J16","v":89.290203802695004},{"$error":"#DIV/0!"},{"$error":"#DIV/0!"}]
[null,"1,2-Dichlorethan","12DCA",null,{"$f":"IF($U$1,'Schadstoffkonzentrationen Unge'!V19+'Schadstoffkonzentrationen Boden'!V38,'Schadstoffkonzentrationen Unge'!V19+'Schadstoffkonzentrationen GW'!V20)","v":0},null,null,null,null,null,null,null," Median",null,"mg/kg OS",{"$f":"IF($U$1,'Schadstoffkonzentrationen Boden'!$Y93,\"\")","v":""},{"$f":"IF($U$1,'Schadstoffkonzentrationen Boden'!$Y113,\"\")","v":""},{"$f":"IF($U$1,'Schadstoffkonzentrationen Boden'!$Y126,\"\")","v":""},{"$f":"IF($U$1,'Schadstoffkonzentrationen Boden'!$Y121,\"\")","v":""},null,{"$f":"'Schadstoffkonzentrationen GW'!Y20","v":21.285714285714285},{"$f":"U16/Stoffdatenbank!R17","v":0.21509412172306272},{"$f":"IFERROR(Stoffdatenbank!N17*1000*(Schadstoffbelastung!V16/Schadstoffbelastung!V$17),\"\")","v":260497.34762338756},{"$f":"W16/1000*Bodencharakterisierung!$E$9*Stoffdatenbank!J17","v":103.15694965886148},{"$error":"#DIV/0!"},{"$error":"#DIV/0!"}]
[null,"LCKW",null,null,{"$f":"SUM(E4:E16)","v":0},null,null,null,null,null,null,null," Mittlere Konzentration (arithm.)",null,"mg/kg OS",{"$f":"IF($U$1,'Schadstoffkonzentrationen Boden'!$Z93,\"\")","v":""},{"$f":"IF($U$1,'Schadstoffkonzentrationen Boden'!$Z113,\"\")","v":""},{"$f":"IF($U$1,'Schadstoffkonzentrationen Boden'!$Z126,\"\")","v":""},{"$f":"IF($U$1,'Schadstoffkonzentrationen Boden'!$Z121,\"\")","v":""},null,{"$f":"SUM(U4:U16)","v":900.05714285714294},{"$f":"SUM(V4:V16)","v":7.1753817642540954},null,null,null,{"$f":"SUM(Z4:Z16)","v":{"$error":"#DIV/0!"}}]
[null,"Benzol","B",null,{"$f":"IF($U$1,'Schadstoffkonzentrationen Unge'!V22+'Schadstoffkonzentrationen Boden'!V41,'Schadstoffkonzentrationen Unge'!V22+'Schadstoffkonzentrationen GW'!V23)","v":0},null,null,null,null,null,null,null," Standardabweichung",null,"mg/kg OS",{"$f":"IF($U$1,'Schadstoffkonzentrationen Boden'!$AA93,\"\")","v":""},{"$f":"IF($U$1,'Schadstoffkonzentrationen Boden'!$AA113,\"\")","v":""},{"$f":"IF($U$1,'Schadstoffkonzentrationen Boden'!$AA126,\"\")","v":""},{"$f":"IF($U$1,'Schadstoffkonzentrationen Boden'!$AA121,\"\")","v":""},null,{"$f":"'Schadstoffkonzentrationen GW'!Y23","v":0},{"$f":"U18/Stoffdatenbank!R19","v":0},{"$f":"IFERROR(Stoffdatenbank!N19*1000*(Schadstoffbelastung!V18/Schadstoffbelastung!V$35),\"\")","v":""},{"$f":"IFERROR(W18/1000*Bodencharakterisierung!$E$9*Stoffdatenbank!J19,\"\")","v":""},{"$f":"(E18/$K$12)*1000","v":{"$error":"#DIV/0!"}},{"$error":"#DIV/0!"}]
[null,"Toluol","T",null,{"$f":"IF($U$1,'Schadstoffkonzentrationen Unge'!V23+'Schadstoffkonzentrationen Boden'!V42,'Schadstoffkonzentrationen Unge'!V23+'Schadstoffkonzentrationen GW'!V24)","v":0},null,null,null,null,null,null,null," MW + 2 s",null,"mg/kg OS",{"$f":"IF($U$1,'Schadstoffkonzentrationen Boden'!$AB93,\"\")","v":""},{"$f":"IF($U$1,'Schadstoffkonzentrationen Boden'!$AB113,\"\")","v":""},{"$f":"IF($U$1,'Schadstoffkonzentrationen Boden'!$AB126,\"\")","v":""},{"$f":"IF($U$1,'Schadstoffkonzentrationen Boden'!$AB121,\"\")","v":""},null,{"$f":"'Schadstoffkonzentrationen GW'!Y24","v":0},{"$f":"U19/Stoffdatenbank!R20","v":0},{"$f":"IFERROR(Stoffdatenbank!N20*1000*(Schadstoffbelastung!V19/Schadstoffbelastung!V$35),\"\")","v":""},{"$f":"IFERROR(W19/1000*Bodencharakterisierung!$E$9*Stoffdatenbank!J20,\"\")","v":""},{"$error":"#DIV/0!"},{"$error":"#DIV/0!"}]
[null,"Ethylbenzol","ETBE",null,{"$f":"IF($U$1,'Schadstoffkonzentrationen Unge'!V24+'Schadstoffkonzentrationen Boden'!V43,'Schadstoffkonzentrationen Unge'!V24+'Schadstoffkonzentrationen GW'!V25)","v":0},null,null,null,null,null,null,null," Schadstoffinventar (mittelwertbezogen)",null,"kg",{"$f":"IF($U$1,'Schadstoffkonzentrationen Boden'!$AC93,\"\")","v":""},{"$f":"IF($U$1,'Schadstoffkonzentrationen Boden'!$AC113,\"\")","v":""},{"$f":"IF($U$1,'Schadstoffkonzentrationen Boden'!$AC126,\"\")","v":""},{"$f":"IF($U$1,'Schadstoffkonzentrationen Boden'!$AC121,\"\")","v":""},null,{"$f":"'Schadstoffkonzentrationen GW'!Y25","v":0},{"$f":"U20/Stoffdatenbank!R21","v":0},{"$f":"IFERROR(Stoffdatenbank!N21*1000*(Schadstoffbelastung!V20/Schadstoffbelastung!V$35),\"\")","v":""},{"$f":"IFERROR(W20/1000*Bodencharakterisierung!$E$9*Stoffdatenbank!J21,\"\")","v":""},{"$error":"#DIV/0!"},{"$error":"#DIV/0!"}]
[null,"o-Xylol","oX",null,{"$f":"IF($U$1,'Schadstoffkonzentrationen Unge'!V25+'Schadstoffkonzentrationen Boden'!V44,'Schadstoffkonzentrationen Unge'!V25+'Schadstoffkonzentrationen GW'!V26)","v":0},null,null,null,null,null,null,null," Residualsättigung",null,"mg/kg OS",{"$f":"Z17","v":{"$error":"#DIV/0!"}},{"$f":"Z35","v":{"$error":"#DIV/0!"}},{"$f":"Z46","v":{"$error":"#DIV/0!"}},{"$f":"Z42","v":{"$error":"#DIV/0!"}},null,{"$f":"'Schadstoffkonzentrationen GW'!Y26","v":0},{"$f":"U21/Stoffdatenbank!R22","v":0},{"$f":"IFERROR(Stoffdatenbank!N22*1000*(Schadstoffbelastung!V21/Schadstoffbelastung!V$35),\"\")","v":""},{"$f":"IFERROR(W21/1000*Bodencharakterisierung!$E$9*Stoffdatenbank!J22,\"\")","v":""},{"$error":"#DIV/0!"},{"$error":"#DIV/0!"}]
[null,"m-Xylol","mX",null,{"$f":"IF($U$1,'Schadstoffkonzentrationen Unge'!V26+'Schadstoffkonzentrationen Boden'!V45,'Schadstoffkonzentrationen Unge'!V26+'Schadstoffkonzentrationen GW'!V27)","v":0},null,null,null,null,null,null,null," Gesamter Boden",null,null,null,null,null,null,null,{"$f":"'Schadstoffkonzentrationen GW'!Y27","v":0},{"$f":"U22/Stoffdatenbank!R23","v":0},{"$f":"IFERROR(Stoffdatenbank!N23*1000*(Schadstoffbelastung!V22/Schadstoffbelastung!V$35),\"\")","v":""},{"$f":"IFERROR(W22/1000*Bodencharakterisierung!$E$9*Stoffdatenbank!J23,\"\")","v":""},{"$error":"#DIV/0!"},{"$error":"#DIV/0!"}]
[null,"p-Xylol","pX",null,{"$f":"IF($U$1,'Schadstoffkonzentrationen Unge'!V27+'Schadstoffkonzentrationen Boden'!V46,'Schadstoffkonzentrationen Unge'!V27+'Schadstoffkonzentrationen GW'!V28)","v":0},null,null,null,null,null,null,null," Schadstoffinventar (flächengewichtet)",null,"kg",{"$f":"E17","v":0},{"$f":"E35","v":0},{"$f":"E46","v":0},{"$f":"E42","v":0},null,{"$f":"'Schadstoffkonzentrationen GW'!Y28","v":0},{"$f":"U23/Stoffdatenbank!R24","v":0},{"$f":"IFERROR(Stoffdatenbank!N24*1000*(Schadstoffbelastung!V23/Schadstoffbelastung!V$35),\"\")","v":""},{"$f":"IFERROR(W23/1000*Bodencharakterisierung!$E$9*Stoffdatenbank!J24,\"\")","v":""},{"$error":"#DIV/0!"},{"$error":"#DIV/0!"}]
[null,"n-Propylbenzol","nPB",null,{"$f":"IF($U$1,'Schadstoffkonzentrationen Unge'!V28+'Schadstoffkonzentrationen Boden'!V47,'Schadstoffkonzentrationen Unge'!V28+'Schadstoffkonzentrationen GW'!V29)","v":0},null,null,null,null,null,null,null,null,null,null,null,null,null,null,null,{"$f":"'Schadstoffkonzentrationen GW'!Y29","v":0},{"$f":"U24/Stoffdatenbank!R25","v":0},{"$f":"IFERROR(Stoffdatenbank!N25*1000*(Schadstoffbelastung!V24/Schadstoffbelastung!V$35),\"\")","v":""},{"$f":"IFERROR(W24/1000*Bodencharakterisierung!$E$9*Stoffdatenbank!J25,\"\")","v":""},{"$error":"#DIV/0!"},{"$error":"#DIV/0!"}]
[null,"Isopropylbenzol","iPB",null,{"$f":"IF($U$1,'Schadstoffkonzentrationen Unge'!V29+'Schadstoffkonzentrationen Boden'!V48,'Schadstoffkonzentrationen Unge'!V29+'Schadstoffkonzentrationen GW'!V30)","v":0},null,null,null,null,null,null,null,null,null,null,null,null,null,null,null,{"$f":"'Schadstoffkonzentrationen GW'!Y30","v":0},{"$f":"U25/Stoffdatenbank!R26","v":0},{"$f":"IFERROR(Stoffdatenbank!N26*1000*(Schadstoffbelastung!V25/Schadstoffbelastung!V$35),\"\")","v":""},{"$f":"IFERROR(W25/1000*Bodencharakterisierung!$E$9*Stoffdatenbank!J26,\"\")","v":""},{"$error":"#DIV/0!"},{"$error":"#DIV/0!"}]
[null,"o-Ethyltoluol","oET",null,{"$f":"IF($U$1,'Schadstoffkonzentrationen Unge'!V30+'Schadstoffkonzentrationen Boden'!V49,'Schadstoffkonzentrationen Unge'!V30+'Schadstoffkonzentrationen GW'!V31)","v":0},null,null,null,null,null,null,null,null,null,null,null,null,null,null,null,{"$f":"'Schadstoffkonzentrationen GW'!Y31","v":0},{"$f":"U26/Stoffdatenbank!R27","v":0},{"$f":"IFERROR(Stoffdatenbank!N27*1000*(Schadstoffbelastung!V26/Schadstoffbelastung!V$35),\"\")","v":""},{"$f":"IFERROR(W26/1000*Bodencharakterisierung!$E$9*Stoffdatenbank!J27,\"\")","v":""},{"$error":"#DIV/0!"},{"$error":"#DIV/0!"}]
[null,"m-Ethyltoluol","oET",null,{"$f":"IF($U$1,'Schadstoffkonzentrationen Unge'!V31+'Schadstoffkonzentrationen Boden'!V50,'Schadstoffkonzentrationen Unge'!V31+'Schadstoffkonzentrationen GW'!V32)","v":0},null," Berechnung der Schadstoffinventare mit Daten aus ",null,null,null,null,null,null,null,null,null,null,null,null,null,{"$f":"'Schadstoffkonzentrationen GW'!Y32","v":0},{"$f":"U27/Stoffdatenbank!R28","v":0},{"$f":"IFERROR(Stoffdatenbank!N28*1000*(Schadstoffbelastung!V27/Schadstoffbelastung!V$35),\"\")","v":""},{"$f":"IFERROR(W27/1000*Bodencharakterisierung!$E$9*Stoffdatenbank!J28,\"\")","v":""},{"$error":"#DIV/0!"},{"$error":"#DIV/0!"}]
[null,"p-Ethyltoluol","pET",null,{"$f":"IF($U$1,'Schadstoffkonzentrationen Unge'!V32+'Schadstoffkonzentrationen Boden'!V51,'Schadstoffkonzentrationen Unge'!V32+'Schadstoffkonzentrationen GW'!V33)","v":0},null,null,null,null,null,null,null,null,null,null,null,null,null,null,null,{"$f":"'Schadstoffkonzentrationen GW'!Y33","v":0},{"$f":"U28/Stoffdatenbank!R29","v":0},{"$f":"IFERROR(Stoffdatenbank!N29*1000*(Schadstoffbelastung!V28/Schadstoffbelastung!V$35),\"\")","v":""},{"$f":"IFERROR(W28/1000*Bodencharakterisierung!$E$9*Stoffdatenbank!J29,\"\")","v":""},{"$error":"#DIV/0!"},{"$error":"#DIV/0!"}]
[null,"1,2-Diethylbenzol","12DEB",null,{"$f":"IF($U$1,'Schadstoffkonzentrationen Unge'!V33+'Schadstoffkonzentrationen Boden'!V52,'Schadstoffkonzentrationen Unge'!V33+'Schadstoffkonzentrationen GW'!V34)","v":0},null,null,null,null,null,null,null,null,null,null,null,null,null,null,null,{"$f":"'Schadstoffkonzentrationen GW'!Y34","v":0},{"$f":"U29/Stoffdatenbank!R30","v":0},{"$f":"IFERROR(Stoffdatenbank!N30*1000*(Schadstoffbelastung!V29/Schadstoffbelastung!V$35),\"\")","v":""},{"$f":"IFERROR(W29/1000*Bodencharakterisierung!$E$9*Stoffdatenbank!J30,\"\")","v":""},{"$error":"#DIV/0!"},{"$error":"#DIV/0!"}]
[null,"1,3-Diethylbenzol","13DEB",null,{"$f":"IF($U$1,'Schadstoffkonzentrationen Unge'!V34+'Schadstoffkonzentrationen Boden'!V53,'Schadstoffkonzentrationen Unge'!V34+'Schadstoffkonzentrationen GW'!V35)","v":0},null,null,null,null,null,null,null,null,null,null,null,null,null,null,null,{"$f":"'Schadstoffkonzentrationen GW'!Y35","v":0},{"$f":"U30/Stoffdatenbank!R31","v":0},{"$f":"IFERROR(Stoffdatenbank!N31*1000*(Schadstoffbelastung!V30/Schadstoffbelastung!V$35),\"\")","v":""},{"$f":"IFERROR(W30/1000*Bodencharakterisierung!$E$9*Stoffdatenbank!J31,\"\")","v":""},{"$error":"#DIV/0!"},{"$error":"#DIV/0!"}]
[null,"1,4-Diethylbenzol","14DEB",null,{"$f":"IF($U$1,'Schadstoffkonzentrationen Unge'!V35+'Schadstoffkonzentrationen Boden'!V54,'Schadstoffkonzentrationen Unge'!V35+'Schadstoffkonzentrationen GW'!V36)","v":0},null,null,null,null,null,null,null,null,null,null,null,null,null,null,null,{"$f":"'Schadstoffkonzentrationen GW'!Y36","v":0},{"$f":"U31/Stoffdatenbank!R32","v":0},{"$f":"IFERROR(Stoffdatenbank!N32*1000*(Schadstoffbelastung!V31/Schadstoffbelastung!V$35),\"\")","v":""},{"$f":"IFERROR(W31/1000*Bodencharakterisierung!$E$9*Stoffdatenbank!J32,\"\")","v":""},{"$error":"#DIV/0!"},{"$error":"#DIV/0!"}]
[null,"1,2,3-Trimethylbenzol","123TMB",null,{"$f":"IF($U$1,'Schadstoffkonzentrationen Unge'!V36+'Schadstoffkonzentrationen Boden'!V55,'Schadstoffkonzentrationen Unge'!V36+'Schadstoffkonzentrationen GW'!V37)","v":0},null,null,null,null,null,null,null,null,null,null,null,null,null,null,null,{"$f":"'Schadstoffkonzentrationen GW'!Y37","v":0},{"$f":"U32/Stoffdatenbank!R33","v":0},{"$f":"IFERROR(Stoffdatenbank!N33*1000*(Schadstoffbelastung!V32/Schadstoffbelastung!V$35),\"\")","v":""},{"$f":"IFERROR(W32/1000*Bodencharakterisierung!$E$9*Stoffdatenbank!J33,\"\")","v":""},{"$error":"#DIV/0!"},{"$error":"#DIV/0!"}]
[null,"1,2,4-Trimethylbenzol","124TMB",null,{"$f":"IF($U$1,'Schadstoffkonzentrationen Unge'!V37+'Schadstoffkonzentrationen Boden'!V56,'Schadstoffkonzentrationen Unge'!V37+'Schadstoffkonzentrationen GW'!V38)","v":0},null,null,null,null,null,null,null,null,null,null,null,null,null,null,null,{"$f":"'Schadstoffkonzentrationen GW'!Y38","v":0},{"$f":"U33/Stoffdatenbank!R34","v":0},{"$f":"IFERROR(Stoffdatenbank!N34*1000*(Schadstoffbelastung!V33/Schadstoffbelastung!V$35),\"\")","v":""},{"$f":"IFERROR(W33/1000*Bodencharakterisierung!$E$9*Stoffdatenbank!J34,\"\")","v":""},{"$error":"#DIV/0!"},{"$error":"#DIV/0!"}]
[null,"1,3,5-Trimethylbenzol","135TMB",null,{"$f":"IF($U$1,'Schadstoffkonzentrationen Unge'!V38+'Schadstoffkonzentrationen Boden'!V57,'Schadstoffkonzentrationen Unge'!V38+'Schadstoffkonzentrationen GW'!V39)","v":0},null,null,null,null,null,null,null,null,null,null,null,null,null,null,null,{"$f":"'Schadstoffkonzentrationen GW'!Y39","v":0},{"$f":"U34/Stoffdatenbank!R35","v":0},{"$f":"IFERROR(Stoffdatenbank!N35*1000*(Schadstoffbelastung!V34/Schadstoffbelastung!V$35),\"\")","v":""},{"$f":"IFERROR(W34/1000*Bodencharakterisierung!$E$9*Stoffdatenbank!J35,\"\")","v":""},{"$error":"#DIV/0!"},{"$error":"#DIV/0!"}]
[null,"AKW",null,null,{"$f":"SUM(E18:E34)","v":0},null,null,null,null,null,null,null,null,null,null,null,null,null,null,null,{"$f":"SUM(U18:U34)","v":0},{"$f":"SUM(V18:V34)","v":0},null,null,null,{"$f":"SUM(Z18:Z34)","v":{"$error":"#DIV/0!"}}]
[null,{"$f":"Stoffdatenbank!A37","v":"n-Pentan"},"nC5",null,{"$f":"IF($U$1,'Schadstoffkonzentrationen Unge'!V42+'Schadstoffkonzentrationen Boden'!V61,'Schadstoffkonzentrationen Unge'!V42+'Schadstoffkonzentrationen GW'!V43)","v":0},null,null,null,null,null,null,null,null,null,null,null,null,null,null,null,{"$f":"'Schadstoffkonzentrationen GW'!Y43","v":0},{"$f":"U36/Stoffdatenbank!R37","v":0},{"$f":"IFERROR(Stoffdatenbank!N37*1000*(Schadstoffbelastung!V36/Schadstoffbelastung!V$42),\"\")","v":""},{"$f":"IFERROR(W36/1000*Bodencharakterisierung!$E$9*Stoffdatenbank!J37,\"\")","v":""},{"$error":"#DIV/0!"},{"$error":"#DIV/0!"}]
[null,{"$f":"Stoffdatenbank!A38","v":"n-Hexan"},"nC6",null,{"$f":"IF($U$1,'Schadstoffkonzentrationen Unge'!V43+'Schadstoffkonzentrationen Boden'!V62,'Schadstoffkonzentrationen Unge'!V43+'Schadstoffkonzentrationen GW'!V44)","v":0},null,null,null,null,null,null,null,null,null,null,null,null,null,null,null,{"$f":"'Schadstoffkonzentrationen GW'!Y44","v":0},{"$f":"U37/Stoffdatenbank!R38","v":0},{"$f":"IFERROR(Stoffdatenbank!N38*1000*(Schadstoffbelastung!V37/Schadstoffbelastung!V$42),\"\")","v":""},{"$f":"IFERROR(W37/1000*Bodencharakterisierung!$E$9*Stoffdatenbank!J38,\"\")","v":""},{"$error":"#DIV/0!"},{"$error":"#DIV/0!"}]
[null,{"$f":"Stoffdatenbank!A39","v":"n-Heptan"},"nC7",null,{"$f":"IF($U$1,'Schadstoffkonzentrationen Unge'!V44+'Schadstoffkonzentrationen Boden'!V63,'Schadstoffkonzentrationen Unge'!V44+'Schadstoffkonzentrationen GW'!V45)","v":0},null,null,null,null,null,null,null,null,null,null,null,null,null,null,null,{"$f":"'Schadstoffkonzentrationen GW'!Y45","v":0},{"$f":"U38/Stoffdatenbank!R39","v":0},{"$f":"IFERROR(Stoffdatenbank!N39*1000*(Schadstoffbelastung!V38/Schadstoffbelastung!V$42),\"\")","v":""},{"$f":"IFERROR(W38/1000*Bodencharakterisierung!$E$9*Stoffdatenbank!J39,\"\")","v":""},{"$error":"#DIV/0!"},{"$error":"#DIV/0!"}]
[null,{"$f":"Stoffdatenbank!A40","v":"n-Octan"},"nC8",null,{"$f":"IF($U$1,'Schadstoffkonzentrationen Unge'!V45+'Schadstoffkonzentrationen Boden'!V64,'Schadstoffkonzentrationen Unge'!V45+'Schadstoffkonzentrationen GW'!V46)","v":0},null,null,null,null,null,null,null,null,null,null,null,null,null,null,null,{"$f":"'Schadstoffkonzentrationen GW'!Y46","v":0},{"$f":"U39/Stoffdatenbank!R40","v":0},{"$f":"IFERROR(Stoffdatenbank!N40*1000*(Schadstoffbelastung!V39/Schadstoffbelastung!V$42),\"\")","v":""},{"$f":"IFERROR(W39/1000*Bodencharakterisierung!$E$9*Stoffdatenbank!J40,\"\")","v":""},{"$error":"#DIV/0!"},{"$error":"#DIV/0!"}]
[null,{"$f":"Stoffdatenbank!A41","v":"n-Nonan"},"nC9",null,{"$f":"IF($U$1,'Schadstoffkonzentrationen Unge'!V46+'Schadstoffkonzentrationen Boden'!V65,'Schadstoffkonzentrationen Unge'!V46+'Schadstoffkonzentrationen GW'!V47)","v":0},null,null,null,null,null,null,null,null,null,null,null,null,null,null,null,{"$f":"'Schadstoffkonzentrationen GW'!Y47","v":0},{"$f":"U40/Stoffdatenbank!R41","v":0},{"$f":"IFERROR(Stoffdatenbank!N41*1000*(Schadstoffbelastung!V40/Schadstoffbelastung!V$42),\"\")","v":""},{"$f":"IFERROR(W40/1000*Bodencharakterisierung!$E$9*Stoffdatenbank!J41,\"\")","v":""},{"$error":"#DIV/0!"},{"$error":"#DIV/0!"}]
[null,{"$f":"Stoffdatenbank!A42","v":"n-Decan"},"nC10",null,{"$f":"IF($U$1,'Schadstoffkonzentrationen Unge'!V47+'Schadstoffkonzentrationen Boden'!V66,'Schadstoffkonzentrationen Unge'!V47+'Schadstoffkonzentrationen GW'!V48)","v":0},null,null,null,null,null,null,null,null,null,null,null,null,null,null,null,{"$f":"'Schadstoffkonzentrationen GW'!Y48","v":0},{"$f":"U41/Stoffdatenbank!R42","v":0},{"$f":"IFERROR(Stoffdatenbank!N42*1000*(Schadstoffbelastung!V41/Schadstoffbelastung!V$42),\"\")","v":""},{"$f":"IFERROR(W41/1000*Bodencharakterisierung!$E$9*Stoffdatenbank!J42,\"\")","v":""},{"$error":"#DIV/0!"},{"$error":"#DIV/0!"}]
[null,{"$f":"Stoffdatenbank!A36","v":"n-Alkane"},null,null,{"$f":"SUM(E36:E41)","v":0},null,null,null,null,null,null,null,null,null,null,null,null,null,null,null,{"$f":"SUM(U36:U41)","v":0},{"$f":"SUM(V36:V41)","v":0},null,null,null,{"$f":"SUM(Z36:Z41)","v":{"$error":"#DIV/0!"}}]
[null,"Methyl-tert-butylether","MTBE",null,{"$f":"IF($U$1,'Schadstoffkonzentrationen Unge'!V50+'Schadstoffkonzentrationen Boden'!V69,'Schadstoffkonzentrationen Unge'!V50+'Schadstoffkonzentrationen GW'!V51)","v":0},null,null,null,null,null,null,null,null,null,null,null,null,null,null,null,{"$f":"'Schadstoffkonzentrationen GW'!Y51","v":0},{"$f":"U43/Stoffdatenbank!R44","v":0},{"$f":"IFERROR(Stoffdatenbank!N44*1000*(Schadstoffbelastung!V43/Schadstoffbelastung!V$46),\"\")","v":""},{"$f":"IFERROR(W43/1000*Bodencharakterisierung!$E$9*Stoffdatenbank!J44,\"\")","v":""},{"$error":"#DIV/0!"},{"$error":"#DIV/0!"}]
[null,"Ethyl-tert-butylether","ETBE",null,{"$f":"IF($U$1,'Schadstoffkonzentrationen Unge'!V51+'Schadstoffkonzentrationen Boden'!V70,'Schadstoffkonzentrationen Unge'!V51+'Schadstoffkonzentrationen GW'!V52)","v":0},null,null,null,null,null,null,null,null,null,null,null,null,null,null,null,{"$f":"'Schadstoffkonzentrationen GW'!Y52","v":0},{"$f":"U44/Stoffdatenbank!R45","v":0},{"$f":"IFERROR(Stoffdatenbank!N45*1000*(Schadstoffbelastung!V44/Schadstoffbelastung!V$46),\"\")","v":""},{"$f":"IFERROR(W44/1000*Bodencharakterisierung!$E$9*Stoffdatenbank!J45,\"\")","v":""},{"$error":"#DIV/0!"},{"$error":"#DIV/0!"}]
[null,"tert-Butylalkohol","TBA",null,{"$f":"IF($U$1,'Schadstoffkonzentrationen Unge'!V52+'Schadstoffkonzentrationen Boden'!V71,'Schadstoffkonzentrationen Unge'!V52+'Schadstoffkonzentrationen GW'!V53)","v":0},null,null,null,null,null,null,null,null,null,null,null,null,null,null,null,{"$f":"'Schadstoffkonzentrationen GW'!Y53","v":0},{"$f":"U45/Stoffdatenbank!R46","v":0},{"$f":"IFERROR(Stoffdatenbank!N46*1000*(Schadstoffbelastung!V45/Schadstoffbelastung!V$46),\"\")","v":""},{"$f":"IFERROR(W45/1000*Bodencharakterisierung!$E$9*Stoffdatenbank!J46,\"\")","v":""},{"$error":"#DIV/0!"},{"$f":"IF(Y45<X45,0,Y45-X45)","v":{"$error":"#DIV/0!"}}]
[null,"Oxigenate",null,null,{"$f":"IF($U$1,'Schadstoffkonzentrationen Unge'!V53+'Schadstoffkonzentrationen Boden'!V72,'Schadstoffkonzentrationen GW'!V54)","v":0},null,null,null,null,null,null,null,null,null,null,null,null,null,null,null,{"$f":"SUM(U43:U45)","v":0},{"$f":"SUM(V43:V45)","v":0},null,null,null,{"$f":"SUM(Z43:Z45)","v":{"$error":"#DIV/0!"}}]

{"sheet":"Schadstoffkonzentrationen GW","index":2,"n_rows":57,"n_cols":27,"rows_kept":57,"cut":false,"hidden":true,"merged":[[49,0,49,21],[4,28,5,28],[4,29,5,29],[4,30,5,30],[4,31,5,31],[6,0,6,20],[4,23,5,23],[21,0,21,21],[41,0,41,21],[4,24,5,24],[4,25,5,25],[4,26,5,26],[1,8,1,9],[2,0,2,3],[2,8,2,9],[4,21,6,21],[4,22,5,22]]}
[]
[]
["  Schadstoffkonzentrationen im Grundwasser (gelöst) [µg/L]",null,null,null,null,null,null,null,"Korrekturfaktor",null,10,null,null,null,null,null,null,null,null,null,null,null,null,null,null,{"$f":"Schadstoffbelastung!K6*Schadstoffbelastung!K9*Bodencharakterisierung!E7/1000/1000","v":0},{"$f":"Schadstoffbelastung!K6*Schadstoffbelastung!K9*Bodencharakterisierung!E9*Bodencharakterisierung!E11/1000/1000","v":0}]
[]
["Messstelle Nr.",1,2,3,4,5,6,7,8,9,10,11,12,13,14,15,16,17,18,19,20,"Summe Inventar [kg]",null,null," Mittlere Konz. (MW) [µg/L]"," Inventar  (gelöst) [kg]"," Inventar (sorbiert) [kg]"]
["Bezeichnung"]
["   Leichtflüchtige chlorierte Kohlenwasserstoffe (LCKW) "]
["Tetrachlorethen",70.7,150,1,0.8,1.8,1.8,null,null,null,null,null,null,null,null,null,null,null,null,2000,null,{"$f":"(Z8+AA8)*$K$3","v":0},null,null,{"$f":"IFERROR(AVERAGE($B8:$U8),0)","v":318.01428571428568},{"$f":"$Z$3*Y8","v":0},{"$f":"$AA$3*Y8*Stoffdatenbank!$J5","v":0}]
["Trichlorethen",65.400000000000006,410,2.8,3.2,1.3,0.9,null,null,null,null,null,null,null,null,null,null,null,null,22,null,{"$f":"(Z9+AA9)*$K$3","v":0},null,null,{"$f":"IFERROR(AVERAGE($B9:$U9),0)","v":72.228571428571428},{"$f":"$Z$3*Y9","v":0},{"$f":"$AA$3*Y9*Stoffdatenbank!$J6","v":0}]
["cis-1,2-Dichlorethen",25.2,810,350,1.2,0,1.1000000000000001,null,null,null,null,null,null,null,null,null,null,null,null,2,null,0,null,null,169.92857142857142,{"$f":"$Z$3*Y10","v":0},{"$f":"$AA$3*Y10*Stoffdatenbank!$J7","v":0}]
["trans-1,2-Dichlorethen",0,1.5,0,0,0,0,null,null,null,null,null,null,null,null,null,null,null,null,2,null,0,null,null,{"$f":"IFERROR(AVERAGE($B11:$U11),0)","v":0.5},{"$f":"$Z$3*Y11","v":0},{"$f":"$AA$3*Y11*Stoffdatenbank!$J8","v":0}]
["1,1-Dichlorethen",5.4,74,22,0,0,0,null,null,null,null,null,null,null,null,null,null,null,null,2,null,0,null,null,14.771428571428572,0,{"$f":"$AA$3*Y12*Stoffdatenbank!$J9","v":0}]
["Vinylchlorid",0,31,0,0,0,0,null,null,null,null,null,null,null,null,null,null,null,null,2,null,0,null,null,4.7142857142857144,0,{"$f":"$AA$3*Y13*Stoffdatenbank!$J10","v":0}]
["Tetrachlormethan",0,0,0,0,0,0,null,null,null,null,null,null,null,null,null,null,null,null,2,null,0,null,null,0.2857142857142857,0,{"$f":"$AA$3*Y14*Stoffdatenbank!$J11","v":0}]
["Trichlormethan",53.4,1500,11,0,0,0,null,null,null,null,null,null,null,null,null,null,null,null,2,null,0,null,null,223.77142857142857,0,{"$f":"$AA$3*Y15*Stoffdatenbank!$J12","v":0}]
["Dichlormethan",0,22,0,0,0,0,null,null,null,null,null,null,null,null,null,null,null,null,2,null,0,null,null,{"$f":"IFERROR(AVERAGE($B16:$U16),0)","v":3.4285714285714284},0,{"$f":"$AA$3*Y16*Stoffdatenbank!$J13","v":0}]
["1,1,1-Trichlorethan",99,190,50,0,0,0,null,null,null,null,null,null,null,null,null,null,null,null,2,null,0,null,null,48.714285714285715,0,{"$f":"$AA$3*Y17*Stoffdatenbank!$J14","v":0}]
["1,1,2-Trichlorethan",null,null,null,null,null,null,null,null,null,null,null,null,null,null,null,null,null,null,2,null,0,null,null,2,0,{"$f":"$AA$3*Y18*Stoffdatenbank!$J15","v":0}]
["1,1-Dichlorethan",24.7,65,50,0,1.2,0,null,null,null,null,null,null,null,null,null,null,null,null,2,null,0,null,null,20.414285714285711,0,{"$f":"$AA$3*Y19*Stoffdatenbank!$J16","v":0}]
["1,2-Dichlorethan",0,110,37,0,0,0,null,null,null,null,null,null,null,null,null,null,null,null,2,null,0,null,null,21.285714285714285,0,{"$f":"$AA$3*Y20*Stoffdatenbank!$J17","v":0}]
["LCKW",{"$f":"IF(SUM(B8:B20)>0,SUM(B8:B20),\"\")","v":343.8},{"$f":"IF(SUM(C8:C20)>0,SUM(C8:C20),\"\")","v":3363.5},523.79999999999995,5.2,4.3,3.8000000000000003,"","","","","","","","","","","","",2044,"",{"$f":"SUM(V8:V20)","v":0}]
["  (Mono)aromatische Kohlenwasserstoffe (AKW) "]
["Benzol",null,null,null,null,null,null,null,null,null,null,null,null,null,null,null,null,null,null,null,null,{"$f":"(Z23+AA23)*$K$3","v":0},null,null,{"$f":"IFERROR(AVERAGE($B23:$U23),0)","v":0},{"$f":"$Z$3*Y23","v":0},{"$f":"$AA$3*Y23*Stoffdatenbank!$J19","v":0}]
["Toluol",null,null,null,null,null,null,null,null,null,null,null,null,null,null,null,null,null,null,null,null,{"$f":"(Z24+AA24)*$K$3","v":0},null,null,0,0,{"$f":"$AA$3*Y24*Stoffdatenbank!$J20","v":0}]
["Ethylbenzol",null,null,null,null,null,null,null,null,null,null,null,null,null,null,null,null,null,null,null,null,0,null,null,0,0,{"$f":"$AA$3*Y25*Stoffdatenbank!$J21","v":0}]
["o-Xylol",null,null,null,null,null,null,null,null,null,null,null,null,null,null,null,null,null,null,null,null,0,null,null,0,{"$f":"$Z$3*Y26","v":0},{"$f":"$AA$3*Y26*Stoffdatenbank!$J22","v":0}]
["m-Xylol",null,null,null,null,null,null,null,null,null,null,null,null,null,null,null,null,null,null,null,null,0,null,null,0,0,{"$f":"$AA$3*Y27*Stoffdatenbank!$J23","v":0}]
["p-Xylol",null,null,null,null,null,null,null,null,null,null,null,null,null,null,null,null,null,null,null,null,0,null,null,0,0,{"$f":"$AA$3*Y28*Stoffdatenbank!$J24","v":0}]
["n-Propylbenzol",null,null,null,null,null,null,null,null,null,null,null,null,null,null,null,null,null,null,null,null,0,null,null,0,0,{"$f":"$AA$3*Y29*Stoffdatenbank!$J25","v":0}]
["Isopropylbenzol",null,null,null,null,null,null,null,null,null,null,null,null,null,null,null,null,null,null,null,null,0,null,null,0,0,{"$f":"$AA$3*Y30*Stoffdatenbank!$J26","v":0}]
["o-Ethyltoluol",null,null,null,null,null,null,null,null,null,null,null,null,null,null,null,null,null,null,null,null,0,null,null,0,0,{"$f":"$AA$3*Y31*Stoffdatenbank!$J27","v":0}]
["m-Ethyltoluol",null,null,null,null,null,null,null,null,null,null,null,null,null,null,null,null,null,null,null,null,0,null,null,0,0,{"$f":"$AA$3*Y32*Stoffdatenbank!$J28","v":0}]
["p-Ethyltoluol",null,null,null,null,null,null,null,null,null,null,null,null,null,null,null,null,null,null,null,null,0,null,null,0,0,{"$f":"$AA$3*Y33*Stoffdatenbank!$J29","v":0}]
["1,2-Diethylbenzol",null,null,null,null,null,null,null,null,null,null,null,null,null,null,null,null,null,null,null,null,0,null,null,0,0,{"$f":"$AA$3*Y34*Stoffdatenbank!$J30","v":0}]
["1,3-Diethylbenzol",null,null,null,null,null,null,null,null,null,null,null,null,null,null,null,null,null,null,null,null,0,null,null,0,0,{"$f":"$AA$3*Y35*Stoffdatenbank!$J31","v":0}]
["1,4-Diethylbenzol",null,null,null,null,null,null,null,null,null,null,null,null,null,null,null,null,null,null,null,null,0,null,null,0,0,{"$f":"$AA$3*Y36*Stoffdatenbank!$J32","v":0}]
["1,2,3-Trimethylbenzol",null,null,null,null,null,null,null,null,null,null,null,null,null,null,null,null,null,null,null,null,0,null,null,0,0,{"$f":"$AA$3*Y37*Stoffdatenbank!$J33","v":0}]
["1,2,4-Trimethylbenzol",null,null,null,null,null,null,null,null,null,null,null,null,null,null,null,null,null,null,null,null,0,null,null,0,0,{"$f":"$AA$3*Y38*Stoffdatenbank!$J34","v":0}]
["1,3,5-Trimethylbenzol",null,null,null,null,null,null,null,null,null,null,null,null,null,null,null,null,null,null,null,null,0,null,null,0,0,{"$f":"$AA$3*Y39*Stoffdatenbank!$J35","v":0}]
["BTEX",{"$f":"IF(SUM(B23:B28)>0,SUM(B23:B28),\"\")","v":""},{"$f":"IF(SUM(C23:C28)>0,SUM(C23:C28),\"\")","v":""},"","","","","","","","","","","","","","","","","","",{"$f":"SUM(V23:V28)","v":0}]
["AKW",{"$f":"IF(SUM(B23:B39)>0,SUM(B23:B39),\"\")","v":""},{"$f":"IF(SUM(C23:C39)>0,SUM(C23:C39),\"\")","v":""},"","","","","","","","","","","","","","","","","","",{"$f":"SUM(V23:V39)","v":0}]
["   n-Alkane "]
["n-Pentan",null,null,null,null,null,null,null,null,null,null,null,null,null,null,null,null,null,null,null,null,{"$f":"(Z43+AA43)*$K$3","v":0},null,null,{"$f":"IFERROR(AVERAGE($B43:$U43),0)","v":0},{"$f":"$Z$3*Y43","v":0},{"$f":"$AA$3*Y43*Stoffdatenbank!$J37","v":0}]
["n-Hexan",null,null,null,null,null,null,null,null,null,null,null,null,null,null,null,null,null,null,null,null,0,null,null,0,0,{"$f":"$AA$3*Y44*Stoffdatenbank!$J38","v":0}]
["n-Heptan",null,null,null,null,null,null,null,null,null,null,null,null,null,null,null,null,null,null,null,null,0,null,null,0,0,{"$f":"$AA$3*Y45*Stoffdatenbank!$J39","v":0}]
["n-Octan",null,null,null,null,null,null,null,null,null,null,null,null,null,null,null,null,null,null,null,null,0,null,null,0,0,{"$f":"$AA$3*Y46*Stoffdatenbank!$J40","v":0}]
["n-Nonan",null,null,null,null,null,null,null,null,null,null,null,null,null,null,null,null,null,null,null,null,0,null,null,0,0,{"$f":"$AA$3*Y47*Stoffdatenbank!$J41","v":0}]
["n-Decan",null,null,null,null,null,null,null,null,null,null,null,null,null,null,null,null,null,null,null,null,0,null,null,0,0,{"$f":"$AA$3*Y48*Stoffdatenbank!$J42","v":0}]
["n-Alkane ",{"$f":"IF(SUM(B43:B48)>0,SUM(B43:B48),\"\")","v":""},{"$f":"IF(SUM(C43:C48)>0,SUM(C43:C48),\"\")","v":""},"","","","",{"$f":"IF(SUM(H43:H48)>0,SUM(H43:H48),\"\")","v":""},"","","","","","","","","","","",{"$f":"IF(SUM(T43:T48)>0,SUM(T43:T48),\"\")","v":""},"",{"$f":"SUM(V43:V48)","v":0}]
["   Oxigenate"]
[" MTBE (Methyl-tert-butylether)",null,null,null,null,null,null,null,null,null,null,null,null,null,null,null,null,null,null,null,null,{"$f":"(Z51+AA51)*$K$3","v":0},null,null,{"$f":"IFERROR(AVERAGE($B51:$U51),0)","v":0},{"$f":"$Z$3*Y51","v":0},{"$f":"$AA$3*Y51*Stoffdatenbank!$J44","v":0}]
[" ETBE (Ethyl-tert-butylether)",null,null,null,null,null,null,null,null,null,null,null,null,null,null,null,null,null,null,null,null,0,null,null,0,0,{"$f":"$AA$3*Y52*Stoffdatenbank!$J45","v":0}]
[" TBA (tert-Butylalkohol) ",null,null,null,null,null,null,null,null,null,null,null,null,null,null,null,null,null,null,null,null,0,null,null,0,0,{"$f":"$AA$3*Y53*Stoffdatenbank!$J46","v":0}]
[" Oxigenate",{"$f":"IF(SUM(B51:B53)>0,SUM(B51:B53),\"\")","v":""},"","","","","","","","","","","","","","","","","",{"$f":"IF(SUM(T51:T53)>0,SUM(T51:T53),\"\")","v":""},{"$f":"IF(SUM(U51:U53)>0,SUM(U51:U53),\"\")","v":""},{"$f":"SUM(V51:V53)","v":0}]
[]
["[mg/m²]"]
[null,null,null,null,null,null,null,null,null,null,null,null,null,null,"[mg/m²]"]

{"sheet":"Bodencharakterisierung","index":3,"n_rows":18,"n_cols":19,"rows_kept":18,"cut":false,"hidden":true,"merged":[[0,0,0,20],[1,14,1,18],[1,1,2,1],[1,0,2,0],[1,3,2,3],[1,12,2,12],[1,11,2,11],[1,13,2,13]]}
[]
[null,"Parameter",null,"Einheit","Hauptbodenart","Nebenbodenart",null,null,null,null,null,null,"Parameter","Einheit","Datenbank"]
[null,null,null,null,null,null,null,null,null,null,null,null,null,null,"Grobsand","Mittelsand","Feinsand","Schluff","Ton"]
[null,"Relativer Anteil (geschätzt)",null,"%",60,{"$f":"100-E4","v":40},null,null,"Grobsand",null,null,null,"Parameter","Einheit","Grobsand","Mittelsand","Feinsand","Schluff","Ton"]
[null,"Wassersättigung (ungesättigter Boden)","SW","-",0.26,0.28999999999999998,null,null,"Mittelsand",null,null,null,"Wassersättigung (ungesättigter Boden)","-",0.26,0.26,0.26,0.27,0.28999999999999998]
[null,"Durchlässigkeitsbeiwert ","kf","m/s",1.0000000000000001E-5,1E-10,null,{"$f":"E6/F6","v":100000},"Feinsand",null,null,null,"Durchlässigkeitsbeiwert (kf)","m/s",2.0000000000000001E-4,2.7500000000000002E-4,1.0000000000000001E-5,9.9999999999999995E-8,1E-10]
[null,"Nutzbare Porosität","neff","-",0.1,3.5000000000000003E-2,null,null,"Schluff","Injizierbarkeit von Schluffböden ist nicht gegeben - injizierte Lösung verteilt sich nicht gleichmäßig und Desorption läuft nur viel langsamer ab.",null,null,"Nutzbare Porosität (neff)","L/L",0.2,0.125,0.1,7.4999999999999997E-2,3.5000000000000003E-2]
[null,"Gesamtporosität (Hohlraumvolumen)","n","-",0.3,0.5,null,null,"Ton","Injizierbarkeit von Tonböden ist nicht gegeben - injizierte Lösung verteilt sich nicht gleichmäßig und Desorption läuft nur viel langsamer ab.",null,null,"Gesamtporosität (Hohlraumvolumen)","L/L",0.38,0.34,0.3,0.4,0.5]
[null,"Organischer Kohlenstoffgehalt ","fOC","-",0.01,0.01,null,null,null,null,null,null,"Organische Kohlenstoffgehalt ","g/g",0.01,0.01,0.01,0.01,0.01]
[null,"Korndichte","ρs","kg/m³",2650,2700,null,null,null,null,null,null,"Korndichte","kg/m³",2650,2650,2650,2690,2700]
[null,"Schüttdichte","d","kg/L",1.5149999999999999,1.64,null,null,null,null,null,null,"Schüttdichte","kg/dm³",1.5149999999999999,1.5149999999999999,1.5149999999999999,1.43,1.64]
[null,"Anteil (Bodenkorn)","nM","kg/m³",1060.5,820,null,null,null,null,null,null,"Anteil (Bodenkorn)","kg/m³",{"$f":"1000*(1-O8)*O11","v":939.3},{"$f":"1000*(1-P8)*P11","v":999.89999999999975},{"$f":"1000*(1-Q8)*Q11","v":1060.5},{"$f":"1000*(1-R8)*R11","v":858},{"$f":"1000*(1-S8)*S11","v":820}]
[null,"Mittlerer Kornradius","d50","m",1.315E-4,1.9999999999999999E-6,null,null,null,null,null,null,"Mittlerer Kornradius (d50)","m",1.315E-3,4.15E-4,1.315E-4,3.2499999999999997E-5,1.9999999999999999E-6]
[null,"Tortouistät in der Wasserphase","tw","-",10,28.571428571428569,null,null,null,null,null,null,"Tortuoistät in der Wasserphase (tw)","-",{"$f":"1/O7","v":5},{"$f":"1/P7","v":8},{"$f":"1/Q7","v":10},{"$f":"1/R7","v":13.333333333333334},{"$f":"1/S7","v":28.571428571428569}]
[null,"Wärmeleitfähigkeit","l","W/(m·K)",1.2,1.63,null,null,null,null,null,null,"Wärmeleitfähigkeit (l)","W/(m·K)",1.2,1.2,1.2,1.5,1.63]
[null,"Temperaturleitfähigkeit","a","m²/s",5.390835579514824E-7,6.7078189300411516E-7,null,null,null,null,null,null,"Temperaturleitfähigkeit (a)","m²/s",{"$f":"O15/(O18*O10)/1000","v":5.390835579514824E-7},{"$f":"P15/(P18*P10)/1000","v":5.390835579514824E-7},{"$f":"Q15/(Q18*Q10)/1000","v":5.390835579514824E-7},{"$f":"R15/(R18*R10)/1000","v":6.1957868649318466E-7},{"$f":"S15/(S18*S10)/1000","v":6.7078189300411516E-7}]
[null,"Untergrundtemperatur ","T0","K",283.14999999999998,283.14999999999998,null,null,null,null,null,null,"Untergrundtemperatur (T0)","K",283.14999999999998,283.14999999999998,283.14999999999998,283.14999999999998,283.14999999999998]
[null,"Spezifische Wärmekapazität (Bodenkorn)","cM","kJ/(kg·K)",0.84,0.9,null,null,null,null,null,null,"Spezifische Wärmekapazität ","kJ/(kg·K)",0.84,0.84,0.84,0.9,0.9]

{"sheet":"Grundwassercharakterisierung","index":4,"n_rows":15,"n_cols":8,"rows_kept":15,"cut":false,"hidden":true,"merged":[[4,0,4,3]]}
[]
[null,"Parameter","Einheit","Wert"]
[null,"Mittlerer hydraulischer Gradient (I)","%",0.01,null,null,null,0.01]
[null,"Grundwasserabstandsgeschwindigkeit (va)","m/a",{"$f":"Bodencharakterisierung!E6*(Grundwassercharakterisierung!D3/100)/Bodencharakterisierung!E7*3600*24","v":8.6399999999999997E-4}]
["   Redoxmilieu (charakteristische Mittelwerte)"]
[null,"pH-Wert","--",7,null,null,null,7]
[null,"Redoxspannung (korr.)","mV",200,null,null,null,200]
[null,"Temperatur","°C",10,null,null,null,10]
[null,"Gelöster Sauerstoff","mg/L",3,null,null,null,3]
[null,"Nitrat","mg/L",20,null,null,null,20]
[null,"Mangan (gelöst)","mg/L",0,null,null,null,0]
[null,"Eisen (gelöst)","mg/L",0,null,null,null,0]
[null,"Sulfat","mg/L",200,null,null,null,200]
[null,"Methan","mg/L",0,null,null,null,0]
[null,"DOC","mg/L",2,null,null,null,2]

{"sheet":"Sanierungsdesign","index":5,"n_rows":16,"n_cols":11,"rows_kept":16,"cut":false,"hidden":true,"merged":[[1,1,1,2],[0,0,0,8],[2,1,2,4],[5,1,5,4],[8,1,8,4]]}
[]
[null,"  Parameter",null,"Einheit","Wert"]
[null,"Sanierungszielwerte",null,null,null,null,null,null,null,null,20]
[null,"LCKW",null,"µg/L",20,null,null,null,null,null,20]
[null,"AKW",null,"µg/L",100,null,null,null,null,null,100]
[null,"Bodenluftabsaugung"]
[null,"Absaugrate eines Bodenluftabsaug-Brunnens","ABLA","m³·h-1",360,null,null,null,null,null,360]
[null,"Anzahl der Bodenluftabsaug-Brunnen","nBLA","-",8,null,null,null,null,null,8]
[null,"Heizelemente (HE)"]
[null,"Länge des Heizelementes","LHE","m",5,null,null,null,null,null,5]
[null,"Anzahl der Heizelemente","nHE","-",8,null,null,null,null,null,8]
[null,"Wärmestromeintrag pro Sondenmeter","q","J·s-1·m-1",1300,null,null,null,null,null,1300]
[null,"Zielradius","rHE","m",1.5,null,null,null,null,null,1.5]
[null,"Zieltemperatur","T(rHE, t)","°C",{"$f":"Calculation!U33","v":0}]
[null,"Wärmeausbreitung außerhalb des Heizbereichs","l","m",0.5,null,null,null,null,null,0.5]
[null,"Anzahl der Überschneidungssegmente","nSegment","-",0,null,null,null,null,null,0.5]

{"sheet":"Berechnung","index":6,"n_rows":11,"n_cols":4,"rows_kept":11,"cut":false,"hidden":true,"merged":[[2,0,2,4]]}
[]
[null,"Parameter","Einheit","Wert"]
["Schadstoffbelastung"]
[null,"Berücksichtigter Schadstoff","-",{"$f":"Calculation!Q33","v":{"$error":"#N/A"}}]
[null,"Zieltemperatur","°C",{"$f":"Calculation!D77","v":0}]
[null,"Anzahl der Überschneidungssegmente","nSegment",{"$f":"Sanierungsdesign!$E$16","v":0}]
[null,"Dauer der Aufheizphase","Tage",{"$f":"Calculation!U31","v":{"$error":"#N/A"}}]
[null,"Dauer der Durchheizphase (einschl. Verlust)","Tage",{"$f":"IF(Calculation!T42<0,\"Wärmeeintrag zu gering\",Calculation!T42)","v":{"$error":"#N/A"}}]
[null,"Prozentualer Wärmeverlust","%",{"$f":"Calculation!T32","v":{"$error":"#DIV/0!"}}]
[null,"Energieverbrauch (gesamt)","kWh",{"$f":"IFERROR((Sanierungsdesign!E12*Sanierungsdesign!E10*Sanierungsdesign!E11*(Berechnung!D11*86400))/3600000,\"Wärmeeintrag zu gering\")","v":"Wärmeeintrag zu gering"}]
[null,"Gesamtdauer der Sanierung (Heizphase)",null,{"$f":"IFERROR(D7+D8,\"Wäremeintrag zu gering\")","v":"Wäremeintrag zu gering"}]

{"sheet":"Calculation","index":7,"n_rows":935,"n_cols":56,"rows_kept":935,"cut":false,"hidden":true,"merged":[[3,55,5,55],[29,1,30,1],[29,2,30,2],[29,3,30,3]]}
["Verfahrensspezifische Konstanten",null,"Einheit","Wert",null,null,"Bodenluft","Masse Bodenluft",null,"mBL","kg",{"$f":"((Bodencharakterisierung!$E$8*(Bodencharakterisierung!$E$4/100))+(Bodencharakterisierung!$F$8*(Bodencharakterisierung!$F$4/100)))*Schadstoffbelastung!$K$11*(1-((Bodencharakterisierung!$E$5*(Bodencharakterisierung!$E$4/100))+(Bodencharakterisierung!$F$5*(Bodencharakterisierung!$F$4/100))))*D7","v":0},null,null,"Berechnete Parameter","Parameter",null,null,"Einheit","Wert",null,null,null,null,null,null,null,null,null,null,null,"Aufheizphase"]
["Außenlufttemperatur",null,"K",285.14999999999998,null,null,null,"Massenanteil Bodenluft",null,"nBL","kg·kg-1",{"$f":"L1/D26","v":{"$error":"#DIV/0!"}},null,"Bodenluftabsaugung (BLA)","Gesamtabsaugrate",null,null,null,"m³·s-1",{"$f":"Sanierungsdesign!E7*Sanierungsdesign!E8/3600","v":0.8},null,null,null,null,null,null,null,null,null,null,null,"Wärmeeintrag (1HE)",null,null,null,null,null,"Wärmeverluste (1 HE)",null,null,null,null,null,null,null,"gesamter Bereich",null,null,null,"1 HE"]
["Wärmeleitfähigkeit  Boden",null,"W· (m·K)-1",{"$f":"Bodencharakterisierung!$E$15*Bodencharakterisierung!$E$4/100+Bodencharakterisierung!$F$15*Bodencharakterisierung!$F$4/100","v":1.3719999999999999},null,null,"Grundwasser (GW)","Masse GW",null,"mGW","kg",{"$f":"((Bodencharakterisierung!$E$8*(Bodencharakterisierung!$E$4/100))+(Bodencharakterisierung!$F$8*(Bodencharakterisierung!$F$4/100)))*Schadstoffbelastung!$K$11*((Bodencharakterisierung!$E$5*(Bodencharakterisierung!$E$4/100))+(Bodencharakterisierung!$F$5*(Bodencharakterisierung!$F$4/100)))*D13","v":0},null,"Heizelemente (HE)","Rasterabstände der HE",null,null,null,"m",{"$f":"SQRT(2)*Sanierungsdesign!$E$13","v":2.1213203435596428},null,null,null,null,null,null,null,null,null,null,null,null,null,"Dauer",null,"radiale, verlustfreie Temperaturausbreitung",null,"Bodenoberfläche - Außenluft","Bereichsunterseite","Bereichsmantelfläche",null,null,"GW-Strömung",null,"BLA-Absaugung",null,null,"Segmente",null,"Gesamtverlustberechnung",null,null,null,"radiale Temperaturausbreitung mit Verlusten"]
["Temperaturleitfähigkeit Boden",null,"m²·s-1",{"$f":"Bodencharakterisierung!$E$16*Bodencharakterisierung!$E$4/100+Bodencharakterisierung!$F$16*Bodencharakterisierung!$F$4/100","v":5.9176289197253544E-7},null,null,null,"Massenanteil GW",null,"nGW","kg·kg-1",{"$f":"L3/D26","v":{"$error":"#DIV/0!"}},null,null,"Wärmeübergangskoeffizient",null,null,null,"(W)·(m²·K)-1",{"$f":"T5*(D6/T6)","v":39.302093535903246},null,null,null,null,null,null,null,null,null,null,null,"Parameter","Wämemenge HE","Zeit [Woche = 7 Tage]","Zeit","Temperatur",null,"Wärmemenge","Wämemenge","Temperatur",null,"Wärmemenge","Masse GW-Eintritt","Wärmemenge","Wärmemenge pro HE","Masse des Fluids","Wämemenge","Wärmemenge 1 Segment","Wärmemenge (alle Segmente)",null,"Qreal","Einspeisung real","Wirkungsgrad",null,null,"Zeit [d] für Grafik"]
["Untergrundtemperatur",null,"K",{"$f":"Bodencharakterisierung!$E$17","v":283.14999999999998},null,null,null,"GW-Strömungsgeschwindigkeit",null,"vGW","m·s-1",{"$f":"Grundwassercharakterisierung!$D$4/365/24/3600","v":2.7397260273972599E-11},null,null,"Nußelt-Zahl",null,null,null,"-",{"$f":"0.15*T8^(1/3)*(T11)^(1/5)","v":4179.6688221816294},null,null,null,null,null,null,null,null,null,null,null,null,"Qverlustfrei",null,null,null,null,null,null,null,null,null,null,null,null,null,null,null,null,"Qverluste","Qverlustfrei-Qverluste","qreal"]
["Wärmeleitfähigkeit der Luft",null,"W·(m·K)-1",2.5000000000000001E-2,null,null,"Schadstoffgemisch","Masse Schadstoffgemisch",null,"mS","kg",{"$f":"Schadstoffbelastung!$E$17+Schadstoffbelastung!$E$35+Schadstoffbelastung!$E$42+Schadstoffbelastung!$E$46","v":0},null,null,"Repräsentative Kreislänge",null,null,null,"m",{"$f":"SQRT(T7)","v":2.658680776358274},null,null,null,null,null,null,null,null,null,null,null,"Einheit","MJ","s","Tagen","K","°C","MJ","MJ","K","°C","MJ","kg","MJ","MJ","kg","MJ","MJ","MJ","MJ","MJ","J","-","K","°C"]
["Dichte Luft",null,"kg·m-³",1.2040999999999999,null,null,null,"Massenanteil Schadstoffe",null,"nS","kg·kg-1",{"$f":"L6/D26","v":{"$error":"#DIV/0!"}},null,null,"Kreisfläche",null,null,null,"m²",{"$f":"PI()*Sanierungsdesign!E13^2","v":7.0685834705770345},null,null,null,null,null,null,null,null,null,null,null,null,{"$f":"Sanierungsdesign!$E$12*AH7*Sanierungsdesign!$E$10/1000000","v":46.8},{"$f":"$D$24","v":7200},{"$f":"AH7/86400","v":8.3333333333333329E-2},{"$f":"$D$5+((-Sanierungsdesign!$E$12)/4*PI()*$D$3)*(-LN((4*$D$4*AH7)/(Sanierungsdesign!$E$13^2))-$D$19)","v":-5748.4914718012442},{"$f":"AJ7-273.15","v":-6021.6414718012438},{"$f":"$T$4*$T$7*$AH$7*(AJ7-$D$2)/1000000","v":-12068.688340608604},{"$f":"$D$3*$T$7*$AH$7*(AK7-$D$5)*(1/Sanierungsdesign!$E$15)/1000000","v":-880.48045788895854},{"$f":"$D$5+(-Sanierungsdesign!$E$12/(4*PI()*$D$3))*(-LN((4*$D$4*AH7)/(Sanierungsdesign!$E$13+Sanierungsdesign!$E$15)^2)-$D$19)","v":-84.892336421777884},{"$f":"AN7-273.15","v":-358.04233642177786},{"$f":"(2*PI()*Sanierungsdesign!$E$10*$D$3)*(LN((Sanierungsdesign!$E$13+Sanierungsdesign!$E$15)/Sanierungsdesign!$E$13)*(AJ7-AN7))*$AH$7/1000000","v":-505.64042301885831},{"$f":"$T$20*AH7","v":12.405889214888893},{"$f":"$D$12*AQ7/1000000","v":28.000091958004234},{"$f":"AU7/Sanierungsdesign!E11","v":-4.3659429689953795},{"$f":"$T$18/$D$24*AH7","v":5760},{"$f":"($D$10*$T$18)*(AJ7-$D$2)/1000000","v":-34.927543751963036},{"$f":"($D$17*$L$10*$T$28+$L$2*$D$10*$T$28+$D$16*$L$4*$T$28+$D$18*$L$7*$T$28)*(AJ7-$D$5)/1000000","v":{"$error":"#DIV/0!"}},{"$f":"AV7*$D$28","v":{"$error":"#DIV/0!"}},{"$f":"AL7+AM7+AR7+(0.5*AP7)-(AW7)+AS7","v":{"$error":"#DIV/0!"}},{"$f":"AG7-AX7","v":{"$error":"#DIV/0!"}},{"$f":"(AY7/(AH7*Sanierungsdesign!$E$10))*1000000","v":{"$error":"#DIV/0!"}},{"$f":"AZ7/Sanierungsdesign!$E$12","v":{"$error":"#DIV/0!"}},{"$f":"$D$5+((-(Sanierungsdesign!$E$12)*MIN($BA$7:$BA$932))/(4*PI()*$D$3))*(-LN((4*$D$4*AH7)/(Sanierungsdesign!$E$13)^2)-$D$19)","v":{"$error":"#DIV/0!"}},{"$f":"(BB7-273.15)/Heterogenität!$D$4","v":{"$error":"#DIV/0!"}},{"$f":"IF(AI7<Berechnung!$D$7,AI7,#N/A)","v":{"$error":"#N/A"}}]
["Dichte Luft (100°C)",null,"kg·m-³",1,null,null,null,"mittlere spezifische Verdampfungswärme ",null,"rV","J·kg-1",{"$f":"C77*1000","v":0},null,null,"Rayleigh-Zahl",null,null,null,"-",{"$f":"T9*T10","v":36819689062500},null,null,null,null,null,null,null,null,null,null,null,null,{"$f":"Sanierungsdesign!$E$12*AH8*Sanierungsdesign!$E$10/1000000","v":93.6},{"$f":"AH7+$D$24","v":14400},{"$f":"AH8/86400","v":0.16666666666666666},{"$f":"$D$5+((-Sanierungsdesign!$E$12)/4*PI()*$D$3)*(-LN((4*$D$4*AH8)/(Sanierungsdesign!$E$13^2))-$D$19)","v":-4777.5058341348686},-5050.6558341348682,{"$f":"$T$4*$T$7*$AH$7*(AJ8-$D$2)/1000000","v":-10126.490896665315},{"$f":"$D$3*$T$7*$AH$7*(AK8-$D$5)*(1/Sanierungsdesign!$E$15)/1000000","v":-744.87979882198351},{"$f":"$D$5+(-Sanierungsdesign!$E$12/(4*PI()*$D$3))*(-LN((4*$D$4*AH8)/(Sanierungsdesign!$E$13+Sanierungsdesign!$E$15)^2)-$D$19)","v":-32.628072537221215},{"$f":"AN8-273.15","v":-305.77807253722119},{"$f":"(2*PI()*Sanierungsdesign!$E$10*$D$3)*(LN((Sanierungsdesign!$E$13+Sanierungsdesign!$E$15)/Sanierungsdesign!$E$13)*(AJ8-AN8))*$AH$7/1000000","v":-423.61790465706383},{"$f":"$T$20*AH8","v":24.811778429777785},{"$f":"$D$12*AQ8/1000000","v":56.000183916008467},{"$f":"AU8/Sanierungsdesign!$E$11","v":-3.6633377615799905},{"$f":"$T$18/$D$24*AH8","v":11520},{"$f":"($D$10*$T$18)*(AJ8-$D$2)/1000000","v":-29.306702092639924},{"$f":"($D$17*$L$10*$T$28+$L$2*$D$10*$T$28+$D$16*$L$4*$T$28+$D$18*$L$7*$T$28)*(AJ8-$D$5)/1000000","v":{"$error":"#DIV/0!"}},{"$f":"AV8*$D$28","v":{"$error":"#DIV/0!"}},{"$f":"AL8+AM8+AR8+(0.5*AP8)-(2*AW8)+AS8","v":{"$error":"#DIV/0!"}},{"$f":"AG8-AX8","v":{"$error":"#DIV/0!"}},{"$f":"(AY8/(AH8*Sanierungsdesign!$E$10))*1000000","v":{"$error":"#DIV/0!"}},{"$f":"AZ8/Sanierungsdesign!$E$12","v":{"$error":"#DIV/0!"}},{"$f":"$D$5+((-(Sanierungsdesign!$E$12)*MIN($BA$7:$BA$932))/(4*PI()*$D$3))*(-LN((4*$D$4*AH8)/(Sanierungsdesign!$E$13)^2)-$D$19)","v":{"$error":"#DIV/0!"}},{"$f":"(BB8-273.15)/Heterogenität!$D$4","v":{"$error":"#DIV/0!"}},{"$f":"IF(AI8<Berechnung!$D$7,AI8,#N/A)","v":{"$error":"#N/A"}}]
["Kinematische Viskosität",null,"m2·s −1",1.5E-5,null,null,"Bodenmatrix","Masse Bodenmatrix",null,"mMatrix","kg",{"$f":"Schadstoffbelastung!$K$11*((Bodencharakterisierung!$E$10*(Bodencharakterisierung!$E$4/100))+(Bodencharakterisierung!$F$10*(Bodencharakterisierung!$F$4/100)))","v":0},null,null,"Graßhof-Zahl",null,null,null,"-",{"$f":"((D20*T13^3)/(D9^2))*((L11-D8)/D8)","v":49092918750000},null,null,null,null,null,null,null,null,null,null,null,null,{"$f":"Sanierungsdesign!$E$12*AH9*Sanierungsdesign!$E$10/1000000","v":140.4},{"$f":"AH8+$D$24","v":21600},0.25,{"$f":"$D$5+((-Sanierungsdesign!$E$12)/4*PI()*$D$3)*(-LN((4*$D$4*AH9)/(Sanierungsdesign!$E$13^2))-$D$19)","v":-4209.5156473612196},-4482.6656473612193,-8990.3782229620138,{"$f":"$D$3*$T$7*$AH$7*(AK9-$D$5)*(1/Sanierungsdesign!$E$15)/1000000","v":-665.55849819472883},{"$f":"$D$5+(-Sanierungsdesign!$E$12/(4*PI()*$D$3))*(-LN((4*$D$4*AH9)/(Sanierungsdesign!$E$13+Sanierungsdesign!$E$15)^2)-$D$19)","v":-2.0554380369604814},-275.20543803696046,{"$f":"(2*PI()*Sanierungsdesign!$E$10*$D$3)*(LN((Sanierungsdesign!$E$13+Sanierungsdesign!$E$15)/Sanierungsdesign!$E$13)*(AJ9-AN9))*$AH$7/1000000","v":-375.63780720070167},37.217667644666676,84.000275874012701,{"$f":"AU9/Sanierungsdesign!$E$11","v":-3.2523400624305778},17280,-26.018720499444623,{"$error":"#DIV/0!"},{"$error":"#DIV/0!"},{"$error":"#DIV/0!"},{"$error":"#DIV/0!"},{"$f":"(AY9/(AH9*Sanierungsdesign!$E$10))*1000000","v":{"$error":"#DIV/0!"}},{"$f":"AZ9/Sanierungsdesign!$E$12","v":{"$error":"#DIV/0!"}},{"$f":"$D$5+((-(Sanierungsdesign!$E$12)*MIN($BA$7:$BA$932))/(4*PI()*$D$3))*(-LN((4*$D$4*AH9)/(Sanierungsdesign!$E$13)^2)-$D$19)","v":{"$error":"#DIV/0!"}},{"$f":"(BB9-273.15)/Heterogenität!$D$4","v":{"$error":"#DIV/0!"}},{"$f":"IF(AI9<Berechnung!$D$7,AI9,#N/A)","v":{"$error":"#N/A"}}]
["Spezifische Wärmekapazität Bodenluft",null,"kJ·(kg·K)-1",1.0049999999999999,null,null,null,"Massenanteil Matrix",null,"nM","kg·kg-1",{"$f":"L9/D26","v":{"$error":"#DIV/0!"}},null,null,"Prandtl-Zahl",null,null,null,"-",{"$f":"D9/D11","v":0.75},null,null,null,null,null,null,null,null,null,null,null,null,{"$f":"Sanierungsdesign!$E$12*AH10*Sanierungsdesign!$E$10/1000000","v":187.2},28800,0.33333333333333331,{"$f":"$D$5+((-Sanierungsdesign!$E$12)/4*PI()*$D$3)*(-LN((4*$D$4*AH10)/(Sanierungsdesign!$E$13^2))-$D$19)","v":-3806.5201964684916},-4079.6701964684917,-8184.293452722025,{"$f":"$D$3*$T$7*$AH$7*(AK10-$D$5)*(1/Sanierungsdesign!$E$15)/1000000","v":-609.27913975500826},{"$f":"$D$5+(-Sanierungsdesign!$E$12/(4*PI()*$D$3))*(-LN((4*$D$4*AH10)/(Sanierungsdesign!$E$13+Sanierungsdesign!$E$15)^2)-$D$19)","v":19.636191347335512},-253.51380865266447,{"$f":"(2*PI()*Sanierungsdesign!$E$10*$D$3)*(LN((Sanierungsdesign!$E$13+Sanierungsdesign!$E$15)/Sanierungsdesign!$E$13)*(AJ10-AN10))*$AH$7/1000000","v":-341.59538629526924},49.62355685955557,112.00036783201693,{"$f":"AU10/Sanierungsdesign!$E$11","v":-2.9607325541646001},23040,-23.685860433316801,{"$error":"#DIV/0!"},{"$error":"#DIV/0!"},{"$error":"#DIV/0!"},{"$error":"#DIV/0!"},{"$f":"(AY10/(AH10*Sanierungsdesign!$E$10))*1000000","v":{"$error":"#DIV/0!"}},{"$f":"AZ10/Sanierungsdesign!$E$12","v":{"$error":"#DIV/0!"}},{"$f":"$D$5+((-(Sanierungsdesign!$E$12)*MIN($BA$7:$BA$932))/(4*PI()*$D$3))*(-LN((4*$D$4*AH10)/(Sanierungsdesign!$E$13)^2)-$D$19)","v":{"$error":"#DIV/0!"}},{"$f":"(BB10-273.15)/Heterogenität!$D$4","v":{"$error":"#DIV/0!"}},{"$f":"IF(AI10<Berechnung!$D$7,AI10,#N/A)","v":{"$error":"#N/A"}}]
["Temperaturleitfähigkeit Luft",null,"m²·s-1",2.0000000000000002E-5,null,null,null,"Bodendichte",null,"rBoden","kg·m-³",{"$f":"(Bodencharakterisierung!$E$10*(Bodencharakterisierung!$E$4/100)+Bodencharakterisierung!$F$10*(Bodencharakterisierung!$F$4/100))","v":2670},null,null,null,null,null,null,null,{"$f":"(1+(0.322/T10)^(11/20))^-(20/11)","v":0.41221096039593014},null,null,null,null,null,null,null,null,null,null,null,null,{"$f":"Sanierungsdesign!$E$12*AH11*Sanierungsdesign!$E$10/1000000","v":234},36000,0.41666666666666669,{"$f":"$D$5+((-Sanierungsdesign!$E$12)/4*PI()*$D$3)*(-LN((4*$D$4*AH11)/(Sanierungsdesign!$E$13^2))-$D$19)","v":-3493.9326399715646},-3767.0826399715647,-7559.0455296982573,{"$f":"$D$3*$T$7*$AH$7*(AK11-$D$5)*(1/Sanierungsdesign!$E$15)/1000000","v":-565.62547791610621},{"$f":"$D$5+(-Sanierungsdesign!$E$12/(4*PI()*$D$3))*(-LN((4*$D$4*AH11)/(Sanierungsdesign!$E$13+Sanierungsdesign!$E$15)^2)-$D$19)","v":36.461526250381212},-236.68847374961877,{"$f":"(2*PI()*Sanierungsdesign!$E$10*$D$3)*(LN((Sanierungsdesign!$E$13+Sanierungsdesign!$E$15)/Sanierungsdesign!$E$13)*(AJ11-AN11))*$AH$7/1000000","v":-315.19003322119306},62.029446074444458,140.00045979002115,{"$f":"AU11/Sanierungsdesign!$E$11","v":-2.7345441982834235},28800,-21.876353586267388,{"$error":"#DIV/0!"},{"$error":"#DIV/0!"},{"$error":"#DIV/0!"},{"$error":"#DIV/0!"},{"$f":"(AY11/(AH11*Sanierungsdesign!$E$10))*1000000","v":{"$error":"#DIV/0!"}},{"$f":"AZ11/Sanierungsdesign!$E$12","v":{"$error":"#DIV/0!"}},{"$f":"$D$5+((-(Sanierungsdesign!$E$12)*MIN($BA$7:$BA$932))/(4*PI()*$D$3))*(-LN((4*$D$4*AH11)/(Sanierungsdesign!$E$13)^2)-$D$19)","v":{"$error":"#DIV/0!"}},{"$f":"(BB11-273.15)/Heterogenität!$D$4","v":{"$error":"#DIV/0!"}},{"$f":"IF(AI11<Berechnung!$D$7,AI11,#N/A)","v":{"$error":"#N/A"}}]
["Spezifische Verdampfungswärme Wasser",null,"J·kg-1",2257000,null,null,null,"Zeitintervall (Vorgabe)",null,"t","h",2,null,null,null,null,null,null,null,{"$f":"T8*T11","v":15177479389932.65},null,null,null,null,null,null,null,null,null,null,null,null,{"$f":"Sanierungsdesign!$E$12*AH12*Sanierungsdesign!$E$10/1000000","v":280.8},43200,{"$f":"AH12/86400","v":0.5},{"$f":"$D$5+((-Sanierungsdesign!$E$12)/4*PI()*$D$3)*(-LN((4*$D$4*AH12)/(Sanierungsdesign!$E$13^2))-$D$19)","v":-3238.5300096948431},-3511.6800096948432,-7048.1807790187231,{"$f":"$D$3*$T$7*$AH$7*(AK12-$D$5)*(1/Sanierungsdesign!$E$15)/1000000","v":-529.95783912775369},{"$f":"$D$5+(-Sanierungsdesign!$E$12/(4*PI()*$D$3))*(-LN((4*$D$4*AH12)/(Sanierungsdesign!$E$13+Sanierungsdesign!$E$15)^2)-$D$19)","v":50.208825847596216},-222.94117415240376,{"$f":"(2*PI()*Sanierungsdesign!$E$10*$D$3)*(LN((Sanierungsdesign!$E$13+Sanierungsdesign!$E$15)/Sanierungsdesign!$E$13)*(AJ12-AN12))*$AH$7/1000000","v":-293.61528883890708},74.435335289333352,168.0005517480254,{"$f":"AU12/Sanierungsdesign!$E$11","v":-2.5497348550151879},34560,-20.397878840121503,{"$error":"#DIV/0!"},{"$error":"#DIV/0!"},{"$error":"#DIV/0!"},{"$error":"#DIV/0!"},{"$f":"(AY12/(AH12*Sanierungsdesign!$E$10))*1000000","v":{"$error":"#DIV/0!"}},{"$f":"AZ12/Sanierungsdesign!$E$12","v":{"$error":"#DIV/0!"}},{"$f":"$D$5+((-(Sanierungsdesign!$E$12)*MIN($BA$7:$BA$932))/(4*PI()*$D$3))*(-LN((4*$D$4*AH12)/(Sanierungsdesign!$E$13)^2)-$D$19)","v":{"$error":"#DIV/0!"}},{"$f":"(BB12-273.15)/Heterogenität!$D$4","v":{"$error":"#DIV/0!"}},{"$f":"IF(AI12<Berechnung!$D$7,AI12,#N/A)","v":{"$error":"#N/A"}}]
["Dichte Wasser",null,"kg·m-³",1000,null,null,null,null,null,null,null,null,null,null,"Bezugslänge des Kreises",null,null,null,"m",{"$f":"T7/T14","v":0.75},null,null,null,null,null,null,null,null,null,null,null,null,{"$f":"Sanierungsdesign!$E$12*AH13*Sanierungsdesign!$E$10/1000000","v":327.60000000000002},50400,0.58333333333333337,{"$f":"$D$5+((-Sanierungsdesign!$E$12)/4*PI()*$D$3)*(-LN((4*$D$4*AH13)/(Sanierungsdesign!$E$13^2))-$D$19)","v":-3022.5901626513019},-3295.7401626513019,-6616.2507867467129,{"$f":"$D$3*$T$7*$AH$7*(AK13-$D$5)*(1/Sanierungsdesign!$E$15)/1000000","v":-499.80128022303074},{"$f":"$D$5+(-Sanierungsdesign!$E$12/(4*PI()*$D$3))*(-LN((4*$D$4*AH13)/(Sanierungsdesign!$E$13+Sanierungsdesign!$E$15)^2)-$D$19)","v":61.832002042249826},-211.31799795775015,{"$f":"(2*PI()*Sanierungsdesign!$E$10*$D$3)*(LN((Sanierungsdesign!$E$13+Sanierungsdesign!$E$15)/Sanierungsdesign!$E$13)*(AJ13-AN13))*$AH$7/1000000","v":-275.37410237631428},86.841224504222239,196.00064370602959,{"$f":"AU13/Sanierungsdesign!$E$11","v":-2.3934807816944814},40320,-19.147846253555851,{"$error":"#DIV/0!"},{"$error":"#DIV/0!"},{"$error":"#DIV/0!"},{"$error":"#DIV/0!"},{"$f":"(AY13/(AH13*Sanierungsdesign!$E$10))*1000000","v":{"$error":"#DIV/0!"}},{"$f":"AZ13/Sanierungsdesign!$E$12","v":{"$error":"#DIV/0!"}},{"$f":"$D$5+((-(Sanierungsdesign!$E$12)*MIN($BA$7:$BA$932))/(4*PI()*$D$3))*(-LN((4*$D$4*AH13)/(Sanierungsdesign!$E$13)^2)-$D$19)","v":{"$error":"#DIV/0!"}},{"$f":"(BB13-273.15)/Heterogenität!$D$4","v":{"$error":"#DIV/0!"}},{"$f":"IF(AI13<Berechnung!$D$7,AI13,#N/A)","v":{"$error":"#N/A"}}]
["Dichte Wasserdampf (100°C)",null,"kg·m-³",0.76800000000000002,null,null,null,null,null,"Summe Massenanteile",null,{"$f":"L2+L4+L10","v":{"$error":"#DIV/0!"}},null,null,"Kreisumfang",null,null,null,"m",{"$f":"2*PI()*Sanierungsdesign!E13","v":9.4247779607693793},null,null,null,null,null,null,null,null,null,null,null,null,{"$f":"Sanierungsdesign!$E$12*AH14*Sanierungsdesign!$E$10/1000000","v":374.4},57600,0.66666666666666663,{"$f":"$D$5+((-Sanierungsdesign!$E$12)/4*PI()*$D$3)*(-LN((4*$D$4*AH14)/(Sanierungsdesign!$E$13^2))-$D$19)","v":-2835.5345588021155},-3108.6845588021156,-6242.0960087787353,{"$f":"$D$3*$T$7*$AH$7*(AK14-$D$5)*(1/Sanierungsdesign!$E$15)/1000000","v":-473.67848068803306},{"$f":"$D$5+(-Sanierungsdesign!$E$12/(4*PI()*$D$3))*(-LN((4*$D$4*AH14)/(Sanierungsdesign!$E$13+Sanierungsdesign!$E$15)^2)-$D$19)","v":71.900455231892209},-201.24954476810777,{"$f":"(2*PI()*Sanierungsdesign!$E$10*$D$3)*(LN((Sanierungsdesign!$E$13+Sanierungsdesign!$E$15)/Sanierungsdesign!$E$13)*(AJ14-AN14))*$AH$7/1000000","v":-259.5728679334747},99.247113719111141,224.00073566403387,{"$f":"AU14/Sanierungsdesign!$E$11","v":-2.2581273467492107},46080,-18.065018773993685,{"$error":"#DIV/0!"},{"$error":"#DIV/0!"},{"$error":"#DIV/0!"},{"$error":"#DIV/0!"},{"$f":"(AY14/(AH14*Sanierungsdesign!$E$10))*1000000","v":{"$error":"#DIV/0!"}},{"$f":"AZ14/Sanierungsdesign!$E$12","v":{"$error":"#DIV/0!"}},{"$f":"$D$5+((-(Sanierungsdesign!$E$12)*MIN($BA$7:$BA$932))/(4*PI()*$D$3))*(-LN((4*$D$4*AH14)/(Sanierungsdesign!$E$13)^2)-$D$19)","v":{"$error":"#DIV/0!"}},{"$f":"(BB14-273.15)/Heterogenität!$D$4","v":{"$error":"#DIV/0!"}},{"$f":"IF(AI14<Berechnung!$D$7,AI14,#N/A)","v":{"$error":"#N/A"}}]
["Wärmleitfähigkeit Wasser",null,"W·(m·K)-1",0.59599999999999997,null,null,null,null,null,null,null,null,null,"Wärmeverlust BLA (alle HE)","Gesamtvolumen des Fluids pro Zeitintervall",null,null,null,"m³",{"$f":"T2*D24","v":5760},null,null,null,null,null,null,null,null,null,null,null,null,{"$f":"Sanierungsdesign!$E$12*AH15*Sanierungsdesign!$E$10/1000000","v":421.2},64800,0.75,{"$f":"$D$5+((-Sanierungsdesign!$E$12)/4*PI()*$D$3)*(-LN((4*$D$4*AH15)/(Sanierungsdesign!$E$13^2))-$D$19)","v":-2670.5398229211928},-2943.6898229211929,-5912.0681053154185,{"$f":"$D$3*$T$7*$AH$7*(AK15-$D$5)*(1/Sanierungsdesign!$E$15)/1000000","v":-450.63653850049889},{"$f":"$D$5+(-Sanierungsdesign!$E$12/(4*PI()*$D$3))*(-LN((4*$D$4*AH15)/(Sanierungsdesign!$E$13+Sanierungsdesign!$E$15)^2)-$D$19)","v":80.781460347856921},-192.36853965214306,{"$f":"(2*PI()*Sanierungsdesign!$E$10*$D$3)*(LN((Sanierungsdesign!$E$13+Sanierungsdesign!$E$15)/Sanierungsdesign!$E$13)*(AJ15-AN15))*$AH$7/1000000","v":-245.6351913825448},111.65300293400003,252.00082762203806,{"$f":"AU15/Sanierungsdesign!$E$11","v":-2.1387371558657748},51840,-17.109897246926199,{"$error":"#DIV/0!"},{"$error":"#DIV/0!"},{"$error":"#DIV/0!"},{"$error":"#DIV/0!"},{"$f":"(AY15/(AH15*Sanierungsdesign!$E$10))*1000000","v":{"$error":"#DIV/0!"}},{"$f":"AZ15/Sanierungsdesign!$E$12","v":{"$error":"#DIV/0!"}},{"$f":"$D$5+((-(Sanierungsdesign!$E$12)*MIN($BA$7:$BA$932))/(4*PI()*$D$3))*(-LN((4*$D$4*AH15)/(Sanierungsdesign!$E$13)^2)-$D$19)","v":{"$error":"#DIV/0!"}},{"$f":"(BB15-273.15)/Heterogenität!$D$4","v":{"$error":"#DIV/0!"}},{"$f":"IF(AI15<Berechnung!$D$7,AI15,#N/A)","v":{"$error":"#N/A"}}]
["Spezifische Wärmekapazität GW",null,"kJ·(kg·K)-1",4.1820000000000004,null,null,null,null,null,null,null,null,null,null,null,null,null,null,null,null,null,null,null,null,null,null,null,null,null,null,null,null,{"$f":"Sanierungsdesign!$E$12*AH16*Sanierungsdesign!$E$10/1000000","v":468},72000,0.83333333333333337,{"$f":"$D$5+((-Sanierungsdesign!$E$12)/4*PI()*$D$3)*(-LN((4*$D$4*AH16)/(Sanierungsdesign!$E$13^2))-$D$19)","v":-2522.9470023051899},-2796.09700230519,-5616.8480857549703,{"$f":"$D$3*$T$7*$AH$7*(AK16-$D$5)*(1/Sanierungsdesign!$E$15)/1000000","v":-430.02481884913118},{"$f":"$D$5+(-Sanierungsdesign!$E$12/(4*PI()*$D$3))*(-LN((4*$D$4*AH16)/(Sanierungsdesign!$E$13+Sanierungsdesign!$E$15)^2)-$D$19)","v":88.72579013493791},-184.42420986506207,{"$f":"(2*PI()*Sanierungsdesign!$E$10*$D$3)*(LN((Sanierungsdesign!$E$13+Sanierungsdesign!$E$15)/Sanierungsdesign!$E$13)*(AJ16-AN16))*$AH$7/1000000","v":-233.16751485939869},124.05889214888892,280.00091958004231,{"$f":"AU16/Sanierungsdesign!$E$11","v":-2.0319389908680354},57600,-16.255511926944283,{"$error":"#DIV/0!"},{"$error":"#DIV/0!"},{"$error":"#DIV/0!"},{"$error":"#DIV/0!"},{"$f":"(AY16/(AH16*Sanierungsdesign!$E$10))*1000000","v":{"$error":"#DIV/0!"}},{"$f":"AZ16/Sanierungsdesign!$E$12","v":{"$error":"#DIV/0!"}},{"$f":"$D$5+((-(Sanierungsdesign!$E$12)*MIN($BA$7:$BA$932))/(4*PI()*$D$3))*(-LN((4*$D$4*AH16)/(Sanierungsdesign!$E$13)^2)-$D$19)","v":{"$error":"#DIV/0!"}},{"$f":"(BB16-273.15)/Heterogenität!$D$4","v":{"$error":"#DIV/0!"}},{"$f":"IF(AI16<Berechnung!$D$7,AI16,#N/A)","v":{"$error":"#N/A"}}]
["Spezifische Wärmekapazität Matrix",null,"kJ·(kg·K)-1",{"$f":"Bodencharakterisierung!E4/100*Bodencharakterisierung!E18+Bodencharakterisierung!F4/100*Bodencharakterisierung!F18","v":0.8640000000000001},null,null,null,null,null,null,null,null,null,null,"Gesamtdichte des Fluids",null,null,null,"kg·m-³",{"$f":"D8","v":1},null,null,null,null,null,null,null,null,null,null,null,null,{"$f":"Sanierungsdesign!$E$12*AH17*Sanierungsdesign!$E$10/1000000","v":514.79999999999995},79200,0.91666666666666663,{"$f":"$D$5+((-Sanierungsdesign!$E$12)/4*PI()*$D$3)*(-LN((4*$D$4*AH17)/(Sanierungsdesign!$E$13^2))-$D$19)","v":-2389.4330556154846},-2662.5830556154847,-5349.7890933946492,{"$f":"$D$3*$T$7*$AH$7*(AK17-$D$5)*(1/Sanierungsdesign!$E$15)/1000000","v":-411.37925040460834},{"$f":"$D$5+(-Sanierungsdesign!$E$12/(4*PI()*$D$3))*(-LN((4*$D$4*AH17)/(Sanierungsdesign!$E$13+Sanierungsdesign!$E$15)^2)-$D$19)","v":95.912310585260911},-177.23768941473907,{"$f":"(2*PI()*Sanierungsdesign!$E$10*$D$3)*(LN((Sanierungsdesign!$E$13+Sanierungsdesign!$E$15)/Sanierungsdesign!$E$13)*(AJ17-AN17))*$AH$7/1000000","v":-221.8891295578081},136.4647813637778,308.0010115380465,{"$f":"AU17/Sanierungsdesign!$E$11","v":-1.9353282990433645},63360,-15.482626392346916,{"$error":"#DIV/0!"},{"$error":"#DIV/0!"},{"$error":"#DIV/0!"},{"$error":"#DIV/0!"},{"$f":"(AY17/(AH17*Sanierungsdesign!$E$10))*1000000","v":{"$error":"#DIV/0!"}},{"$f":"AZ17/Sanierungsdesign!$E$12","v":{"$error":"#DIV/0!"}},{"$f":"$D$5+((-(Sanierungsdesign!$E$12)*MIN($BA$7:$BA$932))/(4*PI()*$D$3))*(-LN((4*$D$4*AH17)/(Sanierungsdesign!$E$13)^2)-$D$19)","v":{"$error":"#DIV/0!"}},{"$f":"(BB17-273.15)/Heterogenität!$D$4","v":{"$error":"#DIV/0!"}},{"$f":"IF(AI17<Berechnung!$D$7,AI17,#N/A)","v":{"$error":"#N/A"}}]
["Spezifische Wärmekapazität Schadstoffgemisch",null,"kJ· (kg·K)-1",0.96,null,null,null,null,null,null,null,null,null,null,"Gesamtmasse des Fluids pro Zeitintervall",null,null,null,"kg",{"$f":"T2*D24*T17","v":5760},null,null,null,null,null,null,null,null,null,null,null,null,{"$f":"Sanierungsdesign!$E$12*AH18*Sanierungsdesign!$E$10/1000000","v":561.6},86400,1,{"$f":"$D$5+((-Sanierungsdesign!$E$12)/4*PI()*$D$3)*(-LN((4*$D$4*AH18)/(Sanierungsdesign!$E$13^2))-$D$19)","v":-2267.5443720284666},-2540.6943720284667,-5105.9833350754325,{"$f":"$D$3*$T$7*$AH$7*(AK18-$D$5)*(1/Sanierungsdesign!$E$15)/1000000","v":-394.35718006077843},{"$f":"$D$5+(-Sanierungsdesign!$E$12/(4*PI()*$D$3))*(-LN((4*$D$4*AH18)/(Sanierungsdesign!$E$13+Sanierungsdesign!$E$15)^2)-$D$19)","v":102.47308973215291},-170.67691026784706,{"$f":"(2*PI()*Sanierungsdesign!$E$10*$D$3)*(LN((Sanierungsdesign!$E$13+Sanierungsdesign!$E$15)/Sanierungsdesign!$E$13)*(AJ18-AN18))*$AH$7/1000000","v":-211.59277047711254},148.8706705786667,336.0011034960508,{"$f":"AU18/Sanierungsdesign!$E$11","v":-1.8471296475997983},69120,-14.777037180798386,{"$error":"#DIV/0!"},{"$error":"#DIV/0!"},{"$error":"#DIV/0!"},{"$error":"#DIV/0!"},{"$f":"(AY18/(AH18*Sanierungsdesign!$E$10))*1000000","v":{"$error":"#DIV/0!"}},{"$f":"AZ18/Sanierungsdesign!$E$12","v":{"$error":"#DIV/0!"}},{"$f":"$D$5+((-(Sanierungsdesign!$E$12)*MIN($BA$7:$BA$932))/(4*PI()*$D$3))*(-LN((4*$D$4*AH18)/(Sanierungsdesign!$E$13)^2)-$D$19)","v":{"$error":"#DIV/0!"}},{"$f":"(BB18-273.15)/Heterogenität!$D$4","v":{"$error":"#DIV/0!"}},{"$f":"IF(AI18<Berechnung!$D$7,AI18,#N/A)","v":{"$error":"#N/A"}}]
["Euler-Mascheroni-Konstante",null,"-",0.57721566489999998,null,null,null,null,null,null,null,null,null,"Wärmeverlust GW","Wärmemenge Grundwasser pro Zeitintervall",null,null,null,"MJ",{"$f":"D12*AQ7/100000","v":280.00091958004231},null,null,null,null,null,null,null,null,null,null,null,null,{"$f":"Sanierungsdesign!$E$12*AH19*Sanierungsdesign!$E$10/1000000","v":608.4},93600,1.0833333333333333,{"$f":"$D$5+((-Sanierungsdesign!$E$12)/4*PI()*$D$3)*(-LN((4*$D$4*AH19)/(Sanierungsdesign!$E$13^2))-$D$19)","v":-2155.4176524360314},-2428.5676524360315,-4881.7037785687498,{"$f":"$D$3*$T$7*$AH$7*(AK19-$D$5)*(1/Sanierungsdesign!$E$15)/1000000","v":-378.69839327141472},{"$f":"$D$5+(-Sanierungsdesign!$E$12/(4*PI()*$D$3))*(-LN((4*$D$4*AH19)/(Sanierungsdesign!$E$13+Sanierungsdesign!$E$15)^2)-$D$19)","v":108.50842149604276},-164.64157850395722,{"$f":"(2*PI()*Sanierungsdesign!$E$10*$D$3)*(LN((Sanierungsdesign!$E$13+Sanierungsdesign!$E$15)/Sanierungsdesign!$E$13)*(AJ19-AN19))*$AH$7/1000000","v":-202.12103829091694},161.27655979355561,364.00119545405499,{"$f":"AU19/Sanierungsdesign!$E$11","v":-1.7659947533027123},74880,-14.127958026421698,{"$error":"#DIV/0!"},{"$error":"#DIV/0!"},{"$error":"#DIV/0!"},{"$error":"#DIV/0!"},{"$f":"(AY19/(AH19*Sanierungsdesign!$E$10))*1000000","v":{"$error":"#DIV/0!"}},{"$f":"AZ19/Sanierungsdesign!$E$12","v":{"$error":"#DIV/0!"}},{"$f":"$D$5+((-(Sanierungsdesign!$E$12)*MIN($BA$7:$BA$932))/(4*PI()*$D$3))*(-LN((4*$D$4*AH19)/(Sanierungsdesign!$E$13)^2)-$D$19)","v":{"$error":"#DIV/0!"}},{"$f":"(BB19-273.15)/Heterogenität!$D$4","v":{"$error":"#DIV/0!"}},{"$f":"IF(AI19<Berechnung!$D$7,AI19,#N/A)","v":{"$error":"#N/A"}}]
["Erdbeschleunigung",null,"m·s-²",9.81,null,null,null,null,null,null,null,null,null,null,"Masse des GW-Eintritts (pro Sekunde)",null,null,null,"kg·s-1",{"$f":"T21*(Grundwassercharakterisierung!$D$4*0.0000000317)*(Bodencharakterisierung!$E$10*Bodencharakterisierung!$E$4/100+Bodencharakterisierung!$F$10*Bodencharakterisierung!$F$4/100)*D13","v":1.7230401687345683E-3},null,null,null,null,null,null,null,null,null,null,null,null,{"$f":"Sanierungsdesign!$E$12*AH20*Sanierungsdesign!$E$10/1000000","v":655.20000000000005},100800,1.1666666666666667,{"$f":"$D$5+((-Sanierungsdesign!$E$12)/4*PI()*$D$3)*(-LN((4*$D$4*AH20)/(Sanierungsdesign!$E$13^2))-$D$19)","v":-2051.6045249849258},-2324.7545249849259,-4674.0533428034241,{"$f":"$D$3*$T$7*$AH$7*(AK20-$D$5)*(1/Sanierungsdesign!$E$15)/1000000","v":-364.20062115605555},{"$f":"$D$5+(-Sanierungsdesign!$E$12/(4*PI()*$D$3))*(-LN((4*$D$4*AH20)/(Sanierungsdesign!$E$13+Sanierungsdesign!$E$15)^2)-$D$19)","v":114.09626592680652},-159.05373407319345,{"$f":"(2*PI()*Sanierungsdesign!$E$10*$D$3)*(LN((Sanierungsdesign!$E$13+Sanierungsdesign!$E$15)/Sanierungsdesign!$E$13)*(AJ20-AN20))*$AH$7/1000000","v":-193.35158401451977},173.68244900844448,392.00128741205918,{"$f":"AU20/Sanierungsdesign!$E$11","v":-1.6908755742790922},80640,-13.527004594232737,{"$error":"#DIV/0!"},{"$error":"#DIV/0!"},{"$error":"#DIV/0!"},{"$error":"#DIV/0!"},{"$f":"(AY20/(AH20*Sanierungsdesign!$E$10))*1000000","v":{"$error":"#DIV/0!"}},{"$f":"AZ20/Sanierungsdesign!$E$12","v":{"$error":"#DIV/0!"}},{"$f":"$D$5+((-(Sanierungsdesign!$E$12)*MIN($BA$7:$BA$932))/(4*PI()*$D$3))*(-LN((4*$D$4*AH20)/(Sanierungsdesign!$E$13)^2)-$D$19)","v":{"$error":"#DIV/0!"}},{"$f":"(BB20-273.15)/Heterogenität!$D$4","v":{"$error":"#DIV/0!"}},{"$f":"IF(AI20<Berechnung!$D$7,AI20,#N/A)","v":{"$error":"#N/A"}}]
["Pi","π ","-",3.1415899999999999,null,null,null,null,null,null,null,null,null,null,"Durchflussquerschnitt",null,null,null,"m²",{"$f":"PI()*Sanierungsdesign!E13*Sanierungsdesign!E10","v":23.561944901923447},null,null,null,null,null,null,null,null,null,null,null,null,{"$f":"Sanierungsdesign!$E$12*AH21*Sanierungsdesign!$E$10/1000000","v":702},108000,1.25,{"$f":"$D$5+((-Sanierungsdesign!$E$12)/4*PI()*$D$3)*(-LN((4*$D$4*AH21)/(Sanierungsdesign!$E$13^2))-$D$19)","v":-1954.9568155315392},-2228.1068155315393,-4480.7354120516648,{"$f":"$D$3*$T$7*$AH$7*(AK21-$D$5)*(1/Sanierungsdesign!$E$15)/1000000","v":-350.70351822187632},{"$f":"$D$5+(-Sanierungsdesign!$E$12/(4*PI()*$D$3))*(-LN((4*$D$4*AH21)/(Sanierungsdesign!$E$13+Sanierungsdesign!$E$15)^2)-$D$19)","v":119.29842463519861},-153.85157536480136,{"$f":"(2*PI()*Sanierungsdesign!$E$10*$D$3)*(LN((Sanierungsdesign!$E$13+Sanierungsdesign!$E$15)/Sanierungsdesign!$E$13)*(AJ21-AN21))*$AH$7/1000000","v":-185.18741740303633},186.08833822333338,420.00137937006343,{"$f":"AU21/Sanierungsdesign!$E$11","v":-1.6209412917186214},86400,-12.967530333748972,{"$error":"#DIV/0!"},{"$error":"#DIV/0!"},{"$error":"#DIV/0!"},{"$error":"#DIV/0!"},{"$f":"(AY21/(AH21*Sanierungsdesign!$E$10))*1000000","v":{"$error":"#DIV/0!"}},{"$f":"AZ21/Sanierungsdesign!$E$12","v":{"$error":"#DIV/0!"}},{"$f":"$D$5+((-(Sanierungsdesign!$E$12)*MIN($BA$7:$BA$932))/(4*PI()*$D$3))*(-LN((4*$D$4*AH21)/(Sanierungsdesign!$E$13)^2)-$D$19)","v":{"$error":"#DIV/0!"}},{"$f":"(BB21-273.15)/Heterogenität!$D$4","v":{"$error":"#DIV/0!"}},{"$f":"IF(AI21<Berechnung!$D$7,AI21,#N/A)","v":{"$error":"#N/A"}}]
[null,null,null,null,null,null,null,null,null,null,null,null,null,"Überschneidungssegmente","Segmentlänge r",null,null,null,"m",{"$f":"T3","v":2.1213203435596428},null,null,null,null,null,null,null,null,null,null,null,null,{"$f":"Sanierungsdesign!$E$12*AH22*Sanierungsdesign!$E$10/1000000","v":748.8},115200,1.3333333333333333,{"$f":"$D$5+((-Sanierungsdesign!$E$12)/4*PI()*$D$3)*(-LN((4*$D$4*AH22)/(Sanierungsdesign!$E$13^2))-$D$19)","v":-1864.5489211357403},-2137.6989211357404,-4299.8985648354474,{"$f":"$D$3*$T$7*$AH$7*(AK22-$D$5)*(1/Sanierungsdesign!$E$15)/1000000","v":-338.07782162105792},{"$f":"$D$5+(-Sanierungsdesign!$E$12/(4*PI()*$D$3))*(-LN((4*$D$4*AH22)/(Sanierungsdesign!$E$13+Sanierungsdesign!$E$15)^2)-$D$19)","v":124.16471911644891},-148.98528088355107,{"$f":"(2*PI()*Sanierungsdesign!$E$10*$D$3)*(LN((Sanierungsdesign!$E$13+Sanierungsdesign!$E$15)/Sanierungsdesign!$E$13)*(AJ22-AN22))*$AH$7/1000000","v":-177.55034957168027},198.49422743822228,448.00147132806774,{"$f":"AU22/Sanierungsdesign!$E$11","v":-1.5555221393338217},92160,-12.444177114670573,{"$error":"#DIV/0!"},{"$error":"#DIV/0!"},{"$error":"#DIV/0!"},{"$error":"#DIV/0!"},{"$f":"(AY22/(AH22*Sanierungsdesign!$E$10))*1000000","v":{"$error":"#DIV/0!"}},{"$f":"AZ22/Sanierungsdesign!$E$12","v":{"$error":"#DIV/0!"}},{"$f":"$D$5+((-(Sanierungsdesign!$E$12)*MIN($BA$7:$BA$932))/(4*PI()*$D$3))*(-LN((4*$D$4*AH22)/(Sanierungsdesign!$E$13)^2)-$D$19)","v":{"$error":"#DIV/0!"}},{"$f":"(BB22-273.15)/Heterogenität!$D$4","v":{"$error":"#DIV/0!"}},{"$f":"IF(AI22<Berechnung!$D$7,AI22,#N/A)","v":{"$error":"#N/A"}}]
["Aubsaugrate eines BLA-Bunnens",null,"m³·s-1",{"$f":"Sanierungsdesign!E7/3600","v":0.1},null,null,null,null,null,null,null,null,null,null,"Segmenthöhe",null,null,null,"m",{"$f":"Sanierungsdesign!E13-0.5*SQRT(4*(Sanierungsdesign!$E$13)^2-T22^2)","v":0.43933982822017881},null,null,null,null,null,null,null,null,null,null,null,null,{"$f":"Sanierungsdesign!$E$12*AH23*Sanierungsdesign!$E$10/1000000","v":795.6},122400,1.4166666666666667,{"$f":"$D$5+((-Sanierungsdesign!$E$12)/4*PI()*$D$3)*(-LN((4*$D$4*AH23)/(Sanierungsdesign!$E$13^2))-$D$19)","v":-1779.6237584521664},-2052.7737584521665,-4130.0284581190208,{"$f":"$D$3*$T$7*$AH$7*(AK23-$D$5)*(1/Sanierungsdesign!$E$15)/1000000","v":-326.21780270364167},{"$f":"$D$5+(-Sanierungsdesign!$E$12/(4*PI()*$D$3))*(-LN((4*$D$4*AH23)/(Sanierungsdesign!$E$13+Sanierungsdesign!$E$15)^2)-$D$19)","v":128.73590013164977},-144.41409986835021,{"$f":"(2*PI()*Sanierungsdesign!$E$10*$D$3)*(LN((Sanierungsdesign!$E$13+Sanierungsdesign!$E$15)/Sanierungsdesign!$E$13)*(AJ23-AN23))*$AH$7/1000000","v":-170.37642706924964},210.90011665311116,476.00156328607187,{"$f":"AU23/Sanierungsdesign!$E$11","v":-1.4940702916159874},97920,-11.952562332927899,{"$error":"#DIV/0!"},{"$error":"#DIV/0!"},{"$error":"#DIV/0!"},{"$error":"#DIV/0!"},{"$f":"(AY23/(AH23*Sanierungsdesign!$E$10))*1000000","v":{"$error":"#DIV/0!"}},{"$f":"AZ23/Sanierungsdesign!$E$12","v":{"$error":"#DIV/0!"}},{"$f":"$D$5+((-(Sanierungsdesign!$E$12)*MIN($BA$7:$BA$932))/(4*PI()*$D$3))*(-LN((4*$D$4*AH23)/(Sanierungsdesign!$E$13)^2)-$D$19)","v":{"$error":"#DIV/0!"}},{"$f":"(BB23-273.15)/Heterogenität!$D$4","v":{"$error":"#DIV/0!"}},{"$f":"IF(AI23<Berechnung!$D$7,AI23,#N/A)","v":{"$error":"#N/A"}}]
["Zeitintervall ",null,"s",{"$f":"3600*L12","v":7200},null,null,null,null,null,null,null,null,null,null,"Segmengtfläche",null,null,null,"m²",{"$f":"(2/3)*T22*T23","v":0.62132034355964272},null,null,null,null,null,null,null,null,null,null,null,null,{"$f":"Sanierungsdesign!$E$12*AH24*Sanierungsdesign!$E$10/1000000","v":842.4},129600,1.5,{"$f":"$D$5+((-Sanierungsdesign!$E$12)/4*PI()*$D$3)*(-LN((4*$D$4*AH24)/(Sanierungsdesign!$E$13^2))-$D$19)","v":-1699.5541852548167},-1972.7041852548168,-3969.8706613721283,{"$f":"$D$3*$T$7*$AH$7*(AK24-$D$5)*(1/Sanierungsdesign!$E$15)/1000000","v":-315.03587943352363},{"$f":"$D$5+(-Sanierungsdesign!$E$12/(4*PI()*$D$3))*(-LN((4*$D$4*AH24)/(Sanierungsdesign!$E$13+Sanierungsdesign!$E$15)^2)-$D$19)","v":133.04572423241359},-140.10427576758639,{"$f":"(2*PI()*Sanierungsdesign!$E$10*$D$3)*(LN((Sanierungsdesign!$E$13+Sanierungsdesign!$E$15)/Sanierungsdesign!$E$13)*(AJ24-AN24))*$AH$7/1000000","v":-163.61267302075032},223.30600586800006,504.00165524407612,{"$f":"AU24/Sanierungsdesign!$E$11","v":-1.4361319484503854},103680,-11.489055587603083,{"$error":"#DIV/0!"},{"$error":"#DIV/0!"},{"$error":"#DIV/0!"},{"$error":"#DIV/0!"},{"$f":"(AY24/(AH24*Sanierungsdesign!$E$10))*1000000","v":{"$error":"#DIV/0!"}},{"$f":"AZ24/Sanierungsdesign!$E$12","v":{"$error":"#DIV/0!"}},{"$f":"$D$5+((-(Sanierungsdesign!$E$12)*MIN($BA$7:$BA$932))/(4*PI()*$D$3))*(-LN((4*$D$4*AH24)/(Sanierungsdesign!$E$13)^2)-$D$19)","v":{"$error":"#DIV/0!"}},{"$f":"(BB24-273.15)/Heterogenität!$D$4","v":{"$error":"#DIV/0!"}},{"$f":"IF(AI24<Berechnung!$D$7,AI24,#N/A)","v":{"$error":"#N/A"}}]
["Zieltemperatur",null,"K",{"$f":"273.15+D77","v":273.14999999999998},null,null,null,null,null,null,null,null,null,null,"Mantelfäche Segment r",null,null,null,"m²",{"$f":"Sanierungsdesign!E10*2*Sanierungsdesign!E13*ASIN(T22/(2*Sanierungsdesign!E13))","v":11.780972450961725},null,null,null,null,null,null,null,null,null,null,null,null,{"$f":"Sanierungsdesign!$E$12*AH25*Sanierungsdesign!$E$10/1000000","v":889.2},136800,1.5833333333333333,{"$f":"$D$5+((-Sanierungsdesign!$E$12)/4*PI()*$D$3)*(-LN((4*$D$4*AH25)/(Sanierungsdesign!$E$13^2))-$D$19)","v":-1623.8148663996817},-1896.9648663996818,-3818.3743819421006,{"$f":"$D$3*$T$7*$AH$7*(AK25-$D$5)*(1/Sanierungsdesign!$E$15)/1000000","v":-304.45868739727143},{"$f":"$D$5+(-Sanierungsdesign!$E$12/(4*PI()*$D$3))*(-LN((4*$D$4*AH25)/(Sanierungsdesign!$E$13+Sanierungsdesign!$E$15)^2)-$D$19)","v":137.12246810330643},-136.02753189669355,{"$f":"(2*PI()*Sanierungsdesign!$E$10*$D$3)*(LN((Sanierungsdesign!$E$13+Sanierungsdesign!$E$15)/Sanierungsdesign!$E$13)*(AJ25-AN25))*$AH$7/1000000","v":-157.21471054785977},235.71189508288896,532.00174720208042,{"$f":"AU25/Sanierungsdesign!$E$11","v":-1.3813269773268098},109440,-11.050615818614478,{"$error":"#DIV/0!"},{"$error":"#DIV/0!"},{"$error":"#DIV/0!"},{"$error":"#DIV/0!"},{"$f":"(AY25/(AH25*Sanierungsdesign!$E$10))*1000000","v":{"$error":"#DIV/0!"}},{"$f":"AZ25/Sanierungsdesign!$E$12","v":{"$error":"#DIV/0!"}},{"$f":"$D$5+((-(Sanierungsdesign!$E$12)*MIN($BA$7:$BA$932))/(4*PI()*$D$3))*(-LN((4*$D$4*AH25)/(Sanierungsdesign!$E$13)^2)-$D$19)","v":{"$error":"#DIV/0!"}},{"$f":"(BB25-273.15)/Heterogenität!$D$4","v":{"$error":"#DIV/0!"}},{"$f":"IF(AI25<Berechnung!$D$7,AI25,#N/A)","v":{"$error":"#N/A"}}]
["Gesamtmasse",null,"kg",{"$f":"L1+L6+L9","v":0},null,null,null,null,null,null,null,null,null,null,"Segmentlänge r+l",null,null,null,null,{"$f":"2*SQRT((T23+Sanierungsdesign!E15)*((2*Sanierungsdesign!E13+Sanierungsdesign!E15)-(T23+Sanierungsdesign!E15)))","v":3.1018253244758385},null,null,null,null,null,null,null,null,null,null,null,null,{"$f":"Sanierungsdesign!$E$12*AH26*Sanierungsdesign!$E$10/1000000","v":936},144000,1.6666666666666667,{"$f":"$D$5+((-Sanierungsdesign!$E$12)/4*PI()*$D$3)*(-LN((4*$D$4*AH26)/(Sanierungsdesign!$E$13^2))-$D$19)","v":-1551.9613646388134},-1825.1113646388135,-3674.6506418116796,{"$f":"$D$3*$T$7*$AH$7*(AK26-$D$5)*(1/Sanierungsdesign!$E$15)/1000000","v":-294.42415978215593},{"$f":"$D$5+(-Sanierungsdesign!$E$12/(4*PI()*$D$3))*(-LN((4*$D$4*AH26)/(Sanierungsdesign!$E$13+Sanierungsdesign!$E$15)^2)-$D$19)","v":140.99005401949461},-132.15994598050537,{"$f":"(2*PI()*Sanierungsdesign!$E$10*$D$3)*(LN((Sanierungsdesign!$E$13+Sanierungsdesign!$E$15)/Sanierungsdesign!$E$13)*(AJ26-AN26))*$AH$7/1000000","v":-151.14499649760413},248.11778429777783,560.00183916008461,{"$f":"AU26/Sanierungsdesign!$E$11","v":-1.3293337834526451},115200,-10.634670267621161,{"$error":"#DIV/0!"},{"$error":"#DIV/0!"},{"$error":"#DIV/0!"},{"$error":"#DIV/0!"},{"$f":"(AY26/(AH26*Sanierungsdesign!$E$10))*1000000","v":{"$error":"#DIV/0!"}},{"$f":"AZ26/Sanierungsdesign!$E$12","v":{"$error":"#DIV/0!"}},{"$f":"$D$5+((-(Sanierungsdesign!$E$12)*MIN($BA$7:$BA$932))/(4*PI()*$D$3))*(-LN((4*$D$4*AH26)/(Sanierungsdesign!$E$13)^2)-$D$19)","v":{"$error":"#DIV/0!"}},{"$f":"(BB26-273.15)/Heterogenität!$D$4","v":{"$error":"#DIV/0!"}},{"$f":"IF(AI26<Berechnung!$D$7,AI26,#N/A)","v":{"$error":"#N/A"}}]
[null,null,null,null,null,null,null,null,null,null,null,null,null,null,"Mantelfläche Segment r+l",null,null,null,"m²",{"$f":"Sanierungsdesign!E10*2*(Sanierungsdesign!E13+Sanierungsdesign!E15)*ASIN(T26/(2*(Sanierungsdesign!E13+Sanierungsdesign!E15)))","v":17.748750045235909},null,null,null,null,null,null,null,null,null,null,null,null,{"$f":"Sanierungsdesign!$E$12*AH27*Sanierungsdesign!$E$10/1000000","v":982.8},151200,1.75,{"$f":"$D$5+((-Sanierungsdesign!$E$12)/4*PI()*$D$3)*(-LN((4*$D$4*AH27)/(Sanierungsdesign!$E$13^2))-$D$19)","v":-1483.6143382112764},-1756.7643382112765,-3537.94066910012,{"$f":"$D$3*$T$7*$AH$7*(AK27-$D$5)*(1/Sanierungsdesign!$E$15)/1000000","v":-284.87932052880092},{"$f":"$D$5+(-Sanierungsdesign!$E$12/(4*PI()*$D$3))*(-LN((4*$D$4*AH27)/(Sanierungsdesign!$E$13+Sanierungsdesign!$E$15)^2)-$D$19)","v":144.66890042706723},-128.48109957293275,{"$f":"(2*PI()*Sanierungsdesign!$E$10*$D$3)*(LN((Sanierungsdesign!$E$13+Sanierungsdesign!$E$15)/Sanierungsdesign!$E$13)*(AJ27-AN27))*$AH$7/1000000","v":-145.37148655815753},260.52367351266673,588.00193111808881,{"$f":"AU27/Sanierungsdesign!$E$11","v":-1.2798778751296795},120960,-10.239023001037436,{"$error":"#DIV/0!"},{"$error":"#DIV/0!"},{"$error":"#DIV/0!"},{"$error":"#DIV/0!"},{"$f":"(AY27/(AH27*Sanierungsdesign!$E$10))*1000000","v":{"$error":"#DIV/0!"}},{"$f":"AZ27/Sanierungsdesign!$E$12","v":{"$error":"#DIV/0!"}},{"$f":"$D$5+((-(Sanierungsdesign!$E$12)*MIN($BA$7:$BA$932))/(4*PI()*$D$3))*(-LN((4*$D$4*AH27)/(Sanierungsdesign!$E$13)^2)-$D$19)","v":{"$error":"#DIV/0!"}},{"$f":"(BB27-273.15)/Heterogenität!$D$4","v":{"$error":"#DIV/0!"}},{"$f":"IF(AI27<Berechnung!$D$7,AI27,#N/A)","v":{"$error":"#N/A"}}]
["Anzahl der Überschneidungssegmente",null,"-",{"$f":"Sanierungsdesign!$E$16","v":0},null,null,null,null,null,null,null,null,null,null,"Masse Segment r+l",null,null,null,"kg",{"$f":"L11*T27*Sanierungsdesign!E10","v":236945.81310389939},null,null,null,null,null,null,null,null,null,null,null,null,{"$f":"Sanierungsdesign!$E$12*AH28*Sanierungsdesign!$E$10/1000000","v":1029.5999999999999},158400,1.8333333333333333,{"$f":"$D$5+((-Sanierungsdesign!$E$12)/4*PI()*$D$3)*(-LN((4*$D$4*AH28)/(Sanierungsdesign!$E$13^2))-$D$19)","v":-1418.4474179491085},-1691.5974179491086,-3407.5916494513599,{"$f":"$D$3*$T$7*$AH$7*(AK28-$D$5)*(1/Sanierungsdesign!$E$15)/1000000","v":-275.7785913376332},{"$f":"$D$5+(-Sanierungsdesign!$E$12/(4*PI()*$D$3))*(-LN((4*$D$4*AH28)/(Sanierungsdesign!$E$13+Sanierungsdesign!$E$15)^2)-$D$19)","v":148.17657446981761},-124.97342553018237,{"$f":"(2*PI()*Sanierungsdesign!$E$10*$D$3)*(LN((Sanierungsdesign!$E$13+Sanierungsdesign!$E$15)/Sanierungsdesign!$E$13)*(AJ28-AN28))*$AH$7/1000000","v":-139.86661119601357},272.92956272755561,616.002023076093,{"$f":"AU28/Sanierungsdesign!$E$11","v":-1.2327230916279748},126720,-9.8617847330237982,{"$error":"#DIV/0!"},{"$error":"#DIV/0!"},{"$error":"#DIV/0!"},{"$error":"#DIV/0!"},{"$f":"(AY28/(AH28*Sanierungsdesign!$E$10))*1000000","v":{"$error":"#DIV/0!"}},{"$f":"AZ28/Sanierungsdesign!$E$12","v":{"$error":"#DIV/0!"}},{"$f":"$D$5+((-(Sanierungsdesign!$E$12)*MIN($BA$7:$BA$932))/(4*PI()*$D$3))*(-LN((4*$D$4*AH28)/(Sanierungsdesign!$E$13)^2)-$D$19)","v":{"$error":"#DIV/0!"}},{"$f":"(BB28-273.15)/Heterogenität!$D$4","v":{"$error":"#DIV/0!"}},{"$f":"IF(AI28<Berechnung!$D$7,AI28,#N/A)","v":{"$error":"#N/A"}}]
[null,null,null,null,null,null,null,null,null,null,null,null,null,"Aufheizdauer","Gesamtwärmemenge verlustfrei",null,null,null,"MJ",{"$f":"Sanierungsdesign!E12*T30*Sanierungsdesign!E10/100000","v":34164},null,null,null,null,null,null,null,null,null,null,null,null,{"$f":"Sanierungsdesign!$E$12*AH29*Sanierungsdesign!$E$10/1000000","v":1076.4000000000001},165600,1.9166666666666667,{"$f":"$D$5+((-Sanierungsdesign!$E$12)/4*PI()*$D$3)*(-LN((4*$D$4*AH29)/(Sanierungsdesign!$E$13^2))-$D$19)","v":-1356.1777813758667},-1629.3277813758668,-3283.0378720355689,{"$f":"$D$3*$T$7*$AH$7*(AK29-$D$5)*(1/Sanierungsdesign!$E$15)/1000000","v":-267.08247531733235},{"$f":"$D$5+(-Sanierungsdesign!$E$12/(4*PI()*$D$3))*(-LN((4*$D$4*AH29)/(Sanierungsdesign!$E$13+Sanierungsdesign!$E$15)^2)-$D$19)","v":151.52829934772731},-121.62170065227266,{"$f":"(2*PI()*Sanierungsdesign!$E$10*$D$3)*(LN((Sanierungsdesign!$E$13+Sanierungsdesign!$E$15)/Sanierungsdesign!$E$13)*(AJ29-AN29))*$AH$7/1000000","v":-134.60647941745694},285.33545194244454,644.0021150340973,{"$f":"AU29/Sanierungsdesign!$E$11","v":-1.1876647826035771},132480,-9.5013182608286169,{"$error":"#DIV/0!"},{"$error":"#DIV/0!"},{"$error":"#DIV/0!"},{"$error":"#DIV/0!"},{"$f":"(AY29/(AH29*Sanierungsdesign!$E$10))*1000000","v":{"$error":"#DIV/0!"}},{"$f":"AZ29/Sanierungsdesign!$E$12","v":{"$error":"#DIV/0!"}},{"$f":"$D$5+((-(Sanierungsdesign!$E$12)*MIN($BA$7:$BA$932))/(4*PI()*$D$3))*(-LN((4*$D$4*AH29)/(Sanierungsdesign!$E$13)^2)-$D$19)","v":{"$error":"#DIV/0!"}},{"$f":"(BB29-273.15)/Heterogenität!$D$4","v":{"$error":"#DIV/0!"}},{"$f":"IF(AI29<Berechnung!$D$7,AI29,#N/A)","v":{"$error":"#N/A"}}]
[null,"Schadstoffanteil \n> 10 % ?","Max. Verdampfungswärme","Gemisch-siedetemp. mit Wasser",null,null,null,null,null,null,null,null,null,null,"Dauer ohne Verluste (Aufheizphase)",null,null,null,"s",{"$f":"AK934","v":525600},{"$f":"T30/86400","v":6.083333333333333},"Dauer [Tagen]",null,null,null,null,null,null,null,null,null,null,{"$f":"Sanierungsdesign!$E$12*AH30*Sanierungsdesign!$E$10/1000000","v":1123.2},172800,2,{"$f":"$D$5+((-Sanierungsdesign!$E$12)/4*PI()*$D$3)*(-LN((4*$D$4*AH30)/(Sanierungsdesign!$E$13^2))-$D$19)","v":-1296.5587343620905},-1569.7087343620906,-3163.7858911321432,{"$f":"$D$3*$T$7*$AH$7*(AK30-$D$5)*(1/Sanierungsdesign!$E$15)/1000000","v":-258.75652099380318},{"$f":"$D$5+(-Sanierungsdesign!$E$12/(4*PI()*$D$3))*(-LN((4*$D$4*AH30)/(Sanierungsdesign!$E$13+Sanierungsdesign!$E$15)^2)-$D$19)","v":154.73735361670958},-118.41264638329039,{"$f":"(2*PI()*Sanierungsdesign!$E$10*$D$3)*(LN((Sanierungsdesign!$E$13+Sanierungsdesign!$E$15)/Sanierungsdesign!$E$13)*(AJ30-AN30))*$AH$7/1000000","v":-129.57025211531806},297.74134115733341,672.00220699210161,{"$f":"AU30/Sanierungsdesign!$E$11","v":-1.1445244401844086},138240,-9.1561955214752686,{"$error":"#DIV/0!"},{"$error":"#DIV/0!"},{"$error":"#DIV/0!"},{"$error":"#DIV/0!"},{"$f":"(AY30/(AH30*Sanierungsdesign!$E$10))*1000000","v":{"$error":"#DIV/0!"}},{"$f":"AZ30/Sanierungsdesign!$E$12","v":{"$error":"#DIV/0!"}},{"$f":"$D$5+((-(Sanierungsdesign!$E$12)*MIN($BA$7:$BA$932))/(4*PI()*$D$3))*(-LN((4*$D$4*AH30)/(Sanierungsdesign!$E$13)^2)-$D$19)","v":{"$error":"#DIV/0!"}},{"$f":"(BB30-273.15)/Heterogenität!$D$4","v":{"$error":"#DIV/0!"}},{"$f":"IF(AI30<Berechnung!$D$7,AI30,#N/A)","v":{"$error":"#N/A"}}]
[null,null,null,null,null,null,null,null,null,null,null,null,null,null,"Dauer mit Verlusten (Aufheizphase)",null,null,null,"s",{"$f":"BC934","v":{"$error":"#N/A"}},{"$f":"T31/86400","v":{"$error":"#N/A"}},"Dauer in [Tagen]",null,null,null,null,null,null,null,null,null,null,{"$f":"Sanierungsdesign!$E$12*AH31*Sanierungsdesign!$E$10/1000000","v":1170},180000,2.0833333333333335,{"$f":"$D$5+((-Sanierungsdesign!$E$12)/4*PI()*$D$3)*(-LN((4*$D$4*AH31)/(Sanierungsdesign!$E$13^2))-$D$19)","v":-1239.373808141886},-1512.5238081418861,-3049.4027187879115,{"$f":"$D$3*$T$7*$AH$7*(AK31-$D$5)*(1/Sanierungsdesign!$E$15)/1000000","v":-250.77049794325382},{"$f":"$D$5+(-Sanierungsdesign!$E$12/(4*PI()*$D$3))*(-LN((4*$D$4*AH31)/(Sanierungsdesign!$E$13+Sanierungsdesign!$E$15)^2)-$D$19)","v":157.81538892254031},-115.33461107745967,{"$f":"(2*PI()*Sanierungsdesign!$E$10*$D$3)*(LN((Sanierungsdesign!$E$13+Sanierungsdesign!$E$15)/Sanierungsdesign!$E$13)*(AJ31-AN31))*$AH$7/1000000","v":-124.73964342352788},310.14723037222228,700.00229895010568,{"$f":"AU31/Sanierungsdesign!$E$11","v":-1.1031454275714687},144000,-8.8251634205717497,{"$error":"#DIV/0!"},{"$error":"#DIV/0!"},{"$error":"#DIV/0!"},{"$error":"#DIV/0!"},{"$f":"(AY31/(AH31*Sanierungsdesign!$E$10))*1000000","v":{"$error":"#DIV/0!"}},{"$f":"AZ31/Sanierungsdesign!$E$12","v":{"$error":"#DIV/0!"}},{"$f":"$D$5+((-(Sanierungsdesign!$E$12)*MIN($BA$7:$BA$932))/(4*PI()*$D$3))*(-LN((4*$D$4*AH31)/(Sanierungsdesign!$E$13)^2)-$D$19)","v":{"$error":"#DIV/0!"}},{"$f":"(BB31-273.15)/Heterogenität!$D$4","v":{"$error":"#DIV/0!"}},{"$f":"IF(AI31<Berechnung!$D$7,AI31,#N/A)","v":{"$error":"#N/A"}}]
["Tetrachlorethen",{"$f":"IFERROR(IF(Schadstoffbelastung!E4/$B$45>0.1,1,0),0)","v":0},{"$f":"IF(B32=1,Stoffdatenbank!H5,\"\")","v":""},{"$f":"IF(B32=1,Stoffdatenbank!I5,\"\")","v":""},null,null,null,null,null,null,null,null,null,null,"Wärmeverlustanteil",null,null,null,"%",{"$f":"(1-BA380)*100","v":{"$error":"#DIV/0!"}},{"$f":"BC935","v":{"$error":"#N/A"}},"Effizient [-]",null,null,null,null,null,null,null,null,null,null,{"$f":"Sanierungsdesign!$E$12*AH32*Sanierungsdesign!$E$10/1000000","v":1216.8},187200,2.1666666666666665,{"$f":"$D$5+((-Sanierungsdesign!$E$12)/4*PI()*$D$3)*(-LN((4*$D$4*AH32)/(Sanierungsdesign!$E$13^2))-$D$19)","v":-1184.4320147696553},-1457.5820147696554,-2939.5063346254601,{"$f":"$D$3*$T$7*$AH$7*(AK32-$D$5)*(1/Sanierungsdesign!$E$15)/1000000","v":-243.09773420443952},{"$f":"$D$5+(-Sanierungsdesign!$E$12/(4*PI()*$D$3))*(-LN((4*$D$4*AH32)/(Sanierungsdesign!$E$13+Sanierungsdesign!$E$15)^2)-$D$19)","v":160.77268538059946},-112.37731461940052,{"$f":"(2*PI()*Sanierungsdesign!$E$10*$D$3)*(LN((Sanierungsdesign!$E$13+Sanierungsdesign!$E$15)/Sanierungsdesign!$E$13)*(AJ32-AN32))*$AH$7/1000000","v":-120.0985199291224},322.55311958711121,728.00239090810999,{"$f":"AU32/Sanierungsdesign!$E$11","v":-1.0633895458873226},149760,-8.5071163670985808,{"$error":"#DIV/0!"},{"$error":"#DIV/0!"},{"$error":"#DIV/0!"},{"$error":"#DIV/0!"},{"$f":"(AY32/(AH32*Sanierungsdesign!$E$10))*1000000","v":{"$error":"#DIV/0!"}},{"$f":"AZ32/Sanierungsdesign!$E$12","v":{"$error":"#DIV/0!"}},{"$f":"$D$5+((-(Sanierungsdesign!$E$12)*MIN($BA$7:$BA$932))/(4*PI()*$D$3))*(-LN((4*$D$4*AH32)/(Sanierungsdesign!$E$13)^2)-$D$19)","v":{"$error":"#DIV/0!"}},{"$f":"(BB32-273.15)/Heterogenität!$D$4","v":{"$error":"#DIV/0!"}},{"$f":"IF(AI32<Berechnung!$D$7,AI32,#N/A)","v":{"$error":"#N/A"}}]
["Trichlorethen",{"$f":"IFERROR(IF(Schadstoffbelastung!E5/$B$45>0.1,1,0),0)","v":0},{"$f":"IF(B33=1,Stoffdatenbank!H6,\"\")","v":""},{"$f":"IF(B33=1,Stoffdatenbank!I6,\"\")","v":""},null,null,null,null,null,null,null,null,null,null,"ausschlaggebender Schadstoff (Zieltemperatur)",null,{"$f":"D76","v":{"$error":"#N/A"}},null,null,null,{"$f":"D77","v":0},"Zieltemperatur [°C]",null,null,null,null,null,null,null,null,null,null,{"$f":"Sanierungsdesign!$E$12*AH33*Sanierungsdesign!$E$10/1000000","v":1263.5999999999999},194400,2.25,{"$f":"$D$5+((-Sanierungsdesign!$E$12)/4*PI()*$D$3)*(-LN((4*$D$4*AH33)/(Sanierungsdesign!$E$13^2))-$D$19)","v":-1131.5639984811669},-1404.713998481167,-2833.7579876688242,{"$f":"$D$3*$T$7*$AH$7*(AK33-$D$5)*(1/Sanierungsdesign!$E$15)/1000000","v":-235.71457880626892},{"$f":"$D$5+(-Sanierungsdesign!$E$12/(4*PI()*$D$3))*(-LN((4*$D$4*AH33)/(Sanierungsdesign!$E$13+Sanierungsdesign!$E$15)^2)-$D$19)","v":163.61835873267432},-109.53164126732565,{"$f":"(2*PI()*Sanierungsdesign!$E$10*$D$3)*(LN((Sanierungsdesign!$E$13+Sanierungsdesign!$E$15)/Sanierungsdesign!$E$13)*(AJ33-AN33))*$AH$7/1000000","v":-115.63257556438801},334.95900880200008,756.00248286611418,{"$f":"AU33/Sanierungsdesign!$E$11","v":-1.0251342493009723},155520,-8.2010739944077784,{"$error":"#DIV/0!"},{"$error":"#DIV/0!"},{"$error":"#DIV/0!"},{"$error":"#DIV/0!"},{"$f":"(AY33/(AH33*Sanierungsdesign!$E$10))*1000000","v":{"$error":"#DIV/0!"}},{"$f":"AZ33/Sanierungsdesign!$E$12","v":{"$error":"#DIV/0!"}},{"$f":"$D$5+((-(Sanierungsdesign!$E$12)*MIN($BA$7:$BA$932))/(4*PI()*$D$3))*(-LN((4*$D$4*AH33)/(Sanierungsdesign!$E$13)^2)-$D$19)","v":{"$error":"#DIV/0!"}},{"$f":"(BB33-273.15)/Heterogenität!$D$4","v":{"$error":"#DIV/0!"}},{"$f":"IF(AI33<Berechnung!$D$7,AI33,#N/A)","v":{"$error":"#N/A"}}]
["cis-1,2-Dichlorethen",{"$f":"IFERROR(IF(Schadstoffbelastung!E6/$B$45>0.1,1,0),0)","v":0},{"$f":"IF(B34=1,Stoffdatenbank!H7,\"\")","v":""},{"$f":"IF(B34=1,Stoffdatenbank!I7,\"\")","v":""},null,null,null,null,null,null,null,null,null,"Absaugungsdauer (gesamtes Fluid)","Volumen des flüssigen Fluids im Bereich",null,null,null,"m³",{"$f":"21.245","v":21.245000000000001},null,null,null,null,null,null,null,null,null,null,null,null,{"$f":"Sanierungsdesign!$E$12*AH34*Sanierungsdesign!$E$10/1000000","v":1310.4000000000001},201600,2.3333333333333335,{"$f":"$D$5+((-Sanierungsdesign!$E$12)/4*PI()*$D$3)*(-LN((4*$D$4*AH34)/(Sanierungsdesign!$E$13^2))-$D$19)","v":-1080.6188873185502},-1353.7688873185502,-2731.8558988601344,{"$f":"$D$3*$T$7*$AH$7*(AK34-$D$5)*(1/Sanierungsdesign!$E$15)/1000000","v":-228.59996208908044},{"$f":"$D$5+(-Sanierungsdesign!$E$12/(4*PI()*$D$3))*(-LN((4*$D$4*AH34)/(Sanierungsdesign!$E$13+Sanierungsdesign!$E$15)^2)-$D$19)","v":166.36052981136322},-106.78947018863676,{"$f":"(2*PI()*Sanierungsdesign!$E$10*$D$3)*(LN((Sanierungsdesign!$E$13+Sanierungsdesign!$E$15)/Sanierungsdesign!$E$13)*(AJ34-AN34))*$AH$7/1000000","v":-111.32906565272529},347.36489801688896,784.00257482411837,{"$f":"AU34/Sanierungsdesign!$E$11","v":-0.98827036686370273},161280,-7.9061629349096219,{"$error":"#DIV/0!"},{"$error":"#DIV/0!"},{"$error":"#DIV/0!"},{"$error":"#DIV/0!"},{"$f":"(AY34/(AH34*Sanierungsdesign!$E$10))*1000000","v":{"$error":"#DIV/0!"}},{"$f":"AZ34/Sanierungsdesign!$E$12","v":{"$error":"#DIV/0!"}},{"$f":"$D$5+((-(Sanierungsdesign!$E$12)*MIN($BA$7:$BA$932))/(4*PI()*$D$3))*(-LN((4*$D$4*AH34)/(Sanierungsdesign!$E$13)^2)-$D$19)","v":{"$error":"#DIV/0!"}},{"$f":"(BB34-273.15)/Heterogenität!$D$4","v":{"$error":"#DIV/0!"}},{"$f":"IF(AI34<Berechnung!$D$7,AI34,#N/A)","v":{"$error":"#N/A"}}]
["trans-1,2-Dichlorethen",{"$f":"IFERROR(IF(Schadstoffbelastung!E7/$B$45>0.1,1,0),0)","v":0},{"$f":"IF(B35=1,Stoffdatenbank!H8,\"\")","v":""},{"$f":"IF(B35=1,Stoffdatenbank!I8,\"\")","v":""},null,null,null,null,null,null,null,null,null,null,"Masse des flüssigen Fluids",null,null,null,"kg",{"$f":"L3+L6","v":0},null,null,null,null,null,null,null,null,null,null,null,null,{"$f":"Sanierungsdesign!$E$12*AH35*Sanierungsdesign!$E$10/1000000","v":1357.2},208800,2.4166666666666665,{"$f":"$D$5+((-Sanierungsdesign!$E$12)/4*PI()*$D$3)*(-LN((4*$D$4*AH35)/(Sanierungsdesign!$E$13^2))-$D$19)","v":-1031.461697476163},-1304.611697476163,-2633.5300691467573,{"$f":"$D$3*$T$7*$AH$7*(AK35-$D$5)*(1/Sanierungsdesign!$E$15)/1000000","v":-221.73503321481994},{"$f":"$D$5+(-Sanierungsdesign!$E$12/(4*PI()*$D$3))*(-LN((4*$D$4*AH35)/(Sanierungsdesign!$E$13+Sanierungsdesign!$E$15)^2)-$D$19)","v":169.00646425373088},-104.14353574626909,{"$f":"(2*PI()*Sanierungsdesign!$E$10*$D$3)*(LN((Sanierungsdesign!$E$13+Sanierungsdesign!$E$15)/Sanierungsdesign!$E$13)*(AJ35-AN35))*$AH$7/1000000","v":-107.1765876447583},359.77078723177789,812.00266678212279,{"$f":"AU35/Sanierungsdesign!$E$11","v":-0.95270022429375145},167040,-7.6216017943500116,{"$error":"#DIV/0!"},{"$error":"#DIV/0!"},{"$error":"#DIV/0!"},{"$error":"#DIV/0!"},{"$f":"(AY35/(AH35*Sanierungsdesign!$E$10))*1000000","v":{"$error":"#DIV/0!"}},{"$f":"AZ35/Sanierungsdesign!$E$12","v":{"$error":"#DIV/0!"}},{"$f":"$D$5+((-(Sanierungsdesign!$E$12)*MIN($BA$7:$BA$932))/(4*PI()*$D$3))*(-LN((4*$D$4*AH35)/(Sanierungsdesign!$E$13)^2)-$D$19)","v":{"$error":"#DIV/0!"}},{"$f":"(BB35-273.15)/Heterogenität!$D$4","v":{"$error":"#DIV/0!"}},{"$f":"IF(AI35<Berechnung!$D$7,AI35,#N/A)","v":{"$error":"#N/A"}}]
["1,1-Dichlorethen",{"$f":"IFERROR(IF(Schadstoffbelastung!E8/$B$45>0.1,1,0),0)","v":0},{"$f":"IF(B36=1,Stoffdatenbank!H9,\"\")","v":""},{"$f":"IF(B36=1,Stoffdatenbank!I9,\"\")","v":""},null,null,null,null,null,null,null,null,null,null,"Fluidvolumen, das abgesaugt werden muss",null,null,null,"m³",{"$f":"T35/0.6","v":0},{"$f":"T38/86400","v":0},"Dauer in [Tagen]",null,null,null,null,null,null,null,null,null,null,{"$f":"Sanierungsdesign!$E$12*AH36*Sanierungsdesign!$E$10/1000000","v":1404},216000,2.5,{"$f":"$D$5+((-Sanierungsdesign!$E$12)/4*PI()*$D$3)*(-LN((4*$D$4*AH36)/(Sanierungsdesign!$E$13^2))-$D$19)","v":-983.97117786516344},-1257.1211778651634,-2538.537968108375,{"$f":"$D$3*$T$7*$AH$7*(AK36-$D$5)*(1/Sanierungsdesign!$E$15)/1000000","v":-215.10285915490113},{"$f":"$D$5+(-Sanierungsdesign!$E$12/(4*PI()*$D$3))*(-LN((4*$D$4*AH36)/(Sanierungsdesign!$E$13+Sanierungsdesign!$E$15)^2)-$D$19)","v":171.56268851975534},-101.58731148024464,{"$f":"(2*PI()*Sanierungsdesign!$E$10*$D$3)*(LN((Sanierungsdesign!$E$13+Sanierungsdesign!$E$15)/Sanierungsdesign!$E$13)*(AJ36-AN36))*$AH$7/1000000","v":-103.16489904124185},372.17667644666676,840.00275874012686,{"$f":"AU36/Sanierungsdesign!$E$11","v":-0.9183360843032321},172800,-7.3466886744258568,{"$error":"#DIV/0!"},{"$error":"#DIV/0!"},{"$error":"#DIV/0!"},{"$error":"#DIV/0!"},{"$f":"(AY36/(AH36*Sanierungsdesign!$E$10))*1000000","v":{"$error":"#DIV/0!"}},{"$f":"AZ36/Sanierungsdesign!$E$12","v":{"$error":"#DIV/0!"}},{"$f":"$D$5+((-(Sanierungsdesign!$E$12)*MIN($BA$7:$BA$932))/(4*PI()*$D$3))*(-LN((4*$D$4*AH36)/(Sanierungsdesign!$E$13)^2)-$D$19)","v":{"$error":"#DIV/0!"}},{"$f":"(BB36-273.15)/Heterogenität!$D$4","v":{"$error":"#DIV/0!"}},{"$f":"IF(AI36<Berechnung!$D$7,AI36,#N/A)","v":{"$error":"#N/A"}}]
["Vinylchlorid",{"$f":"IFERROR(IF(Schadstoffbelastung!E9/$B$45>0.1,1,0),0)","v":0},{"$f":"IF(B37=1,Stoffdatenbank!H10,\"\")","v":""},{"$f":"IF(B37=1,Stoffdatenbank!I10,\"\")","v":""},null,null,null,null,null,null,null,null,null,null,"Volumen des gasförmigen flüssigen Fluids",null,null,null,"m³",{"$f":"T34*1700","v":36116.5},null,null,null,null,null,null,null,null,null,null,null,null,{"$f":"Sanierungsdesign!$E$12*AH37*Sanierungsdesign!$E$10/1000000","v":1450.8},223200,2.5833333333333335,{"$f":"$D$5+((-Sanierungsdesign!$E$12)/4*PI()*$D$3)*(-LN((4*$D$4*AH37)/(Sanierungsdesign!$E$13^2))-$D$19)","v":-938.03800823583708},-1211.1880082358371,-2446.6609297819405,{"$f":"$D$3*$T$7*$AH$7*(AK37-$D$5)*(1/Sanierungsdesign!$E$15)/1000000","v":-208.68817305332163},{"$f":"$D$5+(-Sanierungsdesign!$E$12/(4*PI()*$D$3))*(-LN((4*$D$4*AH37)/(Sanierungsdesign!$E$13+Sanierungsdesign!$E$15)^2)-$D$19)","v":174.03508688017888},-99.114913119821097,{"$f":"(2*PI()*Sanierungsdesign!$E$10*$D$3)*(LN((Sanierungsdesign!$E$13+Sanierungsdesign!$E$15)/Sanierungsdesign!$E$13)*(AJ37-AN37))*$AH$7/1000000","v":-99.284765182216276},384.58256566155563,868.00285069813106,{"$f":"AU37/Sanierungsdesign!$E$11","v":-0.88509884275945161},178560,-7.0807907420756129,{"$error":"#DIV/0!"},{"$error":"#DIV/0!"},{"$error":"#DIV/0!"},{"$error":"#DIV/0!"},{"$f":"(AY37/(AH37*Sanierungsdesign!$E$10))*1000000","v":{"$error":"#DIV/0!"}},{"$f":"AZ37/Sanierungsdesign!$E$12","v":{"$error":"#DIV/0!"}},{"$f":"$D$5+((-(Sanierungsdesign!$E$12)*MIN($BA$7:$BA$932))/(4*PI()*$D$3))*(-LN((4*$D$4*AH37)/(Sanierungsdesign!$E$13)^2)-$D$19)","v":{"$error":"#DIV/0!"}},{"$f":"(BB37-273.15)/Heterogenität!$D$4","v":{"$error":"#DIV/0!"}},{"$f":"IF(AI37<Berechnung!$D$7,AI37,#N/A)","v":{"$error":"#N/A"}}]
["Tetrachlormethan",{"$f":"IFERROR(IF(Schadstoffbelastung!E10/$B$45>0.1,1,0),0)","v":0},{"$f":"IF(B38=1,Stoffdatenbank!H11,\"\")","v":""},{"$f":"IF(B38=1,Stoffdatenbank!I11,\"\")","v":""},null,null,null,null,null,null,null,null,null,null,"Austragsdauer",null,null,null,"s",{"$f":"T36/T2","v":0},null,null,null,null,null,null,null,null,null,null,null,null,{"$f":"Sanierungsdesign!$E$12*AH38*Sanierungsdesign!$E$10/1000000","v":1497.6},230400,2.6666666666666665,{"$f":"$D$5+((-Sanierungsdesign!$E$12)/4*PI()*$D$3)*(-LN((4*$D$4*AH38)/(Sanierungsdesign!$E$13^2))-$D$19)","v":-893.56328346936436},-1166.7132834693643,-2357.7011208921581,{"$f":"$D$3*$T$7*$AH$7*(AK38-$D$5)*(1/Sanierungsdesign!$E$15)/1000000","v":-202.47716255408275},{"$f":"$D$5+(-Sanierungsdesign!$E$12/(4*PI()*$D$3))*(-LN((4*$D$4*AH38)/(Sanierungsdesign!$E$13+Sanierungsdesign!$E$15)^2)-$D$19)","v":176.42898300100558},-96.721016998994401,{"$f":"(2*PI()*Sanierungsdesign!$E$10*$D$3)*(LN((Sanierungsdesign!$E$13+Sanierungsdesign!$E$15)/Sanierungsdesign!$E$13)*(AJ38-AN38))*$AH$7/1000000","v":-95.527831209885804},396.98845487644456,896.00294265613547,{"$f":"AU38/Sanierungsdesign!$E$11","v":-0.85291693191843188},184320,-6.823335455347455,{"$error":"#DIV/0!"},{"$error":"#DIV/0!"},{"$error":"#DIV/0!"},{"$error":"#DIV/0!"},{"$f":"(AY38/(AH38*Sanierungsdesign!$E$10))*1000000","v":{"$error":"#DIV/0!"}},{"$f":"AZ38/Sanierungsdesign!$E$12","v":{"$error":"#DIV/0!"}},{"$f":"$D$5+((-(Sanierungsdesign!$E$12)*MIN($BA$7:$BA$932))/(4*PI()*$D$3))*(-LN((4*$D$4*AH38)/(Sanierungsdesign!$E$13)^2)-$D$19)","v":{"$error":"#DIV/0!"}},{"$f":"(BB38-273.15)/Heterogenität!$D$4","v":{"$error":"#DIV/0!"}},{"$f":"IF(AI38<Berechnung!$D$7,AI38,#N/A)","v":{"$error":"#N/A"}}]
["Trichlormethan",{"$f":"IFERROR(IF(Schadstoffbelastung!E11/$B$45>0.1,1,0),0)","v":0},{"$f":"IF(B39=1,Stoffdatenbank!H12,\"\")","v":""},{"$f":"IF(B39=1,Stoffdatenbank!I12,\"\")","v":""},null,null,null,null,null,null,null,null,null,null,null,null,null,null,null,null,null,null,null,null,null,null,null,null,null,null,null,null,{"$f":"Sanierungsdesign!$E$12*AH39*Sanierungsdesign!$E$10/1000000","v":1544.4},237600,2.75,{"$f":"$D$5+((-Sanierungsdesign!$E$12)/4*PI()*$D$3)*(-LN((4*$D$4*AH39)/(Sanierungsdesign!$E$13^2))-$D$19)","v":-850.45723117545901},-1123.607231175459,-2271.4789757480557,{"$f":"$D$3*$T$7*$AH$7*(AK39-$D$5)*(1/Sanierungsdesign!$E$15)/1000000","v":-196.45729071037843},{"$f":"$D$5+(-Sanierungsdesign!$E$12/(4*PI()*$D$3))*(-LN((4*$D$4*AH39)/(Sanierungsdesign!$E$13+Sanierungsdesign!$E$15)^2)-$D$19)","v":178.74920897007831},-94.400791029921663,{"$f":"(2*PI()*Sanierungsdesign!$E$10*$D$3)*(LN((Sanierungsdesign!$E$13+Sanierungsdesign!$E$15)/Sanierungsdesign!$E$13)*(AJ39-AN39))*$AH$7/1000000","v":-91.886513739651321},409.39434409133344,924.00303461413955,{"$f":"AU39/Sanierungsdesign!$E$11","v":-0.82172539247856202},190080,-6.5738031398284962,{"$error":"#DIV/0!"},{"$error":"#DIV/0!"},{"$error":"#DIV/0!"},{"$error":"#DIV/0!"},{"$f":"(AY39/(AH39*Sanierungsdesign!$E$10))*1000000","v":{"$error":"#DIV/0!"}},{"$f":"AZ39/Sanierungsdesign!$E$12","v":{"$error":"#DIV/0!"}},{"$f":"$D$5+((-(Sanierungsdesign!$E$12)*MIN($BA$7:$BA$932))/(4*PI()*$D$3))*(-LN((4*$D$4*AH39)/(Sanierungsdesign!$E$13)^2)-$D$19)","v":{"$error":"#DIV/0!"}},{"$f":"(BB39-273.15)/Heterogenität!$D$4","v":{"$error":"#DIV/0!"}},{"$f":"IF(AI39<Berechnung!$D$7,AI39,#N/A)","v":{"$error":"#N/A"}}]
["Dichlormethan",{"$f":"IFERROR(IF(Schadstoffbelastung!E12/$B$45>0.1,1,0),0)","v":0},{"$f":"IF(B40=1,Stoffdatenbank!H13,\"\")","v":""},{"$f":"IF(B40=1,Stoffdatenbank!I13,\"\")","v":""},null,null,null,null,null,null,null,null,null,"Berechnung der Dauer des Verdampfungswärmeeintrages für die Flüssigphase",null,null,null,null,null,null,null,null,null,null,null,null,null,null,null,null,null,null,{"$f":"Sanierungsdesign!$E$12*AH40*Sanierungsdesign!$E$10/1000000","v":1591.2},244800,2.8333333333333335,{"$f":"$D$5+((-Sanierungsdesign!$E$12)/4*PI()*$D$3)*(-LN((4*$D$4*AH40)/(Sanierungsdesign!$E$13^2))-$D$19)","v":-808.63812078579042},-1081.7881207857904,-2187.8310141757306,{"$f":"$D$3*$T$7*$AH$7*(AK40-$D$5)*(1/Sanierungsdesign!$E$15)/1000000","v":-190.61714363666647},{"$f":"$D$5+(-Sanierungsdesign!$E$12/(4*PI()*$D$3))*(-LN((4*$D$4*AH40)/(Sanierungsdesign!$E$13+Sanierungsdesign!$E$15)^2)-$D$19)","v":181.00016401620644},-92.149835983793537,{"$f":"(2*PI()*Sanierungsdesign!$E$10*$D$3)*(LN((Sanierungsdesign!$E$13+Sanierungsdesign!$E$15)/Sanierungsdesign!$E$13)*(AJ40-AN40))*$AH$7/1000000","v":-88.353908707455119},421.80023330622231,952.00312657214374,{"$f":"AU40/Sanierungsdesign!$E$11","v":-0.7914650842005978},195840,-6.3317206736047824,{"$error":"#DIV/0!"},{"$error":"#DIV/0!"},{"$error":"#DIV/0!"},{"$error":"#DIV/0!"},{"$f":"(AY40/(AH40*Sanierungsdesign!$E$10))*1000000","v":{"$error":"#DIV/0!"}},{"$f":"AZ40/Sanierungsdesign!$E$12","v":{"$error":"#DIV/0!"}},{"$f":"$D$5+((-(Sanierungsdesign!$E$12)*MIN($BA$7:$BA$932))/(4*PI()*$D$3))*(-LN((4*$D$4*AH40)/(Sanierungsdesign!$E$13)^2)-$D$19)","v":{"$error":"#DIV/0!"}},{"$f":"(BB40-273.15)/Heterogenität!$D$4","v":{"$error":"#DIV/0!"}},{"$f":"IF(AI40<Berechnung!$D$7,AI40,#N/A)","v":{"$error":"#N/A"}}]
["1,1,1-Trichlorethan",{"$f":"IFERROR(IF(Schadstoffbelastung!E13/$B$45>0.1,1,0),0)","v":0},{"$f":"IF(B41=1,Stoffdatenbank!H14,\"\")","v":""},{"$f":"IF(B41=1,Stoffdatenbank!I14,\"\")","v":""},null,null,null,null,null,null,null,null,null,{"$f":"L3*D12","v":0},"J (GW)",null,"J (je HE)",null,null,{"$f":"N43/Sanierungsdesign!E11","v":0},null,null,null,null,null,null,null,null,null,null,null,null,{"$f":"Sanierungsdesign!$E$12*AH41*Sanierungsdesign!$E$10/1000000","v":1638},252000,2.9166666666666665,{"$f":"$D$5+((-Sanierungsdesign!$E$12)/4*PI()*$D$3)*(-LN((4*$D$4*AH41)/(Sanierungsdesign!$E$13^2))-$D$19)","v":-768.03133082162287},-1041.1813308216229,-2106.6079758363662,{"$f":"$D$3*$T$7*$AH$7*(AK41-$D$5)*(1/Sanierungsdesign!$E$15)/1000000","v":-184.9463002501783},{"$f":"$D$5+(-Sanierungsdesign!$E$12/(4*PI()*$D$3))*(-LN((4*$D$4*AH41)/(Sanierungsdesign!$E$13+Sanierungsdesign!$E$15)^2)-$D$19)","v":183.18586471440892},-89.964135285591055,{"$f":"(2*PI()*Sanierungsdesign!$E$10*$D$3)*(LN((Sanierungsdesign!$E$13+Sanierungsdesign!$E$15)/Sanierungsdesign!$E$13)*(AJ41-AN41))*$AH$7/1000000","v":-84.923712578649074},434.20612252111124,980.00321853014805,{"$f":"AU41/Sanierungsdesign!$E$11","v":-0.76208201098252626},201600,-6.0966560878602101,{"$error":"#DIV/0!"},{"$error":"#DIV/0!"},{"$error":"#DIV/0!"},{"$error":"#DIV/0!"},{"$f":"(AY41/(AH41*Sanierungsdesign!$E$10))*1000000","v":{"$error":"#DIV/0!"}},{"$f":"AZ41/Sanierungsdesign!$E$12","v":{"$error":"#DIV/0!"}},{"$f":"$D$5+((-(Sanierungsdesign!$E$12)*MIN($BA$7:$BA$932))/(4*PI()*$D$3))*(-LN((4*$D$4*AH41)/(Sanierungsdesign!$E$13)^2)-$D$19)","v":{"$error":"#DIV/0!"}},{"$f":"(BB41-273.15)/Heterogenität!$D$4","v":{"$error":"#DIV/0!"}},{"$f":"IF(AI41<Berechnung!$D$7,AI41,#N/A)","v":{"$error":"#N/A"}}]
["1,1,2-Trichlorethan",{"$f":"IFERROR(IF(Schadstoffbelastung!E14/$B$45>0.1,1,0),0)","v":0},{"$f":"IF(B42=1,Stoffdatenbank!H15,\"\")","v":""},{"$f":"IF(B42=1,Stoffdatenbank!I15,\"\")","v":""},null,null,null,null,null,null,null,null,null,{"$f":"L6*L8","v":0},"J (Schadstoff)",null,"Dauer [Tagen] mit Verlust",null,null,{"$f":"T41/((Sanierungsdesign!E12*(U32))*Sanierungsdesign!E10)/86400","v":{"$error":"#N/A"}},null,null,null,null,null,null,null,null,null,null,null,null,{"$f":"Sanierungsdesign!$E$12*AH42*Sanierungsdesign!$E$10/1000000","v":1684.8},259200,3,{"$f":"$D$5+((-Sanierungsdesign!$E$12)/4*PI()*$D$3)*(-LN((4*$D$4*AH42)/(Sanierungsdesign!$E$13^2))-$D$19)","v":-728.56854758844065},-1001.7185475884406,-2027.6732174288388,{"$f":"$D$3*$T$7*$AH$7*(AK42-$D$5)*(1/Sanierungsdesign!$E$15)/1000000","v":-179.43522036654841},{"$f":"$D$5+(-Sanierungsdesign!$E$12/(4*PI()*$D$3))*(-LN((4*$D$4*AH42)/(Sanierungsdesign!$E$13+Sanierungsdesign!$E$15)^2)-$D$19)","v":185.30998811697026},-87.840011883029717,{"$f":"(2*PI()*Sanierungsdesign!$E$10*$D$3)*(LN((Sanierungsdesign!$E$13+Sanierungsdesign!$E$15)/Sanierungsdesign!$E$13)*(AJ42-AN42))*$AH$7/1000000","v":-81.590154658955768},446.61201173600011,1008.0033104881522,{"$f":"AU42/Sanierungsdesign!$E$11","v":-0.73352674103499549},207360,-5.8682139282799639,{"$error":"#DIV/0!"},{"$error":"#DIV/0!"},{"$error":"#DIV/0!"},{"$error":"#DIV/0!"},{"$f":"(AY42/(AH42*Sanierungsdesign!$E$10))*1000000","v":{"$error":"#DIV/0!"}},{"$f":"AZ42/Sanierungsdesign!$E$12","v":{"$error":"#DIV/0!"}},{"$f":"$D$5+((-(Sanierungsdesign!$E$12)*MIN($BA$7:$BA$932))/(4*PI()*$D$3))*(-LN((4*$D$4*AH42)/(Sanierungsdesign!$E$13)^2)-$D$19)","v":{"$error":"#DIV/0!"}},{"$f":"(BB42-273.15)/Heterogenität!$D$4","v":{"$error":"#DIV/0!"}},{"$f":"IF(AI42<Berechnung!$D$7,AI42,#N/A)","v":{"$error":"#N/A"}}]
["1,1-Dichlorethan",{"$f":"IFERROR(IF(Schadstoffbelastung!E15/$B$45>0.1,1,0),0)","v":0},{"$f":"IF(B43=1,Stoffdatenbank!H16,\"\")","v":""},{"$f":"IF(B43=1,Stoffdatenbank!I16,\"\")","v":""},null,null,null,null,null,null,null,null,null,{"$f":"SUM(N41:N42)","v":0},"J (Gesamt)",null,"Dauer [Tagen] ohne Verlust",null,null,{"$f":"T41/(Sanierungsdesign!$E$12*Sanierungsdesign!$E$10)/86400","v":0},null,null,null,null,null,null,null,null,null,null,null,null,{"$f":"Sanierungsdesign!$E$12*AH43*Sanierungsdesign!$E$10/1000000","v":1731.6},266400,3.0833333333333335,{"$f":"$D$5+((-Sanierungsdesign!$E$12)/4*PI()*$D$3)*(-LN((4*$D$4*AH43)/(Sanierungsdesign!$E$13^2))-$D$19)","v":-690.18707368276978},-963.33707368276976,-1950.9013295422922,{"$f":"$D$3*$T$7*$AH$7*(AK43-$D$5)*(1/Sanierungsdesign!$E$15)/1000000","v":-174.07514813100099},{"$f":"$D$5+(-Sanierungsdesign!$E$12/(4*PI()*$D$3))*(-LN((4*$D$4*AH43)/(Sanierungsdesign!$E$13+Sanierungsdesign!$E$15)^2)-$D$19)","v":187.37590897374557},-85.774091026254411,{"$f":"(2*PI()*Sanierungsdesign!$E$10*$D$3)*(LN((Sanierungsdesign!$E$13+Sanierungsdesign!$E$15)/Sanierungsdesign!$E$13)*(AJ43-AN43))*$AH$7/1000000","v":-78.347938681645601},459.01790095088899,1036.0034024461563,{"$f":"AU43/Sanierungsdesign!$E$11","v":-0.7057539065168521},213120,-5.6460312521348168,{"$error":"#DIV/0!"},{"$error":"#DIV/0!"},{"$error":"#DIV/0!"},{"$error":"#DIV/0!"},{"$f":"(AY43/(AH43*Sanierungsdesign!$E$10))*1000000","v":{"$error":"#DIV/0!"}},{"$f":"AZ43/Sanierungsdesign!$E$12","v":{"$error":"#DIV/0!"}},{"$f":"$D$5+((-(Sanierungsdesign!$E$12)*MIN($BA$7:$BA$932))/(4*PI()*$D$3))*(-LN((4*$D$4*AH43)/(Sanierungsdesign!$E$13)^2)-$D$19)","v":{"$error":"#DIV/0!"}},{"$f":"(BB43-273.15)/Heterogenität!$D$4","v":{"$error":"#DIV/0!"}},{"$f":"IF(AI43<Berechnung!$D$7,AI43,#N/A)","v":{"$error":"#N/A"}}]
["1,2-Dichlorethan",{"$f":"IFERROR(IF(Schadstoffbelastung!E16/$B$45>0.1,1,0),0)","v":0},{"$f":"IF(B44=1,Stoffdatenbank!H17,\"\")","v":""},{"$f":"IF(B44=1,Stoffdatenbank!I17,\"\")","v":""},null,null,null,null,null,null,null,null,null,"ausschlaggebender Schadstoff",null,null,{"$f":"C76","v":{"$error":"#N/A"}},null,null,null,null,null,null,null,null,null,null,null,null,null,null,null,{"$f":"Sanierungsdesign!$E$12*AH44*Sanierungsdesign!$E$10/1000000","v":1778.4},273600,3.1666666666666665,{"$f":"$D$5+((-Sanierungsdesign!$E$12)/4*PI()*$D$3)*(-LN((4*$D$4*AH44)/(Sanierungsdesign!$E$13^2))-$D$19)","v":-652.8292287333054},-925.97922873330538,-1876.1769379988104,{"$f":"$D$3*$T$7*$AH$7*(AK44-$D$5)*(1/Sanierungsdesign!$E$15)/1000000","v":-168.85802833029615},{"$f":"$D$5+(-Sanierungsdesign!$E$12/(4*PI()*$D$3))*(-LN((4*$D$4*AH44)/(Sanierungsdesign!$E$13+Sanierungsdesign!$E$15)^2)-$D$19)","v":189.38673198786313},-83.763268012136848,{"$f":"(2*PI()*Sanierungsdesign!$E$10*$D$3)*(LN((Sanierungsdesign!$E$13+Sanierungsdesign!$E$15)/Sanierungsdesign!$E$13)*(AJ44-AN44))*$AH$7/1000000","v":-75.192192186065256},471.42379016577792,1064.0034944041608,{"$f":"AU44/Sanierungsdesign!$E$11","v":-0.67872176991141975},218880,-5.429774159291358,{"$error":"#DIV/0!"},{"$error":"#DIV/0!"},{"$error":"#DIV/0!"},{"$error":"#DIV/0!"},{"$f":"(AY44/(AH44*Sanierungsdesign!$E$10))*1000000","v":{"$error":"#DIV/0!"}},{"$f":"AZ44/Sanierungsdesign!$E$12","v":{"$error":"#DIV/0!"}},{"$f":"$D$5+((-(Sanierungsdesign!$E$12)*MIN($BA$7:$BA$932))/(4*PI()*$D$3))*(-LN((4*$D$4*AH44)/(Sanierungsdesign!$E$13)^2)-$D$19)","v":{"$error":"#DIV/0!"}},{"$f":"(BB44-273.15)/Heterogenität!$D$4","v":{"$error":"#DIV/0!"}},{"$f":"IF(AI44<Berechnung!$D$7,AI44,#N/A)","v":{"$error":"#N/A"}}]
["LCKW",{"$f":"Schadstoffbelastung!E17","v":0},null,{"$f":"IF(B45=1,Stoffdatenbank!I18,\"\")","v":""},null,null,null,null,null,null,null,null,null,null,null,null,null,null,null,null,null,null,null,null,null,null,null,null,null,null,null,null,{"$f":"Sanierungsdesign!$E$12*AH45*Sanierungsdesign!$E$10/1000000","v":1825.2},280800,3.25,{"$f":"$D$5+((-Sanierungsdesign!$E$12)/4*PI()*$D$3)*(-LN((4*$D$4*AH45)/(Sanierungsdesign!$E$13^2))-$D$19)","v":-616.44182799600549},-889.59182799600546,-1803.393660922156,{"$f":"$D$3*$T$7*$AH$7*(AK45-$D$5)*(1/Sanierungsdesign!$E$15)/1000000","v":-163.77643357718475},{"$f":"$D$5+(-Sanierungsdesign!$E$12/(4*PI()*$D$3))*(-LN((4*$D$4*AH45)/(Sanierungsdesign!$E$13+Sanierungsdesign!$E$15)^2)-$D$19)","v":191.34531988086013},-81.804680119139846,{"$f":"(2*PI()*Sanierungsdesign!$E$10*$D$3)*(LN((Sanierungsdesign!$E$13+Sanierungsdesign!$E$15)/Sanierungsdesign!$E$13)*(AJ45-AN45))*$AH$7/1000000","v":-72.118422472760145},483.82967938066679,1092.0035863621649,{"$f":"AU45/Sanierungsdesign!$E$11","v":-0.65239184673790951},224640,-5.2191347739032761,{"$error":"#DIV/0!"},{"$error":"#DIV/0!"},{"$error":"#DIV/0!"},{"$error":"#DIV/0!"},{"$f":"(AY45/(AH45*Sanierungsdesign!$E$10))*1000000","v":{"$error":"#DIV/0!"}},{"$f":"AZ45/Sanierungsdesign!$E$12","v":{"$error":"#DIV/0!"}},{"$f":"$D$5+((-(Sanierungsdesign!$E$12)*MIN($BA$7:$BA$932))/(4*PI()*$D$3))*(-LN((4*$D$4*AH45)/(Sanierungsdesign!$E$13)^2)-$D$19)","v":{"$error":"#DIV/0!"}},{"$f":"(BB45-273.15)/Heterogenität!$D$4","v":{"$error":"#DIV/0!"}},{"$f":"IF(AI45<Berechnung!$D$7,AI45,#N/A)","v":{"$error":"#N/A"}}]
["Benzol",{"$f":"IFERROR(IF(Schadstoffbelastung!E18/$B$63>0.1,1,0),0)","v":0},{"$f":"IF(B46=1,Stoffdatenbank!H19,\"\")","v":""},{"$f":"IF(B46=1,Stoffdatenbank!I19,\"\")","v":""},null,null,null,null,null,null,null,null,null,null,null,null,null,null,null,null,null,null,null,null,null,null,null,null,null,null,null,null,{"$f":"Sanierungsdesign!$E$12*AH46*Sanierungsdesign!$E$10/1000000","v":1872},288000,3.3333333333333335,{"$f":"$D$5+((-Sanierungsdesign!$E$12)/4*PI()*$D$3)*(-LN((4*$D$4*AH46)/(Sanierungsdesign!$E$13^2))-$D$19)","v":-580.97572697243731},-854.12572697243729,-1732.4531978683901,{"$f":"$D$3*$T$7*$AH$7*(AK46-$D$5)*(1/Sanierungsdesign!$E$15)/1000000","v":-158.82350071518067},{"$f":"$D$5+(-Sanierungsdesign!$E$12/(4*PI()*$D$3))*(-LN((4*$D$4*AH46)/(Sanierungsdesign!$E$13+Sanierungsdesign!$E$15)^2)-$D$19)","v":193.25431790405131},-79.895682095948672,{"$f":"(2*PI()*Sanierungsdesign!$E$10*$D$3)*(LN((Sanierungsdesign!$E$13+Sanierungsdesign!$E$15)/Sanierungsdesign!$E$13)*(AJ46-AN46))*$AH$7/1000000","v":-69.122478135809601},496.23556859555566,1120.0036783201692,{"$f":"AU46/Sanierungsdesign!$E$11","v":-0.62672857603725562},230400,-5.013828608298045,{"$error":"#DIV/0!"},{"$error":"#DIV/0!"},{"$error":"#DIV/0!"},{"$error":"#DIV/0!"},{"$f":"(AY46/(AH46*Sanierungsdesign!$E$10))*1000000","v":{"$error":"#DIV/0!"}},{"$f":"AZ46/Sanierungsdesign!$E$12","v":{"$error":"#DIV/0!"}},{"$f":"$D$5+((-(Sanierungsdesign!$E$12)*MIN($BA$7:$BA$932))/(4*PI()*$D$3))*(-LN((4*$D$4*AH46)/(Sanierungsdesign!$E$13)^2)-$D$19)","v":{"$error":"#DIV/0!"}},{"$f":"(BB46-273.15)/Heterogenität!$D$4","v":{"$error":"#DIV/0!"}},{"$f":"IF(AI46<Berechnung!$D$7,AI46,#N/A)","v":{"$error":"#N/A"}}]
["Toluol",{"$f":"IFERROR(IF(Schadstoffbelastung!E19/$B$63>0.1,1,0),0)","v":0},{"$f":"IF(B47=1,Stoffdatenbank!H20,\"\")","v":""},{"$f":"IF(B47=1,Stoffdatenbank!I20,\"\")","v":""},null,null,null,null,null,null,null,null,null,null,null,null,null,null,null,null,null,null,null,null,null,null,null,null,null,null,null,null,{"$f":"Sanierungsdesign!$E$12*AH47*Sanierungsdesign!$E$10/1000000","v":1918.8},295200,3.4166666666666665,{"$f":"$D$5+((-Sanierungsdesign!$E$12)/4*PI()*$D$3)*(-LN((4*$D$4*AH47)/(Sanierungsdesign!$E$13^2))-$D$19)","v":-546.3854222663831},-819.53542226638308,-1663.2645314461161,{"$f":"$D$3*$T$7*$AH$7*(AK47-$D$5)*(1/Sanierungsdesign!$E$15)/1000000","v":-153.99287507715238},{"$f":"$D$5+(-Sanierungsdesign!$E$12/(4*PI()*$D$3))*(-LN((4*$D$4*AH47)/(Sanierungsdesign!$E$13+Sanierungsdesign!$E$15)^2)-$D$19)","v":195.11617532281736},-78.033824677182622,{"$f":"(2*PI()*Sanierungsdesign!$E$10*$D$3)*(LN((Sanierungsdesign!$E$13+Sanierungsdesign!$E$15)/Sanierungsdesign!$E$13)*(AJ47-AN47))*$AH$7/1000000","v":-66.200515345802572},508.64145781044459,1148.0037702781735,{"$f":"AU47/Sanierungsdesign!$E$11","v":-0.6016990315519547},236160,-4.8135922524156376,{"$error":"#DIV/0!"},{"$error":"#DIV/0!"},{"$error":"#DIV/0!"},{"$error":"#DIV/0!"},{"$f":"(AY47/(AH47*Sanierungsdesign!$E$10))*1000000","v":{"$error":"#DIV/0!"}},{"$f":"AZ47/Sanierungsdesign!$E$12","v":{"$error":"#DIV/0!"}},{"$f":"$D$5+((-(Sanierungsdesign!$E$12)*MIN($BA$7:$BA$932))/(4*PI()*$D$3))*(-LN((4*$D$4*AH47)/(Sanierungsdesign!$E$13)^2)-$D$19)","v":{"$error":"#DIV/0!"}},{"$f":"(BB47-273.15)/Heterogenität!$D$4","v":{"$error":"#DIV/0!"}},{"$f":"IF(AI47<Berechnung!$D$7,AI47,#N/A)","v":{"$error":"#N/A"}}]
["Ethylbenzol",{"$f":"IFERROR(IF(Schadstoffbelastung!E20/$B$63>0.1,1,0),0)","v":0},{"$f":"IF(B48=1,Stoffdatenbank!H21,\"\")","v":""},{"$f":"IF(B48=1,Stoffdatenbank!I21,\"\")","v":""},null,null,null,null,null,null,null,null,null,null,null,null,null,null,null,null,null,null,null,null,null,null,null,null,null,null,null,null,{"$f":"Sanierungsdesign!$E$12*AH48*Sanierungsdesign!$E$10/1000000","v":1965.6},302400,3.5,{"$f":"$D$5+((-Sanierungsdesign!$E$12)/4*PI()*$D$3)*(-LN((4*$D$4*AH48)/(Sanierungsdesign!$E$13^2))-$D$19)","v":-512.62870054490043},-785.7787005449004,-1595.7432251568305,{"$f":"$D$3*$T$7*$AH$7*(AK48-$D$5)*(1/Sanierungsdesign!$E$15)/1000000","v":-149.27866146182566},{"$f":"$D$5+(-Sanierungsdesign!$E$12/(4*PI()*$D$3))*(-LN((4*$D$4*AH48)/(Sanierungsdesign!$E$13+Sanierungsdesign!$E$15)^2)-$D$19)","v":196.93316431162393},-76.216835688376051,{"$f":"(2*PI()*Sanierungsdesign!$E$10*$D$3)*(LN((Sanierungsdesign!$E$13+Sanierungsdesign!$E$15)/Sanierungsdesign!$E$13)*(AJ48-AN48))*$AH$7/1000000","v":-63.348968196363032},521.04734702533347,1176.0038622361776,{"$f":"AU48/Sanierungsdesign!$E$11","v":-0.57727266771428987},241920,-4.6181813417143189,{"$error":"#DIV/0!"},{"$error":"#DIV/0!"},{"$error":"#DIV/0!"},{"$error":"#DIV/0!"},{"$f":"(AY48/(AH48*Sanierungsdesign!$E$10))*1000000","v":{"$error":"#DIV/0!"}},{"$f":"AZ48/Sanierungsdesign!$E$12","v":{"$error":"#DIV/0!"}},{"$f":"$D$5+((-(Sanierungsdesign!$E$12)*MIN($BA$7:$BA$932))/(4*PI()*$D$3))*(-LN((4*$D$4*AH48)/(Sanierungsdesign!$E$13)^2)-$D$19)","v":{"$error":"#DIV/0!"}},{"$f":"(BB48-273.15)/Heterogenität!$D$4","v":{"$error":"#DIV/0!"}},{"$f":"IF(AI48<Berechnung!$D$7,AI48,#N/A)","v":{"$error":"#N/A"}}]
["o-Xylol",{"$f":"IFERROR(IF(Schadstoffbelastung!E21/$B$63>0.1,1,0),0)","v":0},{"$f":"IF(B49=1,Stoffdatenbank!H22,\"\")","v":""},{"$f":"IF(B49=1,Stoffdatenbank!I22,\"\")","v":""},null,null,null,null,null,null,null,null,null,null,null,null,null,null,null,null,null,null,null,null,null,null,null,null,null,null,null,null,{"$f":"Sanierungsdesign!$E$12*AH49*Sanierungsdesign!$E$10/1000000","v":2012.4},309600,3.5833333333333335,{"$f":"$D$5+((-Sanierungsdesign!$E$12)/4*PI()*$D$3)*(-LN((4*$D$4*AH49)/(Sanierungsdesign!$E$13^2))-$D$19)","v":-479.66632881024623},-752.8163288102462,-1529.8108038666296,{"$f":"$D$3*$T$7*$AH$7*(AK49-$D$5)*(1/Sanierungsdesign!$E$15)/1000000","v":-144.67538087945567},{"$f":"$D$5+(-Sanierungsdesign!$E$12/(4*PI()*$D$3))*(-LN((4*$D$4*AH49)/(Sanierungsdesign!$E$13+Sanierungsdesign!$E$15)^2)-$D$19)","v":198.7073966254419},-74.442603374558075,{"$f":"(2*PI()*Sanierungsdesign!$E$10*$D$3)*(LN((Sanierungsdesign!$E$13+Sanierungsdesign!$E$15)/Sanierungsdesign!$E$13)*(AJ49-AN49))*$AH$7/1000000","v":-60.56452254034712},533.4532362402224,1204.0039541941819,{"$f":"AU49/Sanierungsdesign!$E$11","v":-0.55342109552709406},247680,-4.4273687642167525,{"$error":"#DIV/0!"},{"$error":"#DIV/0!"},{"$error":"#DIV/0!"},{"$error":"#DIV/0!"},{"$f":"(AY49/(AH49*Sanierungsdesign!$E$10))*1000000","v":{"$error":"#DIV/0!"}},{"$f":"AZ49/Sanierungsdesign!$E$12","v":{"$error":"#DIV/0!"}},{"$f":"$D$5+((-(Sanierungsdesign!$E$12)*MIN($BA$7:$BA$932))/(4*PI()*$D$3))*(-LN((4*$D$4*AH49)/(Sanierungsdesign!$E$13)^2)-$D$19)","v":{"$error":"#DIV/0!"}},{"$f":"(BB49-273.15)/Heterogenität!$D$4","v":{"$error":"#DIV/0!"}},{"$f":"IF(AI49<Berechnung!$D$7,AI49,#N/A)","v":{"$error":"#N/A"}}]
["m-Xylol",{"$f":"IFERROR(IF(Schadstoffbelastung!E22/$B$63>0.1,1,0),0)","v":0},{"$f":"IF(B50=1,Stoffdatenbank!H23,\"\")","v":""},{"$f":"IF(B50=1,Stoffdatenbank!I23,\"\")","v":""},null,null,null,null,null,null,null,null,null,null,null,null,null,null,null,null,null,null,null,null,null,null,null,null,null,null,null,null,{"$f":"Sanierungsdesign!$E$12*AH50*Sanierungsdesign!$E$10/1000000","v":2059.1999999999998},316800,3.6666666666666665,{"$f":"$D$5+((-Sanierungsdesign!$E$12)/4*PI()*$D$3)*(-LN((4*$D$4*AH50)/(Sanierungsdesign!$E$13^2))-$D$19)","v":-447.46178028273289},-720.61178028273287,-1465.3942055080706,{"$f":"$D$3*$T$7*$AH$7*(AK50-$D$5)*(1/Sanierungsdesign!$E$15)/1000000","v":-140.17793227065798},{"$f":"$D$5+(-Sanierungsdesign!$E$12/(4*PI()*$D$3))*(-LN((4*$D$4*AH50)/(Sanierungsdesign!$E$13+Sanierungsdesign!$E$15)^2)-$D$19)","v":200.44083835437431},-72.70916164562567,{"$f":"(2*PI()*Sanierungsdesign!$E$10*$D$3)*(LN((Sanierungsdesign!$E$13+Sanierungsdesign!$E$15)/Sanierungsdesign!$E$13)*(AJ50-AN50))*$AH$7/1000000","v":-57.844092834219104},545.85912545511121,1232.004046152186,{"$f":"AU50/Sanierungsdesign!$E$11","v":-0.53011788421258543},253440,-4.2409430737006835,{"$error":"#DIV/0!"},{"$error":"#DIV/0!"},{"$error":"#DIV/0!"},{"$error":"#DIV/0!"},{"$f":"(AY50/(AH50*Sanierungsdesign!$E$10))*1000000","v":{"$error":"#DIV/0!"}},{"$f":"AZ50/Sanierungsdesign!$E$12","v":{"$error":"#DIV/0!"}},{"$f":"$D$5+((-(Sanierungsdesign!$E$12)*MIN($BA$7:$BA$932))/(4*PI()*$D$3))*(-LN((4*$D$4*AH50)/(Sanierungsdesign!$E$13)^2)-$D$19)","v":{"$error":"#DIV/0!"}},{"$f":"(BB50-273.15)/Heterogenität!$D$4","v":{"$error":"#DIV/0!"}},{"$f":"IF(AI50<Berechnung!$D$7,AI50,#N/A)","v":{"$error":"#N/A"}}]
["p-Xylol",{"$f":"IFERROR(IF(Schadstoffbelastung!E23/$B$63>0.1,1,0),0)","v":0},{"$f":"IF(B51=1,Stoffdatenbank!H24,\"\")","v":""},{"$f":"IF(B51=1,Stoffdatenbank!I24,\"\")","v":""},null,null,null,null,null,null,null,null,null,null,null,null,null,null,null,null,null,null,null,null,null,null,null,null,null,null,null,null,{"$f":"Sanierungsdesign!$E$12*AH51*Sanierungsdesign!$E$10/1000000","v":2106},324000,3.75,{"$f":"$D$5+((-Sanierungsdesign!$E$12)/4*PI()*$D$3)*(-LN((4*$D$4*AH51)/(Sanierungsdesign!$E$13^2))-$D$19)","v":-415.9809910915136},-689.13099109151358,-1402.4252944050711,{"$f":"$D$3*$T$7*$AH$7*(AK51-$D$5)*(1/Sanierungsdesign!$E$15)/1000000","v":-135.78155852764638},{"$f":"$D$5+(-Sanierungsdesign!$E$12/(4*PI()*$D$3))*(-LN((4*$D$4*AH51)/(Sanierungsdesign!$E$13+Sanierungsdesign!$E$15)^2)-$D$19)","v":202.13532302001602},-71.01467697998396,{"$f":"(2*PI()*Sanierungsdesign!$E$10*$D$3)*(LN((Sanierungsdesign!$E$13+Sanierungsdesign!$E$15)/Sanierungsdesign!$E$13)*(AJ51-AN51))*$AH$7/1000000","v":-55.184801584879573},558.26501467000014,1260.0041381101903,{"$f":"AU51/Sanierungsdesign!$E$11","v":-0.50733838515381913},259200,-4.058707081230553,{"$error":"#DIV/0!"},{"$error":"#DIV/0!"},{"$error":"#DIV/0!"},{"$error":"#DIV/0!"},{"$f":"(AY51/(AH51*Sanierungsdesign!$E$10))*1000000","v":{"$error":"#DIV/0!"}},{"$f":"AZ51/Sanierungsdesign!$E$12","v":{"$error":"#DIV/0!"}},{"$f":"$D$5+((-(Sanierungsdesign!$E$12)*MIN($BA$7:$BA$932))/(4*PI()*$D$3))*(-LN((4*$D$4*AH51)/(Sanierungsdesign!$E$13)^2)-$D$19)","v":{"$error":"#DIV/0!"}},{"$f":"(BB51-273.15)/Heterogenität!$D$4","v":{"$error":"#DIV/0!"}},{"$f":"IF(AI51<Berechnung!$D$7,AI51,#N/A)","v":{"$error":"#N/A"}}]
["n-Propylbenzol",{"$f":"IFERROR(IF(Schadstoffbelastung!E24/$B$63>0.1,1,0),0)","v":0},{"$f":"IF(B52=1,Stoffdatenbank!H25,\"\")","v":""},{"$f":"IF(B52=1,Stoffdatenbank!I25,\"\")","v":""},null,null,null,null,null,null,null,null,null,null,null,null,null,null,null,null,null,null,null,null,null,null,null,null,null,null,null,null,{"$f":"Sanierungsdesign!$E$12*AH52*Sanierungsdesign!$E$10/1000000","v":2152.8000000000002},331200,3.8333333333333335,{"$f":"$D$5+((-Sanierungsdesign!$E$12)/4*PI()*$D$3)*(-LN((4*$D$4*AH52)/(Sanierungsdesign!$E$13^2))-$D$19)","v":-385.19214370949055},-658.34214370949053,-1340.8404280922784,{"$f":"$D$3*$T$7*$AH$7*(AK52-$D$5)*(1/Sanierungsdesign!$E$15)/1000000","v":-131.48181625035707},{"$f":"$D$5+(-Sanierungsdesign!$E$12/(4*PI()*$D$3))*(-LN((4*$D$4*AH52)/(Sanierungsdesign!$E$13+Sanierungsdesign!$E$15)^2)-$D$19)","v":203.79256323228401},-69.357436767715967,{"$f":"(2*PI()*Sanierungsdesign!$E$10*$D$3)*(LN((Sanierungsdesign!$E$13+Sanierungsdesign!$E$15)/Sanierungsdesign!$E$13)*(AJ52-AN52))*$AH$7/1000000","v":-52.583961055662407},570.67090388488907,1288.0042300681946,{"$f":"AU52/Sanierungsdesign!$E$11","v":-0.48505957518818732},264960,-3.8804766015054986,{"$error":"#DIV/0!"},{"$error":"#DIV/0!"},{"$error":"#DIV/0!"},{"$error":"#DIV/0!"},{"$f":"(AY52/(AH52*Sanierungsdesign!$E$10))*1000000","v":{"$error":"#DIV/0!"}},{"$f":"AZ52/Sanierungsdesign!$E$12","v":{"$error":"#DIV/0!"}},{"$f":"$D$5+((-(Sanierungsdesign!$E$12)*MIN($BA$7:$BA$932))/(4*PI()*$D$3))*(-LN((4*$D$4*AH52)/(Sanierungsdesign!$E$13)^2)-$D$19)","v":{"$error":"#DIV/0!"}},{"$f":"(BB52-273.15)/Heterogenität!$D$4","v":{"$error":"#DIV/0!"}},{"$f":"IF(AI52<Berechnung!$D$7,AI52,#N/A)","v":{"$error":"#N/A"}}]
["Isopropylbenzol",{"$f":"IFERROR(IF(Schadstoffbelastung!E25/$B$63>0.1,1,0),0)","v":0},{"$f":"IF(B53=1,Stoffdatenbank!H26,\"\")","v":""},{"$f":"IF(B53=1,Stoffdatenbank!I26,\"\")","v":""},null,null,null,null,null,null,null,null,null,null,null,null,null,null,null,null,null,null,null,null,null,null,null,null,null,null,null,null,{"$f":"Sanierungsdesign!$E$12*AH53*Sanierungsdesign!$E$10/1000000","v":2199.6},338400,3.9166666666666665,{"$f":"$D$5+((-Sanierungsdesign!$E$12)/4*PI()*$D$3)*(-LN((4*$D$4*AH53)/(Sanierungsdesign!$E$13^2))-$D$19)","v":-355.0654736804903},-628.21547368049028,-1280.5800707244061,{"$f":"$D$3*$T$7*$AH$7*(AK53-$D$5)*(1/Sanierungsdesign!$E$15)/1000000","v":-127.27454875539813},{"$f":"$D$5+(-Sanierungsdesign!$E$12/(4*PI()*$D$3))*(-LN((4*$D$4*AH53)/(Sanierungsdesign!$E$13+Sanierungsdesign!$E$15)^2)-$D$19)","v":205.4141610925189},-67.735838907481082,{"$f":"(2*PI()*Sanierungsdesign!$E$10*$D$3)*(LN((Sanierungsdesign!$E$13+Sanierungsdesign!$E$15)/Sanierungsdesign!$E$13)*(AJ53-AN53))*$AH$7/1000000","v":-50.039056939910246},583.07679309977789,1316.0043220261987,{"$f":"AU53/Sanierungsdesign!$E$11","v":-0.46325991675520267},270720,-3.7060793340416214,{"$error":"#DIV/0!"},{"$error":"#DIV/0!"},{"$error":"#DIV/0!"},{"$error":"#DIV/0!"},{"$f":"(AY53/(AH53*Sanierungsdesign!$E$10))*1000000","v":{"$error":"#DIV/0!"}},{"$f":"AZ53/Sanierungsdesign!$E$12","v":{"$error":"#DIV/0!"}},{"$f":"$D$5+((-(Sanierungsdesign!$E$12)*MIN($BA$7:$BA$932))/(4*PI()*$D$3))*(-LN((4*$D$4*AH53)/(Sanierungsdesign!$E$13)^2)-$D$19)","v":{"$error":"#DIV/0!"}},{"$f":"(BB53-273.15)/Heterogenität!$D$4","v":{"$error":"#DIV/0!"}},{"$f":"IF(AI53<Berechnung!$D$7,AI53,#N/A)","v":{"$error":"#N/A"}}]
["o-Ethyltoluol",{"$f":"IFERROR(IF(Schadstoffbelastung!E26/$B$63>0.1,1,0),0)","v":0},{"$f":"IF(B54=1,Stoffdatenbank!H27,\"\")","v":""},{"$f":"IF(B54=1,Stoffdatenbank!I27,\"\")","v":""},null,null,null,null,null,null,null,null,null,null,null,null,null,null,null,null,null,null,null,null,null,null,null,null,null,null,null,null,{"$f":"Sanierungsdesign!$E$12*AH54*Sanierungsdesign!$E$10/1000000","v":2246.4},345600,4,{"$f":"$D$5+((-Sanierungsdesign!$E$12)/4*PI()*$D$3)*(-LN((4*$D$4*AH54)/(Sanierungsdesign!$E$13^2))-$D$19)","v":-325.57309669571464},-598.72309669571462,-1221.5884471888537,{"$f":"$D$3*$T$7*$AH$7*(AK54-$D$5)*(1/Sanierungsdesign!$E$15)/1000000","v":-123.155861926828},{"$f":"$D$5+(-Sanierungsdesign!$E$12/(4*PI()*$D$3))*(-LN((4*$D$4*AH54)/(Sanierungsdesign!$E$13+Sanierungsdesign!$E$15)^2)-$D$19)","v":207.00161750126628},-66.148382498733696,{"$f":"(2*PI()*Sanierungsdesign!$E$10*$D$3)*(LN((Sanierungsdesign!$E$13+Sanierungsdesign!$E$15)/Sanierungsdesign!$E$13)*(AJ54-AN54))*$AH$7/1000000","v":-47.547733753523545},595.48268231466682,1344.0044139842032,{"$f":"AU54/Sanierungsdesign!$E$11","v":-0.44191923276901901},276480,-3.5353538621521521,{"$error":"#DIV/0!"},{"$error":"#DIV/0!"},{"$error":"#DIV/0!"},{"$error":"#DIV/0!"},{"$f":"(AY54/(AH54*Sanierungsdesign!$E$10))*1000000","v":{"$error":"#DIV/0!"}},{"$f":"AZ54/Sanierungsdesign!$E$12","v":{"$error":"#DIV/0!"}},{"$f":"$D$5+((-(Sanierungsdesign!$E$12)*MIN($BA$7:$BA$932))/(4*PI()*$D$3))*(-LN((4*$D$4*AH54)/(Sanierungsdesign!$E$13)^2)-$D$19)","v":{"$error":"#DIV/0!"}},{"$f":"(BB54-273.15)/Heterogenität!$D$4","v":{"$error":"#DIV/0!"}},{"$f":"IF(AI54<Berechnung!$D$7,AI54,#N/A)","v":{"$error":"#N/A"}}]
["m-Ethyltoluol",{"$f":"IFERROR(IF(Schadstoffbelastung!E27/$B$63>0.1,1,0),0)","v":0},{"$f":"IF(B55=1,Stoffdatenbank!H28,\"\")","v":""},{"$f":"IF(B55=1,Stoffdatenbank!I28,\"\")","v":""},null,null,null,null,null,null,null,null,null,null,null,null,null,null,null,null,null,null,null,null,null,null,null,null,null,null,null,null,{"$f":"Sanierungsdesign!$E$12*AH55*Sanierungsdesign!$E$10/1000000","v":2293.1999999999998},352800,4.083333333333333,{"$f":"$D$5+((-Sanierungsdesign!$E$12)/4*PI()*$D$3)*(-LN((4*$D$4*AH55)/(Sanierungsdesign!$E$13^2))-$D$19)","v":-296.68885350136009},-569.83885350136006,-1163.8132328848221,{"$f":"$D$3*$T$7*$AH$7*(AK55-$D$5)*(1/Sanierungsdesign!$E$15)/1000000","v":-119.12210255710288},{"$f":"$D$5+(-Sanierungsdesign!$E$12/(4*PI()*$D$3))*(-LN((4*$D$4*AH55)/(Sanierungsdesign!$E$13+Sanierungsdesign!$E$15)^2)-$D$19)","v":208.55634050627754},-64.593659493722441,{"$f":"(2*PI()*Sanierungsdesign!$E$10*$D$3)*(LN((Sanierungsdesign!$E$13+Sanierungsdesign!$E$15)/Sanierungsdesign!$E$13)*(AJ55-AN55))*$AH$7/1000000","v":-45.107781733770281},607.88857152955575,1372.0045059422073,{"$f":"AU55/Sanierungsdesign!$E$11","v":-0.42101859439358408},282240,-3.3681487551486726,{"$error":"#DIV/0!"},{"$error":"#DIV/0!"},{"$error":"#DIV/0!"},{"$error":"#DIV/0!"},{"$f":"(AY55/(AH55*Sanierungsdesign!$E$10))*1000000","v":{"$error":"#DIV/0!"}},{"$f":"AZ55/Sanierungsdesign!$E$12","v":{"$error":"#DIV/0!"}},{"$f":"$D$5+((-(Sanierungsdesign!$E$12)*MIN($BA$7:$BA$932))/(4*PI()*$D$3))*(-LN((4*$D$4*AH55)/(Sanierungsdesign!$E$13)^2)-$D$19)","v":{"$error":"#DIV/0!"}},{"$f":"(BB55-273.15)/Heterogenität!$D$4","v":{"$error":"#DIV/0!"}},{"$f":"IF(AI55<Berechnung!$D$7,AI55,#N/A)","v":{"$error":"#N/A"}}]
["p-Ethyltoluol",{"$f":"IFERROR(IF(Schadstoffbelastung!E28/$B$63>0.1,1,0),0)","v":0},{"$f":"IF(B56=1,Stoffdatenbank!H29,\"\")","v":""},{"$f":"IF(B56=1,Stoffdatenbank!I29,\"\")","v":""},null,null,null,null,null,null,null,null,null,null,null,null,null,null,null,null,null,null,null,null,null,null,null,null,null,null,null,null,{"$f":"Sanierungsdesign!$E$12*AH56*Sanierungsdesign!$E$10/1000000","v":2340},360000,4.166666666666667,{"$f":"$D$5+((-Sanierungsdesign!$E$12)/4*PI()*$D$3)*(-LN((4*$D$4*AH56)/(Sanierungsdesign!$E$13^2))-$D$19)","v":-268.38817047550992},-541.5381704755099,-1107.2052748446217,{"$f":"$D$3*$T$7*$AH$7*(AK56-$D$5)*(1/Sanierungsdesign!$E$15)/1000000","v":-115.16983887627858},{"$f":"$D$5+(-Sanierungsdesign!$E$12/(4*PI()*$D$3))*(-LN((4*$D$4*AH56)/(Sanierungsdesign!$E$13+Sanierungsdesign!$E$15)^2)-$D$19)","v":210.07965280709701},-63.070347192902972,{"$f":"(2*PI()*Sanierungsdesign!$E$10*$D$3)*(LN((Sanierungsdesign!$E$13+Sanierungsdesign!$E$15)/Sanierungsdesign!$E$13)*(AJ56-AN56))*$AH$7/1000000","v":-42.717125061733377},620.29446074444456,1400.0045979002114,{"$f":"AU56/Sanierungsdesign!$E$11","v":-0.40054022015607893},288000,-3.2043217612486314,{"$error":"#DIV/0!"},{"$error":"#DIV/0!"},{"$error":"#DIV/0!"},{"$error":"#DIV/0!"},{"$f":"(AY56/(AH56*Sanierungsdesign!$E$10))*1000000","v":{"$error":"#DIV/0!"}},{"$f":"AZ56/Sanierungsdesign!$E$12","v":{"$error":"#DIV/0!"}},{"$f":"$D$5+((-(Sanierungsdesign!$E$12)*MIN($BA$7:$BA$932))/(4*PI()*$D$3))*(-LN((4*$D$4*AH56)/(Sanierungsdesign!$E$13)^2)-$D$19)","v":{"$error":"#DIV/0!"}},{"$f":"(BB56-273.15)/Heterogenität!$D$4","v":{"$error":"#DIV/0!"}},{"$f":"IF(AI56<Berechnung!$D$7,AI56,#N/A)","v":{"$error":"#N/A"}}]
["1,2-Diethylbenzol",{"$f":"IFERROR(IF(Schadstoffbelastung!E29/$B$63>0.1,1,0),0)","v":0},{"$f":"IF(B57=1,Stoffdatenbank!H30,\"\")","v":""},{"$f":"IF(B57=1,Stoffdatenbank!I30,\"\")","v":""},null,null,null,null,null,null,null,null,null,null,null,null,null,null,null,null,null,null,null,null,null,null,null,null,null,null,null,null,{"$f":"Sanierungsdesign!$E$12*AH57*Sanierungsdesign!$E$10/1000000","v":2386.8000000000002},367200,4.25,{"$f":"$D$5+((-Sanierungsdesign!$E$12)/4*PI()*$D$3)*(-LN((4*$D$4*AH57)/(Sanierungsdesign!$E$13^2))-$D$19)","v":-240.64793401214069},-513.79793401214067,-1051.7183404724267,{"$f":"$D$3*$T$7*$AH$7*(AK57-$D$5)*(1/Sanierungsdesign!$E$15)/1000000","v":-111.29584300941174},{"$f":"$D$5+(-Sanierungsdesign!$E$12/(4*PI()*$D$3))*(-LN((4*$D$4*AH57)/(Sanierungsdesign!$E$13+Sanierungsdesign!$E$15)^2)-$D$19)","v":211.57279851646712},-61.57720148353286,{"$f":"(2*PI()*Sanierungsdesign!$E$10*$D$3)*(LN((Sanierungsdesign!$E$13+Sanierungsdesign!$E$15)/Sanierungsdesign!$E$13)*(AJ57-AN57))*$AH$7/1000000","v":-40.373811251092853},632.70034995933349,1428.0046898582159,{"$f":"AU57/Sanierungsdesign!$E$11","v":-0.38046738505118494},293760,-3.0437390804094795,{"$error":"#DIV/0!"},{"$error":"#DIV/0!"},{"$error":"#DIV/0!"},{"$error":"#DIV/0!"},{"$f":"(AY57/(AH57*Sanierungsdesign!$E$10))*1000000","v":{"$error":"#DIV/0!"}},{"$f":"AZ57/Sanierungsdesign!$E$12","v":{"$error":"#DIV/0!"}},{"$f":"$D$5+((-(Sanierungsdesign!$E$12)*MIN($BA$7:$BA$932))/(4*PI()*$D$3))*(-LN((4*$D$4*AH57)/(Sanierungsdesign!$E$13)^2)-$D$19)","v":{"$error":"#DIV/0!"}},{"$f":"(BB57-273.15)/Heterogenität!$D$4","v":{"$error":"#DIV/0!"}},{"$f":"IF(AI57<Berechnung!$D$7,AI57,#N/A)","v":{"$error":"#N/A"}}]
["1,3-Diethylbenzol",{"$f":"IFERROR(IF(Schadstoffbelastung!E30/$B$63>0.1,1,0),0)","v":0},{"$f":"IF(B58=1,Stoffdatenbank!H31,\"\")","v":""},{"$f":"IF(B58=1,Stoffdatenbank!I31,\"\")","v":""},null,null,null,null,null,null,null,null,null,null,null,null,null,null,null,null,null,null,null,null,null,null,null,null,null,null,null,null,{"$f":"Sanierungsdesign!$E$12*AH58*Sanierungsdesign!$E$10/1000000","v":2433.6},374400,4.333333333333333,{"$f":"$D$5+((-Sanierungsdesign!$E$12)/4*PI()*$D$3)*(-LN((4*$D$4*AH58)/(Sanierungsdesign!$E$13^2))-$D$19)","v":-213.44637710327925},-486.59637710327922,-997.3088906821705,{"$f":"$D$3*$T$7*$AH$7*(AK58-$D$5)*(1/Sanierungsdesign!$E$15)/1000000","v":-107.49707513746426},{"$f":"$D$5+(-Sanierungsdesign!$E$12/(4*PI()*$D$3))*(-LN((4*$D$4*AH58)/(Sanierungsdesign!$E$13+Sanierungsdesign!$E$15)^2)-$D$19)","v":213.03694926515612},-60.113050734843853,{"$f":"(2*PI()*Sanierungsdesign!$E$10*$D$3)*(LN((Sanierungsdesign!$E$13+Sanierungsdesign!$E$15)/Sanierungsdesign!$E$13)*(AJ58-AN58))*$AH$7/1000000","v":-38.076001567327893},645.10623917422242,1456.00478181622,{"$f":"AU58/Sanierungsdesign!$E$11","v":-0.36078433847193281},299520,-2.8862747077754625,{"$error":"#DIV/0!"},{"$error":"#DIV/0!"},{"$error":"#DIV/0!"},{"$error":"#DIV/0!"},{"$f":"(AY58/(AH58*Sanierungsdesign!$E$10))*1000000","v":{"$error":"#DIV/0!"}},{"$f":"AZ58/Sanierungsdesign!$E$12","v":{"$error":"#DIV/0!"}},{"$f":"$D$5+((-(Sanierungsdesign!$E$12)*MIN($BA$7:$BA$932))/(4*PI()*$D$3))*(-LN((4*$D$4*AH58)/(Sanierungsdesign!$E$13)^2)-$D$19)","v":{"$error":"#DIV/0!"}},{"$f":"(BB58-273.15)/Heterogenität!$D$4","v":{"$error":"#DIV/0!"}},{"$f":"IF(AI58<Berechnung!$D$7,AI58,#N/A)","v":{"$error":"#N/A"}}]
["1,4-Diethylbenzol",{"$f":"IFERROR(IF(Schadstoffbelastung!E31/$B$63>0.1,1,0),0)","v":0},{"$f":"IF(B59=1,Stoffdatenbank!H32,\"\")","v":""},{"$f":"IF(B59=1,Stoffdatenbank!I32,\"\")","v":""},null,null,null,null,null,null,null,null,null,null,null,null,null,null,null,null,null,null,null,null,null,null,null,null,null,null,null,null,{"$f":"Sanierungsdesign!$E$12*AH59*Sanierungsdesign!$E$10/1000000","v":2480.4},381600,4.416666666666667,{"$f":"$D$5+((-Sanierungsdesign!$E$12)/4*PI()*$D$3)*(-LN((4*$D$4*AH59)/(Sanierungsdesign!$E$13^2))-$D$19)","v":-186.76297672491796},-459.91297672491794,-943.93587464547477,{"$f":"$D$3*$T$7*$AH$7*(AK59-$D$5)*(1/Sanierungsdesign!$E$15)/1000000","v":-103.77066916698072},{"$f":"$D$5+(-Sanierungsdesign!$E$12/(4*PI()*$D$3))*(-LN((4*$D$4*AH59)/(Sanierungsdesign!$E$13+Sanierungsdesign!$E$15)^2)-$D$19)","v":214.4732097252631},-58.676790274736874,{"$f":"(2*PI()*Sanierungsdesign!$E$10*$D$3)*(LN((Sanierungsdesign!$E$13+Sanierungsdesign!$E$15)/Sanierungsdesign!$E$13)*(AJ59-AN59))*$AH$7/1000000","v":-35.821962359549985},657.51212838911124,1484.0048737742241,{"$f":"AU59/Sanierungsdesign!$E$11","v":-0.34147622995815058},305280,-2.7318098396652046,{"$error":"#DIV/0!"},{"$error":"#DIV/0!"},{"$error":"#DIV/0!"},{"$error":"#DIV/0!"},{"$f":"(AY59/(AH59*Sanierungsdesign!$E$10))*1000000","v":{"$error":"#DIV/0!"}},{"$f":"AZ59/Sanierungsdesign!$E$12","v":{"$error":"#DIV/0!"}},{"$f":"$D$5+((-(Sanierungsdesign!$E$12)*MIN($BA$7:$BA$932))/(4*PI()*$D$3))*(-LN((4*$D$4*AH59)/(Sanierungsdesign!$E$13)^2)-$D$19)","v":{"$error":"#DIV/0!"}},{"$f":"(BB59-273.15)/Heterogenität!$D$4","v":{"$error":"#DIV/0!"}},{"$f":"IF(AI59<Berechnung!$D$7,AI59,#N/A)","v":{"$error":"#N/A"}}]
["1,2,3-Trimethylbenzol",{"$f":"IFERROR(IF(Schadstoffbelastung!E32/$B$63>0.1,1,0),0)","v":0},{"$f":"IF(B60=1,Stoffdatenbank!H33,\"\")","v":""},{"$f":"IF(B60=1,Stoffdatenbank!I33,\"\")","v":""},null,null,null,null,null,null,null,null,null,null,null,null,null,null,null,null,null,null,null,null,null,null,null,null,null,null,null,null,{"$f":"Sanierungsdesign!$E$12*AH60*Sanierungsdesign!$E$10/1000000","v":2527.1999999999998},388800,4.5,{"$f":"$D$5+((-Sanierungsdesign!$E$12)/4*PI()*$D$3)*(-LN((4*$D$4*AH60)/(Sanierungsdesign!$E$13^2))-$D$19)","v":-160.57836081479087},-433.72836081479085,-891.56054372553456,{"$f":"$D$3*$T$7*$AH$7*(AK60-$D$5)*(1/Sanierungsdesign!$E$15)/1000000","v":-100.11391973929369},{"$f":"$D$5+(-Sanierungsdesign!$E$12/(4*PI()*$D$3))*(-LN((4*$D$4*AH60)/(Sanierungsdesign!$E$13+Sanierungsdesign!$E$15)^2)-$D$19)","v":215.88262261723099},-57.267377382768984,{"$f":"(2*PI()*Sanierungsdesign!$E$10*$D$3)*(LN((Sanierungsdesign!$E$13+Sanierungsdesign!$E$15)/Sanierungsdesign!$E$13)*(AJ60-AN60))*$AH$7/1000000","v":-33.610057202593495},669.91801760400017,1512.0049657322284,{"$f":"AU60/Sanierungsdesign!$E$11","v":-0.32252904188558262},311040,-2.580232335084661,{"$error":"#DIV/0!"},{"$error":"#DIV/0!"},{"$error":"#DIV/0!"},{"$error":"#DIV/0!"},{"$f":"(AY60/(AH60*Sanierungsdesign!$E$10))*1000000","v":{"$error":"#DIV/0!"}},{"$f":"AZ60/Sanierungsdesign!$E$12","v":{"$error":"#DIV/0!"}},{"$f":"$D$5+((-(Sanierungsdesign!$E$12)*MIN($BA$7:$BA$932))/(4*PI()*$D$3))*(-LN((4*$D$4*AH60)/(Sanierungsdesign!$E$13)^2)-$D$19)","v":{"$error":"#DIV/0!"}},{"$f":"(BB60-273.15)/Heterogenität!$D$4","v":{"$error":"#DIV/0!"}},{"$f":"IF(AI60<Berechnung!$D$7,AI60,#N/A)","v":{"$error":"#N/A"}}]
["1,2,4-Trimethylbenzol",{"$f":"IFERROR(IF(Schadstoffbelastung!E33/$B$63>0.1,1,0),0)","v":0},{"$f":"IF(B61=1,Stoffdatenbank!H34,\"\")","v":""},{"$f":"IF(B61=1,Stoffdatenbank!I34,\"\")","v":""},null,null,null,null,null,null,null,null,null,null,null,null,null,null,null,null,null,null,null,null,null,null,null,null,null,null,null,null,{"$f":"Sanierungsdesign!$E$12*AH61*Sanierungsdesign!$E$10/1000000","v":2574},396000,4.583333333333333,{"$f":"$D$5+((-Sanierungsdesign!$E$12)/4*PI()*$D$3)*(-LN((4*$D$4*AH61)/(Sanierungsdesign!$E$13^2))-$D$19)","v":-134.87422378580584},-408.02422378580582,-840.14628248430301,{"$f":"$D$3*$T$7*$AH$7*(AK61-$D$5)*(1/Sanierungsdesign!$E$15)/1000000","v":-96.524270431755951},{"$f":"$D$5+(-Sanierungsdesign!$E$12/(4*PI()*$D$3))*(-LN((4*$D$4*AH61)/(Sanierungsdesign!$E$13+Sanierungsdesign!$E$15)^2)-$D$19)","v":217.26617325742001},-55.88382674257997,{"$f":"(2*PI()*Sanierungsdesign!$E$10*$D$3)*(LN((Sanierungsdesign!$E$13+Sanierungsdesign!$E$15)/Sanierungsdesign!$E$13)*(AJ61-AN61))*$AH$7/1000000","v":-31.438739760142912},682.3239068188891,1540.0050576902327,{"$f":"AU61/Sanierungsdesign!$E$11","v":-0.30392952833140902},316800,-2.4314362266512721,{"$error":"#DIV/0!"},{"$error":"#DIV/0!"},{"$error":"#DIV/0!"},{"$error":"#DIV/0!"},{"$f":"(AY61/(AH61*Sanierungsdesign!$E$10))*1000000","v":{"$error":"#DIV/0!"}},{"$f":"AZ61/Sanierungsdesign!$E$12","v":{"$error":"#DIV/0!"}},{"$f":"$D$5+((-(Sanierungsdesign!$E$12)*MIN($BA$7:$BA$932))/(4*PI()*$D$3))*(-LN((4*$D$4*AH61)/(Sanierungsdesign!$E$13)^2)-$D$19)","v":{"$error":"#DIV/0!"}},{"$f":"(BB61-273.15)/Heterogenität!$D$4","v":{"$error":"#DIV/0!"}},{"$f":"IF(AI61<Berechnung!$D$7,AI61,#N/A)","v":{"$error":"#N/A"}}]
["1,3,5-Trimethylbenzol",{"$f":"IFERROR(IF(Schadstoffbelastung!E34/$B$63>0.1,1,0),0)","v":0},{"$f":"IF(B62=1,Stoffdatenbank!H35,\"\")","v":""},{"$f":"IF(B62=1,Stoffdatenbank!I35,\"\")","v":""},null,null,null,null,null,null,null,null,null,null,null,null,null,null,null,null,null,null,null,null,null,null,null,null,null,null,null,null,{"$f":"Sanierungsdesign!$E$12*AH62*Sanierungsdesign!$E$10/1000000","v":2620.8000000000002},403200,4.666666666666667,{"$f":"$D$5+((-Sanierungsdesign!$E$12)/4*PI()*$D$3)*(-LN((4*$D$4*AH62)/(Sanierungsdesign!$E$13^2))-$D$19)","v":-109.63324965217407},-382.78324965217405,-789.65845491684502,{"$f":"$D$3*$T$7*$AH$7*(AK62-$D$5)*(1/Sanierungsdesign!$E$15)/1000000","v":-92.999303022105181},{"$f":"$D$5+(-Sanierungsdesign!$E$12/(4*PI()*$D$3))*(-LN((4*$D$4*AH62)/(Sanierungsdesign!$E$13+Sanierungsdesign!$E$15)^2)-$D$19)","v":218.62479369591989},-54.525206304080086,{"$f":"(2*PI()*Sanierungsdesign!$E$10*$D$3)*(LN((Sanierungsdesign!$E$13+Sanierungsdesign!$E$15)/Sanierungsdesign!$E$13)*(AJ62-AN62))*$AH$7/1000000","v":-29.306547290930769},694.72979603377792,1568.0051496482367,{"$f":"AU62/Sanierungsdesign!$E$11","v":-0.28566515944831311},322560,-2.2853212755865049,{"$error":"#DIV/0!"},{"$error":"#DIV/0!"},{"$error":"#DIV/0!"},{"$error":"#DIV/0!"},{"$f":"(AY62/(AH62*Sanierungsdesign!$E$10))*1000000","v":{"$error":"#DIV/0!"}},{"$f":"AZ62/Sanierungsdesign!$E$12","v":{"$error":"#DIV/0!"}},{"$f":"$D$5+((-(Sanierungsdesign!$E$12)*MIN($BA$7:$BA$932))/(4*PI()*$D$3))*(-LN((4*$D$4*AH62)/(Sanierungsdesign!$E$13)^2)-$D$19)","v":{"$error":"#DIV/0!"}},{"$f":"(BB62-273.15)/Heterogenität!$D$4","v":{"$error":"#DIV/0!"}},{"$f":"IF(AI62<Berechnung!$D$7,AI62,#N/A)","v":{"$error":"#N/A"}}]
["AKW",{"$f":"Schadstoffbelastung!E35","v":0},null,{"$f":"IF(B63=1,Stoffdatenbank!I36,\"\")","v":""},null,null,null,null,null,null,null,null,null,null,null,null,null,null,null,null,null,null,null,null,null,null,null,null,null,null,null,null,{"$f":"Sanierungsdesign!$E$12*AH63*Sanierungsdesign!$E$10/1000000","v":2667.6},410400,4.75,{"$f":"$D$5+((-Sanierungsdesign!$E$12)/4*PI()*$D$3)*(-LN((4*$D$4*AH63)/(Sanierungsdesign!$E$13^2))-$D$19)","v":-84.83904195965556},-357.98904195965554,-740.06426429550606,{"$f":"$D$3*$T$7*$AH$7*(AK63-$D$5)*(1/Sanierungsdesign!$E$15)/1000000","v":-89.536727703041421},{"$f":"$D$5+(-Sanierungsdesign!$E$12/(4*PI()*$D$3))*(-LN((4*$D$4*AH63)/(Sanierungsdesign!$E$13+Sanierungsdesign!$E$15)^2)-$D$19)","v":219.95936648812381},-53.190633511876172,{"$f":"(2*PI()*Sanierungsdesign!$E$10*$D$3)*(LN((Sanierungsdesign!$E$13+Sanierungsdesign!$E$15)/Sanierungsdesign!$E$13)*(AJ63-AN63))*$AH$7/1000000","v":-27.212094729702976},707.13568524866685,1596.005241606241,{"$f":"AU63/Sanierungsdesign!$E$11","v":-0.26772407076200672},328320,-2.1417925660960537,{"$error":"#DIV/0!"},{"$error":"#DIV/0!"},{"$error":"#DIV/0!"},{"$error":"#DIV/0!"},{"$f":"(AY63/(AH63*Sanierungsdesign!$E$10))*1000000","v":{"$error":"#DIV/0!"}},{"$f":"AZ63/Sanierungsdesign!$E$12","v":{"$error":"#DIV/0!"}},{"$f":"$D$5+((-(Sanierungsdesign!$E$12)*MIN($BA$7:$BA$932))/(4*PI()*$D$3))*(-LN((4*$D$4*AH63)/(Sanierungsdesign!$E$13)^2)-$D$19)","v":{"$error":"#DIV/0!"}},{"$f":"(BB63-273.15)/Heterogenität!$D$4","v":{"$error":"#DIV/0!"}},{"$f":"IF(AI63<Berechnung!$D$7,AI63,#N/A)","v":{"$error":"#N/A"}}]
["n-Pentan",{"$f":"IFERROR(IF(Schadstoffbelastung!E36/$B$70>0.1,1,0),0)","v":0},{"$f":"IF(B64=1,Stoffdatenbank!H37,\"\")","v":""},{"$f":"IF(B64=1,Stoffdatenbank!I37,\"\")","v":""},null,null,null,null,null,null,null,null,null,null,null,null,null,null,null,null,null,null,null,null,null,null,null,null,null,null,null,null,{"$f":"Sanierungsdesign!$E$12*AH64*Sanierungsdesign!$E$10/1000000","v":2714.4},417600,4.833333333333333,{"$f":"$D$5+((-Sanierungsdesign!$E$12)/4*PI()*$D$3)*(-LN((4*$D$4*AH64)/(Sanierungsdesign!$E$13^2))-$D$19)","v":-60.476059809786648},-333.62605980978663,-691.33262520346693,{"$f":"$D$3*$T$7*$AH$7*(AK64-$D$5)*(1/Sanierungsdesign!$E$15)/1000000","v":-86.134374147844667},{"$f":"$D$5+(-Sanierungsdesign!$E$12/(4*PI()*$D$3))*(-LN((4*$D$4*AH64)/(Sanierungsdesign!$E$13+Sanierungsdesign!$E$15)^2)-$D$19)","v":221.27072813828755},-51.879271861712425,{"$f":"(2*PI()*Sanierungsdesign!$E$10*$D$3)*(LN((Sanierungsdesign!$E$13+Sanierungsdesign!$E$15)/Sanierungsdesign!$E$13)*(AJ64-AN64))*$AH$7/1000000","v":-25.154069282963771},719.54157446355578,1624.0053335642456,{"$f":"AU64/Sanierungsdesign!$E$11","v":-0.25009501687836155},334080,-2.0007601350268924,{"$error":"#DIV/0!"},{"$error":"#DIV/0!"},{"$error":"#DIV/0!"},{"$error":"#DIV/0!"},{"$f":"(AY64/(AH64*Sanierungsdesign!$E$10))*1000000","v":{"$error":"#DIV/0!"}},{"$f":"AZ64/Sanierungsdesign!$E$12","v":{"$error":"#DIV/0!"}},{"$f":"$D$5+((-(Sanierungsdesign!$E$12)*MIN($BA$7:$BA$932))/(4*PI()*$D$3))*(-LN((4*$D$4*AH64)/(Sanierungsdesign!$E$13)^2)-$D$19)","v":{"$error":"#DIV/0!"}},{"$f":"(BB64-273.15)/Heterogenität!$D$4","v":{"$error":"#DIV/0!"}},{"$f":"IF(AI64<Berechnung!$D$7,AI64,#N/A)","v":{"$error":"#N/A"}}]
["n-Hexan",{"$f":"IFERROR(IF(Schadstoffbelastung!E37/$B$70>0.1,1,0),0)","v":0},{"$f":"IF(B65=1,Stoffdatenbank!H38,\"\")","v":""},{"$f":"IF(B65=1,Stoffdatenbank!I38,\"\")","v":""},null,null,null,null,null,null,null,null,null,null,null,null,null,null,null,null,null,null,null,null,null,null,null,null,null,null,null,null,{"$f":"Sanierungsdesign!$E$12*AH65*Sanierungsdesign!$E$10/1000000","v":2761.2},424800,4.916666666666667,{"$f":"$D$5+((-Sanierungsdesign!$E$12)/4*PI()*$D$3)*(-LN((4*$D$4*AH65)/(Sanierungsdesign!$E$13^2))-$D$19)","v":-36.529559352962167},-309.67955935296214,-643.43404650727882,{"$f":"$D$3*$T$7*$AH$7*(AK65-$D$5)*(1/Sanierungsdesign!$E$15)/1000000","v":-82.790183339732323},{"$f":"$D$5+(-Sanierungsdesign!$E$12/(4*PI()*$D$3))*(-LN((4*$D$4*AH65)/(Sanierungsdesign!$E$13+Sanierungsdesign!$E$15)^2)-$D$19)","v":222.55967224872268},-50.5903277512773,{"$f":"(2*PI()*Sanierungsdesign!$E$10*$D$3)*(LN((Sanierungsdesign!$E$13+Sanierungsdesign!$E$15)/Sanierungsdesign!$E$13)*(AJ65-AN65))*$AH$7/1000000","v":-23.131225486693872},731.94746367844459,1652.0054255222494,{"$f":"AU65/Sanierungsdesign!$E$11","v":-0.23276732914780338},339840,-1.862138633182427,{"$error":"#DIV/0!"},{"$error":"#DIV/0!"},{"$error":"#DIV/0!"},{"$error":"#DIV/0!"},{"$f":"(AY65/(AH65*Sanierungsdesign!$E$10))*1000000","v":{"$error":"#DIV/0!"}},{"$f":"AZ65/Sanierungsdesign!$E$12","v":{"$error":"#DIV/0!"}},{"$f":"$D$5+((-(Sanierungsdesign!$E$12)*MIN($BA$7:$BA$932))/(4*PI()*$D$3))*(-LN((4*$D$4*AH65)/(Sanierungsdesign!$E$13)^2)-$D$19)","v":{"$error":"#DIV/0!"}},{"$f":"(BB65-273.15)/Heterogenität!$D$4","v":{"$error":"#DIV/0!"}},{"$f":"IF(AI65<Berechnung!$D$7,AI65,#N/A)","v":{"$error":"#N/A"}}]
["n-Heptan",{"$f":"IFERROR(IF(Schadstoffbelastung!E38/$B$70>0.1,1,0),0)","v":0},{"$f":"IF(B66=1,Stoffdatenbank!H39,\"\")","v":""},{"$f":"IF(B66=1,Stoffdatenbank!I39,\"\")","v":""},null,null,null,null,null,null,null,null,null,null,null,null,null,null,null,null,null,null,null,null,null,null,null,null,null,null,null,null,{"$f":"Sanierungsdesign!$E$12*AH66*Sanierungsdesign!$E$10/1000000","v":2808},432000,5,{"$f":"$D$5+((-Sanierungsdesign!$E$12)/4*PI()*$D$3)*(-LN((4*$D$4*AH66)/(Sanierungsdesign!$E$13^2))-$D$19)","v":-12.985540198787248},-286.13554019878723,-596.34052416508541,{"$f":"$D$3*$T$7*$AH$7*(AK66-$D$5)*(1/Sanierungsdesign!$E$15)/1000000","v":-79.5022000879259},{"$f":"$D$5+(-Sanierungsdesign!$E$12/(4*PI()*$D$3))*(-LN((4*$D$4*AH66)/(Sanierungsdesign!$E$13+Sanierungsdesign!$E$15)^2)-$D$19)","v":223.82695240431201},-49.323047595687967,{"$f":"(2*PI()*Sanierungsdesign!$E$10*$D$3)*(LN((Sanierungsdesign!$E$13+Sanierungsdesign!$E$15)/Sanierungsdesign!$E$13)*(AJ66-AN66))*$AH$7/1000000","v":-21.142380679447317},744.35335289333352,1680.0055174802537,{"$f":"AU66/Sanierungsdesign!$E$11","v":-0.2157308768878424},345600,-1.7258470151027392,{"$error":"#DIV/0!"},{"$error":"#DIV/0!"},{"$error":"#DIV/0!"},{"$error":"#DIV/0!"},{"$f":"(AY66/(AH66*Sanierungsdesign!$E$10))*1000000","v":{"$error":"#DIV/0!"}},{"$f":"AZ66/Sanierungsdesign!$E$12","v":{"$error":"#DIV/0!"}},{"$f":"$D$5+((-(Sanierungsdesign!$E$12)*MIN($BA$7:$BA$932))/(4*PI()*$D$3))*(-LN((4*$D$4*AH66)/(Sanierungsdesign!$E$13)^2)-$D$19)","v":{"$error":"#DIV/0!"}},{"$f":"(BB66-273.15)/Heterogenität!$D$4","v":{"$error":"#DIV/0!"}},{"$f":"IF(AI66<Berechnung!$D$7,AI66,#N/A)","v":{"$error":"#N/A"}}]
["n-Octan",{"$f":"IFERROR(IF(Schadstoffbelastung!E39/$B$70>0.1,1,0),0)","v":0},{"$f":"IF(B67=1,Stoffdatenbank!H40,\"\")","v":""},{"$f":"IF(B67=1,Stoffdatenbank!I40,\"\")","v":""},null,null,null,null,null,null,null,null,null,null,null,null,null,null,null,null,null,null,null,null,null,null,null,null,null,null,null,null,{"$f":"Sanierungsdesign!$E$12*AH67*Sanierungsdesign!$E$10/1000000","v":2854.8},439200,5.083333333333333,{"$f":"$D$5+((-Sanierungsdesign!$E$12)/4*PI()*$D$3)*(-LN((4*$D$4*AH67)/(Sanierungsdesign!$E$13^2))-$D$19)","v":10.169303744040121},-262.98069625595986,-550.02544289493699,{"$f":"$D$3*$T$7*$AH$7*(AK67-$D$5)*(1/Sanierungsdesign!$E$15)/1000000","v":-76.268566162313533},{"$f":"$D$5+(-Sanierungsdesign!$E$12/(4*PI()*$D$3))*(-LN((4*$D$4*AH67)/(Sanierungsdesign!$E$13+Sanierungsdesign!$E$15)^2)-$D$19)","v":225.07328481860202},-48.076715181397958,{"$f":"(2*PI()*Sanierungsdesign!$E$10*$D$3)*(LN((Sanierungsdesign!$E$13+Sanierungsdesign!$E$15)/Sanierungsdesign!$E$13)*(AJ67-AN67))*$AH$7/1000000","v":-19.186410849626206},756.75924210822245,1708.0056094382583,{"$f":"AU67/Sanierungsdesign!$E$11","v":-0.19897603181081253},351360,-1.5918082544865002,{"$error":"#DIV/0!"},{"$error":"#DIV/0!"},{"$error":"#DIV/0!"},{"$error":"#DIV/0!"},{"$f":"(AY67/(AH67*Sanierungsdesign!$E$10))*1000000","v":{"$error":"#DIV/0!"}},{"$f":"AZ67/Sanierungsdesign!$E$12","v":{"$error":"#DIV/0!"}},{"$f":"$D$5+((-(Sanierungsdesign!$E$12)*MIN($BA$7:$BA$932))/(4*PI()*$D$3))*(-LN((4*$D$4*AH67)/(Sanierungsdesign!$E$13)^2)-$D$19)","v":{"$error":"#DIV/0!"}},{"$f":"(BB67-273.15)/Heterogenität!$D$4","v":{"$error":"#DIV/0!"}},{"$f":"IF(AI67<Berechnung!$D$7,AI67,#N/A)","v":{"$error":"#N/A"}}]
["n-Nonan",{"$f":"IFERROR(IF(Schadstoffbelastung!E40/$B$70>0.1,1,0),0)","v":0},{"$f":"IF(B68=1,Stoffdatenbank!H41,\"\")","v":""},{"$f":"IF(B68=1,Stoffdatenbank!I41,\"\")","v":""},null,null,null,null,null,null,null,null,null,null,null,null,null,null,null,null,null,null,null,null,null,null,null,null,null,null,null,null,{"$f":"Sanierungsdesign!$E$12*AH68*Sanierungsdesign!$E$10/1000000","v":2901.6},446400,5.166666666666667,{"$f":"$D$5+((-Sanierungsdesign!$E$12)/4*PI()*$D$3)*(-LN((4*$D$4*AH68)/(Sanierungsdesign!$E$13^2))-$D$19)","v":32.94762943053891},-240.20237056946107,-504.4634858386512,{"$f":"$D$3*$T$7*$AH$7*(AK68-$D$5)*(1/Sanierungsdesign!$E$15)/1000000","v":-73.087513986346423},{"$f":"$D$5+(-Sanierungsdesign!$E$12/(4*PI()*$D$3))*(-LN((4*$D$4*AH68)/(Sanierungsdesign!$E$13+Sanierungsdesign!$E$15)^2)-$D$19)","v":226.29935076473561},-46.85064923526437,{"$f":"(2*PI()*Sanierungsdesign!$E$10*$D$3)*(LN((Sanierungsdesign!$E$13+Sanierungsdesign!$E$15)/Sanierungsdesign!$E$13)*(AJ68-AN68))*$AH$7/1000000","v":-17.262246820421758},769.16513132311127,1736.0057013962621,{"$f":"AU68/Sanierungsdesign!$E$11","v":-0.18249363534406199},357120,-1.4599490827524959,{"$error":"#DIV/0!"},{"$error":"#DIV/0!"},{"$error":"#DIV/0!"},{"$error":"#DIV/0!"},{"$f":"(AY68/(AH68*Sanierungsdesign!$E$10))*1000000","v":{"$error":"#DIV/0!"}},{"$f":"AZ68/Sanierungsdesign!$E$12","v":{"$error":"#DIV/0!"}},{"$f":"$D$5+((-(Sanierungsdesign!$E$12)*MIN($BA$7:$BA$932))/(4*PI()*$D$3))*(-LN((4*$D$4*AH68)/(Sanierungsdesign!$E$13)^2)-$D$19)","v":{"$error":"#DIV/0!"}},{"$f":"(BB68-273.15)/Heterogenität!$D$4","v":{"$error":"#DIV/0!"}},{"$f":"IF(AI68<Berechnung!$D$7,AI68,#N/A)","v":{"$error":"#N/A"}}]
["n-Decan",{"$f":"IFERROR(IF(Schadstoffbelastung!E41/$B$70>0.1,1,0),0)","v":0},{"$f":"IF(B69=1,Stoffdatenbank!H42,\"\")","v":""},{"$f":"IF(B69=1,Stoffdatenbank!I42,\"\")","v":""},null,null,null,null,null,null,null,null,null,null,null,null,null,null,null,null,null,null,null,null,null,null,null,null,null,null,null,null,{"$f":"Sanierungsdesign!$E$12*AH69*Sanierungsdesign!$E$10/1000000","v":2948.4},453600,5.25,{"$f":"$D$5+((-Sanierungsdesign!$E$12)/4*PI()*$D$3)*(-LN((4*$D$4*AH69)/(Sanierungsdesign!$E$13^2))-$D$19)","v":55.361486228749328},-217.78851377125065,-459.63055145352638,{"$f":"$D$3*$T$7*$AH$7*(AK69-$D$5)*(1/Sanierungsdesign!$E$15)/1000000","v":-69.957360834570935},{"$f":"$D$5+(-Sanierungsdesign!$E$12/(4*PI()*$D$3))*(-LN((4*$D$4*AH69)/(Sanierungsdesign!$E$13+Sanierungsdesign!$E$15)^2)-$D$19)","v":227.5057988118846},-45.644201188115375,{"$f":"(2*PI()*Sanierungsdesign!$E$10*$D$3)*(LN((Sanierungsdesign!$E$13+Sanierungsdesign!$E$15)/Sanierungsdesign!$E$13)*(AJ69-AN69))*$AH$7/1000000","v":-15.36887074000076},781.5710205380002,1764.0057933542664,{"$f":"AU69/Sanierungsdesign!$E$11","v":-0.16627496856487695},362880,-1.3301997485190156,{"$error":"#DIV/0!"},{"$error":"#DIV/0!"},{"$error":"#DIV/0!"},{"$error":"#DIV/0!"},{"$f":"(AY69/(AH69*Sanierungsdesign!$E$10))*1000000","v":{"$error":"#DIV/0!"}},{"$f":"AZ69/Sanierungsdesign!$E$12","v":{"$error":"#DIV/0!"}},{"$f":"$D$5+((-(Sanierungsdesign!$E$12)*MIN($BA$7:$BA$932))/(4*PI()*$D$3))*(-LN((4*$D$4*AH69)/(Sanierungsdesign!$E$13)^2)-$D$19)","v":{"$error":"#DIV/0!"}},{"$f":"(BB69-273.15)/Heterogenität!$D$4","v":{"$error":"#DIV/0!"}},{"$f":"IF(AI69<Berechnung!$D$7,AI69,#N/A)","v":{"$error":"#N/A"}}]
["n-Alkane",{"$f":"Schadstoffbelastung!E42","v":0},null,{"$f":"IF(B70=1,Stoffdatenbank!I43,\"\")","v":""},null,null,null,null,null,null,null,null,null,null,null,null,null,null,null,null,null,null,null,null,null,null,null,null,null,null,null,null,{"$f":"Sanierungsdesign!$E$12*AH70*Sanierungsdesign!$E$10/1000000","v":2995.2},460800,5.333333333333333,{"$f":"$D$5+((-Sanierungsdesign!$E$12)/4*PI()*$D$3)*(-LN((4*$D$4*AH70)/(Sanierungsdesign!$E$13^2))-$D$19)","v":77.422354197011742},-195.72764580298823,-415.50367694886825,{"$f":"$D$3*$T$7*$AH$7*(AK70-$D$5)*(1/Sanierungsdesign!$E$15)/1000000","v":-66.876503487107527},{"$f":"$D$5+(-Sanierungsdesign!$E$12/(4*PI()*$D$3))*(-LN((4*$D$4*AH70)/(Sanierungsdesign!$E$13+Sanierungsdesign!$E$15)^2)-$D$19)","v":228.6932468855623},-44.456753114437674,{"$f":"(2*PI()*Sanierungsdesign!$E$10*$D$3)*(LN((Sanierungsdesign!$E$13+Sanierungsdesign!$E$15)/Sanierungsdesign!$E$13)*(AJ70-AN70))*$AH$7/1000000","v":-13.50531284809129},793.97690975288913,1792.0058853122709,{"$f":"AU70/Sanierungsdesign!$E$11","v":-0.15031172450304225},368640,-1.202493796024338,{"$error":"#DIV/0!"},{"$error":"#DIV/0!"},{"$error":"#DIV/0!"},{"$error":"#DIV/0!"},{"$f":"(AY70/(AH70*Sanierungsdesign!$E$10))*1000000","v":{"$error":"#DIV/0!"}},{"$f":"AZ70/Sanierungsdesign!$E$12","v":{"$error":"#DIV/0!"}},{"$f":"$D$5+((-(Sanierungsdesign!$E$12)*MIN($BA$7:$BA$932))/(4*PI()*$D$3))*(-LN((4*$D$4*AH70)/(Sanierungsdesign!$E$13)^2)-$D$19)","v":{"$error":"#DIV/0!"}},{"$f":"(BB70-273.15)/Heterogenität!$D$4","v":{"$error":"#DIV/0!"}},{"$f":"IF(AI70<Berechnung!$D$7,AI70,#N/A)","v":{"$error":"#N/A"}}]
["Methyl-tert-butylether",{"$f":"IFERROR(IF(Schadstoffbelastung!E43/$B$74>0.1,1,0),0)","v":0},{"$f":"IF(B71=1,Stoffdatenbank!H44,\"\")","v":""},{"$f":"IF(B71=1,Stoffdatenbank!I44,\"\")","v":""},null,null,null,null,null,null,null,null,null,null,null,null,null,null,null,null,null,null,null,null,null,null,null,null,null,null,null,null,{"$f":"Sanierungsdesign!$E$12*AH71*Sanierungsdesign!$E$10/1000000","v":3042},468000,{"$f":"AH71/86400","v":5.416666666666667},{"$f":"$D$5+((-Sanierungsdesign!$E$12)/4*PI()*$D$3)*(-LN((4*$D$4*AH71)/(Sanierungsdesign!$E$13^2))-$D$19)","v":99.141179393648002},{"$f":"AJ71-273.15","v":-174.00882060635197},-372.06096765840232,{"$f":"$D$3*$T$7*$AH$7*(AK71-$D$5)*(1/Sanierungsdesign!$E$15)/1000000","v":-63.84341329856219},{"$f":"$D$5+(-Sanierungsdesign!$E$12/(4*PI()*$D$3))*(-LN((4*$D$4*AH71)/(Sanierungsdesign!$E$13+Sanierungsdesign!$E$15)^2)-$D$19)","v":229.86228416820188},{"$f":"AN71-273.15","v":-43.287715831798096},{"$f":"(2*PI()*Sanierungsdesign!$E$10*$D$3)*(LN((Sanierungsdesign!$E$13+Sanierungsdesign!$E$15)/Sanierungsdesign!$E$13)*(AJ71-AN71))*$AH$7/1000000","v":-11.670648493251685},806.38279896777794,1820.0059772702748,{"$f":"AU71/Sanierungsdesign!$E$11","v":-0.13459598259075625},374400,-1.07676786072605,{"$error":"#DIV/0!"},{"$error":"#DIV/0!"},{"$error":"#DIV/0!"},{"$f":"AG71-AX71","v":{"$error":"#DIV/0!"}},{"$f":"(AY71/(AH71*Sanierungsdesign!$E$10))*1000000","v":{"$error":"#DIV/0!"}},{"$f":"AZ71/Sanierungsdesign!$E$12","v":{"$error":"#DIV/0!"}},{"$f":"$D$5+((-(Sanierungsdesign!$E$12)*MIN($BA$7:$BA$932))/(4*PI()*$D$3))*(-LN((4*$D$4*AH71)/(Sanierungsdesign!$E$13)^2)-$D$19)","v":{"$error":"#DIV/0!"}},{"$f":"(BB71-273.15)/Heterogenität!$D$4","v":{"$error":"#DIV/0!"}},{"$f":"IF(AI71<Berechnung!$D$7,AI71,#N/A)","v":{"$error":"#N/A"}}]
["Ethyl-tert-butylether",{"$f":"IFERROR(IF(Schadstoffbelastung!E44/$B$74>0.1,1,0),0)","v":0},{"$f":"IF(B72=1,Stoffdatenbank!H45,\"\")","v":""},{"$f":"IF(B72=1,Stoffdatenbank!I45,\"\")","v":""},null,null,null,null,null,null,null,null,null,null,null,null,null,null,null,null,null,null,null,null,null,null,null,null,null,null,null,null,{"$f":"Sanierungsdesign!$E$12*AH72*Sanierungsdesign!$E$10/1000000","v":3088.8},475200,5.5,{"$f":"$D$5+((-Sanierungsdesign!$E$12)/4*PI()*$D$3)*(-LN((4*$D$4*AH72)/(Sanierungsdesign!$E$13^2))-$D$19)","v":120.52840649091686},-152.62159350908311,{"$f":"$T$4*$T$7*$AH$7*(AJ72-$D$2)/1000000","v":-329.28153180476664},{"$f":"$D$3*$T$7*$AH$7*(AK72-$D$5)*(1/Sanierungsdesign!$E$15)/1000000","v":-60.856631643403269},{"$f":"$D$5+(-Sanierungsdesign!$E$12/(4*PI()*$D$3))*(-LN((4*$D$4*AH72)/(Sanierungsdesign!$E$13+Sanierungsdesign!$E$15)^2)-$D$19)","v":231.01347285463501},-42.136527145364965,{"$f":"(2*PI()*Sanierungsdesign!$E$10*$D$3)*(LN((Sanierungsdesign!$E$13+Sanierungsdesign!$E$15)/Sanierungsdesign!$E$13)*(AJ72-AN72))*$AH$7/1000000","v":-9.8639953778568454},{"$f":"$T$20*AH72","v":818.78868818266687},{"$f":"$D$12*AQ72/1000000","v":1848.0060692282791},{"$f":"AU72/Sanierungsdesign!$E$11","v":-0.11912018506317253},{"$f":"$T$18/$D$24*AH72","v":380160},{"$f":"($D$10*$T$18)*(AJ72-$D$2)/1000000","v":-0.95296148050538021},{"$f":"($D$17*$L$10*$T$28+$L$2*$D$10*$T$28+$D$16*$L$4*$T$28+$D$18*$L$7*$T$28)*(AJ72-$D$5)/1000000","v":{"$error":"#DIV/0!"}},{"$f":"AV72*$D$28","v":{"$error":"#DIV/0!"}},{"$f":"AL72+AM72+AR72+(0.5*AP72)-(2*AW72)+AS72","v":{"$error":"#DIV/0!"}},{"$error":"#DIV/0!"},{"$f":"(AY72/(AH72*Sanierungsdesign!$E$10))*1000000","v":{"$error":"#DIV/0!"}},{"$f":"AZ72/Sanierungsdesign!$E$12","v":{"$error":"#DIV/0!"}},{"$f":"$D$5+((-(Sanierungsdesign!$E$12)*MIN($BA$7:$BA$932))/(4*PI()*$D$3))*(-LN((4*$D$4*AH72)/(Sanierungsdesign!$E$13)^2)-$D$19)","v":{"$error":"#DIV/0!"}},{"$f":"(BB72-273.15)/Heterogenität!$D$4","v":{"$error":"#DIV/0!"}},{"$f":"IF(AI72<Berechnung!$D$7,AI72,#N/A)","v":{"$error":"#N/A"}}]
["tert-Butylalkohol",{"$f":"IFERROR(IF(Schadstoffbelastung!E45/$B$74>0.1,1,0),0)","v":0},{"$f":"IF(B73=1,Stoffdatenbank!H46,\"\")","v":""},{"$f":"IF(B73=1,Stoffdatenbank!I46,\"\")","v":""},null,null,null,null,null,null,null,null,null,null,null,null,null,null,null,null,null,null,null,null,null,null,null,null,null,null,null,null,{"$f":"Sanierungsdesign!$E$12*AH73*Sanierungsdesign!$E$10/1000000","v":3135.6},{"$f":"AH72+$D$24","v":482400},5.583333333333333,{"$f":"$D$5+((-Sanierungsdesign!$E$12)/4*PI()*$D$3)*(-LN((4*$D$4*AH73)/(Sanierungsdesign!$E$13^2))-$D$19)","v":141.59400893650653},-131.55599106349345,-287.14542016950128,{"$f":"$D$3*$T$7*$AH$7*(AK73-$D$5)*(1/Sanierungsdesign!$E$15)/1000000","v":-57.914765703830724},{"$f":"$D$5+(-Sanierungsdesign!$E$12/(4*PI()*$D$3))*(-LN((4*$D$4*AH73)/(Sanierungsdesign!$E$13+Sanierungsdesign!$E$15)^2)-$D$19)","v":232.14734977556404},-41.002650224435939,{"$f":"(2*PI()*Sanierungsdesign!$E$10*$D$3)*(LN((Sanierungsdesign!$E$13+Sanierungsdesign!$E$15)/Sanierungsdesign!$E$13)*(AJ73-AN73))*$AH$7/1000000","v":-8.0845110102525126},831.1945773975558,1876.0061611862834,{"$f":"AU73/Sanierungsdesign!$E$11","v":-0.10387711513354385},385920,-0.83101692106835079,{"$error":"#DIV/0!"},{"$error":"#DIV/0!"},{"$error":"#DIV/0!"},{"$error":"#DIV/0!"},{"$f":"(AY73/(AH73*Sanierungsdesign!$E$10))*1000000","v":{"$error":"#DIV/0!"}},{"$f":"AZ73/Sanierungsdesign!$E$12","v":{"$error":"#DIV/0!"}},{"$f":"$D$5+((-(Sanierungsdesign!$E$12)*MIN($BA$7:$BA$932))/(4*PI()*$D$3))*(-LN((4*$D$4*AH73)/(Sanierungsdesign!$E$13)^2)-$D$19)","v":{"$error":"#DIV/0!"}},{"$f":"(BB73-273.15)/Heterogenität!$D$4","v":{"$error":"#DIV/0!"}},{"$f":"IF(AI73<Berechnung!$D$7,AI73,#N/A)","v":{"$error":"#N/A"}}]
["Oxigenate",{"$f":"Schadstoffbelastung!E46","v":0},null,{"$f":"IF(B74=1,Stoffdatenbank!I47,\"\")","v":""},null,null,null,null,null,null,null,null,null,null,null,null,null,null,null,null,null,null,null,null,null,null,null,null,null,null,null,null,{"$f":"Sanierungsdesign!$E$12*AH74*Sanierungsdesign!$E$10/1000000","v":3182.4},489600,5.666666666666667,{"$f":"$D$5+((-Sanierungsdesign!$E$12)/4*PI()*$D$3)*(-LN((4*$D$4*AH74)/(Sanierungsdesign!$E$13^2))-$D$19)","v":162.34751688058583},-110.80248311941415,-245.63357023244083,{"$f":"$D$3*$T$7*$AH$7*(AK74-$D$5)*(1/Sanierungsdesign!$E$15)/1000000","v":-55.016484569691237},{"$f":"$D$5+(-Sanierungsdesign!$E$12/(4*PI()*$D$3))*(-LN((4*$D$4*AH74)/(Sanierungsdesign!$E$13+Sanierungsdesign!$E$15)^2)-$D$19)","v":233.26442790076311},-39.885572099236867,{"$f":"(2*PI()*Sanierungsdesign!$E$10*$D$3)*(LN((Sanierungsdesign!$E$13+Sanierungsdesign!$E$15)/Sanierungsdesign!$E$13)*(AJ74-AN74))*$AH$7/1000000","v":-6.3313903456605827},843.60046661244462,1904.0062531442875,{"$f":"AU74/Sanierungsdesign!$E$11","v":-8.885987678520807E-2},391680,-0.71087901428166456,{"$error":"#DIV/0!"},{"$error":"#DIV/0!"},{"$error":"#DIV/0!"},{"$error":"#DIV/0!"},{"$f":"(AY74/(AH74*Sanierungsdesign!$E$10))*1000000","v":{"$error":"#DIV/0!"}},{"$f":"AZ74/Sanierungsdesign!$E$12","v":{"$error":"#DIV/0!"}},{"$f":"$D$5+((-(Sanierungsdesign!$E$12)*MIN($BA$7:$BA$932))/(4*PI()*$D$3))*(-LN((4*$D$4*AH74)/(Sanierungsdesign!$E$13)^2)-$D$19)","v":{"$error":"#DIV/0!"}},{"$f":"(BB74-273.15)/Heterogenität!$D$4","v":{"$error":"#DIV/0!"}},{"$f":"IF(AI74<Berechnung!$D$7,AI74,#N/A)","v":{"$error":"#N/A"}}]
[null,null,null,null,null,null,null,null,null,null,null,null,null,null,null,null,null,null,null,null,null,null,null,null,null,null,null,null,null,null,null,null,{"$f":"Sanierungsdesign!$E$12*AH75*Sanierungsdesign!$E$10/1000000","v":3229.2},496800,5.75,{"$f":"$D$5+((-Sanierungsdesign!$E$12)/4*PI()*$D$3)*(-LN((4*$D$4*AH75)/(Sanierungsdesign!$E$13^2))-$D$19)","v":182.79804306415946},-90.351956935840519,-204.72775438897395,{"$f":"$D$3*$T$7*$AH$7*(AK75-$D$5)*(1/Sanierungsdesign!$E$15)/1000000","v":-52.160515623102306},{"$f":"$D$5+(-Sanierungsdesign!$E$12/(4*PI()*$D$3))*(-LN((4*$D$4*AH75)/(Sanierungsdesign!$E$13+Sanierungsdesign!$E$15)^2)-$D$19)","v":234.36519773254469},-38.784802267455291,{"$f":"(2*PI()*Sanierungsdesign!$E$10*$D$3)*(LN((Sanierungsdesign!$E$13+Sanierungsdesign!$E$15)/Sanierungsdesign!$E$13)*(AJ75-AN75))*$AH$7/1000000","v":-4.6038635993001273},856.00635582733355,1932.0063451022918,{"$f":"AU75/Sanierungsdesign!$E$11","v":-7.4061876038774191E-2},397440,-0.59249500831019353,{"$error":"#DIV/0!"},{"$error":"#DIV/0!"},{"$error":"#DIV/0!"},{"$error":"#DIV/0!"},{"$f":"(AY75/(AH75*Sanierungsdesign!$E$10))*1000000","v":{"$error":"#DIV/0!"}},{"$f":"AZ75/Sanierungsdesign!$E$12","v":{"$error":"#DIV/0!"}},{"$f":"$D$5+((-(Sanierungsdesign!$E$12)*MIN($BA$7:$BA$932))/(4*PI()*$D$3))*(-LN((4*$D$4*AH75)/(Sanierungsdesign!$E$13)^2)-$D$19)","v":{"$error":"#DIV/0!"}},{"$f":"(BB75-273.15)/Heterogenität!$D$4","v":{"$error":"#DIV/0!"}},{"$f":"IF(AI75<Berechnung!$D$7,AI75,#N/A)","v":{"$error":"#N/A"}}]
[null,null,{"$f":"OFFSET(A31,MATCH(MAX(C32:C74),(C32:C74),0),0)","v":{"$error":"#N/A"}},{"$f":"OFFSET(A31,MATCH(MAX(D32:D74),(D32:D74),0),0)","v":{"$error":"#N/A"}},null,null,null,null,null,null,null,null,null,null,null,null,null,null,null,null,null,null,null,null,null,null,null,null,null,null,null,null,{"$f":"Sanierungsdesign!$E$12*AH76*Sanierungsdesign!$E$10/1000000","v":3276},504000,5.833333333333333,{"$f":"$D$5+((-Sanierungsdesign!$E$12)/4*PI()*$D$3)*(-LN((4*$D$4*AH76)/(Sanierungsdesign!$E$13^2))-$D$19)","v":202.95430684475315},-70.195693155246829,-164.41053189307689,{"$f":"$D$3*$T$7*$AH$7*(AK76-$D$5)*(1/Sanierungsdesign!$E$15)/1000000","v":-49.345641183203107},{"$f":"$D$5+(-Sanierungsdesign!$E$12/(4*PI()*$D$3))*(-LN((4*$D$4*AH76)/(Sanierungsdesign!$E$13+Sanierungsdesign!$E$15)^2)-$D$19)","v":235.45012859896565},-37.699871401034329,{"$f":"(2*PI()*Sanierungsdesign!$E$10*$D$3)*(LN((Sanierungsdesign!$E$13+Sanierungsdesign!$E$15)/Sanierungsdesign!$E$13)*(AJ76-AN76))*$AH$7/1000000","v":-2.9011942168545657},868.41224504222248,1960.0064370602961,{"$f":"AU76/Sanierungsdesign!$E$11","v":-5.9476803567136603E-2},403200,-0.47581442853709283,{"$error":"#DIV/0!"},{"$error":"#DIV/0!"},{"$error":"#DIV/0!"},{"$error":"#DIV/0!"},{"$f":"(AY76/(AH76*Sanierungsdesign!$E$10))*1000000","v":{"$error":"#DIV/0!"}},{"$f":"AZ76/Sanierungsdesign!$E$12","v":{"$error":"#DIV/0!"}},{"$f":"$D$5+((-(Sanierungsdesign!$E$12)*MIN($BA$7:$BA$932))/(4*PI()*$D$3))*(-LN((4*$D$4*AH76)/(Sanierungsdesign!$E$13)^2)-$D$19)","v":{"$error":"#DIV/0!"}},{"$f":"(BB76-273.15)/Heterogenität!$D$4","v":{"$error":"#DIV/0!"}},{"$f":"IF(AI76<Berechnung!$D$7,AI76,#N/A)","v":{"$error":"#N/A"}}]
[null,null,{"$f":"MAX(C32:C74)","v":0},{"$f":"MAX(D32:D74)","v":0},null,null,null,null,null,null,null,null,null,null,null,null,null,null,null,null,null,null,null,null,null,null,null,null,null,null,null,null,{"$f":"Sanierungsdesign!$E$12*AH77*Sanierungsdesign!$E$10/1000000","v":3322.8},511200,5.916666666666667,{"$f":"$D$5+((-Sanierungsdesign!$E$12)/4*PI()*$D$3)*(-LN((4*$D$4*AH77)/(Sanierungsdesign!$E$13^2))-$D$19)","v":222.82465651796826},-50.325343482031712,-124.66520420900484,{"$f":"$D$3*$T$7*$AH$7*(AK77-$D$5)*(1/Sanierungsdesign!$E$15)/1000000","v":-46.570695388891565},{"$f":"$D$5+(-Sanierungsdesign!$E$12/(4*PI()*$D$3))*(-LN((4*$D$4*AH77)/(Sanierungsdesign!$E$13+Sanierungsdesign!$E$15)^2)-$D$19)","v":236.51966985530723},-36.630330144692749,{"$f":"(2*PI()*Sanierungsdesign!$E$10*$D$3)*(LN((Sanierungsdesign!$E$13+Sanierungsdesign!$E$15)/Sanierungsdesign!$E$13)*(AJ77-AN77))*$AH$7/1000000","v":-1.2226769888926849},880.8181342571113,1988.0065290183004,{"$f":"AU77/Sanierungsdesign!$E$11","v":-4.5098618543598139E-2},408960,-0.36078894834878511,{"$error":"#DIV/0!"},{"$error":"#DIV/0!"},{"$error":"#DIV/0!"},{"$error":"#DIV/0!"},{"$f":"(AY77/(AH77*Sanierungsdesign!$E$10))*1000000","v":{"$error":"#DIV/0!"}},{"$f":"AZ77/Sanierungsdesign!$E$12","v":{"$error":"#DIV/0!"}},{"$f":"$D$5+((-(Sanierungsdesign!$E$12)*MIN($BA$7:$BA$932))/(4*PI()*$D$3))*(-LN((4*$D$4*AH77)/(Sanierungsdesign!$E$13)^2)-$D$19)","v":{"$error":"#DIV/0!"}},{"$f":"(BB77-273.15)/Heterogenität!$D$4","v":{"$error":"#DIV/0!"}},{"$f":"IF(AI77<Berechnung!$D$7,AI77,#N/A)","v":{"$error":"#N/A"}}]
[null,null,null,null,null,null,null,null,null,null,null,null,null,null,null,null,null,null,null,null,null,null,null,null,null,null,null,null,null,null,null,null,{"$f":"Sanierungsdesign!$E$12*AH78*Sanierungsdesign!$E$10/1000000","v":3369.6},518400,6,{"$f":"$D$5+((-Sanierungsdesign!$E$12)/4*PI()*$D$3)*(-LN((4*$D$4*AH78)/(Sanierungsdesign!$E$13^2))-$D$19)","v":242.41709007793531},-30.732909922064664,-85.475773485549311,{"$f":"$D$3*$T$7*$AH$7*(AK78-$D$5)*(1/Sanierungsdesign!$E$15)/1000000","v":-43.834561299573245},{"$f":"$D$5+(-Sanierungsdesign!$E$12/(4*PI()*$D$3))*(-LN((4*$D$4*AH78)/(Sanierungsdesign!$E$13+Sanierungsdesign!$E$15)^2)-$D$19)","v":237.57425200152699},-35.575747998472991,{"$f":"(2*PI()*Sanierungsdesign!$E$10*$D$3)*(LN((Sanierungsdesign!$E$13+Sanierungsdesign!$E$15)/Sanierungsdesign!$E$13)*(AJ78-AN78))*$AH$7/1000000","v":0.43236370283873798},893.22402347200023,2016.0066209763045,{"$f":"AU78/Sanierungsdesign!$E$11","v":-3.0921533619605986E-2},414720,-0.24737226895684788,{"$error":"#DIV/0!"},{"$error":"#DIV/0!"},{"$error":"#DIV/0!"},{"$error":"#DIV/0!"},{"$f":"(AY78/(AH78*Sanierungsdesign!$E$10))*1000000","v":{"$error":"#DIV/0!"}},{"$f":"AZ78/Sanierungsdesign!$E$12","v":{"$error":"#DIV/0!"}},{"$f":"$D$5+((-(Sanierungsdesign!$E$12)*MIN($BA$7:$BA$932))/(4*PI()*$D$3))*(-LN((4*$D$4*AH78)/(Sanierungsdesign!$E$13)^2)-$D$19)","v":{"$error":"#DIV/0!"}},{"$f":"(BB78-273.15)/Heterogenität!$D$4","v":{"$error":"#DIV/0!"}},{"$f":"IF(AI78<Berechnung!$D$7,AI78,#N/A)","v":{"$error":"#N/A"}}]
[null,null,null,null,null,null,null,null,null,null,null,null,null,null,null,null,null,null,null,null,null,null,null,null,null,null,null,null,null,null,null,null,{"$f":"Sanierungsdesign!$E$12*AH79*Sanierungsdesign!$E$10/1000000","v":3416.4},525600,6.083333333333333,{"$f":"$D$5+((-Sanierungsdesign!$E$12)/4*PI()*$D$3)*(-LN((4*$D$4*AH79)/(Sanierungsdesign!$E$13^2))-$D$19)","v":261.73927454586362},-11.410725454136355,-46.826903894436711,{"$f":"$D$3*$T$7*$AH$7*(AK79-$D$5)*(1/Sanierungsdesign!$E$15)/1000000","v":-41.136168195879371},{"$f":"$D$5+(-Sanierungsdesign!$E$12/(4*PI()*$D$3))*(-LN((4*$D$4*AH79)/(Sanierungsdesign!$E$13+Sanierungsdesign!$E$15)^2)-$D$19)","v":238.61428772263707},-34.535712277362904,{"$f":"(2*PI()*Sanierungsdesign!$E$10*$D$3)*(LN((Sanierungsdesign!$E$13+Sanierungsdesign!$E$15)/Sanierungsdesign!$E$13)*(AJ79-AN79))*$AH$7/1000000","v":2.064575518164451},905.62991268688916,2044.0067129343088,{"$f":"AU79/Sanierungsdesign!$E$11","v":-1.6940000938613062E-2},420480,-0.1355200075089045,{"$error":"#DIV/0!"},{"$error":"#DIV/0!"},{"$error":"#DIV/0!"},{"$error":"#DIV/0!"},{"$f":"(AY79/(AH79*Sanierungsdesign!$E$10))*1000000","v":{"$error":"#DIV/0!"}},{"$f":"AZ79/Sanierungsdesign!$E$12","v":{"$error":"#DIV/0!"}},{"$f":"$D$5+((-(Sanierungsdesign!$E$12)*MIN($BA$7:$BA$932))/(4*PI()*$D$3))*(-LN((4*$D$4*AH79)/(Sanierungsdesign!$E$13)^2)-$D$19)","v":{"$error":"#DIV/0!"}},{"$f":"(BB79-273.15)/Heterogenität!$D$4","v":{"$error":"#DIV/0!"}},{"$f":"IF(AI79<Berechnung!$D$7,AI79,#N/A)","v":{"$error":"#N/A"}}]
[null,null,null,null,null,null,null,null,null,null,null,null,null,null,null,null,null,null,null,null,null,null,null,null,null,null,null,null,null,null,null,null,{"$f":"Sanierungsdesign!$E$12*AH80*Sanierungsdesign!$E$10/1000000","v":3463.2},532800,6.166666666666667,{"$f":"$D$5+((-Sanierungsdesign!$E$12)/4*PI()*$D$3)*(-LN((4*$D$4*AH80)/(Sanierungsdesign!$E$13^2))-$D$19)","v":280.79856398360619},7.6485639836062091,-8.7038855990026658,{"$f":"$D$3*$T$7*$AH$7*(AK80-$D$5)*(1/Sanierungsdesign!$E$15)/1000000","v":-38.474489064025789},{"$f":"$D$5+(-Sanierungsdesign!$E$12/(4*PI()*$D$3))*(-LN((4*$D$4*AH80)/(Sanierungsdesign!$E$13+Sanierungsdesign!$E$15)^2)-$D$19)","v":239.64017285830226},-33.509827141697713,{"$f":"(2*PI()*Sanierungsdesign!$E$10*$D$3)*(LN((Sanierungsdesign!$E$13+Sanierungsdesign!$E$15)/Sanierungsdesign!$E$13)*(AJ80-AN80))*$AH$7/1000000","v":3.6745796801489061},918.03580190177797,2072.0068048923126,{"$f":"AU80/Sanierungsdesign!$E$11","v":-3.1486991014625467E-3},426240,-2.5189592811700374E-2,{"$error":"#DIV/0!"},{"$error":"#DIV/0!"},{"$error":"#DIV/0!"},{"$error":"#DIV/0!"},{"$f":"(AY80/(AH80*Sanierungsdesign!$E$10))*1000000","v":{"$error":"#DIV/0!"}},{"$f":"AZ80/Sanierungsdesign!$E$12","v":{"$error":"#DIV/0!"}},{"$f":"$D$5+((-(Sanierungsdesign!$E$12)*MIN($BA$7:$BA$932))/(4*PI()*$D$3))*(-LN((4*$D$4*AH80)/(Sanierungsdesign!$E$13)^2)-$D$19)","v":{"$error":"#DIV/0!"}},{"$f":"(BB80-273.15)/Heterogenität!$D$4","v":{"$error":"#DIV/0!"}},{"$f":"IF(AI80<Berechnung!$D$7,AI80,#N/A)","v":{"$error":"#N/A"}}]
[null,null,null,null,null,null,null,null,null,null,null,null,null,null,null,null,null,null,null,null,null,null,null,null,null,null,null,null,null,null,null,null,{"$f":"Sanierungsdesign!$E$12*AH81*Sanierungsdesign!$E$10/1000000","v":3510},540000,6.25,{"$f":"$D$5+((-Sanierungsdesign!$E$12)/4*PI()*$D$3)*(-LN((4*$D$4*AH81)/(Sanierungsdesign!$E$13^2))-$D$19)","v":299.60201629813997},26.452016298139995,28.907398858682665,{"$f":"$D$3*$T$7*$AH$7*(AK81-$D$5)*(1/Sanierungsdesign!$E$15)/1000000","v":-35.848538249023825},{"$f":"$D$5+(-Sanierungsdesign!$E$12/(4*PI()*$D$3))*(-LN((4*$D$4*AH81)/(Sanierungsdesign!$E$13+Sanierungsdesign!$E$15)^2)-$D$19)","v":240.65228730735771},-32.497712692642267,{"$f":"(2*PI()*Sanierungsdesign!$E$10*$D$3)*(LN((Sanierungsdesign!$E$13+Sanierungsdesign!$E$15)/Sanierungsdesign!$E$13)*(AJ81-AN81))*$AH$7/1000000","v":5.2629723946288927},930.4416911166669,2100.0068968503174,{"$f":"AU81/Sanierungsdesign!$E$11","v":1.04574789933341E-2},432000,8.36598319466728E-2,{"$error":"#DIV/0!"},{"$error":"#DIV/0!"},{"$error":"#DIV/0!"},{"$error":"#DIV/0!"},{"$f":"(AY81/(AH81*Sanierungsdesign!$E$10))*1000000","v":{"$error":"#DIV/0!"}},{"$f":"AZ81/Sanierungsdesign!$E$12","v":{"$error":"#DIV/0!"}},{"$f":"$D$5+((-(Sanierungsdesign!$E$12)*MIN($BA$7:$BA$932))/(4*PI()*$D$3))*(-LN((4*$D$4*AH81)/(Sanierungsdesign!$E$13)^2)-$D$19)","v":{"$error":"#DIV/0!"}},{"$f":"(BB81-273.15)/Heterogenität!$D$4","v":{"$error":"#DIV/0!"}},{"$f":"IF(AI81<Berechnung!$D$7,AI81,#N/A)","v":{"$error":"#N/A"}}]
[null,null,null,null,null,null,null,null,null,null,null,null,null,null,null,null,null,null,null,null,null,null,null,null,null,null,null,null,null,null,null,null,{"$f":"Sanierungsdesign!$E$12*AH82*Sanierungsdesign!$E$10/1000000","v":3556.8},547200,6.333333333333333,{"$f":"$D$5+((-Sanierungsdesign!$E$12)/4*PI()*$D$3)*(-LN((4*$D$4*AH82)/(Sanierungsdesign!$E$13^2))-$D$19)","v":318.15640893307062},45.006408933070645,66.020505944479055,{"$f":"$D$3*$T$7*$AH$7*(AK82-$D$5)*(1/Sanierungsdesign!$E$15)/1000000","v":-33.257369263320967},{"$f":"$D$5+(-Sanierungsdesign!$E$12/(4*PI()*$D$3))*(-LN((4*$D$4*AH82)/(Sanierungsdesign!$E$13+Sanierungsdesign!$E$15)^2)-$D$19)","v":241.6509958724198},-31.499004127580179,{"$f":"(2*PI()*Sanierungsdesign!$E$10*$D$3)*(LN((Sanierungsdesign!$E$13+Sanierungsdesign!$E$15)/Sanierungsdesign!$E$13)*(AJ82-AN82))*$AH$7/1000000","v":6.830326175729259},942.84758033155583,2128.0069888083217,{"$f":"AU82/Sanierungsdesign!$E$11","v":2.3883437503969915E-2},437760,0.19106750003175932,{"$error":"#DIV/0!"},{"$error":"#DIV/0!"},{"$error":"#DIV/0!"},{"$error":"#DIV/0!"},{"$f":"(AY82/(AH82*Sanierungsdesign!$E$10))*1000000","v":{"$error":"#DIV/0!"}},{"$f":"AZ82/Sanierungsdesign!$E$12","v":{"$error":"#DIV/0!"}},{"$f":"$D$5+((-(Sanierungsdesign!$E$12)*MIN($BA$7:$BA$932))/(4*PI()*$D$3))*(-LN((4*$D$4*AH82)/(Sanierungsdesign!$E$13)^2)-$D$19)","v":{"$error":"#DIV/0!"}},{"$f":"(BB82-273.15)/Heterogenität!$D$4","v":{"$error":"#DIV/0!"}},{"$f":"IF(AI82<Berechnung!$D$7,AI82,#N/A)","v":{"$error":"#N/A"}}]
[null,null,null,null,null,null,null,null,null,null,null,null,null,null,null,null,null,null,null,null,null,null,null,null,null,null,null,null,null,null,null,null,{"$f":"Sanierungsdesign!$E$12*AH83*Sanierungsdesign!$E$10/1000000","v":3603.6},554400,6.416666666666667,{"$f":"$D$5+((-Sanierungsdesign!$E$12)/4*PI()*$D$3)*(-LN((4*$D$4*AH83)/(Sanierungsdesign!$E$13^2))-$D$19)","v":336.46825353445723},63.318253534457256,102.64846046724179,{"$f":"$D$3*$T$7*$AH$7*(AK83-$D$5)*(1/Sanierungsdesign!$E$15)/1000000","v":-30.700072738680475},{"$f":"$D$5+(-Sanierungsdesign!$E$12/(4*PI()*$D$3))*(-LN((4*$D$4*AH83)/(Sanierungsdesign!$E$13+Sanierungsdesign!$E$15)^2)-$D$19)","v":242.63664904928862},-30.513350950711356,{"$f":"(2*PI()*Sanierungsdesign!$E$10*$D$3)*(LN((Sanierungsdesign!$E$13+Sanierungsdesign!$E$15)/Sanierungsdesign!$E$13)*(AJ83-AN83))*$AH$7/1000000","v":8.3771910847359088},955.25346954644465,2156.0070807663255,{"$f":"AU83/Sanierungsdesign!$E$11","v":3.7133888257533269E-2},443520,0.29707110606026615,{"$error":"#DIV/0!"},{"$error":"#DIV/0!"},{"$error":"#DIV/0!"},{"$error":"#DIV/0!"},{"$f":"(AY83/(AH83*Sanierungsdesign!$E$10))*1000000","v":{"$error":"#DIV/0!"}},{"$f":"AZ83/Sanierungsdesign!$E$12","v":{"$error":"#DIV/0!"}},{"$f":"$D$5+((-(Sanierungsdesign!$E$12)*MIN($BA$7:$BA$932))/(4*PI()*$D$3))*(-LN((4*$D$4*AH83)/(Sanierungsdesign!$E$13)^2)-$D$19)","v":{"$error":"#DIV/0!"}},{"$f":"(BB83-273.15)/Heterogenität!$D$4","v":{"$error":"#DIV/0!"}},{"$f":"IF(AI83<Berechnung!$D$7,AI83,#N/A)","v":{"$error":"#N/A"}}]
[null,null,null,null,null,null,null,null,null,null,null,null,null,null,null,null,null,null,null,null,null,null,null,null,null,null,null,null,null,null,null,null,{"$f":"Sanierungsdesign!$E$12*AH84*Sanierungsdesign!$E$10/1000000","v":3650.4},561600,6.5,{"$f":"$D$5+((-Sanierungsdesign!$E$12)/4*PI()*$D$3)*(-LN((4*$D$4*AH84)/(Sanierungsdesign!$E$13^2))-$D$19)","v":354.54380967037054},81.393809670370558,138.80378302113371,{"$f":"$D$3*$T$7*$AH$7*(AK84-$D$5)*(1/Sanierungsdesign!$E$15)/1000000","v":-28.175774510209546},{"$f":"$D$5+(-Sanierungsdesign!$E$12/(4*PI()*$D$3))*(-LN((4*$D$4*AH84)/(Sanierungsdesign!$E$13+Sanierungsdesign!$E$15)^2)-$D$19)","v":243.60958376541686},-29.54041623458312,{"$f":"(2*PI()*Sanierungsdesign!$E$10*$D$3)*(LN((Sanierungsdesign!$E$13+Sanierungsdesign!$E$15)/Sanierungsdesign!$E$13)*(AJ84-AN84))*$AH$7/1000000","v":9.904095889034366},967.65935876133358,2184.0071727243298,{"$f":"AU84/Sanierungsdesign!$E$11","v":5.0213360677480133E-2},449280,0.40170688541984106,{"$error":"#DIV/0!"},{"$error":"#DIV/0!"},{"$error":"#DIV/0!"},{"$error":"#DIV/0!"},{"$f":"(AY84/(AH84*Sanierungsdesign!$E$10))*1000000","v":{"$error":"#DIV/0!"}},{"$f":"AZ84/Sanierungsdesign!$E$12","v":{"$error":"#DIV/0!"}},{"$f":"$D$5+((-(Sanierungsdesign!$E$12)*MIN($BA$7:$BA$932))/(4*PI()*$D$3))*(-LN((4*$D$4*AH84)/(Sanierungsdesign!$E$13)^2)-$D$19)","v":{"$error":"#DIV/0!"}},{"$f":"(BB84-273.15)/Heterogenität!$D$4","v":{"$error":"#DIV/0!"}},{"$f":"IF(AI84<Berechnung!$D$7,AI84,#N/A)","v":{"$error":"#N/A"}}]
[null,null,null,null,null,null,null,null,null,null,null,null,null,null,null,null,null,null,null,null,null,null,null,null,null,null,null,null,null,null,null,null,{"$f":"Sanierungsdesign!$E$12*AH85*Sanierungsdesign!$E$10/1000000","v":3697.2},568800,6.583333333333333,{"$f":"$D$5+((-Sanierungsdesign!$E$12)/4*PI()*$D$3)*(-LN((4*$D$4*AH85)/(Sanierungsdesign!$E$13^2))-$D$19)","v":372.38909767652501},99.239097676525034,174.49851567988154,{"$f":"$D$3*$T$7*$AH$7*(AK85-$D$5)*(1/Sanierungsdesign!$E$15)/1000000","v":-25.68363382243351},{"$f":"$D$5+(-Sanierungsdesign!$E$12/(4*PI()*$D$3))*(-LN((4*$D$4*AH85)/(Sanierungsdesign!$E$13+Sanierungsdesign!$E$15)^2)-$D$19)","v":244.57012407133845},-28.579875928661522,{"$f":"(2*PI()*Sanierungsdesign!$E$10*$D$3)*(LN((Sanierungsdesign!$E$13+Sanierungsdesign!$E$15)/Sanierungsdesign!$E$13)*(AJ85-AN85))*$AH$7/1000000","v":11.411549147224827},980.06524797622251,2212.0072646823346,{"$f":"AU85/Sanierungsdesign!$E$11","v":6.3126211078733507E-2},455040,0.50500968862986806,{"$error":"#DIV/0!"},{"$error":"#DIV/0!"},{"$error":"#DIV/0!"},{"$error":"#DIV/0!"},{"$f":"(AY85/(AH85*Sanierungsdesign!$E$10))*1000000","v":{"$error":"#DIV/0!"}},{"$f":"AZ85/Sanierungsdesign!$E$12","v":{"$error":"#DIV/0!"}},{"$f":"$D$5+((-(Sanierungsdesign!$E$12)*MIN($BA$7:$BA$932))/(4*PI()*$D$3))*(-LN((4*$D$4*AH85)/(Sanierungsdesign!$E$13)^2)-$D$19)","v":{"$error":"#DIV/0!"}},{"$f":"(BB85-273.15)/Heterogenität!$D$4","v":{"$error":"#DIV/0!"}},{"$f":"IF(AI85<Berechnung!$D$7,AI85,#N/A)","v":{"$error":"#N/A"}}]
[null,null,null,null,null,null,null,null,null,null,null,null,null,null,null,null,null,null,null,null,null,null,null,null,null,null,null,null,null,null,null,null,{"$f":"Sanierungsdesign!$E$12*AH86*Sanierungsdesign!$E$10/1000000","v":3744},576000,6.666666666666667,{"$f":"$D$5+((-Sanierungsdesign!$E$12)/4*PI()*$D$3)*(-LN((4*$D$4*AH86)/(Sanierungsdesign!$E$13^2))-$D$19)","v":390.00991069393865},116.85991069393867,209.74424607489922,{"$f":"$D$3*$T$7*$AH$7*(AK86-$D$5)*(1/Sanierungsdesign!$E$15)/1000000","v":-23.222841648205485},{"$f":"$D$5+(-Sanierungsdesign!$E$12/(4*PI()*$D$3))*(-LN((4*$D$4*AH86)/(Sanierungsdesign!$E$13+Sanierungsdesign!$E$15)^2)-$D$19)","v":245.518581788608},-27.631418211391974,{"$f":"(2*PI()*Sanierungsdesign!$E$10*$D$3)*(LN((Sanierungsdesign!$E$13+Sanierungsdesign!$E$15)/Sanierungsdesign!$E$13)*(AJ86-AN86))*$AH$7/1000000","v":12.900040225984892},992.47113719111132,2240.0073566403385,{"$f":"AU86/Sanierungsdesign!$E$11","v":7.587663137813401E-2},460800,0.60701305102507208,{"$error":"#DIV/0!"},{"$error":"#DIV/0!"},{"$error":"#DIV/0!"},{"$error":"#DIV/0!"},{"$f":"(AY86/(AH86*Sanierungsdesign!$E$10))*1000000","v":{"$error":"#DIV/0!"}},{"$f":"AZ86/Sanierungsdesign!$E$12","v":{"$error":"#DIV/0!"}},{"$f":"$D$5+((-(Sanierungsdesign!$E$12)*MIN($BA$7:$BA$932))/(4*PI()*$D$3))*(-LN((4*$D$4*AH86)/(Sanierungsdesign!$E$13)^2)-$D$19)","v":{"$error":"#DIV/0!"}},{"$f":"(BB86-273.15)/Heterogenität!$D$4","v":{"$error":"#DIV/0!"}},{"$f":"IF(AI86<Berechnung!$D$7,AI86,#N/A)","v":{"$error":"#N/A"}}]
[null,null,null,null,null,null,null,null,null,null,null,null,null,null,null,null,null,null,null,null,null,null,null,null,null,null,null,null,null,null,null,null,{"$f":"Sanierungsdesign!$E$12*AH87*Sanierungsdesign!$E$10/1000000","v":3790.8},583200,6.75,{"$f":"$D$5+((-Sanierungsdesign!$E$12)/4*PI()*$D$3)*(-LN((4*$D$4*AH87)/(Sanierungsdesign!$E$13^2))-$D$19)","v":407.41182595885874},134.26182595885876,244.55212997776931,{"$f":"$D$3*$T$7*$AH$7*(AK87-$D$5)*(1/Sanierungsdesign!$E$15)/1000000","v":-20.792619112038992},{"$f":"$D$5+(-Sanierungsdesign!$E$12/(4*PI()*$D$3))*(-LN((4*$D$4*AH87)/(Sanierungsdesign!$E$13+Sanierungsdesign!$E$15)^2)-$D$19)","v":246.45525711749167},-26.694742882508308,{"$f":"(2*PI()*Sanierungsdesign!$E$10*$D$3)*(LN((Sanierungsdesign!$E$13+Sanierungsdesign!$E$15)/Sanierungsdesign!$E$13)*(AJ87-AN87))*$AH$7/1000000","v":14.370040253768753},1004.8770264060003,2268.0074485983423,{"$f":"AU87/Sanierungsdesign!$E$11","v":8.8468657263830186E-2},466560,0.70774925811064149,{"$error":"#DIV/0!"},{"$error":"#DIV/0!"},{"$error":"#DIV/0!"},{"$error":"#DIV/0!"},{"$f":"(AY87/(AH87*Sanierungsdesign!$E$10))*1000000","v":{"$error":"#DIV/0!"}},{"$f":"AZ87/Sanierungsdesign!$E$12","v":{"$error":"#DIV/0!"}},{"$f":"$D$5+((-(Sanierungsdesign!$E$12)*MIN($BA$7:$BA$932))/(4*PI()*$D$3))*(-LN((4*$D$4*AH87)/(Sanierungsdesign!$E$13)^2)-$D$19)","v":{"$error":"#DIV/0!"}},{"$f":"(BB87-273.15)/Heterogenität!$D$4","v":{"$error":"#DIV/0!"}},{"$f":"IF(AI87<Berechnung!$D$7,AI87,#N/A)","v":{"$error":"#N/A"}}]
[null,null,null,null,null,null,null,null,null,null,null,null,null,null,null,null,null,null,null,null,null,null,null,null,null,null,null,null,null,null,null,null,{"$f":"Sanierungsdesign!$E$12*AH88*Sanierungsdesign!$E$10/1000000","v":3837.6},590400,6.833333333333333,{"$f":"$D$5+((-Sanierungsdesign!$E$12)/4*PI()*$D$3)*(-LN((4*$D$4*AH88)/(Sanierungsdesign!$E$13^2))-$D$19)","v":424.60021539999286},151.45021539999289,278.93291249717339,{"$f":"$D$3*$T$7*$AH$7*(AK88-$D$5)*(1/Sanierungsdesign!$E$15)/1000000","v":-18.392216010177194},{"$f":"$D$5+(-Sanierungsdesign!$E$12/(4*PI()*$D$3))*(-LN((4*$D$4*AH88)/(Sanierungsdesign!$E$13+Sanierungsdesign!$E$15)^2)-$D$19)","v":247.38043920737405},-25.769560792625924,{"$f":"(2*PI()*Sanierungsdesign!$E$10*$D$3)*(LN((Sanierungsdesign!$E$13+Sanierungsdesign!$E$15)/Sanierungsdesign!$E$13)*(AJ88-AN88))*$AH$7/1000000","v":15.822003015991926},1017.2829156208892,2296.0075405563471,{"$f":"AU88/Sanierungsdesign!$E$11","v":0.10090617586343484},472320,0.80724940690747871,{"$error":"#DIV/0!"},{"$error":"#DIV/0!"},{"$error":"#DIV/0!"},{"$error":"#DIV/0!"},{"$f":"(AY88/(AH88*Sanierungsdesign!$E$10))*1000000","v":{"$error":"#DIV/0!"}},{"$f":"AZ88/Sanierungsdesign!$E$12","v":{"$error":"#DIV/0!"}},{"$f":"$D$5+((-(Sanierungsdesign!$E$12)*MIN($BA$7:$BA$932))/(4*PI()*$D$3))*(-LN((4*$D$4*AH88)/(Sanierungsdesign!$E$13)^2)-$D$19)","v":{"$error":"#DIV/0!"}},{"$f":"(BB88-273.15)/Heterogenität!$D$4","v":{"$error":"#DIV/0!"}},{"$f":"IF(AI88<Berechnung!$D$7,AI88,#N/A)","v":{"$error":"#N/A"}}]
[null,null,null,null,null,null,null,null,null,null,null,null,null,null,null,null,null,null,null,null,null,null,null,null,null,null,null,null,null,null,null,null,{"$f":"Sanierungsdesign!$E$12*AH89*Sanierungsdesign!$E$10/1000000","v":3884.4},597600,6.916666666666667,{"$f":"$D$5+((-Sanierungsdesign!$E$12)/4*PI()*$D$3)*(-LN((4*$D$4*AH89)/(Sanierungsdesign!$E$13^2))-$D$19)","v":441.58025559344048},168.43025559344051,312.89694799107372,{"$f":"$D$3*$T$7*$AH$7*(AK89-$D$5)*(1/Sanierungsdesign!$E$15)/1000000","v":-16.020909420360926},{"$f":"$D$5+(-Sanierungsdesign!$E$12/(4*PI()*$D$3))*(-LN((4*$D$4*AH89)/(Sanierungsdesign!$E$13+Sanierungsdesign!$E$15)^2)-$D$19)","v":248.29440669259205},-24.855593307407929,{"$f":"(2*PI()*Sanierungsdesign!$E$10*$D$3)*(LN((Sanierungsdesign!$E$13+Sanierungsdesign!$E$15)/Sanierungsdesign!$E$13)*(AJ89-AN89))*$AH$7/1000000","v":17.256365795958818},1029.688804835778,2324.0076325143509,{"$f":"AU89/Sanierungsdesign!$E$11","v":0.11319293294741353},478080,0.90554346357930826,{"$error":"#DIV/0!"},{"$error":"#DIV/0!"},{"$error":"#DIV/0!"},{"$error":"#DIV/0!"},{"$f":"(AY89/(AH89*Sanierungsdesign!$E$10))*1000000","v":{"$error":"#DIV/0!"}},{"$f":"AZ89/Sanierungsdesign!$E$12","v":{"$error":"#DIV/0!"}},{"$f":"$D$5+((-(Sanierungsdesign!$E$12)*MIN($BA$7:$BA$932))/(4*PI()*$D$3))*(-LN((4*$D$4*AH89)/(Sanierungsdesign!$E$13)^2)-$D$19)","v":{"$error":"#DIV/0!"}},{"$f":"(BB89-273.15)/Heterogenität!$D$4","v":{"$error":"#DIV/0!"}},{"$f":"IF(AI89<Berechnung!$D$7,AI89,#N/A)","v":{"$error":"#N/A"}}]
[null,null,null,null,null,null,null,null,null,null,null,null,null,null,null,null,null,null,null,null,null,null,null,null,null,null,null,null,null,null,null,null,{"$f":"Sanierungsdesign!$E$12*AH90*Sanierungsdesign!$E$10/1000000","v":3931.2},604800,7,{"$f":"$D$5+((-Sanierungsdesign!$E$12)/4*PI()*$D$3)*(-LN((4*$D$4*AH90)/(Sanierungsdesign!$E$13^2))-$D$19)","v":458.35693712147565},185.20693712147568,346.45421878645908,{"$f":"$D$3*$T$7*$AH$7*(AK90-$D$5)*(1/Sanierungsdesign!$E$15)/1000000","v":-13.678002394850456},{"$f":"$D$5+(-Sanierungsdesign!$E$12/(4*PI()*$D$3))*(-LN((4*$D$4*AH90)/(Sanierungsdesign!$E$13+Sanierungsdesign!$E$15)^2)-$D$19)","v":249.1974281961806},-23.952571803819382,{"$f":"(2*PI()*Sanierungsdesign!$E$10*$D$3)*(LN((Sanierungsdesign!$E$13+Sanierungsdesign!$E$15)/Sanierungsdesign!$E$13)*(AJ90-AN90))*$AH$7/1000000","v":18.673550165431486},1042.0946940506669,2352.0077244723552,{"$f":"AU90/Sanierungsdesign!$E$11","v":0.12533253970109978},483840,1.0026603176087983,{"$error":"#DIV/0!"},{"$error":"#DIV/0!"},{"$error":"#DIV/0!"},{"$error":"#DIV/0!"},{"$f":"(AY90/(AH90*Sanierungsdesign!$E$10))*1000000","v":{"$error":"#DIV/0!"}},{"$f":"AZ90/Sanierungsdesign!$E$12","v":{"$error":"#DIV/0!"}},{"$f":"$D$5+((-(Sanierungsdesign!$E$12)*MIN($BA$7:$BA$932))/(4*PI()*$D$3))*(-LN((4*$D$4*AH90)/(Sanierungsdesign!$E$13)^2)-$D$19)","v":{"$error":"#DIV/0!"}},{"$f":"(BB90-273.15)/Heterogenität!$D$4","v":{"$error":"#DIV/0!"}},{"$f":"IF(AI90<Berechnung!$D$7,AI90,#N/A)","v":{"$error":"#N/A"}}]
[null,null,null,null,null,null,null,null,null,null,null,null,null,null,null,null,null,null,null,null,null,null,null,null,null,null,null,null,null,null,null,null,{"$f":"Sanierungsdesign!$E$12*AH91*Sanierungsdesign!$E$10/1000000","v":3978},612000,7.083333333333333,{"$f":"$D$5+((-Sanierungsdesign!$E$12)/4*PI()*$D$3)*(-LN((4*$D$4*AH91)/(Sanierungsdesign!$E$13^2))-$D$19)","v":474.93507337751265},201.78507337751267,379.61435279132644,{"$f":"$D$3*$T$7*$AH$7*(AK91-$D$5)*(1/Sanierungsdesign!$E$15)/1000000","v":-11.36282273078921},{"$f":"$D$5+(-Sanierungsdesign!$E$12/(4*PI()*$D$3))*(-LN((4*$D$4*AH91)/(Sanierungsdesign!$E$13+Sanierungsdesign!$E$15)^2)-$D$19)","v":250.08976280380881},-23.060237196191167,{"$f":"(2*PI()*Sanierungsdesign!$E$10*$D$3)*(LN((Sanierungsdesign!$E$13+Sanierungsdesign!$E$15)/Sanierungsdesign!$E$13)*(AJ91-AN91))*$AH$7/1000000","v":20.073962728415594},1054.5005832655559,2380.0078164303595,{"$f":"AU91/Sanierungsdesign!$E$11","v":0.13732847909596815},489600,1.0986278327677452,{"$error":"#DIV/0!"},{"$error":"#DIV/0!"},{"$error":"#DIV/0!"},{"$error":"#DIV/0!"},{"$f":"(AY91/(AH91*Sanierungsdesign!$E$10))*1000000","v":{"$error":"#DIV/0!"}},{"$f":"AZ91/Sanierungsdesign!$E$12","v":{"$error":"#DIV/0!"}},{"$f":"$D$5+((-(Sanierungsdesign!$E$12)*MIN($BA$7:$BA$932))/(4*PI()*$D$3))*(-LN((4*$D$4*AH91)/(Sanierungsdesign!$E$13)^2)-$D$19)","v":{"$error":"#DIV/0!"}},{"$f":"(BB91-273.15)/Heterogenität!$D$4","v":{"$error":"#DIV/0!"}},{"$f":"IF(AI91<Berechnung!$D$7,AI91,#N/A)","v":{"$error":"#N/A"}}]
[null,null,null,null,null,null,null,null,null,null,null,null,null,null,null,null,null,null,null,null,null,null,null,null,null,null,null,null,null,null,null,null,{"$f":"Sanierungsdesign!$E$12*AH92*Sanierungsdesign!$E$10/1000000","v":4024.8},619200,7.166666666666667,{"$f":"$D$5+((-Sanierungsdesign!$E$12)/4*PI()*$D$3)*(-LN((4*$D$4*AH92)/(Sanierungsdesign!$E$13^2))-$D$19)","v":491.31930885612979},218.16930885612982,412.38664007665994,{"$f":"$D$3*$T$7*$AH$7*(AK92-$D$5)*(1/Sanierungsdesign!$E$15)/1000000","v":-9.0747218124805027},{"$f":"$D$5+(-Sanierungsdesign!$E$12/(4*PI()*$D$3))*(-LN((4*$D$4*AH92)/(Sanierungsdesign!$E$13+Sanierungsdesign!$E$15)^2)-$D$19)","v":250.97166050999857},-22.178339490001406,{"$f":"(2*PI()*Sanierungsdesign!$E$10*$D$3)*(LN((Sanierungsdesign!$E$13+Sanierungsdesign!$E$15)/Sanierungsdesign!$E$13)*(AJ92-AN92))*$AH$7/1000000","v":21.457995821447383},1066.9064724804448,2408.0079083883638,{"$f":"AU92/Sanierungsdesign!$E$11","v":0.1491841118882955},495360,1.193472895106364,{"$error":"#DIV/0!"},{"$error":"#DIV/0!"},{"$error":"#DIV/0!"},{"$error":"#DIV/0!"},{"$f":"(AY92/(AH92*Sanierungsdesign!$E$10))*1000000","v":{"$error":"#DIV/0!"}},{"$f":"AZ92/Sanierungsdesign!$E$12","v":{"$error":"#DIV/0!"}},{"$f":"$D$5+((-(Sanierungsdesign!$E$12)*MIN($BA$7:$BA$932))/(4*PI()*$D$3))*(-LN((4*$D$4*AH92)/(Sanierungsdesign!$E$13)^2)-$D$19)","v":{"$error":"#DIV/0!"}},{"$f":"(BB92-273.15)/Heterogenität!$D$4","v":{"$error":"#DIV/0!"}},{"$f":"IF(AI92<Berechnung!$D$7,AI92,#N/A)","v":{"$error":"#N/A"}}]
[null,null,null,null,null,null,null,null,null,null,null,null,null,null,null,null,null,null,null,null,null,null,null,null,null,null,null,null,null,null,null,null,{"$f":"Sanierungsdesign!$E$12*AH93*Sanierungsdesign!$E$10/1000000","v":4071.6},626400,7.25,{"$f":"$D$5+((-Sanierungsdesign!$E$12)/4*PI()*$D$3)*(-LN((4*$D$4*AH93)/(Sanierungsdesign!$E$13^2))-$D$19)","v":507.51412696386296},234.36412696386299,444.78004849983694,{"$f":"$D$3*$T$7*$AH$7*(AK93-$D$5)*(1/Sanierungsdesign!$E$15)/1000000","v":-6.813073520589966},{"$f":"$D$5+(-Sanierungsdesign!$E$12/(4*PI()*$D$3))*(-LN((4*$D$4*AH93)/(Sanierungsdesign!$E$13+Sanierungsdesign!$E$15)^2)-$D$19)","v":251.84336263854826},-21.30663736145172,{"$f":"(2*PI()*Sanierungsdesign!$E$10*$D$3)*(LN((Sanierungsdesign!$E$13+Sanierungsdesign!$E$15)/Sanierungsdesign!$E$13)*(AJ93-AN93))*$AH$7/1000000","v":22.826028173398477},1079.3123616953335,2436.0080003463677,{"$f":"AU93/Sanierungsdesign!$E$11","v":0.16090268227105126},501120,1.28722145816841,{"$error":"#DIV/0!"},{"$error":"#DIV/0!"},{"$error":"#DIV/0!"},{"$error":"#DIV/0!"},{"$f":"(AY93/(AH93*Sanierungsdesign!$E$10))*1000000","v":{"$error":"#DIV/0!"}},{"$f":"AZ93/Sanierungsdesign!$E$12","v":{"$error":"#DIV/0!"}},{"$f":"$D$5+((-(Sanierungsdesign!$E$12)*MIN($BA$7:$BA$932))/(4*PI()*$D$3))*(-LN((4*$D$4*AH93)/(Sanierungsdesign!$E$13)^2)-$D$19)","v":{"$error":"#DIV/0!"}},{"$f":"(BB93-273.15)/Heterogenität!$D$4","v":{"$error":"#DIV/0!"}},{"$f":"IF(AI93<Berechnung!$D$7,AI93,#N/A)","v":{"$error":"#N/A"}}]
[null,null,null,null,null,null,null,null,null,null,null,null,null,null,null,null,null,null,null,null,null,null,null,null,null,null,null,null,null,null,null,null,{"$f":"Sanierungsdesign!$E$12*AH94*Sanierungsdesign!$E$10/1000000","v":4118.3999999999996},633600,7.333333333333333,{"$f":"$D$5+((-Sanierungsdesign!$E$12)/4*PI()*$D$3)*(-LN((4*$D$4*AH94)/(Sanierungsdesign!$E$13^2))-$D$19)","v":523.52385738364319},250.37385738364321,476.80323843521882,{"$f":"$D$3*$T$7*$AH$7*(AK94-$D$5)*(1/Sanierungsdesign!$E$15)/1000000","v":-4.5772732036827906},{"$f":"$D$5+(-Sanierungsdesign!$E$12/(4*PI()*$D$3))*(-LN((4*$D$4*AH94)/(Sanierungsdesign!$E$13+Sanierungsdesign!$E$15)^2)-$D$19)","v":252.705102238931},-20.444897761068972,{"$f":"(2*PI()*Sanierungsdesign!$E$10*$D$3)*(LN((Sanierungsdesign!$E$13+Sanierungsdesign!$E$15)/Sanierungsdesign!$E$13)*(AJ94-AN94))*$AH$7/1000000","v":24.178425527575403},1091.7182509102224,2464.008092304372,{"$f":"AU94/Sanierungsdesign!$E$11","v":0.17248732320280419},506880,1.3798985856224335,{"$error":"#DIV/0!"},{"$error":"#DIV/0!"},{"$error":"#DIV/0!"},{"$error":"#DIV/0!"},{"$f":"(AY94/(AH94*Sanierungsdesign!$E$10))*1000000","v":{"$error":"#DIV/0!"}},{"$f":"AZ94/Sanierungsdesign!$E$12","v":{"$error":"#DIV/0!"}},{"$f":"$D$5+((-(Sanierungsdesign!$E$12)*MIN($BA$7:$BA$932))/(4*PI()*$D$3))*(-LN((4*$D$4*AH94)/(Sanierungsdesign!$E$13)^2)-$D$19)","v":{"$error":"#DIV/0!"}},{"$f":"(BB94-273.15)/Heterogenität!$D$4","v":{"$error":"#DIV/0!"}},{"$f":"IF(AI94<Berechnung!$D$7,AI94,#N/A)","v":{"$error":"#N/A"}}]
[null,null,null,null,null,null,null,null,null,null,null,null,null,null,null,null,null,null,null,null,null,null,null,null,null,null,null,null,null,null,null,null,{"$f":"Sanierungsdesign!$E$12*AH95*Sanierungsdesign!$E$10/1000000","v":4165.2},640800,7.416666666666667,{"$f":"$D$5+((-Sanierungsdesign!$E$12)/4*PI()*$D$3)*(-LN((4*$D$4*AH95)/(Sanierungsdesign!$E$13^2))-$D$19)","v":539.35268302313239},266.20268302313241,508.46457667244096,{"$f":"$D$3*$T$7*$AH$7*(AK95-$D$5)*(1/Sanierungsdesign!$E$15)/1000000","v":-2.366736707870627},{"$f":"$D$5+(-Sanierungsdesign!$E$12/(4*PI()*$D$3))*(-LN((4*$D$4*AH95)/(Sanierungsdesign!$E$13+Sanierungsdesign!$E$15)^2)-$D$19)","v":253.55710446029565},-19.59289553970433,{"$f":"(2*PI()*Sanierungsdesign!$E$10*$D$3)*(LN((Sanierungsdesign!$E$13+Sanierungsdesign!$E$15)/Sanierungsdesign!$E$13)*(AJ95-AN95))*$AH$7/1000000","v":25.515541228669576},1104.1241401251114,2492.0081842623763,{"$f":"AU95/Sanierungsdesign!$E$11","v":0.18394106143553857},512640,1.4715284914843085,{"$error":"#DIV/0!"},{"$error":"#DIV/0!"},{"$error":"#DIV/0!"},{"$error":"#DIV/0!"},{"$f":"(AY95/(AH95*Sanierungsdesign!$E$10))*1000000","v":{"$error":"#DIV/0!"}},{"$f":"AZ95/Sanierungsdesign!$E$12","v":{"$error":"#DIV/0!"}},{"$f":"$D$5+((-(Sanierungsdesign!$E$12)*MIN($BA$7:$BA$932))/(4*PI()*$D$3))*(-LN((4*$D$4*AH95)/(Sanierungsdesign!$E$13)^2)-$D$19)","v":{"$error":"#DIV/0!"}},{"$f":"(BB95-273.15)/Heterogenität!$D$4","v":{"$error":"#DIV/0!"}},{"$f":"IF(AI95<Berechnung!$D$7,AI95,#N/A)","v":{"$error":"#N/A"}}]
[null,null,null,null,null,null,null,null,null,null,null,null,null,null,null,null,null,null,null,null,null,null,null,null,null,null,null,null,null,null,null,null,{"$f":"Sanierungsdesign!$E$12*AH96*Sanierungsdesign!$E$10/1000000","v":4212},648000,7.5,{"$f":"$D$5+((-Sanierungsdesign!$E$12)/4*PI()*$D$3)*(-LN((4*$D$4*AH96)/(Sanierungsdesign!$E$13^2))-$D$19)","v":555.00464657486236},281.85464657486239,539.7721495382184,{"$f":"$D$3*$T$7*$AH$7*(AK96-$D$5)*(1/Sanierungsdesign!$E$15)/1000000","v":-0.18089946067119225},{"$f":"$D$5+(-Sanierungsdesign!$E$12/(4*PI()*$D$3))*(-LN((4*$D$4*AH96)/(Sanierungsdesign!$E$13+Sanierungsdesign!$E$15)^2)-$D$19)","v":254.39958690457269},-18.750413095427291,{"$f":"(2*PI()*Sanierungsdesign!$E$10*$D$3)*(LN((Sanierungsdesign!$E$13+Sanierungsdesign!$E$15)/Sanierungsdesign!$E$13)*(AJ96-AN96))*$AH$7/1000000","v":26.837716776914931},1116.5300293400003,2520.0082762203806,{"$f":"AU96/Sanierungsdesign!$E$11","v":0.19526682226157041},518400,1.5621345780925633,{"$error":"#DIV/0!"},{"$error":"#DIV/0!"},{"$error":"#DIV/0!"},{"$error":"#DIV/0!"},{"$f":"(AY96/(AH96*Sanierungsdesign!$E$10))*1000000","v":{"$error":"#DIV/0!"}},{"$f":"AZ96/Sanierungsdesign!$E$12","v":{"$error":"#DIV/0!"}},{"$f":"$D$5+((-(Sanierungsdesign!$E$12)*MIN($BA$7:$BA$932))/(4*PI()*$D$3))*(-LN((4*$D$4*AH96)/(Sanierungsdesign!$E$13)^2)-$D$19)","v":{"$error":"#DIV/0!"}},{"$f":"(BB96-273.15)/Heterogenität!$D$4","v":{"$error":"#DIV/0!"}},{"$f":"IF(AI96<Berechnung!$D$7,AI96,#N/A)","v":{"$error":"#N/A"}}]
[null,null,null,null,null,null,null,null,null,null,null,null,null,null,null,null,null,null,null,null,null,null,null,null,null,null,null,null,null,null,null,null,{"$f":"Sanierungsdesign!$E$12*AH97*Sanierungsdesign!$E$10/1000000","v":4258.8},655200,7.583333333333333,{"$f":"$D$5+((-Sanierungsdesign!$E$12)/4*PI()*$D$3)*(-LN((4*$D$4*AH97)/(Sanierungsdesign!$E$13^2))-$D$19)","v":570.48365671391082},297.33365671391084,570.733775293142,{"$f":"$D$3*$T$7*$AH$7*(AK97-$D$5)*(1/Sanierungsdesign!$E$15)/1000000","v":1.980784394513236},{"$f":"$D$5+(-Sanierungsdesign!$E$12/(4*PI()*$D$3))*(-LN((4*$D$4*AH97)/(Sanierungsdesign!$E$13+Sanierungsdesign!$E$15)^2)-$D$19)","v":255.23275996007047},-17.91724003992951,{"$f":"(2*PI()*Sanierungsdesign!$E$10*$D$3)*(LN((Sanierungsdesign!$E$13+Sanierungsdesign!$E$15)/Sanierungsdesign!$E$13)*(AJ97-AN97))*$AH$7/1000000","v":28.145282351627117},1128.9359185548892,2548.0083681783849,{"$f":"AU97/Sanierungsdesign!$E$11","v":0.20646743399818585},524160,1.6517394719854868,{"$error":"#DIV/0!"},{"$error":"#DIV/0!"},{"$error":"#DIV/0!"},{"$error":"#DIV/0!"},{"$f":"(AY97/(AH97*Sanierungsdesign!$E$10))*1000000","v":{"$error":"#DIV/0!"}},{"$f":"AZ97/Sanierungsdesign!$E$12","v":{"$error":"#DIV/0!"}},{"$f":"$D$5+((-(Sanierungsdesign!$E$12)*MIN($BA$7:$BA$932))/(4*PI()*$D$3))*(-LN((4*$D$4*AH97)/(Sanierungsdesign!$E$13)^2)-$D$19)","v":{"$error":"#DIV/0!"}},{"$f":"(BB97-273.15)/Heterogenität!$D$4","v":{"$error":"#DIV/0!"}},{"$f":"IF(AI97<Berechnung!$D$7,AI97,#N/A)","v":{"$error":"#N/A"}}]
[null,null,null,null,null,null,null,null,null,null,null,null,null,null,null,null,null,null,null,null,null,null,null,null,null,null,null,null,null,null,null,null,{"$f":"Sanierungsdesign!$E$12*AH98*Sanierungsdesign!$E$10/1000000","v":4305.6000000000004},662400,7.666666666666667,{"$f":"$D$5+((-Sanierungsdesign!$E$12)/4*PI()*$D$3)*(-LN((4*$D$4*AH98)/(Sanierungsdesign!$E$13^2))-$D$19)","v":585.79349395688541},312.64349395688544,601.35701585101083,{"$f":"$D$3*$T$7*$AH$7*(AK98-$D$5)*(1/Sanierungsdesign!$E$15)/1000000","v":4.1188428166181206},{"$f":"$D$5+(-Sanierungsdesign!$E$12/(4*PI()*$D$3))*(-LN((4*$D$4*AH98)/(Sanierungsdesign!$E$13+Sanierungsdesign!$E$15)^2)-$D$19)","v":256.05682711684068},-17.093172883159298,{"$f":"(2*PI()*Sanierungsdesign!$E$10*$D$3)*(LN((Sanierungsdesign!$E$13+Sanierungsdesign!$E$15)/Sanierungsdesign!$E$13)*(AJ98-AN98))*$AH$7/1000000","v":29.43855730613209},1141.3418077697781,2576.0084601363892,{"$f":"AU98/Sanierungsdesign!$E$11","v":0.21754563222720227},529920,1.7403650578176182,{"$error":"#DIV/0!"},{"$error":"#DIV/0!"},{"$error":"#DIV/0!"},{"$error":"#DIV/0!"},{"$f":"(AY98/(AH98*Sanierungsdesign!$E$10))*1000000","v":{"$error":"#DIV/0!"}},{"$f":"AZ98/Sanierungsdesign!$E$12","v":{"$error":"#DIV/0!"}},{"$f":"$D$5+((-(Sanierungsdesign!$E$12)*MIN($BA$7:$BA$932))/(4*PI()*$D$3))*(-LN((4*$D$4*AH98)/(Sanierungsdesign!$E$13)^2)-$D$19)","v":{"$error":"#DIV/0!"}},{"$f":"(BB98-273.15)/Heterogenität!$D$4","v":{"$error":"#DIV/0!"}},{"$f":"IF(AI98<Berechnung!$D$7,AI98,#N/A)","v":{"$error":"#N/A"}}]
[null,null,null,null,null,null,null,null,null,null,null,null,null,null,null,null,null,null,null,null,null,null,null,null,null,null,null,null,null,null,null,null,{"$f":"Sanierungsdesign!$E$12*AH99*Sanierungsdesign!$E$10/1000000","v":4352.3999999999996},669600,7.75,{"$f":"$D$5+((-Sanierungsdesign!$E$12)/4*PI()*$D$3)*(-LN((4*$D$4*AH99)/(Sanierungsdesign!$E$13^2))-$D$19)","v":600.93781620418883},327.78781620418886,631.64918786465319,{"$f":"$D$3*$T$7*$AH$7*(AK99-$D$5)*(1/Sanierungsdesign!$E$15)/1000000","v":6.2337866409083365},{"$f":"$D$5+(-Sanierungsdesign!$E$12/(4*PI()*$D$3))*(-LN((4*$D$4*AH99)/(Sanierungsdesign!$E$13+Sanierungsdesign!$E$15)^2)-$D$19)","v":256.87198526499628},-16.278014735003694,{"$f":"(2*PI()*Sanierungsdesign!$E$10*$D$3)*(LN((Sanierungsdesign!$E$13+Sanierungsdesign!$E$15)/Sanierungsdesign!$E$13)*(AJ99-AN99))*$AH$7/1000000","v":30.717850635940522},1153.7476969846668,2604.0085520943931,{"$f":"AU99/Sanierungsdesign!$E$11","v":0.22850406380535104},535680,1.8280325104428083,{"$error":"#DIV/0!"},{"$error":"#DIV/0!"},{"$error":"#DIV/0!"},{"$error":"#DIV/0!"},{"$f":"(AY99/(AH99*Sanierungsdesign!$E$10))*1000000","v":{"$error":"#DIV/0!"}},{"$f":"AZ99/Sanierungsdesign!$E$12","v":{"$error":"#DIV/0!"}},{"$f":"$D$5+((-(Sanierungsdesign!$E$12)*MIN($BA$7:$BA$932))/(4*PI()*$D$3))*(-LN((4*$D$4*AH99)/(Sanierungsdesign!$E$13)^2)-$D$19)","v":{"$error":"#DIV/0!"}},{"$f":"(BB99-273.15)/Heterogenität!$D$4","v":{"$error":"#DIV/0!"}},{"$f":"IF(AI99<Berechnung!$D$7,AI99,#N/A)","v":{"$error":"#N/A"}}]
[null,null,null,null,null,null,null,null,null,null,null,null,null,null,null,null,null,null,null,null,null,null,null,null,null,null,null,null,null,null,null,null,{"$f":"Sanierungsdesign!$E$12*AH100*Sanierungsdesign!$E$10/1000000","v":4399.2},676800,7.833333333333333,{"$f":"$D$5+((-Sanierungsdesign!$E$12)/4*PI()*$D$3)*(-LN((4*$D$4*AH100)/(Sanierungsdesign!$E$13^2))-$D$19)","v":615.92016398588567},342.77016398588569,661.61737321888302,{"$f":"$D$3*$T$7*$AH$7*(AK100-$D$5)*(1/Sanierungsdesign!$E$15)/1000000","v":8.3261103115770609},{"$f":"$D$5+(-Sanierungsdesign!$E$12/(4*PI()*$D$3))*(-LN((4*$D$4*AH100)/(Sanierungsdesign!$E$13+Sanierungsdesign!$E$15)^2)-$D$19)","v":257.67842497707562},-15.471575022924355,{"$f":"(2*PI()*Sanierungsdesign!$E$10*$D$3)*(LN((Sanierungsdesign!$E$13+Sanierungsdesign!$E$15)/Sanierungsdesign!$E$13)*(AJ100-AN100))*$AH$7/1000000","v":31.983461421884254},1166.1535861995558,2632.0086440523974,{"$f":"AU100/Sanierungsdesign!$E$11","v":0.23934529066018684},541440,1.9147623252814947,{"$error":"#DIV/0!"},{"$error":"#DIV/0!"},{"$error":"#DIV/0!"},{"$error":"#DIV/0!"},{"$f":"(AY100/(AH100*Sanierungsdesign!$E$10))*1000000","v":{"$error":"#DIV/0!"}},{"$f":"AZ100/Sanierungsdesign!$E$12","v":{"$error":"#DIV/0!"}},{"$f":"$D$5+((-(Sanierungsdesign!$E$12)*MIN($BA$7:$BA$932))/(4*PI()*$D$3))*(-LN((4*$D$4*AH100)/(Sanierungsdesign!$E$13)^2)-$D$19)","v":{"$error":"#DIV/0!"}},{"$f":"(BB100-273.15)/Heterogenität!$D$4","v":{"$error":"#DIV/0!"}},{"$f":"IF(AI100<Berechnung!$D$7,AI100,#N/A)","v":{"$error":"#N/A"}}]
[null,null,null,null,null,null,null,null,null,null,null,null,null,null,null,null,null,null,null,null,null,null,null,null,null,null,null,null,null,null,null,null,{"$f":"Sanierungsdesign!$E$12*AH101*Sanierungsdesign!$E$10/1000000","v":4446},684000,7.916666666666667,{"$f":"$D$5+((-Sanierungsdesign!$E$12)/4*PI()*$D$3)*(-LN((4*$D$4*AH101)/(Sanierungsdesign!$E$13^2))-$D$19)","v":630.74396542999784},357.59396542999787,691.26842896824712,{"$f":"$D$3*$T$7*$AH$7*(AK101-$D$5)*(1/Sanierungsdesign!$E$15)/1000000","v":10.396292575581107},{"$f":"$D$5+(-Sanierungsdesign!$E$12/(4*PI()*$D$3))*(-LN((4*$D$4*AH101)/(Sanierungsdesign!$E$13+Sanierungsdesign!$E$15)^2)-$D$19)","v":258.4763307754655},-14.673669224534478,{"$f":"(2*PI()*Sanierungsdesign!$E$10*$D$3)*(LN((Sanierungsdesign!$E$13+Sanierungsdesign!$E$15)/Sanierungsdesign!$E$13)*(AJ101-AN101))*$AH$7/1000000","v":33.235679249805472},1178.5594754144447,2660.0087360104017,{"$f":"AU101/Sanierungsdesign!$E$11","v":0.2500717933851464},547200,2.0005743470811712,{"$error":"#DIV/0!"},{"$error":"#DIV/0!"},{"$error":"#DIV/0!"},{"$error":"#DIV/0!"},{"$f":"(AY101/(AH101*Sanierungsdesign!$E$10))*1000000","v":{"$error":"#DIV/0!"}},{"$f":"AZ101/Sanierungsdesign!$E$12","v":{"$error":"#DIV/0!"}},{"$f":"$D$5+((-(Sanierungsdesign!$E$12)*MIN($BA$7:$BA$932))/(4*PI()*$D$3))*(-LN((4*$D$4*AH101)/(Sanierungsdesign!$E$13)^2)-$D$19)","v":{"$error":"#DIV/0!"}},{"$f":"(BB101-273.15)/Heterogenität!$D$4","v":{"$error":"#DIV/0!"}},{"$f":"IF(AI101<Berechnung!$D$7,AI101,#N/A)","v":{"$error":"#N/A"}}]
[null,null,null,null,null,null,null,null,null,null,null,null,null,null,null,null,null,null,null,null,null,null,null,null,null,null,null,null,null,null,null,null,{"$f":"Sanierungsdesign!$E$12*AH102*Sanierungsdesign!$E$10/1000000","v":4492.8},691200,8,{"$f":"$D$5+((-Sanierungsdesign!$E$12)/4*PI()*$D$3)*(-LN((4*$D$4*AH102)/(Sanierungsdesign!$E$13^2))-$D$19)","v":645.41254097066155},372.26254097066158,720.60899675443602,{"$f":"$D$3*$T$7*$AH$7*(AK102-$D$5)*(1/Sanierungsdesign!$E$15)/1000000","v":12.444797140147223},{"$f":"$D$5+(-Sanierungsdesign!$E$12/(4*PI()*$D$3))*(-LN((4*$D$4*AH102)/(Sanierungsdesign!$E$13+Sanierungsdesign!$E$15)^2)-$D$19)","v":259.26588138582298},-13.884118614176998,{"$f":"(2*PI()*Sanierungsdesign!$E$10*$D$3)*(LN((Sanierungsdesign!$E$13+Sanierungsdesign!$E$15)/Sanierungsdesign!$E$13)*(AJ102-AN102))*$AH$7/1000000","v":34.47478460827098},1190.9653646293336,2688.0088279684064,{"$f":"AU102/Sanierungsdesign!$E$11","v":0.26068597464637067},552960,2.0854877971709653,{"$error":"#DIV/0!"},{"$error":"#DIV/0!"},{"$error":"#DIV/0!"},{"$error":"#DIV/0!"},{"$f":"(AY102/(AH102*Sanierungsdesign!$E$10))*1000000","v":{"$error":"#DIV/0!"}},{"$f":"AZ102/Sanierungsdesign!$E$12","v":{"$error":"#DIV/0!"}},{"$f":"$D$5+((-(Sanierungsdesign!$E$12)*MIN($BA$7:$BA$932))/(4*PI()*$D$3))*(-LN((4*$D$4*AH102)/(Sanierungsdesign!$E$13)^2)-$D$19)","v":{"$error":"#DIV/0!"}},{"$f":"(BB102-273.15)/Heterogenität!$D$4","v":{"$error":"#DIV/0!"}},{"$f":"IF(AI102<Berechnung!$D$7,AI102,#N/A)","v":{"$error":"#N/A"}}]
[null,null,null,null,null,null,null,null,null,null,null,null,null,null,null,null,null,null,null,null,null,null,null,null,null,null,null,null,null,null,null,null,{"$f":"Sanierungsdesign!$E$12*AH103*Sanierungsdesign!$E$10/1000000","v":4539.6000000000004},698400,8.0833333333333339,{"$f":"$D$5+((-Sanierungsdesign!$E$12)/4*PI()*$D$3)*(-LN((4*$D$4*AH103)/(Sanierungsdesign!$E$13^2))-$D$19)","v":659.92910781232808},386.77910781232811,749.64551173572556,{"$f":"$D$3*$T$7*$AH$7*(AK103-$D$5)*(1/Sanierungsdesign!$E$15)/1000000","v":14.472073296209304},{"$f":"$D$5+(-Sanierungsdesign!$E$12/(4*PI()*$D$3))*(-LN((4*$D$4*AH103)/(Sanierungsdesign!$E$13+Sanierungsdesign!$E$15)^2)-$D$19)","v":260.04724997736474},-13.102750022635234,{"$f":"(2*PI()*Sanierungsdesign!$E$10*$D$3)*(LN((Sanierungsdesign!$E$13+Sanierungsdesign!$E$15)/Sanierungsdesign!$E$13)*(AJ103-AN103))*$AH$7/1000000","v":35.701049265678741},1203.3712538442226,2716.0089199264103,{"$f":"AU103/Sanierungsdesign!$E$11","v":0.27119016241300059},558720,2.1695212993040047,{"$error":"#DIV/0!"},{"$error":"#DIV/0!"},{"$error":"#DIV/0!"},{"$error":"#DIV/0!"},{"$f":"(AY103/(AH103*Sanierungsdesign!$E$10))*1000000","v":{"$error":"#DIV/0!"}},{"$f":"AZ103/Sanierungsdesign!$E$12","v":{"$error":"#DIV/0!"}},{"$f":"$D$5+((-(Sanierungsdesign!$E$12)*MIN($BA$7:$BA$932))/(4*PI()*$D$3))*(-LN((4*$D$4*AH103)/(Sanierungsdesign!$E$13)^2)-$D$19)","v":{"$error":"#DIV/0!"}},{"$f":"(BB103-273.15)/Heterogenität!$D$4","v":{"$error":"#DIV/0!"}},{"$f":"IF(AI103<Berechnung!$D$7,AI103,#N/A)","v":{"$error":"#N/A"}}]
[null,null,null,null,null,null,null,null,null,null,null,null,null,null,null,null,null,null,null,null,null,null,null,null,null,null,null,null,null,null,null,null,{"$f":"Sanierungsdesign!$E$12*AH104*Sanierungsdesign!$E$10/1000000","v":4586.3999999999996},705600,8.1666666666666661,{"$f":"$D$5+((-Sanierungsdesign!$E$12)/4*PI()*$D$3)*(-LN((4*$D$4*AH104)/(Sanierungsdesign!$E$13^2))-$D$19)","v":674.29678416501599},401.14678416501602,778.38421105846749,{"$f":"$D$3*$T$7*$AH$7*(AK104-$D$5)*(1/Sanierungsdesign!$E$15)/1000000","v":16.478556509872334},{"$f":"$D$5+(-Sanierungsdesign!$E$12/(4*PI()*$D$3))*(-LN((4*$D$4*AH104)/(Sanierungsdesign!$E$13+Sanierungsdesign!$E$15)^2)-$D$19)","v":260.82060439083426},-12.329395609165715,{"$f":"(2*PI()*Sanierungsdesign!$E$10*$D$3)*(LN((Sanierungsdesign!$E$13+Sanierungsdesign!$E$15)/Sanierungsdesign!$E$13)*(AJ104-AN104))*$AH$7/1000000","v":36.91473662802423},1215.7771430591115,2744.0090118844146,{"$f":"AU104/Sanierungsdesign!$E$11","v":0.28158661302180554},564480,2.2526929041744443,{"$error":"#DIV/0!"},{"$error":"#DIV/0!"},{"$error":"#DIV/0!"},{"$error":"#DIV/0!"},{"$f":"(AY104/(AH104*Sanierungsdesign!$E$10))*1000000","v":{"$error":"#DIV/0!"}},{"$f":"AZ104/Sanierungsdesign!$E$12","v":{"$error":"#DIV/0!"}},{"$f":"$D$5+((-(Sanierungsdesign!$E$12)*MIN($BA$7:$BA$932))/(4*PI()*$D$3))*(-LN((4*$D$4*AH104)/(Sanierungsdesign!$E$13)^2)-$D$19)","v":{"$error":"#DIV/0!"}},{"$f":"(BB104-273.15)/Heterogenität!$D$4","v":{"$error":"#DIV/0!"}},{"$f":"IF(AI104<Berechnung!$D$7,AI104,#N/A)","v":{"$error":"#N/A"}}]
[null,null,null,null,null,null,null,null,null,null,null,null,null,null,null,null,null,null,null,null,null,null,null,null,null,null,null,null,null,null,null,null,{"$f":"Sanierungsdesign!$E$12*AH105*Sanierungsdesign!$E$10/1000000","v":4633.2},712800,8.25,{"$f":"$D$5+((-Sanierungsdesign!$E$12)/4*PI()*$D$3)*(-LN((4*$D$4*AH105)/(Sanierungsdesign!$E$13^2))-$D$19)","v":688.51859326456656},415.36859326456658,806.83114189853745,{"$f":"$D$3*$T$7*$AH$7*(AK105-$D$5)*(1/Sanierungsdesign!$E$15)/1000000","v":18.464668983851457},{"$f":"$D$5+(-Sanierungsdesign!$E$12/(4*PI()*$D$3))*(-LN((4*$D$4*AH105)/(Sanierungsdesign!$E$13+Sanierungsdesign!$E$15)^2)-$D$19)","v":261.58610735489572},-11.563892645104261,{"$f":"(2*PI()*Sanierungsdesign!$E$10*$D$3)*(LN((Sanierungsdesign!$E$13+Sanierungsdesign!$E$15)/Sanierungsdesign!$E$13)*(AJ105-AN105))*$AH$7/1000000","v":38.116102078505421},1228.1830322740002,2772.0091038424189,{"$f":"AU105/Sanierungsdesign!$E$11","v":0.2918775140862403},570240,2.3350201126899224,{"$error":"#DIV/0!"},{"$error":"#DIV/0!"},{"$error":"#DIV/0!"},{"$error":"#DIV/0!"},{"$f":"(AY105/(AH105*Sanierungsdesign!$E$10))*1000000","v":{"$error":"#DIV/0!"}},{"$f":"AZ105/Sanierungsdesign!$E$12","v":{"$error":"#DIV/0!"}},{"$f":"$D$5+((-(Sanierungsdesign!$E$12)*MIN($BA$7:$BA$932))/(4*PI()*$D$3))*(-LN((4*$D$4*AH105)/(Sanierungsdesign!$E$13)^2)-$D$19)","v":{"$error":"#DIV/0!"}},{"$f":"(BB105-273.15)/Heterogenität!$D$4","v":{"$error":"#DIV/0!"}},{"$f":"IF(AI105<Berechnung!$D$7,AI105,#N/A)","v":{"$error":"#N/A"}}]
[null,null,null,null,null,null,null,null,null,null,null,null,null,null,null,null,null,null,null,null,null,null,null,null,null,null,null,null,null,null,null,null,{"$f":"Sanierungsdesign!$E$12*AH106*Sanierungsdesign!$E$10/1000000","v":4680},720000,8.3333333333333339,{"$f":"$D$5+((-Sanierungsdesign!$E$12)/4*PI()*$D$3)*(-LN((4*$D$4*AH106)/(Sanierungsdesign!$E$13^2))-$D$19)","v":702.59746719086604},429.44746719086606,834.99216909866766,{"$f":"$D$3*$T$7*$AH$7*(AK106-$D$5)*(1/Sanierungsdesign!$E$15)/1000000","v":20.430820190696615},{"$f":"$D$5+(-Sanierungsdesign!$E$12/(4*PI()*$D$3))*(-LN((4*$D$4*AH106)/(Sanierungsdesign!$E$13+Sanierungsdesign!$E$15)^2)-$D$19)","v":262.3439166916537},-10.806083308346274,{"$f":"(2*PI()*Sanierungsdesign!$E$10*$D$3)*(LN((Sanierungsdesign!$E$13+Sanierungsdesign!$E$15)/Sanierungsdesign!$E$13)*(AJ106-AN106))*$AH$7/1000000","v":39.305393300061112},1240.5889214888891,2800.0091958004227,{"$f":"AU106/Sanierungsdesign!$E$11","v":0.30206498725931069},576000,2.4165198980744855,{"$error":"#DIV/0!"},{"$error":"#DIV/0!"},{"$error":"#DIV/0!"},{"$error":"#DIV/0!"},{"$f":"(AY106/(AH106*Sanierungsdesign!$E$10))*1000000","v":{"$error":"#DIV/0!"}},{"$f":"AZ106/Sanierungsdesign!$E$12","v":{"$error":"#DIV/0!"}},{"$f":"$D$5+((-(Sanierungsdesign!$E$12)*MIN($BA$7:$BA$932))/(4*PI()*$D$3))*(-LN((4*$D$4*AH106)/(Sanierungsdesign!$E$13)^2)-$D$19)","v":{"$error":"#DIV/0!"}},{"$f":"(BB106-273.15)/Heterogenität!$D$4","v":{"$error":"#DIV/0!"}},{"$f":"IF(AI106<Berechnung!$D$7,AI106,#N/A)","v":{"$error":"#N/A"}}]
[null,null,null,null,null,null,null,null,null,null,null,null,null,null,null,null,null,null,null,null,null,null,null,null,null,null,null,null,null,null,null,null,{"$f":"Sanierungsdesign!$E$12*AH107*Sanierungsdesign!$E$10/1000000","v":4726.8},727200,8.4166666666666661,{"$f":"$D$5+((-Sanierungsdesign!$E$12)/4*PI()*$D$3)*(-LN((4*$D$4*AH107)/(Sanierungsdesign!$E$13^2))-$D$19)","v":716.536250496094},443.38625049609402,862.87298242579004,{"$f":"$D$3*$T$7*$AH$7*(AK107-$D$5)*(1/Sanierungsdesign!$E$15)/1000000","v":22.377407379486826},{"$f":"$D$5+(-Sanierungsdesign!$E$12/(4*PI()*$D$3))*(-LN((4*$D$4*AH107)/(Sanierungsdesign!$E$13+Sanierungsdesign!$E$15)^2)-$D$19)","v":263.09418551194744},-10.055814488052533,{"$f":"(2*PI()*Sanierungsdesign!$E$10*$D$3)*(LN((Sanierungsdesign!$E$13+Sanierungsdesign!$E$15)/Sanierungsdesign!$E$13)*(AJ107-AN107))*$AH$7/1000000","v":40.48285058186179},1252.9948107037781,2828.009287758427,{"$f":"AU107/Sanierungsdesign!$E$11","v":0.31215109085897363},581760,2.4972087268717891,{"$error":"#DIV/0!"},{"$error":"#DIV/0!"},{"$error":"#DIV/0!"},{"$error":"#DIV/0!"},{"$f":"(AY107/(AH107*Sanierungsdesign!$E$10))*1000000","v":{"$error":"#DIV/0!"}},{"$f":"AZ107/Sanierungsdesign!$E$12","v":{"$error":"#DIV/0!"}},{"$f":"$D$5+((-(Sanierungsdesign!$E$12)*MIN($BA$7:$BA$932))/(4*PI()*$D$3))*(-LN((4*$D$4*AH107)/(Sanierungsdesign!$E$13)^2)-$D$19)","v":{"$error":"#DIV/0!"}},{"$f":"(BB107-273.15)/Heterogenität!$D$4","v":{"$error":"#DIV/0!"}},{"$f":"IF(AI107<Berechnung!$D$7,AI107,#N/A)","v":{"$error":"#N/A"}}]
[null,null,null,null,null,null,null,null,null,null,null,null,null,null,null,null,null,null,null,null,null,null,null,null,null,null,null,null,null,null,null,null,{"$f":"Sanierungsdesign!$E$12*AH108*Sanierungsdesign!$E$10/1000000","v":4773.6000000000004},734400,8.5,{"$f":"$D$5+((-Sanierungsdesign!$E$12)/4*PI()*$D$3)*(-LN((4*$D$4*AH108)/(Sanierungsdesign!$E$13^2))-$D$19)","v":730.33770365423538},457.18770365423541,890.47910347086281,{"$f":"$D$3*$T$7*$AH$7*(AK108-$D$5)*(1/Sanierungsdesign!$E$15)/1000000","v":24.304816057563471},{"$f":"$D$5+(-Sanierungsdesign!$E$12/(4*PI()*$D$3))*(-LN((4*$D$4*AH108)/(Sanierungsdesign!$E$13+Sanierungsdesign!$E$15)^2)-$D$19)","v":263.83706240102379},-9.3129375989761911,{"$f":"(2*PI()*Sanierungsdesign!$E$10*$D$3)*(LN((Sanierungsdesign!$E$13+Sanierungsdesign!$E$15)/Sanierungsdesign!$E$13)*(AJ108-AN108))*$AH$7/1000000","v":41.648707110701665},1265.400699918667,2856.0093797164318,{"$f":"AU108/Sanierungsdesign!$E$11","v":0.32213782236420468},587520,2.5771025789136375,{"$error":"#DIV/0!"},{"$error":"#DIV/0!"},{"$error":"#DIV/0!"},{"$error":"#DIV/0!"},{"$f":"(AY108/(AH108*Sanierungsdesign!$E$10))*1000000","v":{"$error":"#DIV/0!"}},{"$f":"AZ108/Sanierungsdesign!$E$12","v":{"$error":"#DIV/0!"}},{"$f":"$D$5+((-(Sanierungsdesign!$E$12)*MIN($BA$7:$BA$932))/(4*PI()*$D$3))*(-LN((4*$D$4*AH108)/(Sanierungsdesign!$E$13)^2)-$D$19)","v":{"$error":"#DIV/0!"}},{"$f":"(BB108-273.15)/Heterogenität!$D$4","v":{"$error":"#DIV/0!"}},{"$f":"IF(AI108<Berechnung!$D$7,AI108,#N/A)","v":{"$error":"#N/A"}}]
[null,null,null,null,null,null,null,null,null,null,null,null,null,null,null,null,null,null,null,null,null,null,null,null,null,null,null,null,null,null,null,null,{"$f":"Sanierungsdesign!$E$12*AH109*Sanierungsdesign!$E$10/1000000","v":4820.3999999999996},741600,8.5833333333333339,{"$f":"$D$5+((-Sanierungsdesign!$E$12)/4*PI()*$D$3)*(-LN((4*$D$4*AH109)/(Sanierungsdesign!$E$13^2))-$D$19)","v":744.00450634231231},470.85450634231233,917.81589221209924,{"$f":"$D$3*$T$7*$AH$7*(AK109-$D$5)*(1/Sanierungsdesign!$E$15)/1000000","v":26.213420448762815},{"$f":"$D$5+(-Sanierungsdesign!$E$12/(4*PI()*$D$3))*(-LN((4*$D$4*AH109)/(Sanierungsdesign!$E$13+Sanierungsdesign!$E$15)^2)-$D$19)","v":264.57269159515329},-8.5773084048466899,{"$f":"(2*PI()*Sanierungsdesign!$E$10*$D$3)*(LN((Sanierungsdesign!$E$13+Sanierungsdesign!$E$15)/Sanierungsdesign!$E$13)*(AJ109-AN109))*$AH$7/1000000","v":42.803189248175855},1277.8065891335559,2884.0094716744356,{"$f":"AU109/Sanierungsdesign!$E$11","v":0.33202712078929714},593280,2.6562169663143771,{"$error":"#DIV/0!"},{"$error":"#DIV/0!"},{"$error":"#DIV/0!"},{"$error":"#DIV/0!"},{"$f":"(AY109/(AH109*Sanierungsdesign!$E$10))*1000000","v":{"$error":"#DIV/0!"}},{"$f":"AZ109/Sanierungsdesign!$E$12","v":{"$error":"#DIV/0!"}},{"$f":"$D$5+((-(Sanierungsdesign!$E$12)*MIN($BA$7:$BA$932))/(4*PI()*$D$3))*(-LN((4*$D$4*AH109)/(Sanierungsdesign!$E$13)^2)-$D$19)","v":{"$error":"#DIV/0!"}},{"$f":"(BB109-273.15)/Heterogenität!$D$4","v":{"$error":"#DIV/0!"}},{"$f":"IF(AI109<Berechnung!$D$7,AI109,#N/A)","v":{"$error":"#N/A"}}]
[null,null,null,null,null,null,null,null,null,null,null,null,null,null,null,null,null,null,null,null,null,null,null,null,null,null,null,null,null,null,null,null,{"$f":"Sanierungsdesign!$E$12*AH110*Sanierungsdesign!$E$10/1000000","v":4867.2},748800,8.6666666666666661,{"$f":"$D$5+((-Sanierungsdesign!$E$12)/4*PI()*$D$3)*(-LN((4*$D$4*AH110)/(Sanierungsdesign!$E$13^2))-$D$19)","v":757.53926056309683},484.38926056309685,944.88855326111911,{"$f":"$D$3*$T$7*$AH$7*(AK110-$D$5)*(1/Sanierungsdesign!$E$15)/1000000","v":28.103583929510929},{"$f":"$D$5+(-Sanierungsdesign!$E$12/(4*PI()*$D$3))*(-LN((4*$D$4*AH110)/(Sanierungsdesign!$E$13+Sanierungsdesign!$E$15)^2)-$D$19)","v":265.30121314971285},-7.8487868502871265,{"$f":"(2*PI()*Sanierungsdesign!$E$10*$D$3)*(LN((Sanierungsdesign!$E$13+Sanierungsdesign!$E$15)/Sanierungsdesign!$E$13)*(AJ110-AN110))*$AH$7/1000000","v":43.946516794466618},1290.2124783484448,2912.0095636324399,{"$f":"AU110/Sanierungsdesign!$E$11","v":0.34182086894345687},599040,2.7345669515476549,{"$error":"#DIV/0!"},{"$error":"#DIV/0!"},{"$error":"#DIV/0!"},{"$error":"#DIV/0!"},{"$f":"(AY110/(AH110*Sanierungsdesign!$E$10))*1000000","v":{"$error":"#DIV/0!"}},{"$f":"AZ110/Sanierungsdesign!$E$12","v":{"$error":"#DIV/0!"}},{"$f":"$D$5+((-(Sanierungsdesign!$E$12)*MIN($BA$7:$BA$932))/(4*PI()*$D$3))*(-LN((4*$D$4*AH110)/(Sanierungsdesign!$E$13)^2)-$D$19)","v":{"$error":"#DIV/0!"}},{"$f":"(BB110-273.15)/Heterogenität!$D$4","v":{"$error":"#DIV/0!"}},{"$f":"IF(AI110<Berechnung!$D$7,AI110,#N/A)","v":{"$error":"#N/A"}}]
[null,null,null,null,null,null,null,null,null,null,null,null,null,null,null,null,null,null,null,null,null,null,null,null,null,null,null,null,null,null,null,null,{"$f":"Sanierungsdesign!$E$12*AH111*Sanierungsdesign!$E$10/1000000","v":4914},756000,8.75,{"$f":"$D$5+((-Sanierungsdesign!$E$12)/4*PI()*$D$3)*(-LN((4*$D$4*AH111)/(Sanierungsdesign!$E$13^2))-$D$19)","v":770.94449361840293},497.79449361840295,971.70214181022732,{"$f":"$D$3*$T$7*$AH$7*(AK111-$D$5)*(1/Sanierungsdesign!$E$15)/1000000","v":29.975659444051626},{"$f":"$D$5+(-Sanierungsdesign!$E$12/(4*PI()*$D$3))*(-LN((4*$D$4*AH111)/(Sanierungsdesign!$E$13+Sanierungsdesign!$E$15)^2)-$D$19)","v":266.02276309922632},-7.1272369007736529,{"$f":"(2*PI()*Sanierungsdesign!$E$10*$D$3)*(LN((Sanierungsdesign!$E$13+Sanierungsdesign!$E$15)/Sanierungsdesign!$E$13)*(AJ111-AN111))*$AH$7/1000000","v":45.078903239507703},1302.6183675633335,2940.0096555904438,{"$f":"AU111/Sanierungsdesign!$E$11","v":0.35152089558227634},604800,2.8121671646582107,{"$error":"#DIV/0!"},{"$error":"#DIV/0!"},{"$error":"#DIV/0!"},{"$error":"#DIV/0!"},{"$f":"(AY111/(AH111*Sanierungsdesign!$E$10))*1000000","v":{"$error":"#DIV/0!"}},{"$f":"AZ111/Sanierungsdesign!$E$12","v":{"$error":"#DIV/0!"}},{"$f":"$D$5+((-(Sanierungsdesign!$E$12)*MIN($BA$7:$BA$932))/(4*PI()*$D$3))*(-LN((4*$D$4*AH111)/(Sanierungsdesign!$E$13)^2)-$D$19)","v":{"$error":"#DIV/0!"}},{"$f":"(BB111-273.15)/Heterogenität!$D$4","v":{"$error":"#DIV/0!"}},{"$f":"IF(AI111<Berechnung!$D$7,AI111,#N/A)","v":{"$error":"#N/A"}}]
[null,null,null,null,null,null,null,null,null,null,null,null,null,null,null,null,null,null,null,null,null,null,null,null,null,null,null,null,null,null,null,null,{"$f":"Sanierungsdesign!$E$12*AH112*Sanierungsdesign!$E$10/1000000","v":4960.8},763200,8.8333333333333339,{"$f":"$D$5+((-Sanierungsdesign!$E$12)/4*PI()*$D$3)*(-LN((4*$D$4*AH112)/(Sanierungsdesign!$E$13^2))-$D$19)","v":784.22266094145812},511.07266094145814,998.26156929781484,{"$f":"$D$3*$T$7*$AH$7*(AK112-$D$5)*(1/Sanierungsdesign!$E$15)/1000000","v":31.829989899994484},{"$f":"$D$5+(-Sanierungsdesign!$E$12/(4*PI()*$D$3))*(-LN((4*$D$4*AH112)/(Sanierungsdesign!$E$13+Sanierungsdesign!$E$15)^2)-$D$19)","v":266.7374736098198},-6.4125263901801759,{"$f":"(2*PI()*Sanierungsdesign!$E$10*$D$3)*(LN((Sanierungsdesign!$E$13+Sanierungsdesign!$E$15)/Sanierungsdesign!$E$13)*(AJ112-AN112))*$AH$7/1000000","v":46.200556002244532},1315.0242567782225,2968.0097475484481,{"$f":"AU112/Sanierungsdesign!$E$11","v":0.36112897745723904},610560,2.8890318196579123,{"$error":"#DIV/0!"},{"$error":"#DIV/0!"},{"$error":"#DIV/0!"},{"$error":"#DIV/0!"},{"$f":"(AY112/(AH112*Sanierungsdesign!$E$10))*1000000","v":{"$error":"#DIV/0!"}},{"$f":"AZ112/Sanierungsdesign!$E$12","v":{"$error":"#DIV/0!"}},{"$f":"$D$5+((-(Sanierungsdesign!$E$12)*MIN($BA$7:$BA$932))/(4*PI()*$D$3))*(-LN((4*$D$4*AH112)/(Sanierungsdesign!$E$13)^2)-$D$19)","v":{"$error":"#DIV/0!"}},{"$f":"(BB112-273.15)/Heterogenität!$D$4","v":{"$error":"#DIV/0!"}},{"$f":"IF(AI112<Berechnung!$D$7,AI112,#N/A)","v":{"$error":"#N/A"}}]
[null,null,null,null,null,null,null,null,null,null,null,null,null,null,null,null,null,null,null,null,null,null,null,null,null,null,null,null,null,null,null,null,{"$f":"Sanierungsdesign!$E$12*AH113*Sanierungsdesign!$E$10/1000000","v":5007.6000000000004},770400,8.9166666666666661,{"$f":"$D$5+((-Sanierungsdesign!$E$12)/4*PI()*$D$3)*(-LN((4*$D$4*AH113)/(Sanierungsdesign!$E$13^2))-$D$19)","v":797.37614879629564},524.22614879629566,1024.5716088077731,{"$f":"$D$3*$T$7*$AH$7*(AK113-$D$5)*(1/Sanierungsdesign!$E$15)/1000000","v":33.666908545291953},{"$f":"$D$5+(-Sanierungsdesign!$E$12/(4*PI()*$D$3))*(-LN((4*$D$4*AH113)/(Sanierungsdesign!$E$13+Sanierungsdesign!$E$15)^2)-$D$19)","v":267.44547312451886},-5.7045268754811218,{"$f":"(2*PI()*Sanierungsdesign!$E$10*$D$3)*(LN((Sanierungsdesign!$E$13+Sanierungsdesign!$E$15)/Sanierungsdesign!$E$13)*(AJ113-AN113))*$AH$7/1000000","v":47.311676658661227},1327.4301459931114,2996.0098395064524,{"$f":"AU113/Sanierungsdesign!$E$11","v":0.37064684126899949},616320,2.965174730151996,{"$error":"#DIV/0!"},{"$error":"#DIV/0!"},{"$error":"#DIV/0!"},{"$error":"#DIV/0!"},{"$f":"(AY113/(AH113*Sanierungsdesign!$E$10))*1000000","v":{"$error":"#DIV/0!"}},{"$f":"AZ113/Sanierungsdesign!$E$12","v":{"$error":"#DIV/0!"}},{"$f":"$D$5+((-(Sanierungsdesign!$E$12)*MIN($BA$7:$BA$932))/(4*PI()*$D$3))*(-LN((4*$D$4*AH113)/(Sanierungsdesign!$E$13)^2)-$D$19)","v":{"$error":"#DIV/0!"}},{"$f":"(BB113-273.15)/Heterogenität!$D$4","v":{"$error":"#DIV/0!"}},{"$f":"IF(AI113<Berechnung!$D$7,AI113,#N/A)","v":{"$error":"#N/A"}}]
[null,null,null,null,null,null,null,null,null,null,null,null,null,null,null,null,null,null,null,null,null,null,null,null,null,null,null,null,null,null,null,null,{"$f":"Sanierungsdesign!$E$12*AH114*Sanierungsdesign!$E$10/1000000","v":5054.3999999999996},777600,9,{"$f":"$D$5+((-Sanierungsdesign!$E$12)/4*PI()*$D$3)*(-LN((4*$D$4*AH114)/(Sanierungsdesign!$E$13^2))-$D$19)","v":810.40727685158515},537.25727685158517,1050.6369002177551,{"$f":"$D$3*$T$7*$AH$7*(AK114-$D$5)*(1/Sanierungsdesign!$E$15)/1000000","v":35.486739327681498},{"$f":"$D$5+(-Sanierungsdesign!$E$12/(4*PI()*$D$3))*(-LN((4*$D$4*AH114)/(Sanierungsdesign!$E$13+Sanierungsdesign!$E$15)^2)-$D$19)","v":268.14688650178766},-5.0031134982123149,{"$f":"(2*PI()*Sanierungsdesign!$E$10*$D$3)*(LN((Sanierungsdesign!$E$13+Sanierungsdesign!$E$15)/Sanierungsdesign!$E$13)*(AJ114-AN114))*$AH$7/1000000","v":48.412461159201001},1339.8360352080003,3024.0099314644567,{"$f":"AU114/Sanierungsdesign!$E$11","v":0.380076165529807},622080,3.040609324238456,{"$error":"#DIV/0!"},{"$error":"#DIV/0!"},{"$error":"#DIV/0!"},{"$error":"#DIV/0!"},{"$f":"(AY114/(AH114*Sanierungsdesign!$E$10))*1000000","v":{"$error":"#DIV/0!"}},{"$f":"AZ114/Sanierungsdesign!$E$12","v":{"$error":"#DIV/0!"}},{"$f":"$D$5+((-(Sanierungsdesign!$E$12)*MIN($BA$7:$BA$932))/(4*PI()*$D$3))*(-LN((4*$D$4*AH114)/(Sanierungsdesign!$E$13)^2)-$D$19)","v":{"$error":"#DIV/0!"}},{"$f":"(BB114-273.15)/Heterogenität!$D$4","v":{"$error":"#DIV/0!"}},{"$f":"IF(AI114<Berechnung!$D$7,AI114,#N/A)","v":{"$error":"#N/A"}}]
[null,null,null,null,null,null,null,null,null,null,null,null,null,null,null,null,null,null,null,null,null,null,null,null,null,null,null,null,null,null,null,null,{"$f":"Sanierungsdesign!$E$12*AH115*Sanierungsdesign!$E$10/1000000","v":5101.2},784800,9.0833333333333339,{"$f":"$D$5+((-Sanierungsdesign!$E$12)/4*PI()*$D$3)*(-LN((4*$D$4*AH115)/(Sanierungsdesign!$E$13^2))-$D$19)","v":823.31830063585005},550.16830063585007,1076.4619551101798,{"$f":"$D$3*$T$7*$AH$7*(AK115-$D$5)*(1/Sanierungsdesign!$E$15)/1000000","v":37.289797237563022},{"$f":"$D$5+(-Sanierungsdesign!$E$12/(4*PI()*$D$3))*(-LN((4*$D$4*AH115)/(Sanierungsdesign!$E$13+Sanierungsdesign!$E$15)^2)-$D$19)","v":268.84183514768358},-4.3081648523163949,{"$f":"(2*PI()*Sanierungsdesign!$E$10*$D$3)*(LN((Sanierungsdesign!$E$13+Sanierungsdesign!$E$15)/Sanierungsdesign!$E$13)*(AJ115-AN115))*$AH$7/1000000","v":49.503100036166863},1352.2419244228893,3052.010023422461,{"$f":"AU115/Sanierungsdesign!$E$11","v":0.38941858234010107},627840,3.1153486587208086,{"$error":"#DIV/0!"},{"$error":"#DIV/0!"},{"$error":"#DIV/0!"},{"$error":"#DIV/0!"},{"$f":"(AY115/(AH115*Sanierungsdesign!$E$10))*1000000","v":{"$error":"#DIV/0!"}},{"$f":"AZ115/Sanierungsdesign!$E$12","v":{"$error":"#DIV/0!"}},{"$f":"$D$5+((-(Sanierungsdesign!$E$12)*MIN($BA$7:$BA$932))/(4*PI()*$D$3))*(-LN((4*$D$4*AH115)/(Sanierungsdesign!$E$13)^2)-$D$19)","v":{"$error":"#DIV/0!"}},{"$f":"(BB115-273.15)/Heterogenität!$D$4","v":{"$error":"#DIV/0!"}},{"$f":"IF(AI115<Berechnung!$D$7,AI115,#N/A)","v":{"$error":"#N/A"}}]
[null,null,null,null,null,null,null,null,null,null,null,null,null,null,null,null,null,null,null,null,null,null,null,null,null,null,null,null,null,null,null,null,{"$f":"Sanierungsdesign!$E$12*AH116*Sanierungsdesign!$E$10/1000000","v":5148},792000,9.1666666666666661,{"$f":"$D$5+((-Sanierungsdesign!$E$12)/4*PI()*$D$3)*(-LN((4*$D$4*AH116)/(Sanierungsdesign!$E$13^2))-$D$19)","v":836.11141388057013},562.96141388057015,1102.0511614589864,{"$f":"$D$3*$T$7*$AH$7*(AK116-$D$5)*(1/Sanierungsdesign!$E$15)/1000000","v":39.076388635219246},{"$f":"$D$5+(-Sanierungsdesign!$E$12/(4*PI()*$D$3))*(-LN((4*$D$4*AH116)/(Sanierungsdesign!$E$13+Sanierungsdesign!$E$15)^2)-$D$19)","v":269.53043714197673},-3.6195628580232437,{"$f":"(2*PI()*Sanierungsdesign!$E$10*$D$3)*(LN((Sanierungsdesign!$E$13+Sanierungsdesign!$E$15)/Sanierungsdesign!$E$13)*(AJ116-AN116))*$AH$7/1000000","v":50.583778601651588},1364.6478136377782,3080.0101153804653,{"$f":"AU116/Sanierungsdesign!$E$11","v":0.39867567908398049},633600,3.189405432671844,{"$error":"#DIV/0!"},{"$error":"#DIV/0!"},{"$error":"#DIV/0!"},{"$error":"#DIV/0!"},{"$f":"(AY116/(AH116*Sanierungsdesign!$E$10))*1000000","v":{"$error":"#DIV/0!"}},{"$f":"AZ116/Sanierungsdesign!$E$12","v":{"$error":"#DIV/0!"}},{"$f":"$D$5+((-(Sanierungsdesign!$E$12)*MIN($BA$7:$BA$932))/(4*PI()*$D$3))*(-LN((4*$D$4*AH116)/(Sanierungsdesign!$E$13)^2)-$D$19)","v":{"$error":"#DIV/0!"}},{"$f":"(BB116-273.15)/Heterogenität!$D$4","v":{"$error":"#DIV/0!"}},{"$f":"IF(AI116<Berechnung!$D$7,AI116,#N/A)","v":{"$error":"#N/A"}}]
[null,null,null,null,null,null,null,null,null,null,null,null,null,null,null,null,null,null,null,null,null,null,null,null,null,null,null,null,null,null,null,null,{"$f":"Sanierungsdesign!$E$12*AH117*Sanierungsdesign!$E$10/1000000","v":5194.8},799200,9.25,{"$f":"$D$5+((-Sanierungsdesign!$E$12)/4*PI()*$D$3)*(-LN((4*$D$4*AH117)/(Sanierungsdesign!$E$13^2))-$D$19)","v":848.78875075725603},575.63875075725605,1127.4087881043017,{"$f":"$D$3*$T$7*$AH$7*(AK117-$D$5)*(1/Sanierungsdesign!$E$15)/1000000","v":40.846811563228947},{"$f":"$D$5+(-Sanierungsdesign!$E$12/(4*PI()*$D$3))*(-LN((4*$D$4*AH117)/(Sanierungsdesign!$E$13+Sanierungsdesign!$E$15)^2)-$D$19)","v":270.21280735856294},-2.9371926414370364,{"$f":"(2*PI()*Sanierungsdesign!$E$10*$D$3)*(LN((Sanierungsdesign!$E$13+Sanierungsdesign!$E$15)/Sanierungsdesign!$E$13)*(AJ117-AN117))*$AH$7/1000000","v":51.654677136511175},1377.0537028526669,3108.0102073384692,{"$f":"AU117/Sanierungsdesign!$E$11","v":0.40784900004795044},639360,3.2627920003836035,{"$error":"#DIV/0!"},{"$error":"#DIV/0!"},{"$error":"#DIV/0!"},{"$error":"#DIV/0!"},{"$f":"(AY117/(AH117*Sanierungsdesign!$E$10))*1000000","v":{"$error":"#DIV/0!"}},{"$f":"AZ117/Sanierungsdesign!$E$12","v":{"$error":"#DIV/0!"}},{"$f":"$D$5+((-(Sanierungsdesign!$E$12)*MIN($BA$7:$BA$932))/(4*PI()*$D$3))*(-LN((4*$D$4*AH117)/(Sanierungsdesign!$E$13)^2)-$D$19)","v":{"$error":"#DIV/0!"}},{"$f":"(BB117-273.15)/Heterogenität!$D$4","v":{"$error":"#DIV/0!"}},{"$f":"IF(AI117<Berechnung!$D$7,AI117,#N/A)","v":{"$error":"#N/A"}}]
[null,null,null,null,null,null,null,null,null,null,null,null,null,null,null,null,null,null,null,null,null,null,null,null,null,null,null,null,null,null,null,null,{"$f":"Sanierungsdesign!$E$12*AH118*Sanierungsdesign!$E$10/1000000","v":5241.6000000000004},806400,9.3333333333333339,{"$f":"$D$5+((-Sanierungsdesign!$E$12)/4*PI()*$D$3)*(-LN((4*$D$4*AH118)/(Sanierungsdesign!$E$13^2))-$D$19)","v":861.35238801420189},588.20238801420192,1152.5389890264444,{"$f":"$D$3*$T$7*$AH$7*(AK118-$D$5)*(1/Sanierungsdesign!$E$15)/1000000","v":42.601356044870009},{"$f":"$D$5+(-Sanierungsdesign!$E$12/(4*PI()*$D$3))*(-LN((4*$D$4*AH118)/(Sanierungsdesign!$E$13+Sanierungsdesign!$E$15)^2)-$D$19)","v":270.88905758047662},-2.2609424195233601,{"$f":"(2*PI()*Sanierungsdesign!$E$10*$D$3)*(LN((Sanierungsdesign!$E$13+Sanierungsdesign!$E$15)/Sanierungsdesign!$E$13)*(AJ118-AN118))*$AH$7/1000000","v":52.715971070863731},1389.4595920675558,3136.0102992964735,{"$f":"AU118/Sanierungsdesign!$E$11","v":0.41694004796707645},645120,3.3355203837366116,{"$error":"#DIV/0!"},{"$error":"#DIV/0!"},{"$error":"#DIV/0!"},{"$error":"#DIV/0!"},{"$f":"(AY118/(AH118*Sanierungsdesign!$E$10))*1000000","v":{"$error":"#DIV/0!"}},{"$f":"AZ118/Sanierungsdesign!$E$12","v":{"$error":"#DIV/0!"}},{"$f":"$D$5+((-(Sanierungsdesign!$E$12)*MIN($BA$7:$BA$932))/(4*PI()*$D$3))*(-LN((4*$D$4*AH118)/(Sanierungsdesign!$E$13)^2)-$D$19)","v":{"$error":"#DIV/0!"}},{"$f":"(BB118-273.15)/Heterogenität!$D$4","v":{"$error":"#DIV/0!"}},{"$f":"IF(AI118<Berechnung!$D$7,AI118,#N/A)","v":{"$error":"#N/A"}}]
[null,null,null,null,null,null,null,null,null,null,null,null,null,null,null,null,null,null,null,null,null,null,null,null,null,null,null,null,null,null,null,null,{"$f":"Sanierungsdesign!$E$12*AH119*Sanierungsdesign!$E$10/1000000","v":5288.4},813600,9.4166666666666661,{"$f":"$D$5+((-Sanierungsdesign!$E$12)/4*PI()*$D$3)*(-LN((4*$D$4*AH119)/(Sanierungsdesign!$E$13^2))-$D$19)","v":873.80434701826948},600.6543470182695,1177.4458074299689,{"$f":"$D$3*$T$7*$AH$7*(AK119-$D$5)*(1/Sanierungsdesign!$E$15)/1000000","v":44.340304369259826},{"$f":"$D$5+(-Sanierungsdesign!$E$12/(4*PI()*$D$3))*(-LN((4*$D$4*AH119)/(Sanierungsdesign!$E$13+Sanierungsdesign!$E$15)^2)-$D$19)","v":271.55929660979155},-1.5907033902084322,{"$f":"(2*PI()*Sanierungsdesign!$E$10*$D$3)*(LN((Sanierungsdesign!$E$13+Sanierungsdesign!$E$15)/Sanierungsdesign!$E$13)*(AJ119-AN119))*$AH$7/1000000","v":53.767831156566018},1401.8654812824448,3164.0103912544778,{"$f":"AU119/Sanierungsdesign!$E$11","v":0.42595028550241976},650880,3.4076022840193581,{"$error":"#DIV/0!"},{"$error":"#DIV/0!"},{"$error":"#DIV/0!"},{"$error":"#DIV/0!"},{"$f":"(AY119/(AH119*Sanierungsdesign!$E$10))*1000000","v":{"$error":"#DIV/0!"}},{"$f":"AZ119/Sanierungsdesign!$E$12","v":{"$error":"#DIV/0!"}},{"$f":"$D$5+((-(Sanierungsdesign!$E$12)*MIN($BA$7:$BA$932))/(4*PI()*$D$3))*(-LN((4*$D$4*AH119)/(Sanierungsdesign!$E$13)^2)-$D$19)","v":{"$error":"#DIV/0!"}},{"$f":"(BB119-273.15)/Heterogenität!$D$4","v":{"$error":"#DIV/0!"}},{"$f":"IF(AI119<Berechnung!$D$7,AI119,#N/A)","v":{"$error":"#N/A"}}]
[null,null,null,null,null,null,null,null,null,null,null,null,null,null,null,null,null,null,null,null,null,null,null,null,null,null,null,null,null,null,null,null,{"$f":"Sanierungsdesign!$E$12*AH120*Sanierungsdesign!$E$10/1000000","v":5335.2},820800,9.5,{"$f":"$D$5+((-Sanierungsdesign!$E$12)/4*PI()*$D$3)*(-LN((4*$D$4*AH120)/(Sanierungsdesign!$E$13^2))-$D$19)","v":886.14659570672052},612.99659570672054,1202.1331796477834,{"$f":"$D$3*$T$7*$AH$7*(AK120-$D$5)*(1/Sanierungsdesign!$E$15)/1000000","v":46.063931363933783},{"$f":"$D$5+(-Sanierungsdesign!$E$12/(4*PI()*$D$3))*(-LN((4*$D$4*AH120)/(Sanierungsdesign!$E$13+Sanierungsdesign!$E$15)^2)-$D$19)","v":272.22363037268053},-0.9263696273194455,{"$f":"(2*PI()*Sanierungsdesign!$E$10*$D$3)*(LN((Sanierungsdesign!$E$13+Sanierungsdesign!$E$15)/Sanierungsdesign!$E$13)*(AJ120-AN120))*$AH$7/1000000","v":54.810423632091528},1414.2713704973337,3192.0104832124821,{"$f":"AU120/Sanierungsdesign!$E$11","v":0.4348811366533829},656640,3.4790490932270632,{"$error":"#DIV/0!"},{"$error":"#DIV/0!"},{"$error":"#DIV/0!"},{"$error":"#DIV/0!"},{"$f":"(AY120/(AH120*Sanierungsdesign!$E$10))*1000000","v":{"$error":"#DIV/0!"}},{"$f":"AZ120/Sanierungsdesign!$E$12","v":{"$error":"#DIV/0!"}},{"$f":"$D$5+((-(Sanierungsdesign!$E$12)*MIN($BA$7:$BA$932))/(4*PI()*$D$3))*(-LN((4*$D$4*AH120)/(Sanierungsdesign!$E$13)^2)-$D$19)","v":{"$error":"#DIV/0!"}},{"$f":"(BB120-273.15)/Heterogenität!$D$4","v":{"$error":"#DIV/0!"}},{"$f":"IF(AI120<Berechnung!$D$7,AI120,#N/A)","v":{"$error":"#N/A"}}]
[null,null,null,null,null,null,null,null,null,null,null,null,null,null,null,null,null,null,null,null,null,null,null,null,null,null,null,null,null,null,null,null,{"$f":"Sanierungsdesign!$E$12*AH121*Sanierungsdesign!$E$10/1000000","v":5382},828000,9.5833333333333339,{"$f":"$D$5+((-Sanierungsdesign!$E$12)/4*PI()*$D$3)*(-LN((4*$D$4*AH121)/(Sanierungsdesign!$E$13^2))-$D$19)","v":898.38105045381269},625.23105045381271,1226.604938874779,{"$f":"$D$3*$T$7*$AH$7*(AK121-$D$5)*(1/Sanierungsdesign!$E$15)/1000000","v":47.772504655520201},{"$f":"$D$5+(-Sanierungsdesign!$E$12/(4*PI()*$D$3))*(-LN((4*$D$4*AH121)/(Sanierungsdesign!$E$13+Sanierungsdesign!$E$15)^2)-$D$19)","v":272.88216201988638},-0.2678379801135975,{"$f":"(2*PI()*Sanierungsdesign!$E$10*$D$3)*(LN((Sanierungsdesign!$E$13+Sanierungsdesign!$E$15)/Sanierungsdesign!$E$13)*(AJ121-AN121))*$AH$7/1000000","v":55.843910380208314},1426.6772597122226,3220.0105751704864,{"$f":"AU121/Sanierungsdesign!$E$11","v":0.44373398810837883},662400,3.5498719048670306,{"$error":"#DIV/0!"},{"$error":"#DIV/0!"},{"$error":"#DIV/0!"},{"$error":"#DIV/0!"},{"$f":"(AY121/(AH121*Sanierungsdesign!$E$10))*1000000","v":{"$error":"#DIV/0!"}},{"$f":"AZ121/Sanierungsdesign!$E$12","v":{"$error":"#DIV/0!"}},{"$f":"$D$5+((-(Sanierungsdesign!$E$12)*MIN($BA$7:$BA$932))/(4*PI()*$D$3))*(-LN((4*$D$4*AH121)/(Sanierungsdesign!$E$13)^2)-$D$19)","v":{"$error":"#DIV/0!"}},{"$f":"(BB121-273.15)/Heterogenität!$D$4","v":{"$error":"#DIV/0!"}},{"$f":"IF(AI121<Berechnung!$D$7,AI121,#N/A)","v":{"$error":"#N/A"}}]
[null,null,null,null,null,null,null,null,null,null,null,null,null,null,null,null,null,null,null,null,null,null,null,null,null,null,null,null,null,null,null,null,{"$f":"Sanierungsdesign!$E$12*AH122*Sanierungsdesign!$E$10/1000000","v":5428.8},835200,9.6666666666666661,{"$f":"$D$5+((-Sanierungsdesign!$E$12)/4*PI()*$D$3)*(-LN((4*$D$4*AH122)/(Sanierungsdesign!$E$13^2))-$D$19)","v":910.50957785658932},637.35957785658934,1250.8648187398223,{"$f":"$D$3*$T$7*$AH$7*(AK122-$D$5)*(1/Sanierungsdesign!$E$15)/1000000","v":49.466284919130509},{"$f":"$D$5+(-Sanierungsdesign!$E$12/(4*PI()*$D$3))*(-LN((4*$D$4*AH122)/(Sanierungsdesign!$E$13+Sanierungsdesign!$E$15)^2)-$D$19)","v":273.53499202284428},0.38499202284430112,{"$f":"(2*PI()*Sanierungsdesign!$E$10*$D$3)*(LN((Sanierungsdesign!$E$13+Sanierungsdesign!$E$15)/Sanierungsdesign!$E$13)*(AJ122-AN122))*$AH$7/1000000","v":56.868449078830736},1439.0831489271116,3248.0106671284911,{"$f":"AU122/Sanierungsdesign!$E$11","v":0.45251019053702801},668160,3.6200815242962241,{"$error":"#DIV/0!"},{"$error":"#DIV/0!"},{"$error":"#DIV/0!"},{"$error":"#DIV/0!"},{"$f":"(AY122/(AH122*Sanierungsdesign!$E$10))*1000000","v":{"$error":"#DIV/0!"}},{"$f":"AZ122/Sanierungsdesign!$E$12","v":{"$error":"#DIV/0!"}},{"$f":"$D$5+((-(Sanierungsdesign!$E$12)*MIN($BA$7:$BA$932))/(4*PI()*$D$3))*(-LN((4*$D$4*AH122)/(Sanierungsdesign!$E$13)^2)-$D$19)","v":{"$error":"#DIV/0!"}},{"$f":"(BB122-273.15)/Heterogenität!$D$4","v":{"$error":"#DIV/0!"}},{"$f":"IF(AI122<Berechnung!$D$7,AI122,#N/A)","v":{"$error":"#N/A"}}]
[null,null,null,null,null,null,null,null,null,null,null,null,null,null,null,null,null,null,null,null,null,null,null,null,null,null,null,null,null,null,null,null,{"$f":"Sanierungsdesign!$E$12*AH123*Sanierungsdesign!$E$10/1000000","v":5475.6},842400,9.75,{"$f":"$D$5+((-Sanierungsdesign!$E$12)/4*PI()*$D$3)*(-LN((4*$D$4*AH123)/(Sanierungsdesign!$E$13^2))-$D$19)","v":922.53399644402043},649.38399644402045,1274.9164567244381,{"$f":"$D$3*$T$7*$AH$7*(AK123-$D$5)*(1/Sanierungsdesign!$E$15)/1000000","v":51.145526117045208},{"$f":"$D$5+(-Sanierungsdesign!$E$12/(4*PI()*$D$3))*(-LN((4*$D$4*AH123)/(Sanierungsdesign!$E$13+Sanierungsdesign!$E$15)^2)-$D$19)","v":274.18221826567753},1.0322182656775567,{"$f":"(2*PI()*Sanierungsdesign!$E$10*$D$3)*(LN((Sanierungsdesign!$E$13+Sanierungsdesign!$E$15)/Sanierungsdesign!$E$13)*(AJ123-AN123))*$AH$7/1000000","v":57.884193345396646},1451.4890381420003,3276.0107590864945,{"$f":"AU123/Sanierungsdesign!$E$11","v":0.46121105982689314},673920,3.6896884786151452,{"$error":"#DIV/0!"},{"$error":"#DIV/0!"},{"$error":"#DIV/0!"},{"$error":"#DIV/0!"},{"$f":"(AY123/(AH123*Sanierungsdesign!$E$10))*1000000","v":{"$error":"#DIV/0!"}},{"$f":"AZ123/Sanierungsdesign!$E$12","v":{"$error":"#DIV/0!"}},{"$f":"$D$5+((-(Sanierungsdesign!$E$12)*MIN($BA$7:$BA$932))/(4*PI()*$D$3))*(-LN((4*$D$4*AH123)/(Sanierungsdesign!$E$13)^2)-$D$19)","v":{"$error":"#DIV/0!"}},{"$f":"(BB123-273.15)/Heterogenität!$D$4","v":{"$error":"#DIV/0!"}},{"$f":"IF(AI123<Berechnung!$D$7,AI123,#N/A)","v":{"$error":"#N/A"}}]
[null,null,null,null,null,null,null,null,null,null,null,null,null,null,null,null,null,null,null,null,null,null,null,null,null,null,null,null,null,null,null,null,{"$f":"Sanierungsdesign!$E$12*AH124*Sanierungsdesign!$E$10/1000000","v":5522.4},849600,9.8333333333333339,{"$f":"$D$5+((-Sanierungsdesign!$E$12)/4*PI()*$D$3)*(-LN((4*$D$4*AH124)/(Sanierungsdesign!$E$13^2))-$D$19)","v":934.45607831341397},661.30607831341399,1298.7633974360108,{"$f":"$D$3*$T$7*$AH$7*(AK124-$D$5)*(1/Sanierungsdesign!$E$15)/1000000","v":52.81047572724291},{"$f":"$D$5+(-Sanierungsdesign!$E$12/(4*PI()*$D$3))*(-LN((4*$D$4*AH124)/(Sanierungsdesign!$E$13+Sanierungsdesign!$E$15)^2)-$D$19)","v":274.82393613327935},1.6739361332793692,{"$f":"(2*PI()*Sanierungsdesign!$E$10*$D$3)*(LN((Sanierungsdesign!$E$13+Sanierungsdesign!$E$15)/Sanierungsdesign!$E$13)*(AJ124-AN124))*$AH$7/1000000","v":58.89129287510066},1463.8949273568892,3304.0108510444988,{"$f":"AU124/Sanierungsdesign!$E$11","v":0.46983787826758627},679680,3.7587030261406902,{"$error":"#DIV/0!"},{"$error":"#DIV/0!"},{"$error":"#DIV/0!"},{"$error":"#DIV/0!"},{"$f":"(AY124/(AH124*Sanierungsdesign!$E$10))*1000000","v":{"$error":"#DIV/0!"}},{"$f":"AZ124/Sanierungsdesign!$E$12","v":{"$error":"#DIV/0!"}},{"$f":"$D$5+((-(Sanierungsdesign!$E$12)*MIN($BA$7:$BA$932))/(4*PI()*$D$3))*(-LN((4*$D$4*AH124)/(Sanierungsdesign!$E$13)^2)-$D$19)","v":{"$error":"#DIV/0!"}},{"$f":"(BB124-273.15)/Heterogenität!$D$4","v":{"$error":"#DIV/0!"}},{"$f":"IF(AI124<Berechnung!$D$7,AI124,#N/A)","v":{"$error":"#N/A"}}]
[null,null,null,null,null,null,null,null,null,null,null,null,null,null,null,null,null,null,null,null,null,null,null,null,null,null,null,null,null,null,null,null,{"$f":"Sanierungsdesign!$E$12*AH125*Sanierungsdesign!$E$10/1000000","v":5569.2},856800,9.9166666666666661,{"$f":"$D$5+((-Sanierungsdesign!$E$12)/4*PI()*$D$3)*(-LN((4*$D$4*AH125)/(Sanierungsdesign!$E$13^2))-$D$19)","v":946.27755069777572},673.12755069777575,1322.4090957428714,{"$f":"$D$3*$T$7*$AH$7*(AK125-$D$5)*(1/Sanierungsdesign!$E$15)/1000000","v":54.461374962286257},{"$f":"$D$5+(-Sanierungsdesign!$E$12/(4*PI()*$D$3))*(-LN((4*$D$4*AH125)/(Sanierungsdesign!$E$13+Sanierungsdesign!$E$15)^2)-$D$19)","v":275.46023859567742},2.3102385956774469,{"$f":"(2*PI()*Sanierungsdesign!$E$10*$D$3)*(LN((Sanierungsdesign!$E$13+Sanierungsdesign!$E$15)/Sanierungsdesign!$E$13)*(AJ125-AN125))*$AH$7/1000000","v":59.889893573294408},1476.3008165717781,3332.0109430025036,{"$f":"AU125/Sanierungsdesign!$E$11","v":0.47839189568491047},685440,3.8271351654792838,{"$error":"#DIV/0!"},{"$error":"#DIV/0!"},{"$error":"#DIV/0!"},{"$error":"#DIV/0!"},{"$f":"(AY125/(AH125*Sanierungsdesign!$E$10))*1000000","v":{"$error":"#DIV/0!"}},{"$f":"AZ125/Sanierungsdesign!$E$12","v":{"$error":"#DIV/0!"}},{"$f":"$D$5+((-(Sanierungsdesign!$E$12)*MIN($BA$7:$BA$932))/(4*PI()*$D$3))*(-LN((4*$D$4*AH125)/(Sanierungsdesign!$E$13)^2)-$D$19)","v":{"$error":"#DIV/0!"}},{"$f":"(BB125-273.15)/Heterogenität!$D$4","v":{"$error":"#DIV/0!"}},{"$f":"IF(AI125<Berechnung!$D$7,AI125,#N/A)","v":{"$error":"#N/A"}}]
[null,null,null,null,null,null,null,null,null,null,null,null,null,null,null,null,null,null,null,null,null,null,null,null,null,null,null,null,null,null,null,null,{"$f":"Sanierungsdesign!$E$12*AH126*Sanierungsdesign!$E$10/1000000","v":5616},864000,10,{"$f":"$D$5+((-Sanierungsdesign!$E$12)/4*PI()*$D$3)*(-LN((4*$D$4*AH126)/(Sanierungsdesign!$E$13^2))-$D$19)","v":958.00009746758883},684.85009746758885,1345.8569197782042,{"$f":"$D$3*$T$7*$AH$7*(AK126-$D$5)*(1/Sanierungsdesign!$E$15)/1000000","v":56.098458979049305},{"$f":"$D$5+(-Sanierungsdesign!$E$12/(4*PI()*$D$3))*(-LN((4*$D$4*AH126)/(Sanierungsdesign!$E$13+Sanierungsdesign!$E$15)^2)-$D$19)","v":276.09121628886868},2.9412162888687021,{"$f":"(2*PI()*Sanierungsdesign!$E$10*$D$3)*(LN((Sanierungsdesign!$E$13+Sanierungsdesign!$E$15)/Sanierungsdesign!$E$13)*(AJ126-AN126))*$AH$7/1000000","v":60.880137682347183},1488.706705786667,3360.0110349605075,{"$f":"AU126/Sanierungsdesign!$E$11","v":0.48687433052754725},691200,3.894994644220378,{"$error":"#DIV/0!"},{"$error":"#DIV/0!"},{"$error":"#DIV/0!"},{"$error":"#DIV/0!"},{"$f":"(AY126/(AH126*Sanierungsdesign!$E$10))*1000000","v":{"$error":"#DIV/0!"}},{"$f":"AZ126/Sanierungsdesign!$E$12","v":{"$error":"#DIV/0!"}},{"$f":"$D$5+((-(Sanierungsdesign!$E$12)*MIN($BA$7:$BA$932))/(4*PI()*$D$3))*(-LN((4*$D$4*AH126)/(Sanierungsdesign!$E$13)^2)-$D$19)","v":{"$error":"#DIV/0!"}},{"$f":"(BB126-273.15)/Heterogenität!$D$4","v":{"$error":"#DIV/0!"}},{"$f":"IF(AI126<Berechnung!$D$7,AI126,#N/A)","v":{"$error":"#N/A"}}]
[null,null,null,null,null,null,null,null,null,null,null,null,null,null,null,null,null,null,null,null,null,null,null,null,null,null,null,null,null,null,null,null,{"$f":"Sanierungsdesign!$E$12*AH127*Sanierungsdesign!$E$10/1000000","v":5662.8},871200,10.083333333333334,{"$f":"$D$5+((-Sanierungsdesign!$E$12)/4*PI()*$D$3)*(-LN((4*$D$4*AH127)/(Sanierungsdesign!$E$13^2))-$D$19)","v":969.62536057027455},696.47536057027457,1369.1101538193057,{"$f":"$D$3*$T$7*$AH$7*(AK127-$D$5)*(1/Sanierungsdesign!$E$15)/1000000","v":57.721957079741927},{"$f":"$D$5+(-Sanierungsdesign!$E$12/(4*PI()*$D$3))*(-LN((4*$D$4*AH127)/(Sanierungsdesign!$E$13+Sanierungsdesign!$E$15)^2)-$D$19)","v":276.71695759229971},3.5669575922997296,{"$f":"(2*PI()*Sanierungsdesign!$E$10*$D$3)*(LN((Sanierungsdesign!$E$13+Sanierungsdesign!$E$15)/Sanierungsdesign!$E$13)*(AJ127-AN127))*$AH$7/1000000","v":61.862163903242099},1501.112595001556,3388.0111269185118,{"$f":"AU127/Sanierungsdesign!$E$11","v":0.49528637090865063},696960,3.962290967269205,{"$error":"#DIV/0!"},{"$error":"#DIV/0!"},{"$error":"#DIV/0!"},{"$error":"#DIV/0!"},{"$f":"(AY127/(AH127*Sanierungsdesign!$E$10))*1000000","v":{"$error":"#DIV/0!"}},{"$f":"AZ127/Sanierungsdesign!$E$12","v":{"$error":"#DIV/0!"}},{"$f":"$D$5+((-(Sanierungsdesign!$E$12)*MIN($BA$7:$BA$932))/(4*PI()*$D$3))*(-LN((4*$D$4*AH127)/(Sanierungsdesign!$E$13)^2)-$D$19)","v":{"$error":"#DIV/0!"}},{"$f":"(BB127-273.15)/Heterogenität!$D$4","v":{"$error":"#DIV/0!"}},{"$f":"IF(AI127<Berechnung!$D$7,AI127,#N/A)","v":{"$error":"#N/A"}}]
[null,null,null,null,null,null,null,null,null,null,null,null,null,null,null,null,null,null,null,null,null,null,null,null,null,null,null,null,null,null,null,null,{"$f":"Sanierungsdesign!$E$12*AH128*Sanierungsdesign!$E$10/1000000","v":5709.6},878400,10.166666666666666,{"$f":"$D$5+((-Sanierungsdesign!$E$12)/4*PI()*$D$3)*(-LN((4*$D$4*AH128)/(Sanierungsdesign!$E$13^2))-$D$19)","v":981.15494141041609},708.00494141041611,1392.1720010483525,{"$f":"$D$3*$T$7*$AH$7*(AK128-$D$5)*(1/Sanierungsdesign!$E$15)/1000000","v":59.332092904661657},{"$f":"$D$5+(-Sanierungsdesign!$E$12/(4*PI()*$D$3))*(-LN((4*$D$4*AH128)/(Sanierungsdesign!$E$13+Sanierungsdesign!$E$15)^2)-$D$19)","v":277.33754870315869},4.1875487031587113,{"$f":"(2*PI()*Sanierungsdesign!$E$10*$D$3)*(LN((Sanierungsdesign!$E$13+Sanierungsdesign!$E$15)/Sanierungsdesign!$E$13)*(AJ128-AN128))*$AH$7/1000000","v":62.836107512168297},1513.5184842164449,3416.0112188765165,{"$f":"AU128/Sanierungsdesign!$E$11","v":0.5036291756045771},702720,4.0290334048366168,{"$error":"#DIV/0!"},{"$error":"#DIV/0!"},{"$error":"#DIV/0!"},{"$error":"#DIV/0!"},{"$f":"(AY128/(AH128*Sanierungsdesign!$E$10))*1000000","v":{"$error":"#DIV/0!"}},{"$f":"AZ128/Sanierungsdesign!$E$12","v":{"$error":"#DIV/0!"}},{"$f":"$D$5+((-(Sanierungsdesign!$E$12)*MIN($BA$7:$BA$932))/(4*PI()*$D$3))*(-LN((4*$D$4*AH128)/(Sanierungsdesign!$E$13)^2)-$D$19)","v":{"$error":"#DIV/0!"}},{"$f":"(BB128-273.15)/Heterogenität!$D$4","v":{"$error":"#DIV/0!"}},{"$f":"IF(AI128<Berechnung!$D$7,AI128,#N/A)","v":{"$error":"#N/A"}}]
[null,null,null,null,null,null,null,null,null,null,null,null,null,null,null,null,null,null,null,null,null,null,null,null,null,null,null,null,null,null,null,null,{"$f":"Sanierungsdesign!$E$12*AH129*Sanierungsdesign!$E$10/1000000","v":5756.4},885600,10.25,{"$f":"$D$5+((-Sanierungsdesign!$E$12)/4*PI()*$D$3)*(-LN((4*$D$4*AH129)/(Sanierungsdesign!$E$13^2))-$D$19)","v":992.59040217364259},719.44040217364261,1415.0455862004774,{"$f":"$D$3*$T$7*$AH$7*(AK129-$D$5)*(1/Sanierungsdesign!$E$15)/1000000","v":60.929084617077528},{"$f":"$D$5+(-Sanierungsdesign!$E$12/(4*PI()*$D$3))*(-LN((4*$D$4*AH129)/(Sanierungsdesign!$E$13+Sanierungsdesign!$E$15)^2)-$D$19)","v":277.95307370763476},4.8030737076347805,{"$f":"(2*PI()*Sanierungsdesign!$E$10*$D$3)*(LN((Sanierungsdesign!$E$13+Sanierungsdesign!$E$15)/Sanierungsdesign!$E$13)*(AJ129-AN129))*$AH$7/1000000","v":63.802100472354191},1525.9243734313336,3444.0113108345199,{"$f":"AU129/Sanierungsdesign!$E$11","v":0.51190387501284773},708480,4.0952310001027818,{"$error":"#DIV/0!"},{"$error":"#DIV/0!"},{"$error":"#DIV/0!"},{"$error":"#DIV/0!"},{"$f":"(AY129/(AH129*Sanierungsdesign!$E$10))*1000000","v":{"$error":"#DIV/0!"}},{"$f":"AZ129/Sanierungsdesign!$E$12","v":{"$error":"#DIV/0!"}},{"$f":"$D$5+((-(Sanierungsdesign!$E$12)*MIN($BA$7:$BA$932))/(4*PI()*$D$3))*(-LN((4*$D$4*AH129)/(Sanierungsdesign!$E$13)^2)-$D$19)","v":{"$error":"#DIV/0!"}},{"$f":"(BB129-273.15)/Heterogenität!$D$4","v":{"$error":"#DIV/0!"}},{"$f":"IF(AI129<Berechnung!$D$7,AI129,#N/A)","v":{"$error":"#N/A"}}]
[null,null,null,null,null,null,null,null,null,null,null,null,null,null,null,null,null,null,null,null,null,null,null,null,null,null,null,null,null,null,null,null,{"$f":"Sanierungsdesign!$E$12*AH130*Sanierungsdesign!$E$10/1000000","v":5803.2},892800,10.333333333333334,{"$f":"$D$5+((-Sanierungsdesign!$E$12)/4*PI()*$D$3)*(-LN((4*$D$4*AH130)/(Sanierungsdesign!$E$13^2))-$D$19)","v":1003.9332670969148},730.78326709691487,1437.7339581046381,{"$f":"$D$3*$T$7*$AH$7*(AK130-$D$5)*(1/Sanierungsdesign!$E$15)/1000000","v":62.513145080628767},{"$f":"$D$5+(-Sanierungsdesign!$E$12/(4*PI()*$D$3))*(-LN((4*$D$4*AH130)/(Sanierungsdesign!$E$13+Sanierungsdesign!$E$15)^2)-$D$19)","v":278.56361464929228},5.413614649292299,{"$f":"(2*PI()*Sanierungsdesign!$E$10*$D$3)*(LN((Sanierungsdesign!$E$13+Sanierungsdesign!$E$15)/Sanierungsdesign!$E$13)*(AJ130-AN130))*$AH$7/1000000","v":64.760271541372745},1538.3302626462225,3472.0114027925242,{"$f":"AU130/Sanierungsdesign!$E$11","v":0.52011157207132752},714240,4.1608925765706202,{"$error":"#DIV/0!"},{"$error":"#DIV/0!"},{"$error":"#DIV/0!"},{"$error":"#DIV/0!"},{"$f":"(AY130/(AH130*Sanierungsdesign!$E$10))*1000000","v":{"$error":"#DIV/0!"}},{"$f":"AZ130/Sanierungsdesign!$E$12","v":{"$error":"#DIV/0!"}},{"$f":"$D$5+((-(Sanierungsdesign!$E$12)*MIN($BA$7:$BA$932))/(4*PI()*$D$3))*(-LN((4*$D$4*AH130)/(Sanierungsdesign!$E$13)^2)-$D$19)","v":{"$error":"#DIV/0!"}},{"$f":"(BB130-273.15)/Heterogenität!$D$4","v":{"$error":"#DIV/0!"}},{"$f":"IF(AI130<Berechnung!$D$7,AI130,#N/A)","v":{"$error":"#N/A"}}]
[null,null,null,null,null,null,null,null,null,null,null,null,null,null,null,null,null,null,null,null,null,null,null,null,null,null,null,null,null,null,null,null,{"$f":"Sanierungsdesign!$E$12*AH131*Sanierungsdesign!$E$10/1000000","v":5850},900000,10.416666666666666,{"$f":"$D$5+((-Sanierungsdesign!$E$12)/4*PI()*$D$3)*(-LN((4*$D$4*AH131)/(Sanierungsdesign!$E$13^2))-$D$19)","v":1015.1850236877933},742.03502368779334,1460.2400921224357,{"$f":"$D$3*$T$7*$AH$7*(AK131-$D$5)*(1/Sanierungsdesign!$E$15)/1000000","v":64.084482029598703},{"$f":"$D$5+(-Sanierungsdesign!$E$12/(4*PI()*$D$3))*(-LN((4*$D$4*AH131)/(Sanierungsdesign!$E$13+Sanierungsdesign!$E$15)^2)-$D$19)","v":279.1692515946994},6.0192515946994263,{"$f":"(2*PI()*Sanierungsdesign!$E$10*$D$3)*(LN((Sanierungsdesign!$E$13+Sanierungsdesign!$E$15)/Sanierungsdesign!$E$13)*(AJ131-AN131))*$AH$7/1000000","v":65.710746374137329},1550.7361518611115,3500.011494750529,{"$f":"AU131/Sanierungsdesign!$E$11","v":0.52825334314048722},720000,4.2260267451238978,{"$error":"#DIV/0!"},{"$error":"#DIV/0!"},{"$error":"#DIV/0!"},{"$error":"#DIV/0!"},{"$f":"(AY131/(AH131*Sanierungsdesign!$E$10))*1000000","v":{"$error":"#DIV/0!"}},{"$f":"AZ131/Sanierungsdesign!$E$12","v":{"$error":"#DIV/0!"}},{"$f":"$D$5+((-(Sanierungsdesign!$E$12)*MIN($BA$7:$BA$932))/(4*PI()*$D$3))*(-LN((4*$D$4*AH131)/(Sanierungsdesign!$E$13)^2)-$D$19)","v":{"$error":"#DIV/0!"}},{"$f":"(BB131-273.15)/Heterogenität!$D$4","v":{"$error":"#DIV/0!"}},{"$f":"IF(AI131<Berechnung!$D$7,AI131,#N/A)","v":{"$error":"#N/A"}}]
[null,null,null,null,null,null,null,null,null,null,null,null,null,null,null,null,null,null,null,null,null,null,null,null,null,null,null,null,null,null,null,null,{"$f":"Sanierungsdesign!$E$12*AH132*Sanierungsdesign!$E$10/1000000","v":5896.8},907200,10.5,{"$f":"$D$5+((-Sanierungsdesign!$E$12)/4*PI()*$D$3)*(-LN((4*$D$4*AH132)/(Sanierungsdesign!$E$13^2))-$D$19)","v":1026.3471238951254},753.1971238951254,1482.5668924897632,{"$f":"$D$3*$T$7*$AH$7*(AK132-$D$5)*(1/Sanierungsdesign!$E$15)/1000000","v":65.643298232404263},{"$f":"$D$5+(-Sanierungsdesign!$E$12/(4*PI()*$D$3))*(-LN((4*$D$4*AH132)/(Sanierungsdesign!$E$13+Sanierungsdesign!$E$15)^2)-$D$19)","v":279.7700626964413},6.6200626964413232,{"$f":"(2*PI()*Sanierungsdesign!$E$10*$D$3)*(LN((Sanierungsdesign!$E$13+Sanierungsdesign!$E$15)/Sanierungsdesign!$E$13)*(AJ132-AN132))*$AH$7/1000000","v":66.653647621793752},1563.1420410760004,3528.0115867085328,{"$f":"AU132/Sanierungsdesign!$E$11","v":0.53633023885051267},725760,4.2906419108041014,{"$error":"#DIV/0!"},{"$error":"#DIV/0!"},{"$error":"#DIV/0!"},{"$error":"#DIV/0!"},{"$f":"(AY132/(AH132*Sanierungsdesign!$E$10))*1000000","v":{"$error":"#DIV/0!"}},{"$f":"AZ132/Sanierungsdesign!$E$12","v":{"$error":"#DIV/0!"}},{"$f":"$D$5+((-(Sanierungsdesign!$E$12)*MIN($BA$7:$BA$932))/(4*PI()*$D$3))*(-LN((4*$D$4*AH132)/(Sanierungsdesign!$E$13)^2)-$D$19)","v":{"$error":"#DIV/0!"}},{"$f":"(BB132-273.15)/Heterogenität!$D$4","v":{"$error":"#DIV/0!"}},{"$f":"IF(AI132<Berechnung!$D$7,AI132,#N/A)","v":{"$error":"#N/A"}}]
[null,null,null,null,null,null,null,null,null,null,null,null,null,null,null,null,null,null,null,null,null,null,null,null,null,null,null,null,null,null,null,null,{"$f":"Sanierungsdesign!$E$12*AH133*Sanierungsdesign!$E$10/1000000","v":5943.6},914400,10.583333333333334,{"$f":"$D$5+((-Sanierungsdesign!$E$12)/4*PI()*$D$3)*(-LN((4*$D$4*AH133)/(Sanierungsdesign!$E$13^2))-$D$19)","v":1037.4209852334645},764.27098523346456,1504.717194565904,{"$f":"$D$3*$T$7*$AH$7*(AK133-$D$5)*(1/Sanierungsdesign!$E$15)/1000000","v":67.189791648624123},{"$f":"$D$5+(-Sanierungsdesign!$E$12/(4*PI()*$D$3))*(-LN((4*$D$4*AH133)/(Sanierungsdesign!$E$13+Sanierungsdesign!$E$15)^2)-$D$19)","v":280.36612425364302},7.216124253643045,{"$f":"(2*PI()*Sanierungsdesign!$E$10*$D$3)*(LN((Sanierungsdesign!$E$13+Sanierungsdesign!$E$15)/Sanierungsdesign!$E$13)*(AJ133-AN133))*$AH$7/1000000","v":67.589095026703745},1575.5479302908893,3556.0116786665371,{"$f":"AU133/Sanierungsdesign!$E$11","v":0.54434328491493489},731520,4.3547462793194791,{"$error":"#DIV/0!"},{"$error":"#DIV/0!"},{"$error":"#DIV/0!"},{"$error":"#DIV/0!"},{"$f":"(AY133/(AH133*Sanierungsdesign!$E$10))*1000000","v":{"$error":"#DIV/0!"}},{"$f":"AZ133/Sanierungsdesign!$E$12","v":{"$error":"#DIV/0!"}},{"$f":"$D$5+((-(Sanierungsdesign!$E$12)*MIN($BA$7:$BA$932))/(4*PI()*$D$3))*(-LN((4*$D$4*AH133)/(Sanierungsdesign!$E$13)^2)-$D$19)","v":{"$error":"#DIV/0!"}},{"$f":"(BB133-273.15)/Heterogenität!$D$4","v":{"$error":"#DIV/0!"}},{"$f":"IF(AI133<Berechnung!$D$7,AI133,#N/A)","v":{"$error":"#N/A"}}]
[null,null,null,null,null,null,null,null,null,null,null,null,null,null,null,null,null,null,null,null,null,null,null,null,null,null,null,null,null,null,null,null,{"$f":"Sanierungsdesign!$E$12*AH134*Sanierungsdesign!$E$10/1000000","v":5990.4},921600,10.666666666666666,{"$f":"$D$5+((-Sanierungsdesign!$E$12)/4*PI()*$D$3)*(-LN((4*$D$4*AH134)/(Sanierungsdesign!$E$13^2))-$D$19)","v":1048.4079918633879},775.25799186338793,1526.6937669944216,{"$f":"$D$3*$T$7*$AH$7*(AK134-$D$5)*(1/Sanierungsdesign!$E$15)/1000000","v":68.724155579867713},{"$f":"$D$5+(-Sanierungsdesign!$E$12/(4*PI()*$D$3))*(-LN((4*$D$4*AH134)/(Sanierungsdesign!$E$13+Sanierungsdesign!$E$15)^2)-$D$19)","v":280.95751077011897},7.807510770118995,{"$f":"(2*PI()*Sanierungsdesign!$E$10*$D$3)*(LN((Sanierungsdesign!$E$13+Sanierungsdesign!$E$15)/Sanierungsdesign!$E$13)*(AJ134-AN134))*$AH$7/1000000","v":68.517205513703232},1587.9538195057783,3584.0117706245419,{"$f":"AU134/Sanierungsdesign!$E$11","v":0.55229348291234737},737280,4.4183478632987789,{"$error":"#DIV/0!"},{"$error":"#DIV/0!"},{"$error":"#DIV/0!"},{"$error":"#DIV/0!"},{"$f":"(AY134/(AH134*Sanierungsdesign!$E$10))*1000000","v":{"$error":"#DIV/0!"}},{"$f":"AZ134/Sanierungsdesign!$E$12","v":{"$error":"#DIV/0!"}},{"$f":"$D$5+((-(Sanierungsdesign!$E$12)*MIN($BA$7:$BA$932))/(4*PI()*$D$3))*(-LN((4*$D$4*AH134)/(Sanierungsdesign!$E$13)^2)-$D$19)","v":{"$error":"#DIV/0!"}},{"$f":"(BB134-273.15)/Heterogenität!$D$4","v":{"$error":"#DIV/0!"}},{"$f":"IF(AI134<Berechnung!$D$7,AI134,#N/A)","v":{"$error":"#N/A"}}]
[null,null,null,null,null,null,null,null,null,null,null,null,null,null,null,null,null,null,null,null,null,null,null,null,null,null,null,null,null,null,null,null,{"$f":"Sanierungsdesign!$E$12*AH135*Sanierungsdesign!$E$10/1000000","v":6037.2},928800,{"$f":"AH135/86400","v":10.75},{"$f":"$D$5+((-Sanierungsdesign!$E$12)/4*PI()*$D$3)*(-LN((4*$D$4*AH135)/(Sanierungsdesign!$E$13^2))-$D$19)","v":1059.3094956297796},{"$f":"AJ135-273.15","v":786.1594956297796},1548.4993137799643,{"$f":"$D$3*$T$7*$AH$7*(AK135-$D$5)*(1/Sanierungsdesign!$E$15)/1000000","v":70.246578814774224},{"$f":"$D$5+(-Sanierungsdesign!$E$12/(4*PI()*$D$3))*(-LN((4*$D$4*AH135)/(Sanierungsdesign!$E$13+Sanierungsdesign!$E$15)^2)-$D$19)","v":281.54429501025925},{"$f":"AN135-273.15","v":8.3942950102592704},{"$f":"(2*PI()*Sanierungsdesign!$E$10*$D$3)*(LN((Sanierungsdesign!$E$13+Sanierungsdesign!$E$15)/Sanierungsdesign!$E$13)*(AJ135-AN135))*$AH$7/1000000","v":69.438093277809656},1600.359708720667,3612.0118625825453,{"$f":"AU135/Sanierungsdesign!$E$11","v":0.56018181103770848},743040,4.4814544883016678,{"$error":"#DIV/0!"},{"$error":"#DIV/0!"},{"$error":"#DIV/0!"},{"$f":"AG135-AX135","v":{"$error":"#DIV/0!"}},{"$f":"(AY135/(AH135*Sanierungsdesign!$E$10))*1000000","v":{"$error":"#DIV/0!"}},{"$f":"AZ135/Sanierungsdesign!$E$12","v":{"$error":"#DIV/0!"}},{"$f":"$D$5+((-(Sanierungsdesign!$E$12)*MIN($BA$7:$BA$932))/(4*PI()*$D$3))*(-LN((4*$D$4*AH135)/(Sanierungsdesign!$E$13)^2)-$D$19)","v":{"$error":"#DIV/0!"}},{"$f":"(BB135-273.15)/Heterogenität!$D$4","v":{"$error":"#DIV/0!"}},{"$f":"IF(AI135<Berechnung!$D$7,AI135,#N/A)","v":{"$error":"#N/A"}}]
[null,null,null,null,null,null,null,null,null,null,null,null,null,null,null,null,null,null,null,null,null,null,null,null,null,null,null,null,null,null,null,null,{"$f":"Sanierungsdesign!$E$12*AH136*Sanierungsdesign!$E$10/1000000","v":6084},936000,10.833333333333334,{"$f":"$D$5+((-Sanierungsdesign!$E$12)/4*PI()*$D$3)*(-LN((4*$D$4*AH136)/(Sanierungsdesign!$E$13^2))-$D$19)","v":1070.126817060024},796.97681706002402,{"$f":"$T$4*$T$7*$AH$7*(AJ136-$D$2)/1000000","v":1570.1364762848871},{"$f":"$D$3*$T$7*$AH$7*(AK136-$D$5)*(1/Sanierungsdesign!$E$15)/1000000","v":71.757245768412986},{"$f":"$D$5+(-Sanierungsdesign!$E$12/(4*PI()*$D$3))*(-LN((4*$D$4*AH136)/(Sanierungsdesign!$E$13+Sanierungsdesign!$E$15)^2)-$D$19)","v":282.12654805275855},8.9765480527585737,{"$f":"(2*PI()*Sanierungsdesign!$E$10*$D$3)*(LN((Sanierungsdesign!$E$13+Sanierungsdesign!$E$15)/Sanierungsdesign!$E$13)*(AJ136-AN136))*$AH$7/1000000","v":70.351869868542806},{"$f":"$T$20*AH136","v":1612.7655979355559},{"$f":"$D$12*AQ136/1000000","v":3640.0119545405496},{"$f":"AU136/Sanierungsdesign!$E$11","v":0.56800922482463334},{"$f":"$T$18/$D$24*AH136","v":748800},{"$f":"($D$10*$T$18)*(AJ136-$D$2)/1000000","v":4.5440737985970667},{"$f":"($D$17*$L$10*$T$28+$L$2*$D$10*$T$28+$D$16*$L$4*$T$28+$D$18*$L$7*$T$28)*(AJ136-$D$5)/1000000","v":{"$error":"#DIV/0!"}},{"$f":"AV136*$D$28","v":{"$error":"#DIV/0!"}},{"$f":"AL136+AM136+AR136+(0.5*AP136)-(2*AW136)+AS136","v":{"$error":"#DIV/0!"}},{"$error":"#DIV/0!"},{"$f":"(AY136/(AH136*Sanierungsdesign!$E$10))*1000000","v":{"$error":"#DIV/0!"}},{"$f":"AZ136/Sanierungsdesign!$E$12","v":{"$error":"#DIV/0!"}},{"$f":"$D$5+((-(Sanierungsdesign!$E$12)*MIN($BA$7:$BA$932))/(4*PI()*$D$3))*(-LN((4*$D$4*AH136)/(Sanierungsdesign!$E$13)^2)-$D$19)","v":{"$error":"#DIV/0!"}},{"$f":"(BB136-273.15)/Heterogenität!$D$4","v":{"$error":"#DIV/0!"}},{"$f":"IF(AI136<Berechnung!$D$7,AI136,#N/A)","v":{"$error":"#N/A"}}]
[null,null,null,null,null,null,null,null,null,null,null,null,null,null,null,null,null,null,null,null,null,null,null,null,null,null,null,null,null,null,null,null,{"$f":"Sanierungsdesign!$E$12*AH137*Sanierungsdesign!$E$10/1000000","v":6130.8},{"$f":"AH136+$D$24","v":943200},10.916666666666666,{"$f":"$D$5+((-Sanierungsdesign!$E$12)/4*PI()*$D$3)*(-LN((4*$D$4*AH137)/(Sanierungsdesign!$E$13^2))-$D$19)","v":1080.8612463239533},807.71124632395333,1591.60783514937,{"$f":"$D$3*$T$7*$AH$7*(AK137-$D$5)*(1/Sanierungsdesign!$E$15)/1000000","v":73.25633661634248},{"$f":"$D$5+(-Sanierungsdesign!$E$12/(4*PI()*$D$3))*(-LN((4*$D$4*AH137)/(Sanierungsdesign!$E$13+Sanierungsdesign!$E$15)^2)-$D$19)","v":282.70433934228623},9.554339342286255,{"$f":"(2*PI()*Sanierungsdesign!$E$10*$D$3)*(LN((Sanierungsdesign!$E$13+Sanierungsdesign!$E$15)/Sanierungsdesign!$E$13)*(AJ137-AN137))*$AH$7/1000000","v":71.258644271015029},1625.1714871504448,3668.0120464985539,{"$f":"AU137/Sanierungsdesign!$E$11","v":0.57577665784001253},754560,4.6062132627201002,{"$error":"#DIV/0!"},{"$error":"#DIV/0!"},{"$error":"#DIV/0!"},{"$error":"#DIV/0!"},{"$f":"(AY137/(AH137*Sanierungsdesign!$E$10))*1000000","v":{"$error":"#DIV/0!"}},{"$f":"AZ137/Sanierungsdesign!$E$12","v":{"$error":"#DIV/0!"}},{"$f":"$D$5+((-(Sanierungsdesign!$E$12)*MIN($BA$7:$BA$932))/(4*PI()*$D$3))*(-LN((4*$D$4*AH137)/(Sanierungsdesign!$E$13)^2)-$D$19)","v":{"$error":"#DIV/0!"}},{"$f":"(BB137-273.15)/Heterogenität!$D$4","v":{"$error":"#DIV/0!"}},{"$f":"IF(AI137<Berechnung!$D$7,AI137,#N/A)","v":{"$error":"#N/A"}}]
[null,null,null,null,null,null,null,null,null,null,null,null,null,null,null,null,null,null,null,null,null,null,null,null,null,null,null,null,null,null,null,null,{"$f":"Sanierungsdesign!$E$12*AH138*Sanierungsdesign!$E$10/1000000","v":6177.6},950400,11,{"$f":"$D$5+((-Sanierungsdesign!$E$12)/4*PI()*$D$3)*(-LN((4*$D$4*AH138)/(Sanierungsdesign!$E$13^2))-$D$19)","v":1091.514044157293},818.36404415729305,1612.915912138523,{"$f":"$D$3*$T$7*$AH$7*(AK138-$D$5)*(1/Sanierungsdesign!$E$15)/1000000","v":74.74402742357195},{"$f":"$D$5+(-Sanierungsdesign!$E$12/(4*PI()*$D$3))*(-LN((4*$D$4*AH138)/(Sanierungsdesign!$E$13+Sanierungsdesign!$E$15)^2)-$D$19)","v":283.27773673919171},10.127736739191732,{"$f":"(2*PI()*Sanierungsdesign!$E$10*$D$3)*(LN((Sanierungsdesign!$E$13+Sanierungsdesign!$E$15)/Sanierungsdesign!$E$13)*(AJ138-AN138))*$AH$7/1000000","v":72.158522983937672},1637.5773763653337,3696.0121384565582,{"$f":"AU138/Sanierungsdesign!$E$11","v":0.58348502235221722},760320,4.6678801788177378,{"$error":"#DIV/0!"},{"$error":"#DIV/0!"},{"$error":"#DIV/0!"},{"$error":"#DIV/0!"},{"$f":"(AY138/(AH138*Sanierungsdesign!$E$10))*1000000","v":{"$error":"#DIV/0!"}},{"$f":"AZ138/Sanierungsdesign!$E$12","v":{"$error":"#DIV/0!"}},{"$f":"$D$5+((-(Sanierungsdesign!$E$12)*MIN($BA$7:$BA$932))/(4*PI()*$D$3))*(-LN((4*$D$4*AH138)/(Sanierungsdesign!$E$13)^2)-$D$19)","v":{"$error":"#DIV/0!"}},{"$f":"(BB138-273.15)/Heterogenität!$D$4","v":{"$error":"#DIV/0!"}},{"$f":"IF(AI138<Berechnung!$D$7,AI138,#N/A)","v":{"$error":"#N/A"}}]
[null,null,null,null,null,null,null,null,null,null,null,null,null,null,null,null,null,null,null,null,null,null,null,null,null,null,null,null,null,null,null,null,{"$f":"Sanierungsdesign!$E$12*AH139*Sanierungsdesign!$E$10/1000000","v":6224.4},957600,11.083333333333334,{"$f":"$D$5+((-Sanierungsdesign!$E$12)/4*PI()*$D$3)*(-LN((4*$D$4*AH139)/(Sanierungsdesign!$E$13^2))-$D$19)","v":1102.0864427502606},828.93644275026065,1634.0631719197916,{"$f":"$D$3*$T$7*$AH$7*(AK139-$D$5)*(1/Sanierungsdesign!$E$15)/1000000","v":76.220490268656533},{"$f":"$D$5+(-Sanierungsdesign!$E$12/(4*PI()*$D$3))*(-LN((4*$D$4*AH139)/(Sanierungsdesign!$E$13+Sanierungsdesign!$E$15)^2)-$D$19)","v":283.84680656733411},10.696806567334136,{"$f":"(2*PI()*Sanierungsdesign!$E$10*$D$3)*(LN((Sanierungsdesign!$E$13+Sanierungsdesign!$E$15)/Sanierungsdesign!$E$13)*(AJ139-AN139))*$AH$7/1000000","v":73.051610094684264},1649.9832655802227,3724.0122304145625,{"$f":"AU139/Sanierungsdesign!$E$11","v":0.59113520997408864},766080,4.7290816797927091,{"$error":"#DIV/0!"},{"$error":"#DIV/0!"},{"$error":"#DIV/0!"},{"$error":"#DIV/0!"},{"$f":"(AY139/(AH139*Sanierungsdesign!$E$10))*1000000","v":{"$error":"#DIV/0!"}},{"$f":"AZ139/Sanierungsdesign!$E$12","v":{"$error":"#DIV/0!"}},{"$f":"$D$5+((-(Sanierungsdesign!$E$12)*MIN($BA$7:$BA$932))/(4*PI()*$D$3))*(-LN((4*$D$4*AH139)/(Sanierungsdesign!$E$13)^2)-$D$19)","v":{"$error":"#DIV/0!"}},{"$f":"(BB139-273.15)/Heterogenität!$D$4","v":{"$error":"#DIV/0!"}},{"$f":"IF(AI139<Berechnung!$D$7,AI139,#N/A)","v":{"$error":"#N/A"}}]
[null,null,null,null,null,null,null,null,null,null,null,null,null,null,null,null,null,null,null,null,null,null,null,null,null,null,null,null,null,null,null,null,{"$f":"Sanierungsdesign!$E$12*AH140*Sanierungsdesign!$E$10/1000000","v":6271.2},964800,11.166666666666666,{"$f":"$D$5+((-Sanierungsdesign!$E$12)/4*PI()*$D$3)*(-LN((4*$D$4*AH140)/(Sanierungsdesign!$E$13^2))-$D$19)","v":1112.5796466028823},839.42964660288237,1655.0520237737878,{"$f":"$D$3*$T$7*$AH$7*(AK140-$D$5)*(1/Sanierungsdesign!$E$15)/1000000","v":77.685893363144459},{"$f":"$D$5+(-Sanierungsdesign!$E$12/(4*PI()*$D$3))*(-LN((4*$D$4*AH140)/(Sanierungsdesign!$E$13+Sanierungsdesign!$E$15)^2)-$D$19)","v":284.41161366012074},11.261613660120759,{"$f":"(2*PI()*Sanierungsdesign!$E$10*$D$3)*(LN((Sanierungsdesign!$E$13+Sanierungsdesign!$E$15)/Sanierungsdesign!$E$13)*(AJ140-AN140))*$AH$7/1000000","v":73.938007351541984},1662.3891547951116,3752.0123223725668,{"$f":"AU140/Sanierungsdesign!$E$11","v":0.59872809228184565},771840,4.7898247382547652,{"$error":"#DIV/0!"},{"$error":"#DIV/0!"},{"$error":"#DIV/0!"},{"$error":"#DIV/0!"},{"$f":"(AY140/(AH140*Sanierungsdesign!$E$10))*1000000","v":{"$error":"#DIV/0!"}},{"$f":"AZ140/Sanierungsdesign!$E$12","v":{"$error":"#DIV/0!"}},{"$f":"$D$5+((-(Sanierungsdesign!$E$12)*MIN($BA$7:$BA$932))/(4*PI()*$D$3))*(-LN((4*$D$4*AH140)/(Sanierungsdesign!$E$13)^2)-$D$19)","v":{"$error":"#DIV/0!"}},{"$f":"(BB140-273.15)/Heterogenität!$D$4","v":{"$error":"#DIV/0!"}},{"$f":"IF(AI140<Berechnung!$D$7,AI140,#N/A)","v":{"$error":"#N/A"}}]
[null,null,null,null,null,null,null,null,null,null,null,null,null,null,null,null,null,null,null,null,null,null,null,null,null,null,null,null,null,null,null,null,{"$f":"Sanierungsdesign!$E$12*AH141*Sanierungsdesign!$E$10/1000000","v":6318},972000,11.25,{"$f":"$D$5+((-Sanierungsdesign!$E$12)/4*PI()*$D$3)*(-LN((4*$D$4*AH141)/(Sanierungsdesign!$E$13^2))-$D$19)","v":1122.994833348512},849.844833348512,1675.8848232415223,{"$f":"$D$3*$T$7*$AH$7*(AK141-$D$5)*(1/Sanierungsdesign!$E$15)/1000000","v":79.14040116658353},{"$f":"$D$5+(-Sanierungsdesign!$E$12/(4*PI()*$D$3))*(-LN((4*$D$4*AH141)/(Sanierungsdesign!$E$13+Sanierungsdesign!$E$15)^2)-$D$19)","v":284.97222140483336},11.822221404833385,{"$f":"(2*PI()*Sanierungsdesign!$E$10*$D$3)*(LN((Sanierungsdesign!$E$13+Sanierungsdesign!$E$15)/Sanierungsdesign!$E$13)*(AJ141-AN141))*$AH$7/1000000","v":74.81781423327719},1674.7950440100003,3780.0124143305707,{"$f":"AU141/Sanierungsdesign!$E$11","v":0.60626452141098319},777600,4.8501161712878655,{"$error":"#DIV/0!"},{"$error":"#DIV/0!"},{"$error":"#DIV/0!"},{"$error":"#DIV/0!"},{"$f":"(AY141/(AH141*Sanierungsdesign!$E$10))*1000000","v":{"$error":"#DIV/0!"}},{"$f":"AZ141/Sanierungsdesign!$E$12","v":{"$error":"#DIV/0!"}},{"$f":"$D$5+((-(Sanierungsdesign!$E$12)*MIN($BA$7:$BA$932))/(4*PI()*$D$3))*(-LN((4*$D$4*AH141)/(Sanierungsdesign!$E$13)^2)-$D$19)","v":{"$error":"#DIV/0!"}},{"$f":"(BB141-273.15)/Heterogenität!$D$4","v":{"$error":"#DIV/0!"}},{"$f":"IF(AI141<Berechnung!$D$7,AI141,#N/A)","v":{"$error":"#N/A"}}]
[null,null,null,null,null,null,null,null,null,null,null,null,null,null,null,null,null,null,null,null,null,null,null,null,null,null,null,null,null,null,null,null,{"$f":"Sanierungsdesign!$E$12*AH142*Sanierungsdesign!$E$10/1000000","v":6364.8},979200,11.333333333333334,{"$f":"$D$5+((-Sanierungsdesign!$E$12)/4*PI()*$D$3)*(-LN((4*$D$4*AH142)/(Sanierungsdesign!$E$13^2))-$D$19)","v":1133.3331545469619},860.18315454696187,1696.5638737108486,{"$f":"$D$3*$T$7*$AH$7*(AK142-$D$5)*(1/Sanierungsdesign!$E$15)/1000000","v":80.584174497283968},{"$f":"$D$5+(-Sanierungsdesign!$E$12/(4*PI()*$D$3))*(-LN((4*$D$4*AH142)/(Sanierungsdesign!$E$13+Sanierungsdesign!$E$15)^2)-$D$19)","v":285.52869178531984},12.378691785319859,{"$f":"(2*PI()*Sanierungsdesign!$E$10*$D$3)*(LN((Sanierungsdesign!$E$13+Sanierungsdesign!$E$15)/Sanierungsdesign!$E$13)*(AJ142-AN142))*$AH$7/1000000","v":75.691128016133916},1687.2009332248892,3808.012506288575,{"$f":"AU142/Sanierungsdesign!$E$11","v":0.61374533063018155},783360,4.9099626450414524,{"$error":"#DIV/0!"},{"$error":"#DIV/0!"},{"$error":"#DIV/0!"},{"$error":"#DIV/0!"},{"$f":"(AY142/(AH142*Sanierungsdesign!$E$10))*1000000","v":{"$error":"#DIV/0!"}},{"$f":"AZ142/Sanierungsdesign!$E$12","v":{"$error":"#DIV/0!"}},{"$f":"$D$5+((-(Sanierungsdesign!$E$12)*MIN($BA$7:$BA$932))/(4*PI()*$D$3))*(-LN((4*$D$4*AH142)/(Sanierungsdesign!$E$13)^2)-$D$19)","v":{"$error":"#DIV/0!"}},{"$f":"(BB142-273.15)/Heterogenität!$D$4","v":{"$error":"#DIV/0!"}},{"$f":"IF(AI142<Berechnung!$D$7,AI142,#N/A)","v":{"$error":"#N/A"}}]
[null,null,null,null,null,null,null,null,null,null,null,null,null,null,null,null,null,null,null,null,null,null,null,null,null,null,null,null,null,null,null,null,{"$f":"Sanierungsdesign!$E$12*AH143*Sanierungsdesign!$E$10/1000000","v":6411.6},986400,11.416666666666666,{"$f":"$D$5+((-Sanierungsdesign!$E$12)/4*PI()*$D$3)*(-LN((4*$D$4*AH143)/(Sanierungsdesign!$E$13^2))-$D$19)","v":1143.5957364485778},870.4457364485778,1717.0914279447925,{"$f":"$D$3*$T$7*$AH$7*(AK143-$D$5)*(1/Sanierungsdesign!$E$15)/1000000","v":82.017370639023483},{"$f":"$D$5+(-Sanierungsdesign!$E$12/(4*PI()*$D$3))*(-LN((4*$D$4*AH143)/(Sanierungsdesign!$E$13+Sanierungsdesign!$E$15)^2)-$D$19)","v":286.08108542312073},12.931085423120749,{"$f":"(2*PI()*Sanierungsdesign!$E$10*$D$3)*(LN((Sanierungsdesign!$E$13+Sanierungsdesign!$E$15)/Sanierungsdesign!$E$13)*(AJ143-AN143))*$AH$7/1000000","v":76.558043838377984},1699.6068224397782,3836.0125982465793,{"$f":"AU143/Sanierungsdesign!$E$11","v":0.62117133489419074},789120,4.9693706791535259,{"$error":"#DIV/0!"},{"$error":"#DIV/0!"},{"$error":"#DIV/0!"},{"$error":"#DIV/0!"},{"$f":"(AY143/(AH143*Sanierungsdesign!$E$10))*1000000","v":{"$error":"#DIV/0!"}},{"$f":"AZ143/Sanierungsdesign!$E$12","v":{"$error":"#DIV/0!"}},{"$f":"$D$5+((-(Sanierungsdesign!$E$12)*MIN($BA$7:$BA$932))/(4*PI()*$D$3))*(-LN((4*$D$4*AH143)/(Sanierungsdesign!$E$13)^2)-$D$19)","v":{"$error":"#DIV/0!"}},{"$f":"(BB143-273.15)/Heterogenität!$D$4","v":{"$error":"#DIV/0!"}},{"$f":"IF(AI143<Berechnung!$D$7,AI143,#N/A)","v":{"$error":"#N/A"}}]
[null,null,null,null,null,null,null,null,null,null,null,null,null,null,null,null,null,null,null,null,null,null,null,null,null,null,null,null,null,null,null,null,{"$f":"Sanierungsdesign!$E$12*AH144*Sanierungsdesign!$E$10/1000000","v":6458.4},993600,11.5,{"$f":"$D$5+((-Sanierungsdesign!$E$12)/4*PI()*$D$3)*(-LN((4*$D$4*AH144)/(Sanierungsdesign!$E$13^2))-$D$19)","v":1153.7836807305355},880.6336807305355,1737.4696895543157,{"$f":"$D$3*$T$7*$AH$7*(AK144-$D$5)*(1/Sanierungsdesign!$E$15)/1000000","v":83.440143443872898},{"$f":"$D$5+(-Sanierungsdesign!$E$12/(4*PI()*$D$3))*(-LN((4*$D$4*AH144)/(Sanierungsdesign!$E$13+Sanierungsdesign!$E$15)^2)-$D$19)","v":286.62946161710136},13.479461617101379,{"$f":"(2*PI()*Sanierungsdesign!$E$10*$D$3)*(LN((Sanierungsdesign!$E$13+Sanierungsdesign!$E$15)/Sanierungsdesign!$E$13)*(AJ144-AN144))*$AH$7/1000000","v":77.41865476249437},1712.0127116546671,3864.0126902045836,{"$f":"AU144/Sanierungsdesign!$E$11","v":0.62854333137661544},794880,5.0283466510129236,{"$error":"#DIV/0!"},{"$error":"#DIV/0!"},{"$error":"#DIV/0!"},{"$error":"#DIV/0!"},{"$f":"(AY144/(AH144*Sanierungsdesign!$E$10))*1000000","v":{"$error":"#DIV/0!"}},{"$f":"AZ144/Sanierungsdesign!$E$12","v":{"$error":"#DIV/0!"}},{"$f":"$D$5+((-(Sanierungsdesign!$E$12)*MIN($BA$7:$BA$932))/(4*PI()*$D$3))*(-LN((4*$D$4*AH144)/(Sanierungsdesign!$E$13)^2)-$D$19)","v":{"$error":"#DIV/0!"}},{"$f":"(BB144-273.15)/Heterogenität!$D$4","v":{"$error":"#DIV/0!"}},{"$f":"IF(AI144<Berechnung!$D$7,AI144,#N/A)","v":{"$error":"#N/A"}}]
[null,null,null,null,null,null,null,null,null,null,null,null,null,null,null,null,null,null,null,null,null,null,null,null,null,null,null,null,null,null,null,null,{"$f":"Sanierungsdesign!$E$12*AH145*Sanierungsdesign!$E$10/1000000","v":6505.2},1000800,11.583333333333334,{"$f":"$D$5+((-Sanierungsdesign!$E$12)/4*PI()*$D$3)*(-LN((4*$D$4*AH145)/(Sanierungsdesign!$E$13^2))-$D$19)","v":1163.8980652065452},890.74806520654522,1757.7008144178899,{"$f":"$D$3*$T$7*$AH$7*(AK145-$D$5)*(1/Sanierungsdesign!$E$15)/1000000","v":84.85264343130828},{"$f":"$D$5+(-Sanierungsdesign!$E$12/(4*PI()*$D$3))*(-LN((4*$D$4*AH145)/(Sanierungsdesign!$E$13+Sanierungsdesign!$E$15)^2)-$D$19)","v":287.17387838165263},14.023878381652651,{"$f":"(2*PI()*Sanierungsdesign!$E$10*$D$3)*(LN((Sanierungsdesign!$E$13+Sanierungsdesign!$E$15)/Sanierungsdesign!$E$13)*(AJ145-AN145))*$AH$7/1000000","v":78.273051835138617},1724.418600869556,3892.0127821625883,{"$f":"AU145/Sanierungsdesign!$E$11","v":0.63586209998345611},800640,5.0868967998676489,{"$error":"#DIV/0!"},{"$error":"#DIV/0!"},{"$error":"#DIV/0!"},{"$error":"#DIV/0!"},{"$f":"(AY145/(AH145*Sanierungsdesign!$E$10))*1000000","v":{"$error":"#DIV/0!"}},{"$f":"AZ145/Sanierungsdesign!$E$12","v":{"$error":"#DIV/0!"}},{"$f":"$D$5+((-(Sanierungsdesign!$E$12)*MIN($BA$7:$BA$932))/(4*PI()*$D$3))*(-LN((4*$D$4*AH145)/(Sanierungsdesign!$E$13)^2)-$D$19)","v":{"$error":"#DIV/0!"}},{"$f":"(BB145-273.15)/Heterogenität!$D$4","v":{"$error":"#DIV/0!"}},{"$f":"IF(AI145<Berechnung!$D$7,AI145,#N/A)","v":{"$error":"#N/A"}}]
[null,null,null,null,null,null,null,null,null,null,null,null,null,null,null,null,null,null,null,null,null,null,null,null,null,null,null,null,null,null,null,null,{"$f":"Sanierungsdesign!$E$12*AH146*Sanierungsdesign!$E$10/1000000","v":6552},1008000,11.666666666666666,{"$f":"$D$5+((-Sanierungsdesign!$E$12)/4*PI()*$D$3)*(-LN((4*$D$4*AH146)/(Sanierungsdesign!$E$13^2))-$D$19)","v":1173.9399445111292},900.78994451112919,1777.7869120502125,{"$f":"$D$3*$T$7*$AH$7*(AK146-$D$5)*(1/Sanierungsdesign!$E$15)/1000000","v":86.255017883772084},{"$f":"$D$5+(-Sanierungsdesign!$E$12/(4*PI()*$D$3))*(-LN((4*$D$4*AH146)/(Sanierungsdesign!$E$13+Sanierungsdesign!$E$15)^2)-$D$19)","v":287.71439248352232},14.56439248352234,{"$f":"(2*PI()*Sanierungsdesign!$E$10*$D$3)*(LN((Sanierungsdesign!$E$13+Sanierungsdesign!$E$15)/Sanierungsdesign!$E$13)*(AJ146-AN146))*$AH$7/1000000","v":79.121324144939948},1736.824490084445,3920.0128741205922,{"$f":"AU146/Sanierungsdesign!$E$11","v":0.64312840384825298},806400,5.1450272307860239,{"$error":"#DIV/0!"},{"$error":"#DIV/0!"},{"$error":"#DIV/0!"},{"$error":"#DIV/0!"},{"$f":"(AY146/(AH146*Sanierungsdesign!$E$10))*1000000","v":{"$error":"#DIV/0!"}},{"$f":"AZ146/Sanierungsdesign!$E$12","v":{"$error":"#DIV/0!"}},{"$f":"$D$5+((-(Sanierungsdesign!$E$12)*MIN($BA$7:$BA$932))/(4*PI()*$D$3))*(-LN((4*$D$4*AH146)/(Sanierungsdesign!$E$13)^2)-$D$19)","v":{"$error":"#DIV/0!"}},{"$f":"(BB146-273.15)/Heterogenität!$D$4","v":{"$error":"#DIV/0!"}},{"$f":"IF(AI146<Berechnung!$D$7,AI146,#N/A)","v":{"$error":"#N/A"}}]
[null,null,null,null,null,null,null,null,null,null,null,null,null,null,null,null,null,null,null,null,null,null,null,null,null,null,null,null,null,null,null,null,{"$f":"Sanierungsdesign!$E$12*AH147*Sanierungsdesign!$E$10/1000000","v":6598.8},1015200,11.75,{"$f":"$D$5+((-Sanierungsdesign!$E$12)/4*PI()*$D$3)*(-LN((4*$D$4*AH147)/(Sanierungsdesign!$E$13^2))-$D$19)","v":1183.9103507595355},910.76035075953553,1797.7300469221873,{"$f":"$D$3*$T$7*$AH$7*(AK147-$D$5)*(1/Sanierungsdesign!$E$15)/1000000","v":87.647410938831811},{"$f":"$D$5+(-Sanierungsdesign!$E$12/(4*PI()*$D$3))*(-LN((4*$D$4*AH147)/(Sanierungsdesign!$E$13+Sanierungsdesign!$E$15)^2)-$D$19)","v":288.2510594773363},15.101059477336321,{"$f":"(2*PI()*Sanierungsdesign!$E$10*$D$3)*(LN((Sanierungsdesign!$E$13+Sanierungsdesign!$E$15)/Sanierungsdesign!$E$13)*(AJ147-AN147))*$AH$7/1000000","v":79.963558878246531},1749.2303792993337,3948.012966078596,{"$f":"AU147/Sanierungsdesign!$E$11","v":0.65034298980959981},812160,5.2027439184767985,{"$error":"#DIV/0!"},{"$error":"#DIV/0!"},{"$error":"#DIV/0!"},{"$error":"#DIV/0!"},{"$f":"(AY147/(AH147*Sanierungsdesign!$E$10))*1000000","v":{"$error":"#DIV/0!"}},{"$f":"AZ147/Sanierungsdesign!$E$12","v":{"$error":"#DIV/0!"}},{"$f":"$D$5+((-(Sanierungsdesign!$E$12)*MIN($BA$7:$BA$932))/(4*PI()*$D$3))*(-LN((4*$D$4*AH147)/(Sanierungsdesign!$E$13)^2)-$D$19)","v":{"$error":"#DIV/0!"}},{"$f":"(BB147-273.15)/Heterogenität!$D$4","v":{"$error":"#DIV/0!"}},{"$f":"IF(AI147<Berechnung!$D$7,AI147,#N/A)","v":{"$error":"#N/A"}}]
[null,null,null,null,null,null,null,null,null,null,null,null,null,null,null,null,null,null,null,null,null,null,null,null,null,null,null,null,null,null,null,null,{"$f":"Sanierungsdesign!$E$12*AH148*Sanierungsdesign!$E$10/1000000","v":6645.6},1022400,11.833333333333334,{"$f":"$D$5+((-Sanierungsdesign!$E$12)/4*PI()*$D$3)*(-LN((4*$D$4*AH148)/(Sanierungsdesign!$E$13^2))-$D$19)","v":1193.8102941843442},920.66029418434425,1817.5322397342845,{"$f":"$D$3*$T$7*$AH$7*(AK148-$D$5)*(1/Sanierungsdesign!$E$15)/1000000","v":89.029963678083632},{"$f":"$D$5+(-Sanierungsdesign!$E$12/(4*PI()*$D$3))*(-LN((4*$D$4*AH148)/(Sanierungsdesign!$E$13+Sanierungsdesign!$E$15)^2)-$D$19)","v":288.78393373986393},15.633933739863949,{"$f":"(2*PI()*Sanierungsdesign!$E$10*$D$3)*(LN((Sanierungsdesign!$E$13+Sanierungsdesign!$E$15)/Sanierungsdesign!$E$13)*(AJ148-AN148))*$AH$7/1000000","v":80.799841372901824},1761.6362685142226,3976.0130580366008,{"$f":"AU148/Sanierungsdesign!$E$11","v":0.65750658887179136},817920,5.2600527109743309,{"$error":"#DIV/0!"},{"$error":"#DIV/0!"},{"$error":"#DIV/0!"},{"$error":"#DIV/0!"},{"$f":"(AY148/(AH148*Sanierungsdesign!$E$10))*1000000","v":{"$error":"#DIV/0!"}},{"$f":"AZ148/Sanierungsdesign!$E$12","v":{"$error":"#DIV/0!"}},{"$f":"$D$5+((-(Sanierungsdesign!$E$12)*MIN($BA$7:$BA$932))/(4*PI()*$D$3))*(-LN((4*$D$4*AH148)/(Sanierungsdesign!$E$13)^2)-$D$19)","v":{"$error":"#DIV/0!"}},{"$f":"(BB148-273.15)/Heterogenität!$D$4","v":{"$error":"#DIV/0!"}},{"$f":"IF(AI148<Berechnung!$D$7,AI148,#N/A)","v":{"$error":"#N/A"}}]
[null,null,null,null,null,null,null,null,null,null,null,null,null,null,null,null,null,null,null,null,null,null,null,null,null,null,null,null,null,null,null,null,{"$f":"Sanierungsdesign!$E$12*AH149*Sanierungsdesign!$E$10/1000000","v":6692.4},1029600,11.916666666666666,{"$f":"$D$5+((-Sanierungsdesign!$E$12)/4*PI()*$D$3)*(-LN((4*$D$4*AH149)/(Sanierungsdesign!$E$13^2))-$D$19)","v":1203.6407637497284},930.49076374972844,1837.1954686452063,{"$f":"$D$3*$T$7*$AH$7*(AK149-$D$5)*(1/Sanierungsdesign!$E$15)/1000000","v":90.402814212935667},{"$f":"$D$5+(-Sanierungsdesign!$E$12/(4*PI()*$D$3))*(-LN((4*$D$4*AH149)/(Sanierungsdesign!$E$13+Sanierungsdesign!$E$15)^2)-$D$19)","v":289.31306850308158},16.163068503081604,{"$f":"(2*PI()*Sanierungsdesign!$E$10*$D$3)*(LN((Sanierungsdesign!$E$13+Sanierungsdesign!$E$15)/Sanierungsdesign!$E$13)*(AJ149-AN149))*$AH$7/1000000","v":81.630255170133324},1774.0421577291115,4004.0131499946046,{"$f":"AU149/Sanierungsdesign!$E$11","v":0.66461991664930342},823680,5.3169593331944274,{"$error":"#DIV/0!"},{"$error":"#DIV/0!"},{"$error":"#DIV/0!"},{"$error":"#DIV/0!"},{"$f":"(AY149/(AH149*Sanierungsdesign!$E$10))*1000000","v":{"$error":"#DIV/0!"}},{"$f":"AZ149/Sanierungsdesign!$E$12","v":{"$error":"#DIV/0!"}},{"$f":"$D$5+((-(Sanierungsdesign!$E$12)*MIN($BA$7:$BA$932))/(4*PI()*$D$3))*(-LN((4*$D$4*AH149)/(Sanierungsdesign!$E$13)^2)-$D$19)","v":{"$error":"#DIV/0!"}},{"$f":"(BB149-273.15)/Heterogenität!$D$4","v":{"$error":"#DIV/0!"}},{"$f":"IF(AI149<Berechnung!$D$7,AI149,#N/A)","v":{"$error":"#N/A"}}]
[null,null,null,null,null,null,null,null,null,null,null,null,null,null,null,null,null,null,null,null,null,null,null,null,null,null,null,null,null,null,null,null,{"$f":"Sanierungsdesign!$E$12*AH150*Sanierungsdesign!$E$10/1000000","v":6739.2},1036800,12,{"$f":"$D$5+((-Sanierungsdesign!$E$12)/4*PI()*$D$3)*(-LN((4*$D$4*AH150)/(Sanierungsdesign!$E$13^2))-$D$19)","v":1213.4027277443113},940.2527277443113,1856.7216704577402,{"$f":"$D$3*$T$7*$AH$7*(AK150-$D$5)*(1/Sanierungsdesign!$E$15)/1000000","v":91.766097767401945},{"$f":"$D$5+(-Sanierungsdesign!$E$12/(4*PI()*$D$3))*(-LN((4*$D$4*AH150)/(Sanierungsdesign!$E$13+Sanierungsdesign!$E$15)^2)-$D$19)","v":289.83851588608366},16.688515886083678,{"$f":"(2*PI()*Sanierungsdesign!$E$10*$D$3)*(LN((Sanierungsdesign!$E$13+Sanierungsdesign!$E$15)/Sanierungsdesign!$E$13)*(AJ150-AN150))*$AH$7/1000000","v":82.454882064633239},1786.4480469440005,4032.013241952609,{"$f":"AU150/Sanierungsdesign!$E$11","v":0.67168367379578353},829440,5.3734693903662683,{"$error":"#DIV/0!"},{"$error":"#DIV/0!"},{"$error":"#DIV/0!"},{"$error":"#DIV/0!"},{"$f":"(AY150/(AH150*Sanierungsdesign!$E$10))*1000000","v":{"$error":"#DIV/0!"}},{"$f":"AZ150/Sanierungsdesign!$E$12","v":{"$error":"#DIV/0!"}},{"$f":"$D$5+((-(Sanierungsdesign!$E$12)*MIN($BA$7:$BA$932))/(4*PI()*$D$3))*(-LN((4*$D$4*AH150)/(Sanierungsdesign!$E$13)^2)-$D$19)","v":{"$error":"#DIV/0!"}},{"$f":"(BB150-273.15)/Heterogenität!$D$4","v":{"$error":"#DIV/0!"}},{"$f":"IF(AI150<Berechnung!$D$7,AI150,#N/A)","v":{"$error":"#N/A"}}]
[null,null,null,null,null,null,null,null,null,null,null,null,null,null,null,null,null,null,null,null,null,null,null,null,null,null,null,null,null,null,null,null,{"$f":"Sanierungsdesign!$E$12*AH151*Sanierungsdesign!$E$10/1000000","v":6786},1044000,12.083333333333334,{"$f":"$D$5+((-Sanierungsdesign!$E$12)/4*PI()*$D$3)*(-LN((4*$D$4*AH151)/(Sanierungsdesign!$E$13^2))-$D$19)","v":1223.0971343535166},949.94713435351662,1876.1127417635905,{"$f":"$D$3*$T$7*$AH$7*(AK151-$D$5)*(1/Sanierungsdesign!$E$15)/1000000","v":93.119946758032597},{"$f":"$D$5+(-Sanierungsdesign!$E$12/(4*PI()*$D$3))*(-LN((4*$D$4*AH151)/(Sanierungsdesign!$E$13+Sanierungsdesign!$E$15)^2)-$D$19)","v":290.36032692588998},17.210326925890001,{"$f":"(2*PI()*Sanierungsdesign!$E$10*$D$3)*(LN((Sanierungsdesign!$E$13+Sanierungsdesign!$E$15)/Sanierungsdesign!$E$13)*(AJ151-AN151))*$AH$7/1000000","v":83.273802152906953},1798.8539361588894,4060.0133339106137,{"$f":"AU151/Sanierungsdesign!$E$11","v":0.6786985464182046},835200,5.4295883713456368,{"$error":"#DIV/0!"},{"$error":"#DIV/0!"},{"$error":"#DIV/0!"},{"$error":"#DIV/0!"},{"$f":"(AY151/(AH151*Sanierungsdesign!$E$10))*1000000","v":{"$error":"#DIV/0!"}},{"$f":"AZ151/Sanierungsdesign!$E$12","v":{"$error":"#DIV/0!"}},{"$f":"$D$5+((-(Sanierungsdesign!$E$12)*MIN($BA$7:$BA$932))/(4*PI()*$D$3))*(-LN((4*$D$4*AH151)/(Sanierungsdesign!$E$13)^2)-$D$19)","v":{"$error":"#DIV/0!"}},{"$f":"(BB151-273.15)/Heterogenität!$D$4","v":{"$error":"#DIV/0!"}},{"$f":"IF(AI151<Berechnung!$D$7,AI151,#N/A)","v":{"$error":"#N/A"}}]
[null,null,null,null,null,null,null,null,null,null,null,null,null,null,null,null,null,null,null,null,null,null,null,null,null,null,null,null,null,null,null,null,{"$f":"Sanierungsdesign!$E$12*AH152*Sanierungsdesign!$E$10/1000000","v":6832.8},1051200,12.166666666666666,{"$f":"$D$5+((-Sanierungsdesign!$E$12)/4*PI()*$D$3)*(-LN((4*$D$4*AH152)/(Sanierungsdesign!$E$13^2))-$D$19)","v":1232.7249122122398},959.57491221223984,1895.3705400488532,{"$f":"$D$3*$T$7*$AH$7*(AK152-$D$5)*(1/Sanierungsdesign!$E$15)/1000000","v":94.464490871095848},{"$f":"$D$5+(-Sanierungsdesign!$E$12/(4*PI()*$D$3))*(-LN((4*$D$4*AH152)/(Sanierungsdesign!$E$13+Sanierungsdesign!$E$15)^2)-$D$19)","v":290.87855160719374},17.728551607193765,{"$f":"(2*PI()*Sanierungsdesign!$E$10*$D$3)*(LN((Sanierungsdesign!$E$13+Sanierungsdesign!$E$15)/Sanierungsdesign!$E$13)*(AJ152-AN152))*$AH$7/1000000","v":84.087093879958971},1811.2598253737783,4088.0134258686176,{"$f":"AU152/Sanierungsdesign!$E$11","v":0.68566520647677665},840960,5.4853216518142132,{"$error":"#DIV/0!"},{"$error":"#DIV/0!"},{"$error":"#DIV/0!"},{"$error":"#DIV/0!"},{"$f":"(AY152/(AH152*Sanierungsdesign!$E$10))*1000000","v":{"$error":"#DIV/0!"}},{"$f":"AZ152/Sanierungsdesign!$E$12","v":{"$error":"#DIV/0!"}},{"$f":"$D$5+((-(Sanierungsdesign!$E$12)*MIN($BA$7:$BA$932))/(4*PI()*$D$3))*(-LN((4*$D$4*AH152)/(Sanierungsdesign!$E$13)^2)-$D$19)","v":{"$error":"#DIV/0!"}},{"$f":"(BB152-273.15)/Heterogenität!$D$4","v":{"$error":"#DIV/0!"}},{"$f":"IF(AI152<Berechnung!$D$7,AI152,#N/A)","v":{"$error":"#N/A"}}]
[null,null,null,null,null,null,null,null,null,null,null,null,null,null,null,null,null,null,null,null,null,null,null,null,null,null,null,null,null,null,null,null,{"$f":"Sanierungsdesign!$E$12*AH153*Sanierungsdesign!$E$10/1000000","v":6879.6},1058400,12.25,{"$f":"$D$5+((-Sanierungsdesign!$E$12)/4*PI()*$D$3)*(-LN((4*$D$4*AH153)/(Sanierungsdesign!$E$13^2))-$D$19)","v":1242.2869709386657},969.13697093866574,1914.4968847617715,{"$f":"$D$3*$T$7*$AH$7*(AK153-$D$5)*(1/Sanierungsdesign!$E$15)/1000000","v":95.799857137127063},{"$f":"$D$5+(-Sanierungsdesign!$E$12/(4*PI()*$D$3))*(-LN((4*$D$4*AH153)/(Sanierungsdesign!$E$13+Sanierungsdesign!$E$15)^2)-$D$19)","v":291.39323889109494},18.243238891094961,{"$f":"(2*PI()*Sanierungsdesign!$E$10*$D$3)*(LN((Sanierungsdesign!$E$13+Sanierungsdesign!$E$15)/Sanierungsdesign!$E$13)*(AJ153-AN153))*$AH$7/1000000","v":84.894834084386503},1823.665714588667,4116.0135178266219,{"$f":"AU153/Sanierungsdesign!$E$11","v":0.69258431217121841},846720,5.5406744973697473,{"$error":"#DIV/0!"},{"$error":"#DIV/0!"},{"$error":"#DIV/0!"},{"$error":"#DIV/0!"},{"$f":"(AY153/(AH153*Sanierungsdesign!$E$10))*1000000","v":{"$error":"#DIV/0!"}},{"$f":"AZ153/Sanierungsdesign!$E$12","v":{"$error":"#DIV/0!"}},{"$f":"$D$5+((-(Sanierungsdesign!$E$12)*MIN($BA$7:$BA$932))/(4*PI()*$D$3))*(-LN((4*$D$4*AH153)/(Sanierungsdesign!$E$13)^2)-$D$19)","v":{"$error":"#DIV/0!"}},{"$f":"(BB153-273.15)/Heterogenität!$D$4","v":{"$error":"#DIV/0!"}},{"$f":"IF(AI153<Berechnung!$D$7,AI153,#N/A)","v":{"$error":"#N/A"}}]
[null,null,null,null,null,null,null,null,null,null,null,null,null,null,null,null,null,null,null,null,null,null,null,null,null,null,null,null,null,null,null,null,{"$f":"Sanierungsdesign!$E$12*AH154*Sanierungsdesign!$E$10/1000000","v":6926.4},1065600,12.333333333333334,{"$f":"$D$5+((-Sanierungsdesign!$E$12)/4*PI()*$D$3)*(-LN((4*$D$4*AH154)/(Sanierungsdesign!$E$13^2))-$D$19)","v":1251.7842016499822},978.63420164998217,1933.4935583442866,{"$f":"$D$3*$T$7*$AH$7*(AK154-$D$5)*(1/Sanierungsdesign!$E$15)/1000000","v":97.126170002949408},{"$f":"$D$5+(-Sanierungsdesign!$E$12/(4*PI()*$D$3))*(-LN((4*$D$4*AH154)/(Sanierungsdesign!$E$13+Sanierungsdesign!$E$15)^2)-$D$19)","v":291.90443674285893},18.754436742858957,{"$f":"(2*PI()*Sanierungsdesign!$E$10*$D$3)*(LN((Sanierungsdesign!$E$13+Sanierungsdesign!$E$15)/Sanierungsdesign!$E$13)*(AJ154-AN154))*$AH$7/1000000","v":85.69709804194342},1836.0716038035559,4144.0136097846253,{"$f":"AU154/Sanierungsdesign!$E$11","v":0.69945650831392703},852480,5.5956520665114162,{"$error":"#DIV/0!"},{"$error":"#DIV/0!"},{"$error":"#DIV/0!"},{"$error":"#DIV/0!"},{"$f":"(AY154/(AH154*Sanierungsdesign!$E$10))*1000000","v":{"$error":"#DIV/0!"}},{"$f":"AZ154/Sanierungsdesign!$E$12","v":{"$error":"#DIV/0!"}},{"$f":"$D$5+((-(Sanierungsdesign!$E$12)*MIN($BA$7:$BA$932))/(4*PI()*$D$3))*(-LN((4*$D$4*AH154)/(Sanierungsdesign!$E$13)^2)-$D$19)","v":{"$error":"#DIV/0!"}},{"$f":"(BB154-273.15)/Heterogenität!$D$4","v":{"$error":"#DIV/0!"}},{"$f":"IF(AI154<Berechnung!$D$7,AI154,#N/A)","v":{"$error":"#N/A"}}]
[null,null,null,null,null,null,null,null,null,null,null,null,null,null,null,null,null,null,null,null,null,null,null,null,null,null,null,null,null,null,null,null,{"$f":"Sanierungsdesign!$E$12*AH155*Sanierungsdesign!$E$10/1000000","v":6973.2},1072800,12.416666666666666,{"$f":"$D$5+((-Sanierungsdesign!$E$12)/4*PI()*$D$3)*(-LN((4*$D$4*AH155)/(Sanierungsdesign!$E$13^2))-$D$19)","v":1261.2174774607361},988.06747746073609,1952.3623072288644,{"$f":"$D$3*$T$7*$AH$7*(AK155-$D$5)*(1/Sanierungsdesign!$E$15)/1000000","v":98.443551401270653},{"$f":"$D$5+(-Sanierungsdesign!$E$12/(4*PI()*$D$3))*(-LN((4*$D$4*AH155)/(Sanierungsdesign!$E$13+Sanierungsdesign!$E$15)^2)-$D$19)","v":292.41219215874128},19.2621921587413,{"$f":"(2*PI()*Sanierungsdesign!$E$10*$D$3)*(LN((Sanierungsdesign!$E$13+Sanierungsdesign!$E$15)/Sanierungsdesign!$E$13)*(AJ155-AN155))*$AH$7/1000000","v":86.493959507638237},1848.4774930184449,4172.0137017426296,{"$f":"AU155/Sanierungsdesign!$E$11","v":0.70628242669058861},858240,5.6502594135247088,{"$error":"#DIV/0!"},{"$error":"#DIV/0!"},{"$error":"#DIV/0!"},{"$error":"#DIV/0!"},{"$f":"(AY155/(AH155*Sanierungsdesign!$E$10))*1000000","v":{"$error":"#DIV/0!"}},{"$f":"AZ155/Sanierungsdesign!$E$12","v":{"$error":"#DIV/0!"}},{"$f":"$D$5+((-(Sanierungsdesign!$E$12)*MIN($BA$7:$BA$932))/(4*PI()*$D$3))*(-LN((4*$D$4*AH155)/(Sanierungsdesign!$E$13)^2)-$D$19)","v":{"$error":"#DIV/0!"}},{"$f":"(BB155-273.15)/Heterogenität!$D$4","v":{"$error":"#DIV/0!"}},{"$f":"IF(AI155<Berechnung!$D$7,AI155,#N/A)","v":{"$error":"#N/A"}}]
[null,null,null,null,null,null,null,null,null,null,null,null,null,null,null,null,null,null,null,null,null,null,null,null,null,null,null,null,null,null,null,null,{"$f":"Sanierungsdesign!$E$12*AH156*Sanierungsdesign!$E$10/1000000","v":7020},1080000,12.5,{"$f":"$D$5+((-Sanierungsdesign!$E$12)/4*PI()*$D$3)*(-LN((4*$D$4*AH156)/(Sanierungsdesign!$E$13^2))-$D$19)","v":1270.587653964516},997.43765396451602,1971.1048428019722,{"$f":"$D$3*$T$7*$AH$7*(AK156-$D$5)*(1/Sanierungsdesign!$E$15)/1000000","v":99.752120817951365},{"$f":"$D$5+(-Sanierungsdesign!$E$12/(4*PI()*$D$3))*(-LN((4*$D$4*AH156)/(Sanierungsdesign!$E$13+Sanierungsdesign!$E$15)^2)-$D$19)","v":292.91655119191438},19.766551191914402,{"$f":"(2*PI()*Sanierungsdesign!$E$10*$D$3)*(LN((Sanierungsdesign!$E$13+Sanierungsdesign!$E$15)/Sanierungsdesign!$E$13)*(AJ156-AN156))*$AH$7/1000000","v":87.2854907564234},1860.8833822333338,4200.0137937006348,{"$f":"AU156/Sanierungsdesign!$E$11","v":0.71306268640872372},864000,5.7045014912697898,{"$error":"#DIV/0!"},{"$error":"#DIV/0!"},{"$error":"#DIV/0!"},{"$error":"#DIV/0!"},{"$f":"(AY156/(AH156*Sanierungsdesign!$E$10))*1000000","v":{"$error":"#DIV/0!"}},{"$f":"AZ156/Sanierungsdesign!$E$12","v":{"$error":"#DIV/0!"}},{"$f":"$D$5+((-(Sanierungsdesign!$E$12)*MIN($BA$7:$BA$932))/(4*PI()*$D$3))*(-LN((4*$D$4*AH156)/(Sanierungsdesign!$E$13)^2)-$D$19)","v":{"$error":"#DIV/0!"}},{"$f":"(BB156-273.15)/Heterogenität!$D$4","v":{"$error":"#DIV/0!"}},{"$f":"IF(AI156<Berechnung!$D$7,AI156,#N/A)","v":{"$error":"#N/A"}}]
[null,null,null,null,null,null,null,null,null,null,null,null,null,null,null,null,null,null,null,null,null,null,null,null,null,null,null,null,null,null,null,null,{"$f":"Sanierungsdesign!$E$12*AH157*Sanierungsdesign!$E$10/1000000","v":7066.8},1087200,12.583333333333334,{"$f":"$D$5+((-Sanierungsdesign!$E$12)/4*PI()*$D$3)*(-LN((4*$D$4*AH157)/(Sanierungsdesign!$E$13^2))-$D$19)","v":1279.8955696996356},1006.7455696996357,1989.7228423355557,{"$f":"$D$3*$T$7*$AH$7*(AK157-$D$5)*(1/Sanierungsdesign!$E$15)/1000000","v":101.05199535703879},{"$f":"$D$5+(-Sanierungsdesign!$E$12/(4*PI()*$D$3))*(-LN((4*$D$4*AH157)/(Sanierungsdesign!$E$13+Sanierungsdesign!$E$15)^2)-$D$19)","v":293.41755897753387},20.267558977533895,{"$f":"(2*PI()*Sanierungsdesign!$E$10*$D$3)*(LN((Sanierungsdesign!$E$13+Sanierungsdesign!$E$15)/Sanierungsdesign!$E$13)*(AJ157-AN157))*$AH$7/1000000","v":88.071762622533328},1873.2892714482227,4228.0138856586382,{"$f":"AU157/Sanierungsdesign!$E$11","v":0.71979789423465623},869760,5.7583831538772499,{"$error":"#DIV/0!"},{"$error":"#DIV/0!"},{"$error":"#DIV/0!"},{"$error":"#DIV/0!"},{"$f":"(AY157/(AH157*Sanierungsdesign!$E$10))*1000000","v":{"$error":"#DIV/0!"}},{"$f":"AZ157/Sanierungsdesign!$E$12","v":{"$error":"#DIV/0!"}},{"$f":"$D$5+((-(Sanierungsdesign!$E$12)*MIN($BA$7:$BA$932))/(4*PI()*$D$3))*(-LN((4*$D$4*AH157)/(Sanierungsdesign!$E$13)^2)-$D$19)","v":{"$error":"#DIV/0!"}},{"$f":"(BB157-273.15)/Heterogenität!$D$4","v":{"$error":"#DIV/0!"}},{"$f":"IF(AI157<Berechnung!$D$7,AI157,#N/A)","v":{"$error":"#N/A"}}]
[null,null,null,null,null,null,null,null,null,null,null,null,null,null,null,null,null,null,null,null,null,null,null,null,null,null,null,null,null,null,null,null,{"$f":"Sanierungsdesign!$E$12*AH158*Sanierungsdesign!$E$10/1000000","v":7113.6},1094400,12.666666666666666,{"$f":"$D$5+((-Sanierungsdesign!$E$12)/4*PI()*$D$3)*(-LN((4*$D$4*AH158)/(Sanierungsdesign!$E$13^2))-$D$19)","v":1289.1420465994465},1015.9920465994466,2008.2179498877683,{"$f":"$D$3*$T$7*$AH$7*(AK158-$D$5)*(1/Sanierungsdesign!$E$15)/1000000","v":102.34328980365422},{"$f":"$D$5+(-Sanierungsdesign!$E$12/(4*PI()*$D$3))*(-LN((4*$D$4*AH158)/(Sanierungsdesign!$E$13+Sanierungsdesign!$E$15)^2)-$D$19)","v":293.91525975697652},20.765259756976548,{"$f":"(2*PI()*Sanierungsdesign!$E$10*$D$3)*(LN((Sanierungsdesign!$E$13+Sanierungsdesign!$E$15)/Sanierungsdesign!$E$13)*(AJ158-AN158))*$AH$7/1000000","v":88.852844537523751},1885.6951606631117,4256.0139776166434,{"$f":"AU158/Sanierungsdesign!$E$11","v":0.72648864491935949},875520,5.811909159354876,{"$error":"#DIV/0!"},{"$error":"#DIV/0!"},{"$error":"#DIV/0!"},{"$error":"#DIV/0!"},{"$f":"(AY158/(AH158*Sanierungsdesign!$E$10))*1000000","v":{"$error":"#DIV/0!"}},{"$f":"AZ158/Sanierungsdesign!$E$12","v":{"$error":"#DIV/0!"}},{"$f":"$D$5+((-(Sanierungsdesign!$E$12)*MIN($BA$7:$BA$932))/(4*PI()*$D$3))*(-LN((4*$D$4*AH158)/(Sanierungsdesign!$E$13)^2)-$D$19)","v":{"$error":"#DIV/0!"}},{"$f":"(BB158-273.15)/Heterogenität!$D$4","v":{"$error":"#DIV/0!"}},{"$f":"IF(AI158<Berechnung!$D$7,AI158,#N/A)","v":{"$error":"#N/A"}}]
[null,null,null,null,null,null,null,null,null,null,null,null,null,null,null,null,null,null,null,null,null,null,null,null,null,null,null,null,null,null,null,null,{"$f":"Sanierungsdesign!$E$12*AH159*Sanierungsdesign!$E$10/1000000","v":7160.4},1101600,12.75,{"$f":"$D$5+((-Sanierungsdesign!$E$12)/4*PI()*$D$3)*(-LN((4*$D$4*AH159)/(Sanierungsdesign!$E$13^2))-$D$19)","v":1298.327890427885},1025.1778904278849,2026.5917771741667,{"$f":"$D$3*$T$7*$AH$7*(AK159-$D$5)*(1/Sanierungsdesign!$E$15)/1000000","v":103.62611668481816},{"$f":"$D$5+(-Sanierungsdesign!$E$12/(4*PI()*$D$3))*(-LN((4*$D$4*AH159)/(Sanierungsdesign!$E$13+Sanierungsdesign!$E$15)^2)-$D$19)","v":294.40969690128452},21.259696901284542,{"$f":"(2*PI()*Sanierungsdesign!$E$10*$D$3)*(LN((Sanierungsdesign!$E$13+Sanierungsdesign!$E$15)/Sanierungsdesign!$E$13)*(AJ159-AN159))*$AH$7/1000000","v":89.628804567063909},1898.1010498780004,4284.0140695746468,{"$f":"AU159/Sanierungsdesign!$E$11","v":0.73313552151361749},881280,5.86508417210894,{"$error":"#DIV/0!"},{"$error":"#DIV/0!"},{"$error":"#DIV/0!"},{"$error":"#DIV/0!"},{"$f":"(AY159/(AH159*Sanierungsdesign!$E$10))*1000000","v":{"$error":"#DIV/0!"}},{"$f":"AZ159/Sanierungsdesign!$E$12","v":{"$error":"#DIV/0!"}},{"$f":"$D$5+((-(Sanierungsdesign!$E$12)*MIN($BA$7:$BA$932))/(4*PI()*$D$3))*(-LN((4*$D$4*AH159)/(Sanierungsdesign!$E$13)^2)-$D$19)","v":{"$error":"#DIV/0!"}},{"$f":"(BB159-273.15)/Heterogenität!$D$4","v":{"$error":"#DIV/0!"}},{"$f":"IF(AI159<Berechnung!$D$7,AI159,#N/A)","v":{"$error":"#N/A"}}]
[null,null,null,null,null,null,null,null,null,null,null,null,null,null,null,null,null,null,null,null,null,null,null,null,null,null,null,null,null,null,null,null,{"$f":"Sanierungsdesign!$E$12*AH160*Sanierungsdesign!$E$10/1000000","v":7207.2},1108800,12.833333333333334,{"$f":"$D$5+((-Sanierungsdesign!$E$12)/4*PI()*$D$3)*(-LN((4*$D$4*AH160)/(Sanierungsdesign!$E$13^2))-$D$19)","v":1307.4538912008334},1034.3038912008333,2044.8459044105316,{"$f":"$D$3*$T$7*$AH$7*(AK160-$D$5)*(1/Sanierungsdesign!$E$15)/1000000","v":104.90058632829472},{"$f":"$D$5+(-Sanierungsdesign!$E$12/(4*PI()*$D$3))*(-LN((4*$D$4*AH160)/(Sanierungsdesign!$E$13+Sanierungsdesign!$E$15)^2)-$D$19)","v":294.90091293384535},21.75091293384537,{"$f":"(2*PI()*Sanierungsdesign!$E$10*$D$3)*(LN((Sanierungsdesign!$E$13+Sanierungsdesign!$E$15)/Sanierungsdesign!$E$13)*(AJ160-AN160))*$AH$7/1000000","v":90.399709446530423},1910.5069390928893,4312.0141615326511,{"$f":"AU160/Sanierungsdesign!$E$11","v":0.73973909567292295},887040,5.9179127653833836,{"$error":"#DIV/0!"},{"$error":"#DIV/0!"},{"$error":"#DIV/0!"},{"$error":"#DIV/0!"},{"$f":"(AY160/(AH160*Sanierungsdesign!$E$10))*1000000","v":{"$error":"#DIV/0!"}},{"$f":"AZ160/Sanierungsdesign!$E$12","v":{"$error":"#DIV/0!"}},{"$f":"$D$5+((-(Sanierungsdesign!$E$12)*MIN($BA$7:$BA$932))/(4*PI()*$D$3))*(-LN((4*$D$4*AH160)/(Sanierungsdesign!$E$13)^2)-$D$19)","v":{"$error":"#DIV/0!"}},{"$f":"(BB160-273.15)/Heterogenität!$D$4","v":{"$error":"#DIV/0!"}},{"$f":"IF(AI160<Berechnung!$D$7,AI160,#N/A)","v":{"$error":"#N/A"}}]
[null,null,null,null,null,null,null,null,null,null,null,null,null,null,null,null,null,null,null,null,null,null,null,null,null,null,null,null,null,null,null,null,{"$f":"Sanierungsdesign!$E$12*AH161*Sanierungsdesign!$E$10/1000000","v":7254},1116000,12.916666666666666,{"$f":"$D$5+((-Sanierungsdesign!$E$12)/4*PI()*$D$3)*(-LN((4*$D$4*AH161)/(Sanierungsdesign!$E$13^2))-$D$19)","v":1316.5208235938421},1043.370823593842,2062.9818811284063,{"$f":"$D$3*$T$7*$AH$7*(AK161-$D$5)*(1/Sanierungsdesign!$E$15)/1000000","v":106.16680691953084},{"$f":"$D$5+(-Sanierungsdesign!$E$12/(4*PI()*$D$3))*(-LN((4*$D$4*AH161)/(Sanierungsdesign!$E$13+Sanierungsdesign!$E$15)^2)-$D$19)","v":295.38894955233798},22.238949552337999,{"$f":"(2*PI()*Sanierungsdesign!$E$10*$D$3)*(LN((Sanierungsdesign!$E$13+Sanierungsdesign!$E$15)/Sanierungsdesign!$E$13)*(AJ161-AN161))*$AH$7/1000000","v":91.165624615448948},1922.9128283077782,4340.0142534906563,{"$f":"AU161/Sanierungsdesign!$E$11","v":0.74629992795250399},892800,5.970399423620032,{"$error":"#DIV/0!"},{"$error":"#DIV/0!"},{"$error":"#DIV/0!"},{"$error":"#DIV/0!"},{"$f":"(AY161/(AH161*Sanierungsdesign!$E$10))*1000000","v":{"$error":"#DIV/0!"}},{"$f":"AZ161/Sanierungsdesign!$E$12","v":{"$error":"#DIV/0!"}},{"$f":"$D$5+((-(Sanierungsdesign!$E$12)*MIN($BA$7:$BA$932))/(4*PI()*$D$3))*(-LN((4*$D$4*AH161)/(Sanierungsdesign!$E$13)^2)-$D$19)","v":{"$error":"#DIV/0!"}},{"$f":"(BB161-273.15)/Heterogenität!$D$4","v":{"$error":"#DIV/0!"}},{"$f":"IF(AI161<Berechnung!$D$7,AI161,#N/A)","v":{"$error":"#N/A"}}]
[null,null,null,null,null,null,null,null,null,null,null,null,null,null,null,null,null,null,null,null,null,null,null,null,null,null,null,null,null,null,null,null,{"$f":"Sanierungsdesign!$E$12*AH162*Sanierungsdesign!$E$10/1000000","v":7300.8},1123200,13,{"$f":"$D$5+((-Sanierungsdesign!$E$12)/4*PI()*$D$3)*(-LN((4*$D$4*AH162)/(Sanierungsdesign!$E$13^2))-$D$19)","v":1325.5294473367467},1052.3794473367466,2081.001226964423,{"$f":"$D$3*$T$7*$AH$7*(AK162-$D$5)*(1/Sanierungsdesign!$E$15)/1000000","v":107.42488455676566},{"$f":"$D$5+(-Sanierungsdesign!$E$12/(4*PI()*$D$3))*(-LN((4*$D$4*AH162)/(Sanierungsdesign!$E$13+Sanierungsdesign!$E$15)^2)-$D$19)","v":295.87384764997353},22.72384764997355,{"$f":"(2*PI()*Sanierungsdesign!$E$10*$D$3)*(LN((Sanierungsdesign!$E$13+Sanierungsdesign!$E$15)/Sanierungsdesign!$E$13)*(AJ162-AN162))*$AH$7/1000000","v":91.926614250828891},1935.3187175226672,4368.0143454486597,{"$f":"AU162/Sanierungsdesign!$E$11","v":0.75281856809286973},898560,6.0225485447429579,{"$error":"#DIV/0!"},{"$error":"#DIV/0!"},{"$error":"#DIV/0!"},{"$error":"#DIV/0!"},{"$f":"(AY162/(AH162*Sanierungsdesign!$E$10))*1000000","v":{"$error":"#DIV/0!"}},{"$f":"AZ162/Sanierungsdesign!$E$12","v":{"$error":"#DIV/0!"}},{"$f":"$D$5+((-(Sanierungsdesign!$E$12)*MIN($BA$7:$BA$932))/(4*PI()*$D$3))*(-LN((4*$D$4*AH162)/(Sanierungsdesign!$E$13)^2)-$D$19)","v":{"$error":"#DIV/0!"}},{"$f":"(BB162-273.15)/Heterogenität!$D$4","v":{"$error":"#DIV/0!"}},{"$f":"IF(AI162<Berechnung!$D$7,AI162,#N/A)","v":{"$error":"#N/A"}}]
[null,null,null,null,null,null,null,null,null,null,null,null,null,null,null,null,null,null,null,null,null,null,null,null,null,null,null,null,null,null,null,null,{"$f":"Sanierungsdesign!$E$12*AH163*Sanierungsdesign!$E$10/1000000","v":7347.6},1130400,13.083333333333334,{"$f":"$D$5+((-Sanierungsdesign!$E$12)/4*PI()*$D$3)*(-LN((4*$D$4*AH163)/(Sanierungsdesign!$E$13^2))-$D$19)","v":1334.4805075956697},1061.3305075956696,2098.9054324243971,{"$f":"$D$3*$T$7*$AH$7*(AK163-$D$5)*(1/Sanierungsdesign!$E$15)/1000000","v":108.67492330437813},{"$f":"$D$5+(-Sanierungsdesign!$E$12/(4*PI()*$D$3))*(-LN((4*$D$4*AH163)/(Sanierungsdesign!$E$13+Sanierungsdesign!$E$15)^2)-$D$19)","v":296.35564733605668},23.2056473360567,{"$f":"(2*PI()*Sanierungsdesign!$E$10*$D$3)*(LN((Sanierungsdesign!$E$13+Sanierungsdesign!$E$15)/Sanierungsdesign!$E$13)*(AJ163-AN163))*$AH$7/1000000","v":92.682741299432351},1947.7246067375561,4396.014437406664,{"$f":"AU163/Sanierungsdesign!$E$11","v":0.75929555529622639},904320,6.0743644423698111,{"$error":"#DIV/0!"},{"$error":"#DIV/0!"},{"$error":"#DIV/0!"},{"$error":"#DIV/0!"},{"$f":"(AY163/(AH163*Sanierungsdesign!$E$10))*1000000","v":{"$error":"#DIV/0!"}},{"$f":"AZ163/Sanierungsdesign!$E$12","v":{"$error":"#DIV/0!"}},{"$f":"$D$5+((-(Sanierungsdesign!$E$12)*MIN($BA$7:$BA$932))/(4*PI()*$D$3))*(-LN((4*$D$4*AH163)/(Sanierungsdesign!$E$13)^2)-$D$19)","v":{"$error":"#DIV/0!"}},{"$f":"(BB163-273.15)/Heterogenität!$D$4","v":{"$error":"#DIV/0!"}},{"$f":"IF(AI163<Berechnung!$D$7,AI163,#N/A)","v":{"$error":"#N/A"}}]
[null,null,null,null,null,null,null,null,null,null,null,null,null,null,null,null,null,null,null,null,null,null,null,null,null,null,null,null,null,null,null,null,{"$f":"Sanierungsdesign!$E$12*AH164*Sanierungsdesign!$E$10/1000000","v":7394.4},1137600,13.166666666666666,{"$f":"$D$5+((-Sanierungsdesign!$E$12)/4*PI()*$D$3)*(-LN((4*$D$4*AH164)/(Sanierungsdesign!$E$13^2))-$D$19)","v":1343.3747353429012},1070.2247353429011,2116.6959596231709,{"$f":"$D$3*$T$7*$AH$7*(AK164-$D$5)*(1/Sanierungsdesign!$E$15)/1000000","v":109.9170252445417},{"$f":"$D$5+(-Sanierungsdesign!$E$12/(4*PI()*$D$3))*(-LN((4*$D$4*AH164)/(Sanierungsdesign!$E$13+Sanierungsdesign!$E$15)^2)-$D$19)","v":296.83438795589518},23.684387955895204,{"$f":"(2*PI()*Sanierungsdesign!$E$10*$D$3)*(LN((Sanierungsdesign!$E$13+Sanierungsdesign!$E$15)/Sanierungsdesign!$E$13)*(AJ164-AN164))*$AH$7/1000000","v":93.434067509019343},1960.130495952445,4424.0145293646692,{"$f":"AU164/Sanierungsdesign!$E$11","v":0.76573141849412318},910080,6.1258513479529855,{"$error":"#DIV/0!"},{"$error":"#DIV/0!"},{"$error":"#DIV/0!"},{"$error":"#DIV/0!"},{"$f":"(AY164/(AH164*Sanierungsdesign!$E$10))*1000000","v":{"$error":"#DIV/0!"}},{"$f":"AZ164/Sanierungsdesign!$E$12","v":{"$error":"#DIV/0!"}},{"$f":"$D$5+((-(Sanierungsdesign!$E$12)*MIN($BA$7:$BA$932))/(4*PI()*$D$3))*(-LN((4*$D$4*AH164)/(Sanierungsdesign!$E$13)^2)-$D$19)","v":{"$error":"#DIV/0!"}},{"$f":"(BB164-273.15)/Heterogenität!$D$4","v":{"$error":"#DIV/0!"}},{"$f":"IF(AI164<Berechnung!$D$7,AI164,#N/A)","v":{"$error":"#N/A"}}]
[null,null,null,null,null,null,null,null,null,null,null,null,null,null,null,null,null,null,null,null,null,null,null,null,null,null,null,null,null,null,null,null,{"$f":"Sanierungsdesign!$E$12*AH165*Sanierungsdesign!$E$10/1000000","v":7441.2},1144800,13.25,{"$f":"$D$5+((-Sanierungsdesign!$E$12)/4*PI()*$D$3)*(-LN((4*$D$4*AH165)/(Sanierungsdesign!$E$13^2))-$D$19)","v":1352.2128477151077},1079.0628477151076,2134.3742430011184,{"$f":"$D$3*$T$7*$AH$7*(AK165-$D$5)*(1/Sanierungsdesign!$E$15)/1000000","v":111.15129052724917},{"$f":"$D$5+(-Sanierungsdesign!$E$12/(4*PI()*$D$3))*(-LN((4*$D$4*AH165)/(Sanierungsdesign!$E$13+Sanierungsdesign!$E$15)^2)-$D$19)","v":297.31010811008048},24.1601081100805,{"$f":"(2*PI()*Sanierungsdesign!$E$10*$D$3)*(LN((Sanierungsdesign!$E$13+Sanierungsdesign!$E$15)/Sanierungsdesign!$E$13)*(AJ165-AN165))*$AH$7/1000000","v":94.180653458606798},1972.5363851673337,4452.0146213226717,{"$f":"AU165/Sanierungsdesign!$E$11","v":0.7721266766066518},915840,6.1770134128532144,{"$error":"#DIV/0!"},{"$error":"#DIV/0!"},{"$error":"#DIV/0!"},{"$error":"#DIV/0!"},{"$f":"(AY165/(AH165*Sanierungsdesign!$E$10))*1000000","v":{"$error":"#DIV/0!"}},{"$f":"AZ165/Sanierungsdesign!$E$12","v":{"$error":"#DIV/0!"}},{"$f":"$D$5+((-(Sanierungsdesign!$E$12)*MIN($BA$7:$BA$932))/(4*PI()*$D$3))*(-LN((4*$D$4*AH165)/(Sanierungsdesign!$E$13)^2)-$D$19)","v":{"$error":"#DIV/0!"}},{"$f":"(BB165-273.15)/Heterogenität!$D$4","v":{"$error":"#DIV/0!"}},{"$f":"IF(AI165<Berechnung!$D$7,AI165,#N/A)","v":{"$error":"#N/A"}}]
[null,null,null,null,null,null,null,null,null,null,null,null,null,null,null,null,null,null,null,null,null,null,null,null,null,null,null,null,null,null,null,null,{"$f":"Sanierungsdesign!$E$12*AH166*Sanierungsdesign!$E$10/1000000","v":7488},1152000,13.333333333333334,{"$f":"$D$5+((-Sanierungsdesign!$E$12)/4*PI()*$D$3)*(-LN((4*$D$4*AH166)/(Sanierungsdesign!$E$13^2))-$D$19)","v":1360.9955483603148},1087.8455483603148,2151.9416900181891,{"$f":"$D$3*$T$7*$AH$7*(AK166-$D$5)*(1/Sanierungsdesign!$E$15)/1000000","v":112.37781741876972},{"$f":"$D$5+(-Sanierungsdesign!$E$12/(4*PI()*$D$3))*(-LN((4*$D$4*AH166)/(Sanierungsdesign!$E$13+Sanierungsdesign!$E$15)^2)-$D$19)","v":297.78284567316467},24.632845673164695,{"$f":"(2*PI()*Sanierungsdesign!$E$10*$D$3)*(LN((Sanierungsdesign!$E$13+Sanierungsdesign!$E$15)/Sanierungsdesign!$E$13)*(AJ166-AN166))*$AH$7/1000000","v":94.922558587779406},1984.9422743822226,4480.0147132806769,{"$f":"AU166/Sanierungsdesign!$E$11","v":0.77848183879352362},921600,6.2278547103481889,{"$error":"#DIV/0!"},{"$error":"#DIV/0!"},{"$error":"#DIV/0!"},{"$error":"#DIV/0!"},{"$f":"(AY166/(AH166*Sanierungsdesign!$E$10))*1000000","v":{"$error":"#DIV/0!"}},{"$f":"AZ166/Sanierungsdesign!$E$12","v":{"$error":"#DIV/0!"}},{"$f":"$D$5+((-(Sanierungsdesign!$E$12)*MIN($BA$7:$BA$932))/(4*PI()*$D$3))*(-LN((4*$D$4*AH166)/(Sanierungsdesign!$E$13)^2)-$D$19)","v":{"$error":"#DIV/0!"}},{"$f":"(BB166-273.15)/Heterogenität!$D$4","v":{"$error":"#DIV/0!"}},{"$f":"IF(AI166<Berechnung!$D$7,AI166,#N/A)","v":{"$error":"#N/A"}}]
[null,null,null,null,null,null,null,null,null,null,null,null,null,null,null,null,null,null,null,null,null,null,null,null,null,null,null,null,null,null,null,null,{"$f":"Sanierungsdesign!$E$12*AH167*Sanierungsdesign!$E$10/1000000","v":7534.8},1159200,13.416666666666666,{"$f":"$D$5+((-Sanierungsdesign!$E$12)/4*PI()*$D$3)*(-LN((4*$D$4*AH167)/(Sanierungsdesign!$E$13^2))-$D$19)","v":1369.7235277740756},1096.5735277740755,2169.3996818263231,{"$f":"$D$3*$T$7*$AH$7*(AK167-$D$5)*(1/Sanierungsdesign!$E$15)/1000000","v":113.59670234859563},{"$f":"$D$5+(-Sanierungsdesign!$E$12/(4*PI()*$D$3))*(-LN((4*$D$4*AH167)/(Sanierungsdesign!$E$13+Sanierungsdesign!$E$15)^2)-$D$19)","v":298.25263781175499},25.102637811755017,{"$f":"(2*PI()*Sanierungsdesign!$E$10*$D$3)*(LN((Sanierungsdesign!$E$13+Sanierungsdesign!$E$15)/Sanierungsdesign!$E$13)*(AJ167-AN167))*$AH$7/1000000","v":95.659841225087106},1997.3481635971116,4508.0148052386812,{"$f":"AU167/Sanierungsdesign!$E$11","v":0.78479740469732084},927360,6.2783792375785668,{"$error":"#DIV/0!"},{"$error":"#DIV/0!"},{"$error":"#DIV/0!"},{"$error":"#DIV/0!"},{"$f":"(AY167/(AH167*Sanierungsdesign!$E$10))*1000000","v":{"$error":"#DIV/0!"}},{"$f":"AZ167/Sanierungsdesign!$E$12","v":{"$error":"#DIV/0!"}},{"$f":"$D$5+((-(Sanierungsdesign!$E$12)*MIN($BA$7:$BA$932))/(4*PI()*$D$3))*(-LN((4*$D$4*AH167)/(Sanierungsdesign!$E$13)^2)-$D$19)","v":{"$error":"#DIV/0!"}},{"$f":"(BB167-273.15)/Heterogenität!$D$4","v":{"$error":"#DIV/0!"}},{"$f":"IF(AI167<Berechnung!$D$7,AI167,#N/A)","v":{"$error":"#N/A"}}]
[null,null,null,null,null,null,null,null,null,null,null,null,null,null,null,null,null,null,null,null,null,null,null,null,null,null,null,null,null,null,null,null,{"$f":"Sanierungsdesign!$E$12*AH168*Sanierungsdesign!$E$10/1000000","v":7581.6},1166400,13.5,{"$f":"$D$5+((-Sanierungsdesign!$E$12)/4*PI()*$D$3)*(-LN((4*$D$4*AH168)/(Sanierungsdesign!$E$13^2))-$D$19)","v":1378.3974636252346},1105.2474636252346,2186.7495739210581,{"$f":"$D$3*$T$7*$AH$7*(AK168-$D$5)*(1/Sanierungsdesign!$E$15)/1000000","v":114.80803995493618},{"$f":"$D$5+(-Sanierungsdesign!$E$12/(4*PI()*$D$3))*(-LN((4*$D$4*AH168)/(Sanierungsdesign!$E$13+Sanierungsdesign!$E$15)^2)-$D$19)","v":298.71952100204834},25.569521002048361,{"$f":"(2*PI()*Sanierungsdesign!$E$10*$D$3)*(LN((Sanierungsdesign!$E$13+Sanierungsdesign!$E$15)/Sanierungsdesign!$E$13)*(AJ168-AN168))*$AH$7/1000000","v":96.392558615563246},2009.7540528120005,4536.0148971966846,{"$f":"AU168/Sanierungsdesign!$E$11","v":0.7910738646792197},933120,6.3285909174337576,{"$error":"#DIV/0!"},{"$error":"#DIV/0!"},{"$error":"#DIV/0!"},{"$error":"#DIV/0!"},{"$f":"(AY168/(AH168*Sanierungsdesign!$E$10))*1000000","v":{"$error":"#DIV/0!"}},{"$f":"AZ168/Sanierungsdesign!$E$12","v":{"$error":"#DIV/0!"}},{"$f":"$D$5+((-(Sanierungsdesign!$E$12)*MIN($BA$7:$BA$932))/(4*PI()*$D$3))*(-LN((4*$D$4*AH168)/(Sanierungsdesign!$E$13)^2)-$D$19)","v":{"$error":"#DIV/0!"}},{"$f":"(BB168-273.15)/Heterogenität!$D$4","v":{"$error":"#DIV/0!"}},{"$f":"IF(AI168<Berechnung!$D$7,AI168,#N/A)","v":{"$error":"#N/A"}}]
[null,null,null,null,null,null,null,null,null,null,null,null,null,null,null,null,null,null,null,null,null,null,null,null,null,null,null,null,null,null,null,null,{"$f":"Sanierungsdesign!$E$12*AH169*Sanierungsdesign!$E$10/1000000","v":7628.4},1173600,13.583333333333334,{"$f":"$D$5+((-Sanierungsdesign!$E$12)/4*PI()*$D$3)*(-LN((4*$D$4*AH169)/(Sanierungsdesign!$E$13^2))-$D$19)","v":1387.018021071669},1113.8680210716689,2203.9926967730812,{"$f":"$D$3*$T$7*$AH$7*(AK169-$D$5)*(1/Sanierungsdesign!$E$15)/1000000","v":116.01192312881157},{"$f":"$D$5+(-Sanierungsdesign!$E$12/(4*PI()*$D$3))*(-LN((4*$D$4*AH169)/(Sanierungsdesign!$E$13+Sanierungsdesign!$E$15)^2)-$D$19)","v":299.18353104682637},26.033531046826397,{"$f":"(2*PI()*Sanierungsdesign!$E$10*$D$3)*(LN((Sanierungsdesign!$E$13+Sanierungsdesign!$E$15)/Sanierungsdesign!$E$13)*(AJ169-AN169))*$AH$7/1000000","v":97.12076694739649},2022.1599420268894,4564.0149891546898,{"$f":"AU169/Sanierungsdesign!$E$11","v":0.79731170004745944},938880,6.3784936003796755,{"$error":"#DIV/0!"},{"$error":"#DIV/0!"},{"$error":"#DIV/0!"},{"$error":"#DIV/0!"},{"$f":"(AY169/(AH169*Sanierungsdesign!$E$10))*1000000","v":{"$error":"#DIV/0!"}},{"$f":"AZ169/Sanierungsdesign!$E$12","v":{"$error":"#DIV/0!"}},{"$f":"$D$5+((-(Sanierungsdesign!$E$12)*MIN($BA$7:$BA$932))/(4*PI()*$D$3))*(-LN((4*$D$4*AH169)/(Sanierungsdesign!$E$13)^2)-$D$19)","v":{"$error":"#DIV/0!"}},{"$f":"(BB169-273.15)/Heterogenität!$D$4","v":{"$error":"#DIV/0!"}},{"$f":"IF(AI169<Berechnung!$D$7,AI169,#N/A)","v":{"$error":"#N/A"}}]
[null,null,null,null,null,null,null,null,null,null,null,null,null,null,null,null,null,null,null,null,null,null,null,null,null,null,null,null,null,null,null,null,{"$f":"Sanierungsdesign!$E$12*AH170*Sanierungsdesign!$E$10/1000000","v":7675.2},1180800,13.666666666666666,{"$f":"$D$5+((-Sanierungsdesign!$E$12)/4*PI()*$D$3)*(-LN((4*$D$4*AH170)/(Sanierungsdesign!$E$13^2))-$D$19)","v":1395.5858530663686},1122.4358530663685,2221.130356440462,{"$f":"$D$3*$T$7*$AH$7*(AK170-$D$5)*(1/Sanierungsdesign!$E$15)/1000000","v":117.20844305679795},{"$f":"$D$5+(-Sanierungsdesign!$E$12/(4*PI()*$D$3))*(-LN((4*$D$4*AH170)/(Sanierungsdesign!$E$13+Sanierungsdesign!$E$15)^2)-$D$19)","v":299.64470309193075},26.494703091930774,{"$f":"(2*PI()*Sanierungsdesign!$E$10*$D$3)*(LN((Sanierungsdesign!$E$13+Sanierungsdesign!$E$15)/Sanierungsdesign!$E$13)*(AJ170-AN170))*$AH$7/1000000","v":97.844521377786407},2034.5658312417784,4592.0150811126941,{"$f":"AU170/Sanierungsdesign!$E$11","v":0.80351138327882421},944640,6.4280910662305937,{"$error":"#DIV/0!"},{"$error":"#DIV/0!"},{"$error":"#DIV/0!"},{"$error":"#DIV/0!"},{"$f":"(AY170/(AH170*Sanierungsdesign!$E$10))*1000000","v":{"$error":"#DIV/0!"}},{"$f":"AZ170/Sanierungsdesign!$E$12","v":{"$error":"#DIV/0!"}},{"$f":"$D$5+((-(Sanierungsdesign!$E$12)*MIN($BA$7:$BA$932))/(4*PI()*$D$3))*(-LN((4*$D$4*AH170)/(Sanierungsdesign!$E$13)^2)-$D$19)","v":{"$error":"#DIV/0!"}},{"$f":"(BB170-273.15)/Heterogenität!$D$4","v":{"$error":"#DIV/0!"}},{"$f":"IF(AI170<Berechnung!$D$7,AI170,#N/A)","v":{"$error":"#N/A"}}]
[null,null,null,null,null,null,null,null,null,null,null,null,null,null,null,null,null,null,null,null,null,null,null,null,null,null,null,null,null,null,null,null,{"$f":"Sanierungsdesign!$E$12*AH171*Sanierungsdesign!$E$10/1000000","v":7722},1188000,13.75,{"$f":"$D$5+((-Sanierungsdesign!$E$12)/4*PI()*$D$3)*(-LN((4*$D$4*AH171)/(Sanierungsdesign!$E$13^2))-$D$19)","v":1404.10160065422},1130.9516006542199,2238.1638351622905,{"$f":"$D$3*$T$7*$AH$7*(AK171-$D$5)*(1/Sanierungsdesign!$E$15)/1000000","v":118.39768926247397},{"$f":"$D$5+(-Sanierungsdesign!$E$12/(4*PI()*$D$3))*(-LN((4*$D$4*AH171)/(Sanierungsdesign!$E$13+Sanierungsdesign!$E$15)^2)-$D$19)","v":300.10307164223741},26.953071642237433,{"$f":"(2*PI()*Sanierungsdesign!$E$10*$D$3)*(LN((Sanierungsdesign!$E$13+Sanierungsdesign!$E$15)/Sanierungsdesign!$E$13)*(AJ171-AN171))*$AH$7/1000000","v":98.563876058013875},2046.9717204566671,4620.0151730706975,{"$f":"AU171/Sanierungsdesign!$E$11","v":0.80967337823339347},950400,6.4773870258671478,{"$error":"#DIV/0!"},{"$error":"#DIV/0!"},{"$error":"#DIV/0!"},{"$error":"#DIV/0!"},{"$f":"(AY171/(AH171*Sanierungsdesign!$E$10))*1000000","v":{"$error":"#DIV/0!"}},{"$f":"AZ171/Sanierungsdesign!$E$12","v":{"$error":"#DIV/0!"}},{"$f":"$D$5+((-(Sanierungsdesign!$E$12)*MIN($BA$7:$BA$932))/(4*PI()*$D$3))*(-LN((4*$D$4*AH171)/(Sanierungsdesign!$E$13)^2)-$D$19)","v":{"$error":"#DIV/0!"}},{"$f":"(BB171-273.15)/Heterogenität!$D$4","v":{"$error":"#DIV/0!"}},{"$f":"IF(AI171<Berechnung!$D$7,AI171,#N/A)","v":{"$error":"#N/A"}}]
[null,null,null,null,null,null,null,null,null,null,null,null,null,null,null,null,null,null,null,null,null,null,null,null,null,null,null,null,null,null,null,null,{"$f":"Sanierungsdesign!$E$12*AH172*Sanierungsdesign!$E$10/1000000","v":7768.8},1195200,13.833333333333334,{"$f":"$D$5+((-Sanierungsdesign!$E$12)/4*PI()*$D$3)*(-LN((4*$D$4*AH172)/(Sanierungsdesign!$E$13^2))-$D$19)","v":1412.5658932598167},1139.4158932598166,2255.0943919343636,{"$f":"$D$3*$T$7*$AH$7*(AK172-$D$5)*(1/Sanierungsdesign!$E$15)/1000000","v":119.57974964661429},{"$f":"$D$5+(-Sanierungsdesign!$E$12/(4*PI()*$D$3))*(-LN((4*$D$4*AH172)/(Sanierungsdesign!$E$13+Sanierungsdesign!$E$15)^2)-$D$19)","v":300.55867057714875},27.408670577148769,{"$f":"(2*PI()*Sanierungsdesign!$E$10*$D$3)*(LN((Sanierungsdesign!$E$13+Sanierungsdesign!$E$15)/Sanierungsdesign!$E$13)*(AJ172-AN172))*$AH$7/1000000","v":99.278884157753325},2059.377609671556,4648.0152650287018,{"$f":"AU172/Sanierungsdesign!$E$11","v":0.81579814036280307},956160,6.5263851229024246,{"$error":"#DIV/0!"},{"$error":"#DIV/0!"},{"$error":"#DIV/0!"},{"$error":"#DIV/0!"},{"$f":"(AY172/(AH172*Sanierungsdesign!$E$10))*1000000","v":{"$error":"#DIV/0!"}},{"$f":"AZ172/Sanierungsdesign!$E$12","v":{"$error":"#DIV/0!"}},{"$f":"$D$5+((-(Sanierungsdesign!$E$12)*MIN($BA$7:$BA$932))/(4*PI()*$D$3))*(-LN((4*$D$4*AH172)/(Sanierungsdesign!$E$13)^2)-$D$19)","v":{"$error":"#DIV/0!"}},{"$f":"(BB172-273.15)/Heterogenität!$D$4","v":{"$error":"#DIV/0!"}},{"$f":"IF(AI172<Berechnung!$D$7,AI172,#N/A)","v":{"$error":"#N/A"}}]
[null,null,null,null,null,null,null,null,null,null,null,null,null,null,null,null,null,null,null,null,null,null,null,null,null,null,null,null,null,null,null,null,{"$f":"Sanierungsdesign!$E$12*AH173*Sanierungsdesign!$E$10/1000000","v":7815.6},1202400,13.916666666666666,{"$f":"$D$5+((-Sanierungsdesign!$E$12)/4*PI()*$D$3)*(-LN((4*$D$4*AH173)/(Sanierungsdesign!$E$13^2))-$D$19)","v":1420.9793489666313},1147.8293489666312,2271.9232630675942,{"$f":"$D$3*$T$7*$AH$7*(AK173-$D$5)*(1/Sanierungsdesign!$E$15)/1000000","v":120.75471052617659},{"$f":"$D$5+(-Sanierungsdesign!$E$12/(4*PI()*$D$3))*(-LN((4*$D$4*AH173)/(Sanierungsdesign!$E$13+Sanierungsdesign!$E$15)^2)-$D$19)","v":301.01153316561999},27.861533165620017,{"$f":"(2*PI()*Sanierungsdesign!$E$10*$D$3)*(LN((Sanierungsdesign!$E$13+Sanierungsdesign!$E$15)/Sanierungsdesign!$E$13)*(AJ173-AN173))*$AH$7/1000000","v":99.989597888655553},2071.7834988864452,4676.015356986707,{"$f":"AU173/Sanierungsdesign!$E$11","v":0.82188611691225422},961920,6.5750889352980337,{"$error":"#DIV/0!"},{"$error":"#DIV/0!"},{"$error":"#DIV/0!"},{"$error":"#DIV/0!"},{"$f":"(AY173/(AH173*Sanierungsdesign!$E$10))*1000000","v":{"$error":"#DIV/0!"}},{"$f":"AZ173/Sanierungsdesign!$E$12","v":{"$error":"#DIV/0!"}},{"$f":"$D$5+((-(Sanierungsdesign!$E$12)*MIN($BA$7:$BA$932))/(4*PI()*$D$3))*(-LN((4*$D$4*AH173)/(Sanierungsdesign!$E$13)^2)-$D$19)","v":{"$error":"#DIV/0!"}},{"$f":"(BB173-273.15)/Heterogenität!$D$4","v":{"$error":"#DIV/0!"}},{"$f":"IF(AI173<Berechnung!$D$7,AI173,#N/A)","v":{"$error":"#N/A"}}]
[null,null,null,null,null,null,null,null,null,null,null,null,null,null,null,null,null,null,null,null,null,null,null,null,null,null,null,null,null,null,null,null,{"$f":"Sanierungsdesign!$E$12*AH174*Sanierungsdesign!$E$10/1000000","v":7862.4},1209600,14,{"$f":"$D$5+((-Sanierungsdesign!$E$12)/4*PI()*$D$3)*(-LN((4*$D$4*AH174)/(Sanierungsdesign!$E$13^2))-$D$19)","v":1429.3425747878518},1156.1925747878518,2288.6516627297488,{"$f":"$D$3*$T$7*$AH$7*(AK174-$D$5)*(1/Sanierungsdesign!$E$15)/1000000","v":121.92265667212475},{"$f":"$D$5+(-Sanierungsdesign!$E$12/(4*PI()*$D$3))*(-LN((4*$D$4*AH174)/(Sanierungsdesign!$E$13+Sanierungsdesign!$E$15)^2)-$D$19)","v":301.46169208073729},28.311692080737316,{"$f":"(2*PI()*Sanierungsdesign!$E$10*$D$3)*(LN((Sanierungsdesign!$E$13+Sanierungsdesign!$E$15)/Sanierungsdesign!$E$13)*(AJ174-AN174))*$AH$7/1000000","v":100.696068527226},2084.1893881013339,4704.0154489447104,{"$f":"AU174/Sanierungsdesign!$E$11","v":0.82793774711648949},967680,6.6235019769319159,{"$error":"#DIV/0!"},{"$error":"#DIV/0!"},{"$error":"#DIV/0!"},{"$error":"#DIV/0!"},{"$f":"(AY174/(AH174*Sanierungsdesign!$E$10))*1000000","v":{"$error":"#DIV/0!"}},{"$f":"AZ174/Sanierungsdesign!$E$12","v":{"$error":"#DIV/0!"}},{"$f":"$D$5+((-(Sanierungsdesign!$E$12)*MIN($BA$7:$BA$932))/(4*PI()*$D$3))*(-LN((4*$D$4*AH174)/(Sanierungsdesign!$E$13)^2)-$D$19)","v":{"$error":"#DIV/0!"}},{"$f":"(BB174-273.15)/Heterogenität!$D$4","v":{"$error":"#DIV/0!"}},{"$f":"IF(AI174<Berechnung!$D$7,AI174,#N/A)","v":{"$error":"#N/A"}}]
[null,null,null,null,null,null,null,null,null,null,null,null,null,null,null,null,null,null,null,null,null,null,null,null,null,null,null,null,null,null,null,null,{"$f":"Sanierungsdesign!$E$12*AH175*Sanierungsdesign!$E$10/1000000","v":7909.2},1216800,14.083333333333334,{"$f":"$D$5+((-Sanierungsdesign!$E$12)/4*PI()*$D$3)*(-LN((4*$D$4*AH175)/(Sanierungsdesign!$E$13^2))-$D$19)","v":1437.6561669291823},1164.5061669291822,2305.280783471107,{"$f":"$D$3*$T$7*$AH$7*(AK175-$D$5)*(1/Sanierungsdesign!$E$15)/1000000","v":123.08367134612941},{"$f":"$D$5+(-Sanierungsdesign!$E$12/(4*PI()*$D$3))*(-LN((4*$D$4*AH175)/(Sanierungsdesign!$E$13+Sanierungsdesign!$E$15)^2)-$D$19)","v":301.9091794138634},28.759179413863421,{"$f":"(2*PI()*Sanierungsdesign!$E$10*$D$3)*(LN((Sanierungsdesign!$E$13+Sanierungsdesign!$E$15)/Sanierungsdesign!$E$13)*(AJ175-AN175))*$AH$7/1000000","v":101.39834643702453},2096.5952773162226,4732.0155409027147,{"$f":"AU175/Sanierungsdesign!$E$11","v":0.83395346238995616},973440,6.6716276991196493,{"$error":"#DIV/0!"},{"$error":"#DIV/0!"},{"$error":"#DIV/0!"},{"$error":"#DIV/0!"},{"$f":"(AY175/(AH175*Sanierungsdesign!$E$10))*1000000","v":{"$error":"#DIV/0!"}},{"$f":"AZ175/Sanierungsdesign!$E$12","v":{"$error":"#DIV/0!"}},{"$f":"$D$5+((-(Sanierungsdesign!$E$12)*MIN($BA$7:$BA$932))/(4*PI()*$D$3))*(-LN((4*$D$4*AH175)/(Sanierungsdesign!$E$13)^2)-$D$19)","v":{"$error":"#DIV/0!"}},{"$f":"(BB175-273.15)/Heterogenität!$D$4","v":{"$error":"#DIV/0!"}},{"$f":"IF(AI175<Berechnung!$D$7,AI175,#N/A)","v":{"$error":"#N/A"}}]
[null,null,null,null,null,null,null,null,null,null,null,null,null,null,null,null,null,null,null,null,null,null,null,null,null,null,null,null,null,null,null,null,{"$f":"Sanierungsdesign!$E$12*AH176*Sanierungsdesign!$E$10/1000000","v":7956},1224000,14.166666666666666,{"$f":"$D$5+((-Sanierungsdesign!$E$12)/4*PI()*$D$3)*(-LN((4*$D$4*AH176)/(Sanierungsdesign!$E$13^2))-$D$19)","v":1445.9207110438888},1172.7707110438887,2321.8117967346157,{"$f":"$D$3*$T$7*$AH$7*(AK176-$D$5)*(1/Sanierungsdesign!$E$15)/1000000","v":124.23783633618599},{"$f":"$D$5+(-Sanierungsdesign!$E$12/(4*PI()*$D$3))*(-LN((4*$D$4*AH176)/(Sanierungsdesign!$E$13+Sanierungsdesign!$E$15)^2)-$D$19)","v":302.35402668836554},29.204026688365559,{"$f":"(2*PI()*Sanierungsdesign!$E$10*$D$3)*(LN((Sanierungsdesign!$E$13+Sanierungsdesign!$E$15)/Sanierungsdesign!$E$13)*(AJ176-AN176))*$AH$7/1000000","v":102.0964810902101},2109.0011665311117,4760.0156328607191,{"$f":"AU176/Sanierungsdesign!$E$11","v":0.8399336865113578},979200,6.7194694920908624,{"$error":"#DIV/0!"},{"$error":"#DIV/0!"},{"$error":"#DIV/0!"},{"$error":"#DIV/0!"},{"$f":"(AY176/(AH176*Sanierungsdesign!$E$10))*1000000","v":{"$error":"#DIV/0!"}},{"$f":"AZ176/Sanierungsdesign!$E$12","v":{"$error":"#DIV/0!"}},{"$f":"$D$5+((-(Sanierungsdesign!$E$12)*MIN($BA$7:$BA$932))/(4*PI()*$D$3))*(-LN((4*$D$4*AH176)/(Sanierungsdesign!$E$13)^2)-$D$19)","v":{"$error":"#DIV/0!"}},{"$f":"(BB176-273.15)/Heterogenität!$D$4","v":{"$error":"#DIV/0!"}},{"$f":"IF(AI176<Berechnung!$D$7,AI176,#N/A)","v":{"$error":"#N/A"}}]
[null,null,null,null,null,null,null,null,null,null,null,null,null,null,null,null,null,null,null,null,null,null,null,null,null,null,null,null,null,null,null,null,{"$f":"Sanierungsdesign!$E$12*AH177*Sanierungsdesign!$E$10/1000000","v":8002.8},1231200,14.25,{"$f":"$D$5+((-Sanierungsdesign!$E$12)/4*PI()*$D$3)*(-LN((4*$D$4*AH177)/(Sanierungsdesign!$E$13^2))-$D$19)","v":1454.1367824803701},1180.98678248037,2338.2458533510871,{"$f":"$D$3*$T$7*$AH$7*(AK177-$D$5)*(1/Sanierungsdesign!$E$15)/1000000","v":125.38523199118848},{"$f":"$D$5+(-Sanierungsdesign!$E$12/(4*PI()*$D$3))*(-LN((4*$D$4*AH177)/(Sanierungsdesign!$E$13+Sanierungsdesign!$E$15)^2)-$D$19)","v":302.79626487294121},29.646264872941231,{"$f":"(2*PI()*Sanierungsdesign!$E$10*$D$3)*(LN((Sanierungsdesign!$E$13+Sanierungsdesign!$E$15)/Sanierungsdesign!$E$13)*(AJ177-AN177))*$AH$7/1000000","v":102.79052108845379},2121.4070557460004,4788.0157248187224,{"$f":"AU177/Sanierungsdesign!$E$11","v":0.84587883580279555},984960,6.7670306864223644,{"$error":"#DIV/0!"},{"$error":"#DIV/0!"},{"$error":"#DIV/0!"},{"$error":"#DIV/0!"},{"$f":"(AY177/(AH177*Sanierungsdesign!$E$10))*1000000","v":{"$error":"#DIV/0!"}},{"$f":"AZ177/Sanierungsdesign!$E$12","v":{"$error":"#DIV/0!"}},{"$f":"$D$5+((-(Sanierungsdesign!$E$12)*MIN($BA$7:$BA$932))/(4*PI()*$D$3))*(-LN((4*$D$4*AH177)/(Sanierungsdesign!$E$13)^2)-$D$19)","v":{"$error":"#DIV/0!"}},{"$f":"(BB177-273.15)/Heterogenität!$D$4","v":{"$error":"#DIV/0!"}},{"$f":"IF(AI177<Berechnung!$D$7,AI177,#N/A)","v":{"$error":"#N/A"}}]
[null,null,null,null,null,null,null,null,null,null,null,null,null,null,null,null,null,null,null,null,null,null,null,null,null,null,null,null,null,null,null,null,{"$f":"Sanierungsdesign!$E$12*AH178*Sanierungsdesign!$E$10/1000000","v":8049.6},1238400,14.333333333333334,{"$f":"$D$5+((-Sanierungsdesign!$E$12)/4*PI()*$D$3)*(-LN((4*$D$4*AH178)/(Sanierungsdesign!$E$13^2))-$D$19)","v":1462.3049465225058},1189.1549465225057,2354.5840840199489,{"$f":"$D$3*$T$7*$AH$7*(AK178-$D$5)*(1/Sanierungsdesign!$E$15)/1000000","v":126.52593725449468},{"$f":"$D$5+(-Sanierungsdesign!$E$12/(4*PI()*$D$3))*(-LN((4*$D$4*AH178)/(Sanierungsdesign!$E$13+Sanierungsdesign!$E$15)^2)-$D$19)","v":303.23592439455524},30.085924394555263,{"$f":"(2*PI()*Sanierungsdesign!$E$10*$D$3)*(LN((Sanierungsdesign!$E$13+Sanierungsdesign!$E$15)/Sanierungsdesign!$E$13)*(AJ178-AN178))*$AH$7/1000000","v":103.48051418324189},2133.8129449608896,4816.0158167767277,{"$f":"AU178/Sanierungsdesign!$E$11","v":0.85178931930368496},990720,6.8143145544294796,{"$error":"#DIV/0!"},{"$error":"#DIV/0!"},{"$error":"#DIV/0!"},{"$error":"#DIV/0!"},{"$f":"(AY178/(AH178*Sanierungsdesign!$E$10))*1000000","v":{"$error":"#DIV/0!"}},{"$f":"AZ178/Sanierungsdesign!$E$12","v":{"$error":"#DIV/0!"}},{"$f":"$D$5+((-(Sanierungsdesign!$E$12)*MIN($BA$7:$BA$932))/(4*PI()*$D$3))*(-LN((4*$D$4*AH178)/(Sanierungsdesign!$E$13)^2)-$D$19)","v":{"$error":"#DIV/0!"}},{"$f":"(BB178-273.15)/Heterogenität!$D$4","v":{"$error":"#DIV/0!"}},{"$f":"IF(AI178<Berechnung!$D$7,AI178,#N/A)","v":{"$error":"#N/A"}}]
[null,null,null,null,null,null,null,null,null,null,null,null,null,null,null,null,null,null,null,null,null,null,null,null,null,null,null,null,null,null,null,null,{"$f":"Sanierungsdesign!$E$12*AH179*Sanierungsdesign!$E$10/1000000","v":8096.4},1245600,14.416666666666666,{"$f":"$D$5+((-Sanierungsdesign!$E$12)/4*PI()*$D$3)*(-LN((4*$D$4*AH179)/(Sanierungsdesign!$E$13^2))-$D$19)","v":1470.4257586230397},1197.2757586230396,2370.8275997760697,{"$f":"$D$3*$T$7*$AH$7*(AK179-$D$5)*(1/Sanierungsdesign!$E$15)/1000000","v":127.66002969651885},{"$f":"$D$5+(-Sanierungsdesign!$E$12/(4*PI()*$D$3))*(-LN((4*$D$4*AH179)/(Sanierungsdesign!$E$13+Sanierungsdesign!$E$15)^2)-$D$19)","v":303.67303515100195},30.523035151001977,{"$f":"(2*PI()*Sanierungsdesign!$E$10*$D$3)*(LN((Sanierungsdesign!$E$13+Sanierungsdesign!$E$15)/Sanierungsdesign!$E$13)*(AJ179-AN179))*$AH$7/1000000","v":104.16650729559066},2146.2188341757783,4844.015908734732,{"$f":"AU179/Sanierungsdesign!$E$11","v":0.85766553893963127},996480,6.8613243115170501,{"$error":"#DIV/0!"},{"$error":"#DIV/0!"},{"$error":"#DIV/0!"},{"$error":"#DIV/0!"},{"$f":"(AY179/(AH179*Sanierungsdesign!$E$10))*1000000","v":{"$error":"#DIV/0!"}},{"$f":"AZ179/Sanierungsdesign!$E$12","v":{"$error":"#DIV/0!"}},{"$f":"$D$5+((-(Sanierungsdesign!$E$12)*MIN($BA$7:$BA$932))/(4*PI()*$D$3))*(-LN((4*$D$4*AH179)/(Sanierungsdesign!$E$13)^2)-$D$19)","v":{"$error":"#DIV/0!"}},{"$f":"(BB179-273.15)/Heterogenität!$D$4","v":{"$error":"#DIV/0!"}},{"$f":"IF(AI179<Berechnung!$D$7,AI179,#N/A)","v":{"$error":"#N/A"}}]
[null,null,null,null,null,null,null,null,null,null,null,null,null,null,null,null,null,null,null,null,null,null,null,null,null,null,null,null,null,null,null,null,{"$f":"Sanierungsdesign!$E$12*AH180*Sanierungsdesign!$E$10/1000000","v":8143.2},1252800,14.5,{"$f":"$D$5+((-Sanierungsdesign!$E$12)/4*PI()*$D$3)*(-LN((4*$D$4*AH180)/(Sanierungsdesign!$E$13^2))-$D$19)","v":1478.499764630239},1205.349764630239,2386.9774924431263,{"$f":"$D$3*$T$7*$AH$7*(AK180-$D$5)*(1/Sanierungsdesign!$E$15)/1000000","v":128.78758554638523},{"$f":"$D$5+(-Sanierungsdesign!$E$12/(4*PI()*$D$3))*(-LN((4*$D$4*AH180)/(Sanierungsdesign!$E$13+Sanierungsdesign!$E$15)^2)-$D$19)","v":304.10762652310495},30.957626523104977,{"$f":"(2*PI()*Sanierungsdesign!$E$10*$D$3)*(LN((Sanierungsdesign!$E$13+Sanierungsdesign!$E$15)/Sanierungsdesign!$E$13)*(AJ180-AN180))*$AH$7/1000000","v":104.84854653519298},2158.624723390667,4872.0160006927354,{"$f":"AU180/Sanierungsdesign!$E$11","v":0.86350788968644077},1002240,6.9080631174915261,{"$error":"#DIV/0!"},{"$error":"#DIV/0!"},{"$error":"#DIV/0!"},{"$error":"#DIV/0!"},{"$f":"(AY180/(AH180*Sanierungsdesign!$E$10))*1000000","v":{"$error":"#DIV/0!"}},{"$f":"AZ180/Sanierungsdesign!$E$12","v":{"$error":"#DIV/0!"}},{"$f":"$D$5+((-(Sanierungsdesign!$E$12)*MIN($BA$7:$BA$932))/(4*PI()*$D$3))*(-LN((4*$D$4*AH180)/(Sanierungsdesign!$E$13)^2)-$D$19)","v":{"$error":"#DIV/0!"}},{"$f":"(BB180-273.15)/Heterogenität!$D$4","v":{"$error":"#DIV/0!"}},{"$f":"IF(AI180<Berechnung!$D$7,AI180,#N/A)","v":{"$error":"#N/A"}}]
[null,null,null,null,null,null,null,null,null,null,null,null,null,null,null,null,null,null,null,null,null,null,null,null,null,null,null,null,null,null,null,null,{"$f":"Sanierungsdesign!$E$12*AH181*Sanierungsdesign!$E$10/1000000","v":8190},1260000,14.583333333333334,{"$f":"$D$5+((-Sanierungsdesign!$E$12)/4*PI()*$D$3)*(-LN((4*$D$4*AH181)/(Sanierungsdesign!$E$13^2))-$D$19)","v":1486.5275010080563},1213.3775010080562,2403.0348350739805,{"$f":"$D$3*$T$7*$AH$7*(AK181-$D$5)*(1/Sanierungsdesign!$E$15)/1000000","v":129.90867972267415},{"$f":"$D$5+(-Sanierungsdesign!$E$12/(4*PI()*$D$3))*(-LN((4*$D$4*AH181)/(Sanierungsdesign!$E$13+Sanierungsdesign!$E$15)^2)-$D$19)","v":304.53972738656802},31.38972738656804,{"$f":"(2*PI()*Sanierungsdesign!$E$10*$D$3)*(LN((Sanierungsdesign!$E$13+Sanierungsdesign!$E$15)/Sanierungsdesign!$E$13)*(AJ181-AN181))*$AH$7/1000000","v":105.52667721901615},2171.0306126055561,4900.0160926507406,{"$f":"AU181/Sanierungsdesign!$E$11","v":0.86931675972942934},1008000,6.9545340778354348,{"$error":"#DIV/0!"},{"$error":"#DIV/0!"},{"$error":"#DIV/0!"},{"$error":"#DIV/0!"},{"$f":"(AY181/(AH181*Sanierungsdesign!$E$10))*1000000","v":{"$error":"#DIV/0!"}},{"$f":"AZ181/Sanierungsdesign!$E$12","v":{"$error":"#DIV/0!"}},{"$f":"$D$5+((-(Sanierungsdesign!$E$12)*MIN($BA$7:$BA$932))/(4*PI()*$D$3))*(-LN((4*$D$4*AH181)/(Sanierungsdesign!$E$13)^2)-$D$19)","v":{"$error":"#DIV/0!"}},{"$f":"(BB181-273.15)/Heterogenität!$D$4","v":{"$error":"#DIV/0!"}},{"$f":"IF(AI181<Berechnung!$D$7,AI181,#N/A)","v":{"$error":"#N/A"}}]
[null,null,null,null,null,null,null,null,null,null,null,null,null,null,null,null,null,null,null,null,null,null,null,null,null,null,null,null,null,null,null,null,{"$f":"Sanierungsdesign!$E$12*AH182*Sanierungsdesign!$E$10/1000000","v":8236.7999999999993},1267200,14.666666666666666,{"$f":"$D$5+((-Sanierungsdesign!$E$12)/4*PI()*$D$3)*(-LN((4*$D$4*AH182)/(Sanierungsdesign!$E$13^2))-$D$19)","v":1494.5094950500193},1221.3594950500192,2419.0006823785079,{"$f":"$D$3*$T$7*$AH$7*(AK182-$D$5)*(1/Sanierungsdesign!$E$15)/1000000","v":131.02338586329239},{"$f":"$D$5+(-Sanierungsdesign!$E$12/(4*PI()*$D$3))*(-LN((4*$D$4*AH182)/(Sanierungsdesign!$E$13+Sanierungsdesign!$E$15)^2)-$D$19)","v":304.9693661234877},31.819366123487725,{"$f":"(2*PI()*Sanierungsdesign!$E$10*$D$3)*(LN((Sanierungsdesign!$E$13+Sanierungsdesign!$E$15)/Sanierungsdesign!$E$13)*(AJ182-AN182))*$AH$7/1000000","v":106.20094388936991},2183.4365018204448,4928.016184608744,{"$f":"AU182/Sanierungsdesign!$E$11","v":0.87509253061819381},1013760,7.0007402449455505,{"$error":"#DIV/0!"},{"$error":"#DIV/0!"},{"$error":"#DIV/0!"},{"$error":"#DIV/0!"},{"$f":"(AY182/(AH182*Sanierungsdesign!$E$10))*1000000","v":{"$error":"#DIV/0!"}},{"$f":"AZ182/Sanierungsdesign!$E$12","v":{"$error":"#DIV/0!"}},{"$f":"$D$5+((-(Sanierungsdesign!$E$12)*MIN($BA$7:$BA$932))/(4*PI()*$D$3))*(-LN((4*$D$4*AH182)/(Sanierungsdesign!$E$13)^2)-$D$19)","v":{"$error":"#DIV/0!"}},{"$f":"(BB182-273.15)/Heterogenität!$D$4","v":{"$error":"#DIV/0!"}},{"$f":"IF(AI182<Berechnung!$D$7,AI182,#N/A)","v":{"$error":"#N/A"}}]
[null,null,null,null,null,null,null,null,null,null,null,null,null,null,null,null,null,null,null,null,null,null,null,null,null,null,null,null,null,null,null,null,{"$f":"Sanierungsdesign!$E$12*AH183*Sanierungsdesign!$E$10/1000000","v":8283.6},1274400,14.75,{"$f":"$D$5+((-Sanierungsdesign!$E$12)/4*PI()*$D$3)*(-LN((4*$D$4*AH183)/(Sanierungsdesign!$E$13^2))-$D$19)","v":1502.4462650870637},1229.2962650870636,2434.8760711393147,{"$f":"$D$3*$T$7*$AH$7*(AK183-$D$5)*(1/Sanierungsdesign!$E$15)/1000000","v":132.13177635449762},{"$f":"$D$5+(-Sanierungsdesign!$E$12/(4*PI()*$D$3))*(-LN((4*$D$4*AH183)/(Sanierungsdesign!$E$13+Sanierungsdesign!$E$15)^2)-$D$19)","v":305.39657063354002},32.246570633540045,{"$f":"(2*PI()*Sanierungsdesign!$E$10*$D$3)*(LN((Sanierungsdesign!$E$13+Sanierungsdesign!$E$15)/Sanierungsdesign!$E$13)*(AJ183-AN183))*$AH$7/1000000","v":106.87139033146291},2195.842391035334,4956.0162765667483,{"$f":"AU183/Sanierungsdesign!$E$11","v":0.88083557741699914},1019520,7.0466846193359931,{"$error":"#DIV/0!"},{"$error":"#DIV/0!"},{"$error":"#DIV/0!"},{"$error":"#DIV/0!"},{"$f":"(AY183/(AH183*Sanierungsdesign!$E$10))*1000000","v":{"$error":"#DIV/0!"}},{"$f":"AZ183/Sanierungsdesign!$E$12","v":{"$error":"#DIV/0!"}},{"$f":"$D$5+((-(Sanierungsdesign!$E$12)*MIN($BA$7:$BA$932))/(4*PI()*$D$3))*(-LN((4*$D$4*AH183)/(Sanierungsdesign!$E$13)^2)-$D$19)","v":{"$error":"#DIV/0!"}},{"$f":"(BB183-273.15)/Heterogenität!$D$4","v":{"$error":"#DIV/0!"}},{"$f":"IF(AI183<Berechnung!$D$7,AI183,#N/A)","v":{"$error":"#N/A"}}]
[null,null,null,null,null,null,null,null,null,null,null,null,null,null,null,null,null,null,null,null,null,null,null,null,null,null,null,null,null,null,null,null,{"$f":"Sanierungsdesign!$E$12*AH184*Sanierungsdesign!$E$10/1000000","v":8330.4},1281600,14.833333333333334,{"$f":"$D$5+((-Sanierungsdesign!$E$12)/4*PI()*$D$3)*(-LN((4*$D$4*AH184)/(Sanierungsdesign!$E$13^2))-$D$19)","v":1510.3383206895082},1237.1883206895081,2450.6620206157299,{"$f":"$D$3*$T$7*$AH$7*(AK184-$D$5)*(1/Sanierungsdesign!$E$15)/1000000","v":133.23392235910453},{"$f":"$D$5+(-Sanierungsdesign!$E$12/(4*PI()*$D$3))*(-LN((4*$D$4*AH184)/(Sanierungsdesign!$E$13+Sanierungsdesign!$E$15)^2)-$D$19)","v":305.82136834485232},32.67136834485234,{"$f":"(2*PI()*Sanierungsdesign!$E$10*$D$3)*(LN((Sanierungsdesign!$E$13+Sanierungsdesign!$E$15)/Sanierungsdesign!$E$13)*(AJ184-AN184))*$AH$7/1000000","v":107.53805959046407},2208.2482802502227,4984.0163685247526,{"$f":"AU184/Sanierungsdesign!$E$11","v":0.88654626885092791},1025280,7.0923701508074233,{"$error":"#DIV/0!"},{"$error":"#DIV/0!"},{"$error":"#DIV/0!"},{"$error":"#DIV/0!"},{"$f":"(AY184/(AH184*Sanierungsdesign!$E$10))*1000000","v":{"$error":"#DIV/0!"}},{"$f":"AZ184/Sanierungsdesign!$E$12","v":{"$error":"#DIV/0!"}},{"$f":"$D$5+((-(Sanierungsdesign!$E$12)*MIN($BA$7:$BA$932))/(4*PI()*$D$3))*(-LN((4*$D$4*AH184)/(Sanierungsdesign!$E$13)^2)-$D$19)","v":{"$error":"#DIV/0!"}},{"$f":"(BB184-273.15)/Heterogenität!$D$4","v":{"$error":"#DIV/0!"}},{"$f":"IF(AI184<Berechnung!$D$7,AI184,#N/A)","v":{"$error":"#N/A"}}]
[null,null,null,null,null,null,null,null,null,null,null,null,null,null,null,null,null,null,null,null,null,null,null,null,null,null,null,null,null,null,null,null,{"$f":"Sanierungsdesign!$E$12*AH185*Sanierungsdesign!$E$10/1000000","v":8377.2000000000007},1288800,14.916666666666666,{"$f":"$D$5+((-Sanierungsdesign!$E$12)/4*PI()*$D$3)*(-LN((4*$D$4*AH185)/(Sanierungsdesign!$E$13^2))-$D$19)","v":1518.1861628633751},1245.036162863375,2466.3595329364957,{"$f":"$D$3*$T$7*$AH$7*(AK185-$D$5)*(1/Sanierungsdesign!$E$15)/1000000","v":134.32989384390169},{"$f":"$D$5+(-Sanierungsdesign!$E$12/(4*PI()*$D$3))*(-LN((4*$D$4*AH185)/(Sanierungsdesign!$E$13+Sanierungsdesign!$E$15)^2)-$D$19)","v":306.24378622456999},33.09378622457001,{"$f":"(2*PI()*Sanierungsdesign!$E$10*$D$3)*(LN((Sanierungsdesign!$E$13+Sanierungsdesign!$E$15)/Sanierungsdesign!$E$13)*(AJ185-AN185))*$AH$7/1000000","v":108.20099398808657},2220.6541694651119,5012.0164604827578,{"$f":"AU185/Sanierungsdesign!$E$11","v":0.892224967447938},1031040,7.137799739583504,{"$error":"#DIV/0!"},{"$error":"#DIV/0!"},{"$error":"#DIV/0!"},{"$error":"#DIV/0!"},{"$f":"(AY185/(AH185*Sanierungsdesign!$E$10))*1000000","v":{"$error":"#DIV/0!"}},{"$f":"AZ185/Sanierungsdesign!$E$12","v":{"$error":"#DIV/0!"}},{"$f":"$D$5+((-(Sanierungsdesign!$E$12)*MIN($BA$7:$BA$932))/(4*PI()*$D$3))*(-LN((4*$D$4*AH185)/(Sanierungsdesign!$E$13)^2)-$D$19)","v":{"$error":"#DIV/0!"}},{"$f":"(BB185-273.15)/Heterogenität!$D$4","v":{"$error":"#DIV/0!"}},{"$f":"IF(AI185<Berechnung!$D$7,AI185,#N/A)","v":{"$error":"#N/A"}}]
[null,null,null,null,null,null,null,null,null,null,null,null,null,null,null,null,null,null,null,null,null,null,null,null,null,null,null,null,null,null,null,null,{"$f":"Sanierungsdesign!$E$12*AH186*Sanierungsdesign!$E$10/1000000","v":8424},1296000,15,{"$f":"$D$5+((-Sanierungsdesign!$E$12)/4*PI()*$D$3)*(-LN((4*$D$4*AH186)/(Sanierungsdesign!$E$13^2))-$D$19)","v":1525.9902842412384},1252.8402842412384,2481.9695934815077,{"$f":"$D$3*$T$7*$AH$7*(AK186-$D$5)*(1/Sanierungsdesign!$E$15)/1000000","v":135.41975960630398},{"$f":"$D$5+(-Sanierungsdesign!$E$12/(4*PI()*$D$3))*(-LN((4*$D$4*AH186)/(Sanierungsdesign!$E$13+Sanierungsdesign!$E$15)^2)-$D$19)","v":306.66385078912936},33.513850789129378,{"$f":"(2*PI()*Sanierungsdesign!$E$10*$D$3)*(LN((Sanierungsdesign!$E$13+Sanierungsdesign!$E$15)/Sanierungsdesign!$E$13)*(AJ186-AN186))*$AH$7/1000000","v":108.86023513870944},2233.0600586800006,5040.0165524407612,{"$f":"AU186/Sanierungsdesign!$E$11","v":0.89787202967696},1036800,7.18297623741568,{"$error":"#DIV/0!"},{"$error":"#DIV/0!"},{"$error":"#DIV/0!"},{"$error":"#DIV/0!"},{"$f":"(AY186/(AH186*Sanierungsdesign!$E$10))*1000000","v":{"$error":"#DIV/0!"}},{"$f":"AZ186/Sanierungsdesign!$E$12","v":{"$error":"#DIV/0!"}},{"$f":"$D$5+((-(Sanierungsdesign!$E$12)*MIN($BA$7:$BA$932))/(4*PI()*$D$3))*(-LN((4*$D$4*AH186)/(Sanierungsdesign!$E$13)^2)-$D$19)","v":{"$error":"#DIV/0!"}},{"$f":"(BB186-273.15)/Heterogenität!$D$4","v":{"$error":"#DIV/0!"}},{"$f":"IF(AI186<Berechnung!$D$7,AI186,#N/A)","v":{"$error":"#N/A"}}]
[null,null,null,null,null,null,null,null,null,null,null,null,null,null,null,null,null,null,null,null,null,null,null,null,null,null,null,null,null,null,null,null,{"$f":"Sanierungsdesign!$E$12*AH187*Sanierungsdesign!$E$10/1000000","v":8470.7999999999993},1303200,15.083333333333334,{"$f":"$D$5+((-Sanierungsdesign!$E$12)/4*PI()*$D$3)*(-LN((4*$D$4*AH187)/(Sanierungsdesign!$E$13^2))-$D$19)","v":1533.7511692677895},1260.6011692677894,2497.4931712529888,{"$f":"$D$3*$T$7*$AH$7*(AK187-$D$5)*(1/Sanierungsdesign!$E$15)/1000000","v":136.50358730026718},{"$f":"$D$5+(-Sanierungsdesign!$E$12/(4*PI()*$D$3))*(-LN((4*$D$4*AH187)/(Sanierungsdesign!$E$13+Sanierungsdesign!$E$15)^2)-$D$19)","v":307.08158811424596},33.931588114245983,{"$f":"(2*PI()*Sanierungsdesign!$E$10*$D$3)*(LN((Sanierungsdesign!$E$13+Sanierungsdesign!$E$15)/Sanierungsdesign!$E$13)*(AJ187-AN187))*$AH$7/1000000","v":109.51582396505292},2245.4659478948893,5068.0166443987646,{"$f":"AU187/Sanierungsdesign!$E$11","v":0.90348780608217227},1042560,7.2279024486573782,{"$error":"#DIV/0!"},{"$error":"#DIV/0!"},{"$error":"#DIV/0!"},{"$error":"#DIV/0!"},{"$f":"(AY187/(AH187*Sanierungsdesign!$E$10))*1000000","v":{"$error":"#DIV/0!"}},{"$f":"AZ187/Sanierungsdesign!$E$12","v":{"$error":"#DIV/0!"}},{"$f":"$D$5+((-(Sanierungsdesign!$E$12)*MIN($BA$7:$BA$932))/(4*PI()*$D$3))*(-LN((4*$D$4*AH187)/(Sanierungsdesign!$E$13)^2)-$D$19)","v":{"$error":"#DIV/0!"}},{"$f":"(BB187-273.15)/Heterogenität!$D$4","v":{"$error":"#DIV/0!"}},{"$f":"IF(AI187<Berechnung!$D$7,AI187,#N/A)","v":{"$error":"#N/A"}}]
[null,null,null,null,null,null,null,null,null,null,null,null,null,null,null,null,null,null,null,null,null,null,null,null,null,null,null,null,null,null,null,null,{"$f":"Sanierungsdesign!$E$12*AH188*Sanierungsdesign!$E$10/1000000","v":8517.6},1310400,15.166666666666666,{"$f":"$D$5+((-Sanierungsdesign!$E$12)/4*PI()*$D$3)*(-LN((4*$D$4*AH188)/(Sanierungsdesign!$E$13^2))-$D$19)","v":1541.469294380287},1268.3192943802869,2512.9312192364314,{"$f":"$D$3*$T$7*$AH$7*(AK188-$D$5)*(1/Sanierungsdesign!$E$15)/1000000","v":137.58144346148845},{"$f":"$D$5+(-Sanierungsdesign!$E$12/(4*PI()*$D$3))*(-LN((4*$D$4*AH188)/(Sanierungsdesign!$E$13+Sanierungsdesign!$E$15)^2)-$D$19)","v":307.49702384462717},34.347023844627188,{"$f":"(2*PI()*Sanierungsdesign!$E$10*$D$3)*(LN((Sanierungsdesign!$E$13+Sanierungsdesign!$E$15)/Sanierungsdesign!$E$13)*(AJ188-AN188))*$AH$7/1000000","v":110.16780071342163},2257.8718371097784,5096.0167363567698,{"$f":"AU188/Sanierungsdesign!$E$11","v":0.90907264141357547},1048320,7.2725811313086037,{"$error":"#DIV/0!"},{"$error":"#DIV/0!"},{"$error":"#DIV/0!"},{"$error":"#DIV/0!"},{"$f":"(AY188/(AH188*Sanierungsdesign!$E$10))*1000000","v":{"$error":"#DIV/0!"}},{"$f":"AZ188/Sanierungsdesign!$E$12","v":{"$error":"#DIV/0!"}},{"$f":"$D$5+((-(Sanierungsdesign!$E$12)*MIN($BA$7:$BA$932))/(4*PI()*$D$3))*(-LN((4*$D$4*AH188)/(Sanierungsdesign!$E$13)^2)-$D$19)","v":{"$error":"#DIV/0!"}},{"$f":"(BB188-273.15)/Heterogenität!$D$4","v":{"$error":"#DIV/0!"}},{"$f":"IF(AI188<Berechnung!$D$7,AI188,#N/A)","v":{"$error":"#N/A"}}]
[null,null,null,null,null,null,null,null,null,null,null,null,null,null,null,null,null,null,null,null,null,null,null,null,null,null,null,null,null,null,null,null,{"$f":"Sanierungsdesign!$E$12*AH189*Sanierungsdesign!$E$10/1000000","v":8564.4},1317600,15.25,{"$f":"$D$5+((-Sanierungsdesign!$E$12)/4*PI()*$D$3)*(-LN((4*$D$4*AH189)/(Sanierungsdesign!$E$13^2))-$D$19)","v":1549.1451281840659},1275.9951281840658,2528.2846747516564,{"$f":"$D$3*$T$7*$AH$7*(AK189-$D$5)*(1/Sanierungsdesign!$E$15)/1000000","v":138.65339353191638},{"$f":"$D$5+(-Sanierungsdesign!$E$12/(4*PI()*$D$3))*(-LN((4*$D$4*AH189)/(Sanierungsdesign!$E$13+Sanierungsdesign!$E$15)^2)-$D$19)","v":307.91018320341936},34.760183203419388,{"$f":"(2*PI()*Sanierungsdesign!$E$10*$D$3)*(LN((Sanierungsdesign!$E$13+Sanierungsdesign!$E$15)/Sanierungsdesign!$E$13)*(AJ189-AN189))*$AH$7/1000000","v":110.81620496853057},2270.2777263246671,5124.0168283147732,{"$f":"AU189/Sanierungsdesign!$E$11","v":0.91462687475398996},1054080,7.3170149980319197,{"$error":"#DIV/0!"},{"$error":"#DIV/0!"},{"$error":"#DIV/0!"},{"$error":"#DIV/0!"},{"$f":"(AY189/(AH189*Sanierungsdesign!$E$10))*1000000","v":{"$error":"#DIV/0!"}},{"$f":"AZ189/Sanierungsdesign!$E$12","v":{"$error":"#DIV/0!"}},{"$f":"$D$5+((-(Sanierungsdesign!$E$12)*MIN($BA$7:$BA$932))/(4*PI()*$D$3))*(-LN((4*$D$4*AH189)/(Sanierungsdesign!$E$13)^2)-$D$19)","v":{"$error":"#DIV/0!"}},{"$f":"(BB189-273.15)/Heterogenität!$D$4","v":{"$error":"#DIV/0!"}},{"$f":"IF(AI189<Berechnung!$D$7,AI189,#N/A)","v":{"$error":"#N/A"}}]
[null,null,null,null,null,null,null,null,null,null,null,null,null,null,null,null,null,null,null,null,null,null,null,null,null,null,null,null,null,null,null,null,{"$f":"Sanierungsdesign!$E$12*AH190*Sanierungsdesign!$E$10/1000000","v":8611.2000000000007},1324800,15.333333333333334,{"$f":"$D$5+((-Sanierungsdesign!$E$12)/4*PI()*$D$3)*(-LN((4*$D$4*AH190)/(Sanierungsdesign!$E$13^2))-$D$19)","v":1556.7791316232615},1283.6291316232614,2543.5544597942999,{"$f":"$D$3*$T$7*$AH$7*(AK190-$D$5)*(1/Sanierungsdesign!$E$15)/1000000","v":139.71950188359332},{"$f":"$D$5+(-Sanierungsdesign!$E$12/(4*PI()*$D$3))*(-LN((4*$D$4*AH190)/(Sanierungsdesign!$E$13+Sanierungsdesign!$E$15)^2)-$D$19)","v":308.32109100139735},35.171091001397372,{"$f":"(2*PI()*Sanierungsdesign!$E$10*$D$3)*(LN((Sanierungsdesign!$E$13+Sanierungsdesign!$E$15)/Sanierungsdesign!$E$13)*(AJ190-AN190))*$AH$7/1000000","v":111.46107566792661},2282.6836155395563,5152.0169202727784,{"$f":"AU190/Sanierungsdesign!$E$11","v":0.92015083964259192},1059840,7.3612067171407354,{"$error":"#DIV/0!"},{"$error":"#DIV/0!"},{"$error":"#DIV/0!"},{"$error":"#DIV/0!"},{"$f":"(AY190/(AH190*Sanierungsdesign!$E$10))*1000000","v":{"$error":"#DIV/0!"}},{"$f":"AZ190/Sanierungsdesign!$E$12","v":{"$error":"#DIV/0!"}},{"$f":"$D$5+((-(Sanierungsdesign!$E$12)*MIN($BA$7:$BA$932))/(4*PI()*$D$3))*(-LN((4*$D$4*AH190)/(Sanierungsdesign!$E$13)^2)-$D$19)","v":{"$error":"#DIV/0!"}},{"$f":"(BB190-273.15)/Heterogenität!$D$4","v":{"$error":"#DIV/0!"}},{"$f":"IF(AI190<Berechnung!$D$7,AI190,#N/A)","v":{"$error":"#N/A"}}]
[null,null,null,null,null,null,null,null,null,null,null,null,null,null,null,null,null,null,null,null,null,null,null,null,null,null,null,null,null,null,null,null,{"$f":"Sanierungsdesign!$E$12*AH191*Sanierungsdesign!$E$10/1000000","v":8658},1332000,15.416666666666666,{"$f":"$D$5+((-Sanierungsdesign!$E$12)/4*PI()*$D$3)*(-LN((4*$D$4*AH191)/(Sanierungsdesign!$E$13^2))-$D$19)","v":1564.3717581469091},1291.221758146909,2558.7414813680539,{"$f":"$D$3*$T$7*$AH$7*(AK191-$D$5)*(1/Sanierungsdesign!$E$15)/1000000","v":140.7798318418514},{"$f":"$D$5+(-Sanierungsdesign!$E$12/(4*PI()*$D$3))*(-LN((4*$D$4*AH191)/(Sanierungsdesign!$E$13+Sanierungsdesign!$E$15)^2)-$D$19)","v":308.72977164590463},35.579771645904657,{"$f":"(2*PI()*Sanierungsdesign!$E$10*$D$3)*(LN((Sanierungsdesign!$E$13+Sanierungsdesign!$E$15)/Sanierungsdesign!$E$13)*(AJ191-AN191))*$AH$7/1000000","v":112.10245111601959},2295.089504754445,5180.0170122307827,{"$f":"AU191/Sanierungsdesign!$E$11","v":0.92564486419510328},1065600,7.4051589135608262,{"$error":"#DIV/0!"},{"$error":"#DIV/0!"},{"$error":"#DIV/0!"},{"$error":"#DIV/0!"},{"$f":"(AY191/(AH191*Sanierungsdesign!$E$10))*1000000","v":{"$error":"#DIV/0!"}},{"$f":"AZ191/Sanierungsdesign!$E$12","v":{"$error":"#DIV/0!"}},{"$f":"$D$5+((-(Sanierungsdesign!$E$12)*MIN($BA$7:$BA$932))/(4*PI()*$D$3))*(-LN((4*$D$4*AH191)/(Sanierungsdesign!$E$13)^2)-$D$19)","v":{"$error":"#DIV/0!"}},{"$f":"(BB191-273.15)/Heterogenität!$D$4","v":{"$error":"#DIV/0!"}},{"$f":"IF(AI191<Berechnung!$D$7,AI191,#N/A)","v":{"$error":"#N/A"}}]
[null,null,null,null,null,null,null,null,null,null,null,null,null,null,null,null,null,null,null,null,null,null,null,null,null,null,null,null,null,null,null,null,{"$f":"Sanierungsdesign!$E$12*AH192*Sanierungsdesign!$E$10/1000000","v":8704.7999999999993},1339200,15.5,{"$f":"$D$5+((-Sanierungsdesign!$E$12)/4*PI()*$D$3)*(-LN((4*$D$4*AH192)/(Sanierungsdesign!$E$13^2))-$D$19)","v":1571.923453870565},1298.7734538705649,2573.8466318079427,{"$f":"$D$3*$T$7*$AH$7*(AK192-$D$5)*(1/Sanierungsdesign!$E$15)/1000000","v":141.83444570788353},{"$f":"$D$5+(-Sanierungsdesign!$E$12/(4*PI()*$D$3))*(-LN((4*$D$4*AH192)/(Sanierungsdesign!$E$13+Sanierungsdesign!$E$15)^2)-$D$19)","v":309.13624914955301},35.986249149553032,{"$f":"(2*PI()*Sanierungsdesign!$E$10*$D$3)*(LN((Sanierungsdesign!$E$13+Sanierungsdesign!$E$15)/Sanierungsdesign!$E$13)*(AJ192-AN192))*$AH$7/1000000","v":112.74036899773505},2307.4953939693337,5208.0171041887861,{"$f":"AU192/Sanierungsdesign!$E$11","v":0.93110927122074061},1071360,7.4488741697659249,{"$error":"#DIV/0!"},{"$error":"#DIV/0!"},{"$error":"#DIV/0!"},{"$error":"#DIV/0!"},{"$f":"(AY192/(AH192*Sanierungsdesign!$E$10))*1000000","v":{"$error":"#DIV/0!"}},{"$f":"AZ192/Sanierungsdesign!$E$12","v":{"$error":"#DIV/0!"}},{"$f":"$D$5+((-(Sanierungsdesign!$E$12)*MIN($BA$7:$BA$932))/(4*PI()*$D$3))*(-LN((4*$D$4*AH192)/(Sanierungsdesign!$E$13)^2)-$D$19)","v":{"$error":"#DIV/0!"}},{"$f":"(BB192-273.15)/Heterogenität!$D$4","v":{"$error":"#DIV/0!"}},{"$f":"IF(AI192<Berechnung!$D$7,AI192,#N/A)","v":{"$error":"#N/A"}}]
[null,null,null,null,null,null,null,null,null,null,null,null,null,null,null,null,null,null,null,null,null,null,null,null,null,null,null,null,null,null,null,null,{"$f":"Sanierungsdesign!$E$12*AH193*Sanierungsdesign!$E$10/1000000","v":8751.6},1346400,15.583333333333334,{"$f":"$D$5+((-Sanierungsdesign!$E$12)/4*PI()*$D$3)*(-LN((4*$D$4*AH193)/(Sanierungsdesign!$E$13^2))-$D$19)","v":1579.4346577335932},1306.2846577335931,2588.8707890949354,{"$f":"$D$3*$T$7*$AH$7*(AK193-$D$5)*(1/Sanierungsdesign!$E$15)/1000000","v":142.88340478070867},{"$f":"$D$5+(-Sanierungsdesign!$E$12/(4*PI()*$D$3))*(-LN((4*$D$4*AH193)/(Sanierungsdesign!$E$13+Sanierungsdesign!$E$15)^2)-$D$19)","v":309.54054713868851},36.390547138688532,{"$f":"(2*PI()*Sanierungsdesign!$E$10*$D$3)*(LN((Sanierungsdesign!$E$13+Sanierungsdesign!$E$15)/Sanierungsdesign!$E$13)*(AJ193-AN193))*$AH$7/1000000","v":113.37486639180061},2319.9012831842228,5236.0171961467904,{"$f":"AU193/Sanierungsdesign!$E$11","v":0.93654437833602788},1077120,7.4923550266882231,{"$error":"#DIV/0!"},{"$error":"#DIV/0!"},{"$error":"#DIV/0!"},{"$error":"#DIV/0!"},{"$f":"(AY193/(AH193*Sanierungsdesign!$E$10))*1000000","v":{"$error":"#DIV/0!"}},{"$f":"AZ193/Sanierungsdesign!$E$12","v":{"$error":"#DIV/0!"}},{"$f":"$D$5+((-(Sanierungsdesign!$E$12)*MIN($BA$7:$BA$932))/(4*PI()*$D$3))*(-LN((4*$D$4*AH193)/(Sanierungsdesign!$E$13)^2)-$D$19)","v":{"$error":"#DIV/0!"}},{"$f":"(BB193-273.15)/Heterogenität!$D$4","v":{"$error":"#DIV/0!"}},{"$f":"IF(AI193<Berechnung!$D$7,AI193,#N/A)","v":{"$error":"#N/A"}}]
[null,null,null,null,null,null,null,null,null,null,null,null,null,null,null,null,null,null,null,null,null,null,null,null,null,null,null,null,null,null,null,null,{"$f":"Sanierungsdesign!$E$12*AH194*Sanierungsdesign!$E$10/1000000","v":8798.4},1353600,15.666666666666666,{"$f":"$D$5+((-Sanierungsdesign!$E$12)/4*PI()*$D$3)*(-LN((4*$D$4*AH194)/(Sanierungsdesign!$E$13^2))-$D$19)","v":1586.9058016522617},1313.7558016522617,2603.8148171621724,{"$f":"$D$3*$T$7*$AH$7*(AK194-$D$5)*(1/Sanierungsdesign!$E$15)/1000000","v":143.92676937855222},{"$f":"$D$5+(-Sanierungsdesign!$E$12/(4*PI()*$D$3))*(-LN((4*$D$4*AH194)/(Sanierungsdesign!$E$13+Sanierungsdesign!$E$15)^2)-$D$19)","v":309.94268886163229},36.792688861632314,{"$f":"(2*PI()*Sanierungsdesign!$E$10*$D$3)*(LN((Sanierungsdesign!$E$13+Sanierungsdesign!$E$15)/Sanierungsdesign!$E$13)*(AJ194-AN194))*$AH$7/1000000","v":114.00597978367877},2332.3071723991116,5264.0172881047947,{"$f":"AU194/Sanierungsdesign!$E$11","v":0.9419504980755764},1082880,7.5356039846046112,{"$error":"#DIV/0!"},{"$error":"#DIV/0!"},{"$error":"#DIV/0!"},{"$error":"#DIV/0!"},{"$f":"(AY194/(AH194*Sanierungsdesign!$E$10))*1000000","v":{"$error":"#DIV/0!"}},{"$f":"AZ194/Sanierungsdesign!$E$12","v":{"$error":"#DIV/0!"}},{"$f":"$D$5+((-(Sanierungsdesign!$E$12)*MIN($BA$7:$BA$932))/(4*PI()*$D$3))*(-LN((4*$D$4*AH194)/(Sanierungsdesign!$E$13)^2)-$D$19)","v":{"$error":"#DIV/0!"}},{"$f":"(BB194-273.15)/Heterogenität!$D$4","v":{"$error":"#DIV/0!"}},{"$f":"IF(AI194<Berechnung!$D$7,AI194,#N/A)","v":{"$error":"#N/A"}}]
[null,null,null,null,null,null,null,null,null,null,null,null,null,null,null,null,null,null,null,null,null,null,null,null,null,null,null,null,null,null,null,null,{"$f":"Sanierungsdesign!$E$12*AH195*Sanierungsdesign!$E$10/1000000","v":8845.2000000000007},1360800,15.75,{"$f":"$D$5+((-Sanierungsdesign!$E$12)/4*PI()*$D$3)*(-LN((4*$D$4*AH195)/(Sanierungsdesign!$E$13^2))-$D$19)","v":1594.337310668775},1321.1873106687749,2618.6795661930664,{"$f":"$D$3*$T$7*$AH$7*(AK195-$D$5)*(1/Sanierungsdesign!$E$15)/1000000","v":144.96459885965896},{"$f":"$D$5+(-Sanierungsdesign!$E$12/(4*PI()*$D$3))*(-LN((4*$D$4*AH195)/(Sanierungsdesign!$E$13+Sanierungsdesign!$E$15)^2)-$D$19)","v":310.34269719670198},37.192697196701999,{"$f":"(2*PI()*Sanierungsdesign!$E$10*$D$3)*(LN((Sanierungsdesign!$E$13+Sanierungsdesign!$E$15)/Sanierungsdesign!$E$13)*(AJ195-AN195))*$AH$7/1000000","v":114.633745078156},2344.7130616140007,5292.017380062799,{"$f":"AU195/Sanierungsdesign!$E$11","v":0.94732793799992532},1088640,7.5786235039994025,{"$error":"#DIV/0!"},{"$error":"#DIV/0!"},{"$error":"#DIV/0!"},{"$error":"#DIV/0!"},{"$f":"(AY195/(AH195*Sanierungsdesign!$E$10))*1000000","v":{"$error":"#DIV/0!"}},{"$f":"AZ195/Sanierungsdesign!$E$12","v":{"$error":"#DIV/0!"}},{"$f":"$D$5+((-(Sanierungsdesign!$E$12)*MIN($BA$7:$BA$932))/(4*PI()*$D$3))*(-LN((4*$D$4*AH195)/(Sanierungsdesign!$E$13)^2)-$D$19)","v":{"$error":"#DIV/0!"}},{"$f":"(BB195-273.15)/Heterogenität!$D$4","v":{"$error":"#DIV/0!"}},{"$f":"IF(AI195<Berechnung!$D$7,AI195,#N/A)","v":{"$error":"#N/A"}}]
[null,null,null,null,null,null,null,null,null,null,null,null,null,null,null,null,null,null,null,null,null,null,null,null,null,null,null,null,null,null,null,null,{"$f":"Sanierungsdesign!$E$12*AH196*Sanierungsdesign!$E$10/1000000","v":8892},1368000,15.833333333333334,{"$f":"$D$5+((-Sanierungsdesign!$E$12)/4*PI()*$D$3)*(-LN((4*$D$4*AH196)/(Sanierungsdesign!$E$13^2))-$D$19)","v":1601.7296030963739},1328.5796030963738,2633.4658729115367,{"$f":"$D$3*$T$7*$AH$7*(AK196-$D$5)*(1/Sanierungsdesign!$E$15)/1000000","v":145.99695164255627},{"$f":"$D$5+(-Sanierungsdesign!$E$12/(4*PI()*$D$3))*(-LN((4*$D$4*AH196)/(Sanierungsdesign!$E$13+Sanierungsdesign!$E$15)^2)-$D$19)","v":310.74059466002223},37.590594660022248,{"$f":"(2*PI()*Sanierungsdesign!$E$10*$D$3)*(LN((Sanierungsdesign!$E$13+Sanierungsdesign!$E$15)/Sanierungsdesign!$E$13)*(AJ196-AN196))*$AH$7/1000000","v":115.25819761159998},2357.1189508288894,5320.0174720208033,{"$f":"AU196/Sanierungsdesign!$E$11","v":0.95267700080053597},1094400,7.6214160064042877,{"$error":"#DIV/0!"},{"$error":"#DIV/0!"},{"$error":"#DIV/0!"},{"$error":"#DIV/0!"},{"$f":"(AY196/(AH196*Sanierungsdesign!$E$10))*1000000","v":{"$error":"#DIV/0!"}},{"$f":"AZ196/Sanierungsdesign!$E$12","v":{"$error":"#DIV/0!"}},{"$f":"$D$5+((-(Sanierungsdesign!$E$12)*MIN($BA$7:$BA$932))/(4*PI()*$D$3))*(-LN((4*$D$4*AH196)/(Sanierungsdesign!$E$13)^2)-$D$19)","v":{"$error":"#DIV/0!"}},{"$f":"(BB196-273.15)/Heterogenität!$D$4","v":{"$error":"#DIV/0!"}},{"$f":"IF(AI196<Berechnung!$D$7,AI196,#N/A)","v":{"$error":"#N/A"}}]
[null,null,null,null,null,null,null,null,null,null,null,null,null,null,null,null,null,null,null,null,null,null,null,null,null,null,null,null,null,null,null,null,{"$f":"Sanierungsdesign!$E$12*AH197*Sanierungsdesign!$E$10/1000000","v":8938.7999999999993},1375200,15.916666666666666,{"$f":"$D$5+((-Sanierungsdesign!$E$12)/4*PI()*$D$3)*(-LN((4*$D$4*AH197)/(Sanierungsdesign!$E$13^2))-$D$19)","v":1609.0830906606275},1335.9330906606274,2648.1745608646215,{"$f":"$D$3*$T$7*$AH$7*(AK197-$D$5)*(1/Sanierungsdesign!$E$15)/1000000","v":147.02388522578627},{"$f":"$D$5+(-Sanierungsdesign!$E$12/(4*PI()*$D$3))*(-LN((4*$D$4*AH197)/(Sanierungsdesign!$E$13+Sanierungsdesign!$E$15)^2)-$D$19)","v":311.13640341312964},37.986403413129665,{"$f":"(2*PI()*Sanierungsdesign!$E$10*$D$3)*(LN((Sanierungsdesign!$E$13+Sanierungsdesign!$E$15)/Sanierungsdesign!$E$13)*(AJ197-AN197))*$AH$7/1000000","v":115.87937216389489},2369.5248400437786,5348.0175639788085,{"$f":"AU197/Sanierungsdesign!$E$11","v":0.95799798440202988},1100160,7.663983875216239,{"$error":"#DIV/0!"},{"$error":"#DIV/0!"},{"$error":"#DIV/0!"},{"$error":"#DIV/0!"},{"$f":"(AY197/(AH197*Sanierungsdesign!$E$10))*1000000","v":{"$error":"#DIV/0!"}},{"$f":"AZ197/Sanierungsdesign!$E$12","v":{"$error":"#DIV/0!"}},{"$f":"$D$5+((-(Sanierungsdesign!$E$12)*MIN($BA$7:$BA$932))/(4*PI()*$D$3))*(-LN((4*$D$4*AH197)/(Sanierungsdesign!$E$13)^2)-$D$19)","v":{"$error":"#DIV/0!"}},{"$f":"(BB197-273.15)/Heterogenität!$D$4","v":{"$error":"#DIV/0!"}},{"$f":"IF(AI197<Berechnung!$D$7,AI197,#N/A)","v":{"$error":"#N/A"}}]
[null,null,null,null,null,null,null,null,null,null,null,null,null,null,null,null,null,null,null,null,null,null,null,null,null,null,null,null,null,null,null,null,{"$f":"Sanierungsdesign!$E$12*AH198*Sanierungsdesign!$E$10/1000000","v":8985.6},1382400,16,{"$f":"$D$5+((-Sanierungsdesign!$E$12)/4*PI()*$D$3)*(-LN((4*$D$4*AH198)/(Sanierungsdesign!$E$13^2))-$D$19)","v":1616.3981786370377},1343.2481786370377,2662.806440697726,{"$f":"$D$3*$T$7*$AH$7*(AK198-$D$5)*(1/Sanierungsdesign!$E$15)/1000000","v":148.04545620712241},{"$f":"$D$5+(-Sanierungsdesign!$E$12/(4*PI()*$D$3))*(-LN((4*$D$4*AH198)/(Sanierungsdesign!$E$13+Sanierungsdesign!$E$15)^2)-$D$19)","v":311.53014527037965},38.380145270379671,{"$f":"(2*PI()*Sanierungsdesign!$E$10*$D$3)*(LN((Sanierungsdesign!$E$13+Sanierungsdesign!$E$15)/Sanierungsdesign!$E$13)*(AJ198-AN198))*$AH$7/1000000","v":116.49730297006549},2381.9307292586673,5376.0176559368128,{"$f":"AU198/Sanierungsdesign!$E$11","v":0.96329118206176034},1105920,7.7063294564940827,{"$error":"#DIV/0!"},{"$error":"#DIV/0!"},{"$error":"#DIV/0!"},{"$error":"#DIV/0!"},{"$f":"(AY198/(AH198*Sanierungsdesign!$E$10))*1000000","v":{"$error":"#DIV/0!"}},{"$f":"AZ198/Sanierungsdesign!$E$12","v":{"$error":"#DIV/0!"}},{"$f":"$D$5+((-(Sanierungsdesign!$E$12)*MIN($BA$7:$BA$932))/(4*PI()*$D$3))*(-LN((4*$D$4*AH198)/(Sanierungsdesign!$E$13)^2)-$D$19)","v":{"$error":"#DIV/0!"}},{"$f":"(BB198-273.15)/Heterogenität!$D$4","v":{"$error":"#DIV/0!"}},{"$f":"IF(AI198<Berechnung!$D$7,AI198,#N/A)","v":{"$error":"#N/A"}}]
[null,null,null,null,null,null,null,null,null,null,null,null,null,null,null,null,null,null,null,null,null,null,null,null,null,null,null,null,null,null,null,null,{"$f":"Sanierungsdesign!$E$12*AH199*Sanierungsdesign!$E$10/1000000","v":9032.4},1389600,{"$f":"AH199/86400","v":16.083333333333332},{"$f":"$D$5+((-Sanierungsdesign!$E$12)/4*PI()*$D$3)*(-LN((4*$D$4*AH199)/(Sanierungsdesign!$E$13^2))-$D$19)","v":1623.6752659850667},{"$f":"AJ199-273.15","v":1350.5252659850667},2677.3623104227008,{"$f":"$D$3*$T$7*$AH$7*(AK199-$D$5)*(1/Sanierungsdesign!$E$15)/1000000","v":149.06172030228683},{"$f":"$D$5+(-Sanierungsdesign!$E$12/(4*PI()*$D$3))*(-LN((4*$D$4*AH199)/(Sanierungsdesign!$E$13+Sanierungsdesign!$E$15)^2)-$D$19)","v":311.92184170616059},{"$f":"AN199-273.15","v":38.771841706160615},{"$f":"(2*PI()*Sanierungsdesign!$E$10*$D$3)*(LN((Sanierungsdesign!$E$13+Sanierungsdesign!$E$15)/Sanierungsdesign!$E$13)*(AJ199-AN199))*$AH$7/1000000","v":117.11202373159871},2394.336618473556,5404.0177478948153,{"$f":"AU199/Sanierungsdesign!$E$11","v":0.96855688246679406},1111680,7.7484550597343524,{"$error":"#DIV/0!"},{"$error":"#DIV/0!"},{"$error":"#DIV/0!"},{"$f":"AG199-AX199","v":{"$error":"#DIV/0!"}},{"$f":"(AY199/(AH199*Sanierungsdesign!$E$10))*1000000","v":{"$error":"#DIV/0!"}},{"$f":"AZ199/Sanierungsdesign!$E$12","v":{"$error":"#DIV/0!"}},{"$f":"$D$5+((-(Sanierungsdesign!$E$12)*MIN($BA$7:$BA$932))/(4*PI()*$D$3))*(-LN((4*$D$4*AH199)/(Sanierungsdesign!$E$13)^2)-$D$19)","v":{"$error":"#DIV/0!"}},{"$f":"(BB199-273.15)/Heterogenität!$D$4","v":{"$error":"#DIV/0!"}},{"$f":"IF(AI199<Berechnung!$D$7,AI199,#N/A)","v":{"$error":"#N/A"}}]
[null,null,null,null,null,null,null,null,null,null,null,null,null,null,null,null,null,null,null,null,null,null,null,null,null,null,null,null,null,null,null,null,{"$f":"Sanierungsdesign!$E$12*AH200*Sanierungsdesign!$E$10/1000000","v":9079.2000000000007},1396800,16.166666666666668,{"$f":"$D$5+((-Sanierungsdesign!$E$12)/4*PI()*$D$3)*(-LN((4*$D$4*AH200)/(Sanierungsdesign!$E$13^2))-$D$19)","v":1630.9147454787039},1357.7647454787038,{"$f":"$T$4*$T$7*$AH$7*(AJ200-$D$2)/1000000","v":2691.8429556790143},{"$f":"$D$3*$T$7*$AH$7*(AK200-$D$5)*(1/Sanierungsdesign!$E$15)/1000000","v":150.07273236318446},{"$f":"$D$5+(-Sanierungsdesign!$E$12/(4*PI()*$D$3))*(-LN((4*$D$4*AH200)/(Sanierungsdesign!$E$13+Sanierungsdesign!$E$15)^2)-$D$19)","v":312.31151386192141},39.161513861921435,{"$f":"(2*PI()*Sanierungsdesign!$E$10*$D$3)*(LN((Sanierungsdesign!$E$13+Sanierungsdesign!$E$15)/Sanierungsdesign!$E$13)*(AJ200-AN200))*$AH$7/1000000","v":117.72356762747322},{"$f":"$T$20*AH200","v":2406.7425076884451},{"$f":"$D$12*AQ200/1000000","v":5432.0178398528205},{"$f":"AU200/Sanierungsdesign!$E$11","v":0.97379536982838999},{"$f":"$T$18/$D$24*AH200","v":1117440},{"$f":"($D$10*$T$18)*(AJ200-$D$2)/1000000","v":7.7903629586271199},{"$f":"($D$17*$L$10*$T$28+$L$2*$D$10*$T$28+$D$16*$L$4*$T$28+$D$18*$L$7*$T$28)*(AJ200-$D$5)/1000000","v":{"$error":"#DIV/0!"}},{"$f":"AV200*$D$28","v":{"$error":"#DIV/0!"}},{"$f":"AL200+AM200+AR200+(0.5*AP200)-(2*AW200)+AS200","v":{"$error":"#DIV/0!"}},{"$error":"#DIV/0!"},{"$f":"(AY200/(AH200*Sanierungsdesign!$E$10))*1000000","v":{"$error":"#DIV/0!"}},{"$f":"AZ200/Sanierungsdesign!$E$12","v":{"$error":"#DIV/0!"}},{"$f":"$D$5+((-(Sanierungsdesign!$E$12)*MIN($BA$7:$BA$932))/(4*PI()*$D$3))*(-LN((4*$D$4*AH200)/(Sanierungsdesign!$E$13)^2)-$D$19)","v":{"$error":"#DIV/0!"}},{"$f":"(BB200-273.15)/Heterogenität!$D$4","v":{"$error":"#DIV/0!"}},{"$f":"IF(AI200<Berechnung!$D$7,AI200,#N/A)","v":{"$error":"#N/A"}}]
[null,null,null,null,null,null,null,null,null,null,null,null,null,null,null,null,null,null,null,null,null,null,null,null,null,null,null,null,null,null,null,null,{"$f":"Sanierungsdesign!$E$12*AH201*Sanierungsdesign!$E$10/1000000","v":9126},{"$f":"AH200+$D$24","v":1404000},16.25,{"$f":"$D$5+((-Sanierungsdesign!$E$12)/4*PI()*$D$3)*(-LN((4*$D$4*AH201)/(Sanierungsdesign!$E$13^2))-$D$19)","v":1638.1170038336736},1364.9670038336735,2706.2491499881908,{"$f":"$D$3*$T$7*$AH$7*(AK201-$D$5)*(1/Sanierungsdesign!$E$15)/1000000","v":151.07854639566767},{"$f":"$D$5+(-Sanierungsdesign!$E$12/(4*PI()*$D$3))*(-LN((4*$D$4*AH201)/(Sanierungsdesign!$E$13+Sanierungsdesign!$E$15)^2)-$D$19)","v":312.69918255301923},39.54918255301925,{"$f":"(2*PI()*Sanierungsdesign!$E$10*$D$3)*(LN((Sanierungsdesign!$E$13+Sanierungsdesign!$E$15)/Sanierungsdesign!$E$13)*(AJ201-AN201))*$AH$7/1000000","v":118.33196732490508},2419.1483969033338,5460.0179318108248,{"$f":"AU201/Sanierungsdesign!$E$11","v":0.97900692397404598},1123200,7.8320553917923679,{"$error":"#DIV/0!"},{"$error":"#DIV/0!"},{"$error":"#DIV/0!"},{"$error":"#DIV/0!"},{"$f":"(AY201/(AH201*Sanierungsdesign!$E$10))*1000000","v":{"$error":"#DIV/0!"}},{"$f":"AZ201/Sanierungsdesign!$E$12","v":{"$error":"#DIV/0!"}},{"$f":"$D$5+((-(Sanierungsdesign!$E$12)*MIN($BA$7:$BA$932))/(4*PI()*$D$3))*(-LN((4*$D$4*AH201)/(Sanierungsdesign!$E$13)^2)-$D$19)","v":{"$error":"#DIV/0!"}},{"$f":"(BB201-273.15)/Heterogenität!$D$4","v":{"$error":"#DIV/0!"}},{"$f":"IF(AI201<Berechnung!$D$7,AI201,#N/A)","v":{"$error":"#N/A"}}]
[null,null,null,null,null,null,null,null,null,null,null,null,null,null,null,null,null,null,null,null,null,null,null,null,null,null,null,null,null,null,null,null,{"$f":"Sanierungsdesign!$E$12*AH202*Sanierungsdesign!$E$10/1000000","v":9172.7999999999993},1411200,16.333333333333332,{"$f":"$D$5+((-Sanierungsdesign!$E$12)/4*PI()*$D$3)*(-LN((4*$D$4*AH202)/(Sanierungsdesign!$E$13^2))-$D$19)","v":1645.2824218313922},1372.1324218313921,2720.5816550017571,{"$f":"$D$3*$T$7*$AH$7*(AK202-$D$5)*(1/Sanierungsdesign!$E$15)/1000000","v":152.07921557684753},{"$f":"$D$5+(-Sanierungsdesign!$E$12/(4*PI()*$D$3))*(-LN((4*$D$4*AH202)/(Sanierungsdesign!$E$13+Sanierungsdesign!$E$15)^2)-$D$19)","v":313.08486827539093},39.934868275390954,{"$f":"(2*PI()*Sanierungsdesign!$E$10*$D$3)*(LN((Sanierungsdesign!$E$13+Sanierungsdesign!$E$15)/Sanierungsdesign!$E$13)*(AJ202-AN202))*$AH$7/1000000","v":118.93725498981875},2431.554286118223,5488.0180237688292,{"$f":"AU202/Sanierungsdesign!$E$11","v":0.98419182043719522},1128960,7.8735345634975618,{"$error":"#DIV/0!"},{"$error":"#DIV/0!"},{"$error":"#DIV/0!"},{"$error":"#DIV/0!"},{"$f":"(AY202/(AH202*Sanierungsdesign!$E$10))*1000000","v":{"$error":"#DIV/0!"}},{"$f":"AZ202/Sanierungsdesign!$E$12","v":{"$error":"#DIV/0!"}},{"$f":"$D$5+((-(Sanierungsdesign!$E$12)*MIN($BA$7:$BA$932))/(4*PI()*$D$3))*(-LN((4*$D$4*AH202)/(Sanierungsdesign!$E$13)^2)-$D$19)","v":{"$error":"#DIV/0!"}},{"$f":"(BB202-273.15)/Heterogenität!$D$4","v":{"$error":"#DIV/0!"}},{"$f":"IF(AI202<Berechnung!$D$7,AI202,#N/A)","v":{"$error":"#N/A"}}]
[null,null,null,null,null,null,null,null,null,null,null,null,null,null,null,null,null,null,null,null,null,null,null,null,null,null,null,null,null,null,null,null,{"$f":"Sanierungsdesign!$E$12*AH203*Sanierungsdesign!$E$10/1000000","v":9219.6},1418400,16.416666666666668,{"$f":"$D$5+((-Sanierungsdesign!$E$12)/4*PI()*$D$3)*(-LN((4*$D$4*AH203)/(Sanierungsdesign!$E$13^2))-$D$19)","v":1652.4113744397669},1379.2613744397668,2734.8412207428678,{"$f":"$D$3*$T$7*$AH$7*(AK203-$D$5)*(1/Sanierungsdesign!$E$15)/1000000","v":153.07479227196336},{"$f":"$D$5+(-Sanierungsdesign!$E$12/(4*PI()*$D$3))*(-LN((4*$D$4*AH203)/(Sanierungsdesign!$E$13+Sanierungsdesign!$E$15)^2)-$D$19)","v":313.46859121205563},40.318591212055651,{"$f":"(2*PI()*Sanierungsdesign!$E$10*$D$3)*(LN((Sanierungsdesign!$E$13+Sanierungsdesign!$E$15)/Sanierungsdesign!$E$13)*(AJ203-AN203))*$AH$7/1000000","v":119.53946229705154},2443.9601753331117,5516.0181157268335,{"$f":"AU203/Sanierungsdesign!$E$11","v":0.98935033054461519},1134720,7.9148026443569215,{"$error":"#DIV/0!"},{"$error":"#DIV/0!"},{"$error":"#DIV/0!"},{"$error":"#DIV/0!"},{"$f":"(AY203/(AH203*Sanierungsdesign!$E$10))*1000000","v":{"$error":"#DIV/0!"}},{"$f":"AZ203/Sanierungsdesign!$E$12","v":{"$error":"#DIV/0!"}},{"$f":"$D$5+((-(Sanierungsdesign!$E$12)*MIN($BA$7:$BA$932))/(4*PI()*$D$3))*(-LN((4*$D$4*AH203)/(Sanierungsdesign!$E$13)^2)-$D$19)","v":{"$error":"#DIV/0!"}},{"$f":"(BB203-273.15)/Heterogenität!$D$4","v":{"$error":"#DIV/0!"}},{"$f":"IF(AI203<Berechnung!$D$7,AI203,#N/A)","v":{"$error":"#N/A"}}]
[null,null,null,null,null,null,null,null,null,null,null,null,null,null,null,null,null,null,null,null,null,null,null,null,null,null,null,null,null,null,null,null,{"$f":"Sanierungsdesign!$E$12*AH204*Sanierungsdesign!$E$10/1000000","v":9266.4},1425600,16.5,{"$f":"$D$5+((-Sanierungsdesign!$E$12)/4*PI()*$D$3)*(-LN((4*$D$4*AH204)/(Sanierungsdesign!$E$13^2))-$D$19)","v":1659.5042309309424},1386.3542309309423,2749.0285858418265,{"$f":"$D$3*$T$7*$AH$7*(AK204-$D$5)*(1/Sanierungsdesign!$E$15)/1000000","v":154.06532805082662},{"$f":"$D$5+(-Sanierungsdesign!$E$12/(4*PI()*$D$3))*(-LN((4*$D$4*AH204)/(Sanierungsdesign!$E$13+Sanierungsdesign!$E$15)^2)-$D$19)","v":313.85037123945239},40.700371239452409,{"$f":"(2*PI()*Sanierungsdesign!$E$10*$D$3)*(LN((Sanierungsdesign!$E$13+Sanierungsdesign!$E$15)/Sanierungsdesign!$E$13)*(AJ204-AN204))*$AH$7/1000000","v":120.1386204402999},2456.3660645480004,5544.0182076848378,{"$f":"AU204/Sanierungsdesign!$E$11","v":0.99448272150162964},1140480,7.9558617720130371,{"$error":"#DIV/0!"},{"$error":"#DIV/0!"},{"$error":"#DIV/0!"},{"$error":"#DIV/0!"},{"$f":"(AY204/(AH204*Sanierungsdesign!$E$10))*1000000","v":{"$error":"#DIV/0!"}},{"$f":"AZ204/Sanierungsdesign!$E$12","v":{"$error":"#DIV/0!"}},{"$f":"$D$5+((-(Sanierungsdesign!$E$12)*MIN($BA$7:$BA$932))/(4*PI()*$D$3))*(-LN((4*$D$4*AH204)/(Sanierungsdesign!$E$13)^2)-$D$19)","v":{"$error":"#DIV/0!"}},{"$f":"(BB204-273.15)/Heterogenität!$D$4","v":{"$error":"#DIV/0!"}},{"$f":"IF(AI204<Berechnung!$D$7,AI204,#N/A)","v":{"$error":"#N/A"}}]
[null,null,null,null,null,null,null,null,null,null,null,null,null,null,null,null,null,null,null,null,null,null,null,null,null,null,null,null,null,null,null,null,{"$f":"Sanierungsdesign!$E$12*AH205*Sanierungsdesign!$E$10/1000000","v":9313.2000000000007},1432800,16.583333333333332,{"$f":"$D$5+((-Sanierungsdesign!$E$12)/4*PI()*$D$3)*(-LN((4*$D$4*AH205)/(Sanierungsdesign!$E$13^2))-$D$19)","v":1666.5613549960772},1393.4113549960771,2763.144477765662,{"$f":"$D$3*$T$7*$AH$7*(AK205-$D$5)*(1/Sanierungsdesign!$E$15)/1000000","v":155.05087370384942},{"$f":"$D$5+(-Sanierungsdesign!$E$12/(4*PI()*$D$3))*(-LN((4*$D$4*AH205)/(Sanierungsdesign!$E$13+Sanierungsdesign!$E$15)^2)-$D$19)","v":314.23022793361804},41.080227933618062,{"$f":"(2*PI()*Sanierungsdesign!$E$10*$D$3)*(LN((Sanierungsdesign!$E$13+Sanierungsdesign!$E$15)/Sanierungsdesign!$E$13)*(AJ205-AN205))*$AH$7/1000000","v":120.7347601418151},2468.7719537628896,5572.0182996428412,{"$f":"AU205/Sanierungsdesign!$E$11","v":0.99958925647516128},1146240,7.9967140518012902,{"$error":"#DIV/0!"},{"$error":"#DIV/0!"},{"$error":"#DIV/0!"},{"$error":"#DIV/0!"},{"$f":"(AY205/(AH205*Sanierungsdesign!$E$10))*1000000","v":{"$error":"#DIV/0!"}},{"$f":"AZ205/Sanierungsdesign!$E$12","v":{"$error":"#DIV/0!"}},{"$f":"$D$5+((-(Sanierungsdesign!$E$12)*MIN($BA$7:$BA$932))/(4*PI()*$D$3))*(-LN((4*$D$4*AH205)/(Sanierungsdesign!$E$13)^2)-$D$19)","v":{"$error":"#DIV/0!"}},{"$f":"(BB205-273.15)/Heterogenität!$D$4","v":{"$error":"#DIV/0!"}},{"$f":"IF(AI205<Berechnung!$D$7,AI205,#N/A)","v":{"$error":"#N/A"}}]
[null,null,null,null,null,null,null,null,null,null,null,null,null,null,null,null,null,null,null,null,null,null,null,null,null,null,null,null,null,null,null,null,{"$f":"Sanierungsdesign!$E$12*AH206*Sanierungsdesign!$E$10/1000000","v":9360},1440000,16.666666666666668,{"$f":"$D$5+((-Sanierungsdesign!$E$12)/4*PI()*$D$3)*(-LN((4*$D$4*AH206)/(Sanierungsdesign!$E$13^2))-$D$19)","v":1673.5831048572422},1400.4331048572421,2777.1896130419573,{"$f":"$D$3*$T$7*$AH$7*(AK206-$D$5)*(1/Sanierungsdesign!$E$15)/1000000","v":156.0314792576718},{"$f":"$D$5+(-Sanierungsdesign!$E$12/(4*PI()*$D$3))*(-LN((4*$D$4*AH206)/(Sanierungsdesign!$E$13+Sanierungsdesign!$E$15)^2)-$D$19)","v":314.60818057621037},41.458180576210395,{"$f":"(2*PI()*Sanierungsdesign!$E$10*$D$3)*(LN((Sanierungsdesign!$E$13+Sanierungsdesign!$E$15)/Sanierungsdesign!$E$13)*(AJ206-AN206))*$AH$7/1000000","v":121.32791166185564},2481.1778429777783,5600.0183916008455,{"$f":"AU206/Sanierungsdesign!$E$11","v":1.0046701946747003},1152000,8.0373615573976025,{"$error":"#DIV/0!"},{"$error":"#DIV/0!"},{"$error":"#DIV/0!"},{"$error":"#DIV/0!"},{"$f":"(AY206/(AH206*Sanierungsdesign!$E$10))*1000000","v":{"$error":"#DIV/0!"}},{"$f":"AZ206/Sanierungsdesign!$E$12","v":{"$error":"#DIV/0!"}},{"$f":"$D$5+((-(Sanierungsdesign!$E$12)*MIN($BA$7:$BA$932))/(4*PI()*$D$3))*(-LN((4*$D$4*AH206)/(Sanierungsdesign!$E$13)^2)-$D$19)","v":{"$error":"#DIV/0!"}},{"$f":"(BB206-273.15)/Heterogenität!$D$4","v":{"$error":"#DIV/0!"}},{"$f":"IF(AI206<Berechnung!$D$7,AI206,#N/A)","v":{"$error":"#N/A"}}]
[null,null,null,null,null,null,null,null,null,null,null,null,null,null,null,null,null,null,null,null,null,null,null,null,null,null,null,null,null,null,null,null,{"$f":"Sanierungsdesign!$E$12*AH207*Sanierungsdesign!$E$10/1000000","v":9406.7999999999993},1447200,16.75,{"$f":"$D$5+((-Sanierungsdesign!$E$12)/4*PI()*$D$3)*(-LN((4*$D$4*AH207)/(Sanierungsdesign!$E$13^2))-$D$19)","v":1680.5698333765326},1407.4198333765326,2791.1646974770929,{"$f":"$D$3*$T$7*$AH$7*(AK207-$D$5)*(1/Sanierungsdesign!$E$15)/1000000","v":157.0071939903992},{"$f":"$D$5+(-Sanierungsdesign!$E$12/(4*PI()*$D$3))*(-LN((4*$D$4*AH207)/(Sanierungsdesign!$E$13+Sanierungsdesign!$E$15)^2)-$D$19)","v":314.98424816038141},41.834248160381435,{"$f":"(2*PI()*Sanierungsdesign!$E$10*$D$3)*(LN((Sanierungsdesign!$E$13+Sanierungsdesign!$E$15)/Sanierungsdesign!$E$13)*(AJ207-AN207))*$AH$7/1000000","v":121.9181048079043},2493.5837321926674,5628.0184835588507,{"$f":"AU207/Sanierungsdesign!$E$11","v":1.0097257914312587},1157760,8.0778063314500699,{"$error":"#DIV/0!"},{"$error":"#DIV/0!"},{"$error":"#DIV/0!"},{"$error":"#DIV/0!"},{"$f":"(AY207/(AH207*Sanierungsdesign!$E$10))*1000000","v":{"$error":"#DIV/0!"}},{"$f":"AZ207/Sanierungsdesign!$E$12","v":{"$error":"#DIV/0!"}},{"$f":"$D$5+((-(Sanierungsdesign!$E$12)*MIN($BA$7:$BA$932))/(4*PI()*$D$3))*(-LN((4*$D$4*AH207)/(Sanierungsdesign!$E$13)^2)-$D$19)","v":{"$error":"#DIV/0!"}},{"$f":"(BB207-273.15)/Heterogenität!$D$4","v":{"$error":"#DIV/0!"}},{"$f":"IF(AI207<Berechnung!$D$7,AI207,#N/A)","v":{"$error":"#N/A"}}]
[null,null,null,null,null,null,null,null,null,null,null,null,null,null,null,null,null,null,null,null,null,null,null,null,null,null,null,null,null,null,null,null,{"$f":"Sanierungsdesign!$E$12*AH208*Sanierungsdesign!$E$10/1000000","v":9453.6},1454400,16.833333333333332,{"$f":"$D$5+((-Sanierungsdesign!$E$12)/4*PI()*$D$3)*(-LN((4*$D$4*AH208)/(Sanierungsdesign!$E$13^2))-$D$19)","v":1687.5218881624701},1414.37188816247,2805.0704263690795,{"$f":"$D$3*$T$7*$AH$7*(AK208-$D$5)*(1/Sanierungsdesign!$E$15)/1000000","v":157.97806644646201},{"$f":"$D$5+(-Sanierungsdesign!$E$12/(4*PI()*$D$3))*(-LN((4*$D$4*AH208)/(Sanierungsdesign!$E$13+Sanierungsdesign!$E$15)^2)-$D$19)","v":315.35844939650411},42.208449396504136,{"$f":"(2*PI()*Sanierungsdesign!$E$10*$D$3)*(LN((Sanierungsdesign!$E$13+Sanierungsdesign!$E$15)/Sanierungsdesign!$E$13)*(AJ208-AN208))*$AH$7/1000000","v":122.50536894365629},2505.9896214075561,5656.0185755168541,{"$f":"AU208/Sanierungsdesign!$E$11","v":1.0147562982743632},1163520,8.1180503861949056,{"$error":"#DIV/0!"},{"$error":"#DIV/0!"},{"$error":"#DIV/0!"},{"$error":"#DIV/0!"},{"$f":"(AY208/(AH208*Sanierungsdesign!$E$10))*1000000","v":{"$error":"#DIV/0!"}},{"$f":"AZ208/Sanierungsdesign!$E$12","v":{"$error":"#DIV/0!"}},{"$f":"$D$5+((-(Sanierungsdesign!$E$12)*MIN($BA$7:$BA$932))/(4*PI()*$D$3))*(-LN((4*$D$4*AH208)/(Sanierungsdesign!$E$13)^2)-$D$19)","v":{"$error":"#DIV/0!"}},{"$f":"(BB208-273.15)/Heterogenität!$D$4","v":{"$error":"#DIV/0!"}},{"$f":"IF(AI208<Berechnung!$D$7,AI208,#N/A)","v":{"$error":"#N/A"}}]
[null,null,null,null,null,null,null,null,null,null,null,null,null,null,null,null,null,null,null,null,null,null,null,null,null,null,null,null,null,null,null,null,{"$f":"Sanierungsdesign!$E$12*AH209*Sanierungsdesign!$E$10/1000000","v":9500.4},1461600,16.916666666666668,{"$f":"$D$5+((-Sanierungsdesign!$E$12)/4*PI()*$D$3)*(-LN((4*$D$4*AH209)/(Sanierungsdesign!$E$13^2))-$D$19)","v":1694.4396116737794},1421.2896116737793,2818.9074847151346,{"$f":"$D$3*$T$7*$AH$7*(AK209-$D$5)*(1/Sanierungsdesign!$E$15)/1000000","v":158.944144451108},{"$f":"$D$5+(-Sanierungsdesign!$E$12/(4*PI()*$D$3))*(-LN((4*$D$4*AH209)/(Sanierungsdesign!$E$13+Sanierungsdesign!$E$15)^2)-$D$19)","v":315.73080271775859},42.580802717758615,{"$f":"(2*PI()*Sanierungsdesign!$E$10*$D$3)*(LN((Sanierungsdesign!$E$13+Sanierungsdesign!$E$15)/Sanierungsdesign!$E$13)*(AJ209-AN209))*$AH$7/1000000","v":123.0897329977857},2518.3955106224453,5684.0186674748593,{"$f":"AU209/Sanierungsdesign!$E$11","v":1.0197619630071466},1169280,8.1580957040571729,{"$error":"#DIV/0!"},{"$error":"#DIV/0!"},{"$error":"#DIV/0!"},{"$error":"#DIV/0!"},{"$f":"(AY209/(AH209*Sanierungsdesign!$E$10))*1000000","v":{"$error":"#DIV/0!"}},{"$f":"AZ209/Sanierungsdesign!$E$12","v":{"$error":"#DIV/0!"}},{"$f":"$D$5+((-(Sanierungsdesign!$E$12)*MIN($BA$7:$BA$932))/(4*PI()*$D$3))*(-LN((4*$D$4*AH209)/(Sanierungsdesign!$E$13)^2)-$D$19)","v":{"$error":"#DIV/0!"}},{"$f":"(BB209-273.15)/Heterogenität!$D$4","v":{"$error":"#DIV/0!"}},{"$f":"IF(AI209<Berechnung!$D$7,AI209,#N/A)","v":{"$error":"#N/A"}}]
[null,null,null,null,null,null,null,null,null,null,null,null,null,null,null,null,null,null,null,null,null,null,null,null,null,null,null,null,null,null,null,null,{"$f":"Sanierungsdesign!$E$12*AH210*Sanierungsdesign!$E$10/1000000","v":9547.2000000000007},1468800,17,{"$f":"$D$5+((-Sanierungsdesign!$E$12)/4*PI()*$D$3)*(-LN((4*$D$4*AH210)/(Sanierungsdesign!$E$13^2))-$D$19)","v":1701.3233413206112},1428.1733413206111,2832.6765474141516,{"$f":"$D$3*$T$7*$AH$7*(AK210-$D$5)*(1/Sanierungsdesign!$E$15)/1000000","v":159.90547512453861},{"$f":"$D$5+(-Sanierungsdesign!$E$12/(4*PI()*$D$3))*(-LN((4*$D$4*AH210)/(Sanierungsdesign!$E$13+Sanierungsdesign!$E$15)^2)-$D$19)","v":316.10132628558051},42.951326285580535,{"$f":"(2*PI()*Sanierungsdesign!$E$10*$D$3)*(LN((Sanierungsdesign!$E$13+Sanierungsdesign!$E$15)/Sanierungsdesign!$E$13)*(AJ210-AN210))*$AH$7/1000000","v":123.67122547249615},2530.801399837334,5712.0187594328636,{"$f":"AU210/Sanierungsdesign!$E$11","v":1.0247430297795941},1175040,8.1979442382367527,{"$error":"#DIV/0!"},{"$error":"#DIV/0!"},{"$error":"#DIV/0!"},{"$error":"#DIV/0!"},{"$f":"(AY210/(AH210*Sanierungsdesign!$E$10))*1000000","v":{"$error":"#DIV/0!"}},{"$f":"AZ210/Sanierungsdesign!$E$12","v":{"$error":"#DIV/0!"}},{"$f":"$D$5+((-(Sanierungsdesign!$E$12)*MIN($BA$7:$BA$932))/(4*PI()*$D$3))*(-LN((4*$D$4*AH210)/(Sanierungsdesign!$E$13)^2)-$D$19)","v":{"$error":"#DIV/0!"}},{"$f":"(BB210-273.15)/Heterogenität!$D$4","v":{"$error":"#DIV/0!"}},{"$f":"IF(AI210<Berechnung!$D$7,AI210,#N/A)","v":{"$error":"#N/A"}}]
[null,null,null,null,null,null,null,null,null,null,null,null,null,null,null,null,null,null,null,null,null,null,null,null,null,null,null,null,null,null,null,null,{"$f":"Sanierungsdesign!$E$12*AH211*Sanierungsdesign!$E$10/1000000","v":9594},1476000,17.083333333333332,{"$f":"$D$5+((-Sanierungsdesign!$E$12)/4*PI()*$D$3)*(-LN((4*$D$4*AH211)/(Sanierungsdesign!$E$13^2))-$D$19)","v":1708.173409563296},1435.0234095632959,2846.3782794642307,{"$f":"$D$3*$T$7*$AH$7*(AK211-$D$5)*(1/Sanierungsdesign!$E$15)/1000000","v":160.86210489570004},{"$f":"$D$5+(-Sanierungsdesign!$E$12/(4*PI()*$D$3))*(-LN((4*$D$4*AH211)/(Sanierungsdesign!$E$13+Sanierungsdesign!$E$15)^2)-$D$19)","v":316.47003799497645},43.320037994976474,{"$f":"(2*PI()*Sanierungsdesign!$E$10*$D$3)*(LN((Sanierungsdesign!$E$13+Sanierungsdesign!$E$15)/Sanierungsdesign!$E$13)*(AJ211-AN211))*$AH$7/1000000","v":124.24987445186267},2543.2072890522227,5740.0188513908661,{"$f":"AU211/Sanierungsdesign!$E$11","v":1.0296997391600009},1180800,8.2375979132800072,{"$error":"#DIV/0!"},{"$error":"#DIV/0!"},{"$error":"#DIV/0!"},{"$error":"#DIV/0!"},{"$f":"(AY211/(AH211*Sanierungsdesign!$E$10))*1000000","v":{"$error":"#DIV/0!"}},{"$f":"AZ211/Sanierungsdesign!$E$12","v":{"$error":"#DIV/0!"}},{"$f":"$D$5+((-(Sanierungsdesign!$E$12)*MIN($BA$7:$BA$932))/(4*PI()*$D$3))*(-LN((4*$D$4*AH211)/(Sanierungsdesign!$E$13)^2)-$D$19)","v":{"$error":"#DIV/0!"}},{"$f":"(BB211-273.15)/Heterogenität!$D$4","v":{"$error":"#DIV/0!"}},{"$f":"IF(AI211<Berechnung!$D$7,AI211,#N/A)","v":{"$error":"#N/A"}}]
[null,null,null,null,null,null,null,null,null,null,null,null,null,null,null,null,null,null,null,null,null,null,null,null,null,null,null,null,null,null,null,null,{"$f":"Sanierungsdesign!$E$12*AH212*Sanierungsdesign!$E$10/1000000","v":9640.7999999999993},1483200,17.166666666666668,{"$f":"$D$5+((-Sanierungsdesign!$E$12)/4*PI()*$D$3)*(-LN((4*$D$4*AH212)/(Sanierungsdesign!$E$13^2))-$D$19)","v":1714.9901440086883},1441.8401440086882,2860.0133361553885,{"$f":"$D$3*$T$7*$AH$7*(AK212-$D$5)*(1/Sanierungsdesign!$E$15)/1000000","v":161.81407951573797},{"$f":"$D$5+(-Sanierungsdesign!$E$12/(4*PI()*$D$3))*(-LN((4*$D$4*AH212)/(Sanierungsdesign!$E$13+Sanierungsdesign!$E$15)^2)-$D$19)","v":316.83695547971001},43.686955479710036,{"$f":"(2*PI()*Sanierungsdesign!$E$10*$D$3)*(LN((Sanierungsdesign!$E$13+Sanierungsdesign!$E$15)/Sanierungsdesign!$E$13)*(AJ212-AN212))*$AH$7/1000000","v":124.82570760997037},2555.6131782671118,5768.0189433488713,{"$f":"AU212/Sanierungsdesign!$E$11","v":1.0346323282046865},1186560,8.2770586256374923,{"$error":"#DIV/0!"},{"$error":"#DIV/0!"},{"$error":"#DIV/0!"},{"$error":"#DIV/0!"},{"$f":"(AY212/(AH212*Sanierungsdesign!$E$10))*1000000","v":{"$error":"#DIV/0!"}},{"$f":"AZ212/Sanierungsdesign!$E$12","v":{"$error":"#DIV/0!"}},{"$f":"$D$5+((-(Sanierungsdesign!$E$12)*MIN($BA$7:$BA$932))/(4*PI()*$D$3))*(-LN((4*$D$4*AH212)/(Sanierungsdesign!$E$13)^2)-$D$19)","v":{"$error":"#DIV/0!"}},{"$f":"(BB212-273.15)/Heterogenität!$D$4","v":{"$error":"#DIV/0!"}},{"$f":"IF(AI212<Berechnung!$D$7,AI212,#N/A)","v":{"$error":"#N/A"}}]
[null,null,null,null,null,null,null,null,null,null,null,null,null,null,null,null,null,null,null,null,null,null,null,null,null,null,null,null,null,null,null,null,{"$f":"Sanierungsdesign!$E$12*AH213*Sanierungsdesign!$E$10/1000000","v":9687.6},1490400,17.25,{"$f":"$D$5+((-Sanierungsdesign!$E$12)/4*PI()*$D$3)*(-LN((4*$D$4*AH213)/(Sanierungsdesign!$E$13^2))-$D$19)","v":1721.7738675041851},1448.623867504185,2873.5823632576189,{"$f":"$D$3*$T$7*$AH$7*(AK213-$D$5)*(1/Sanierungsdesign!$E$15)/1000000","v":162.76144407112756},{"$f":"$D$5+(-Sanierungsdesign!$E$12/(4*PI()*$D$3))*(-LN((4*$D$4*AH213)/(Sanierungsdesign!$E$13+Sanierungsdesign!$E$15)^2)-$D$19)","v":317.20209611736203},44.052096117362055,{"$f":"(2*PI()*Sanierungsdesign!$E$10*$D$3)*(LN((Sanierungsdesign!$E$13+Sanierungsdesign!$E$15)/Sanierungsdesign!$E$13)*(AJ213-AN213))*$AH$7/1000000","v":125.39875221885661},2568.0190674820005,5796.0190353068756,{"$f":"AU213/Sanierungsdesign!$E$11","v":1.0395410305260282},1192320,8.3163282442082256,{"$error":"#DIV/0!"},{"$error":"#DIV/0!"},{"$error":"#DIV/0!"},{"$error":"#DIV/0!"},{"$f":"(AY213/(AH213*Sanierungsdesign!$E$10))*1000000","v":{"$error":"#DIV/0!"}},{"$f":"AZ213/Sanierungsdesign!$E$12","v":{"$error":"#DIV/0!"}},{"$f":"$D$5+((-(Sanierungsdesign!$E$12)*MIN($BA$7:$BA$932))/(4*PI()*$D$3))*(-LN((4*$D$4*AH213)/(Sanierungsdesign!$E$13)^2)-$D$19)","v":{"$error":"#DIV/0!"}},{"$f":"(BB213-273.15)/Heterogenität!$D$4","v":{"$error":"#DIV/0!"}},{"$f":"IF(AI213<Berechnung!$D$7,AI213,#N/A)","v":{"$error":"#N/A"}}]
[null,null,null,null,null,null,null,null,null,null,null,null,null,null,null,null,null,null,null,null,null,null,null,null,null,null,null,null,null,null,null,null,{"$f":"Sanierungsdesign!$E$12*AH214*Sanierungsdesign!$E$10/1000000","v":9734.4},1497600,17.333333333333332,{"$f":"$D$5+((-Sanierungsdesign!$E$12)/4*PI()*$D$3)*(-LN((4*$D$4*AH214)/(Sanierungsdesign!$E$13^2))-$D$19)","v":1728.5248982294729},1455.3748982294728,2887.0859972044086,{"$f":"$D$3*$T$7*$AH$7*(AK214-$D$5)*(1/Sanierungsdesign!$E$15)/1000000","v":163.7042429964861},{"$f":"$D$5+(-Sanierungsdesign!$E$12/(4*PI()*$D$3))*(-LN((4*$D$4*AH214)/(Sanierungsdesign!$E$13+Sanierungsdesign!$E$15)^2)-$D$19)","v":317.56547703426952},44.415477034269543,{"$f":"(2*PI()*Sanierungsdesign!$E$10*$D$3)*(LN((Sanierungsdesign!$E$13+Sanierungsdesign!$E$15)/Sanierungsdesign!$E$13)*(AJ214-AN214))*$AH$7/1000000","v":125.96903515626113},2580.4249566968897,5824.0191272648799,{"$f":"AU214/Sanierungsdesign!$E$11","v":1.0444260763588464},1198080,8.3554086108707715,{"$error":"#DIV/0!"},{"$error":"#DIV/0!"},{"$error":"#DIV/0!"},{"$error":"#DIV/0!"},{"$f":"(AY214/(AH214*Sanierungsdesign!$E$10))*1000000","v":{"$error":"#DIV/0!"}},{"$f":"AZ214/Sanierungsdesign!$E$12","v":{"$error":"#DIV/0!"}},{"$f":"$D$5+((-(Sanierungsdesign!$E$12)*MIN($BA$7:$BA$932))/(4*PI()*$D$3))*(-LN((4*$D$4*AH214)/(Sanierungsdesign!$E$13)^2)-$D$19)","v":{"$error":"#DIV/0!"}},{"$f":"(BB214-273.15)/Heterogenität!$D$4","v":{"$error":"#DIV/0!"}},{"$f":"IF(AI214<Berechnung!$D$7,AI214,#N/A)","v":{"$error":"#N/A"}}]
[null,null,null,null,null,null,null,null,null,null,null,null,null,null,null,null,null,null,null,null,null,null,null,null,null,null,null,null,null,null,null,null,{"$f":"Sanierungsdesign!$E$12*AH215*Sanierungsdesign!$E$10/1000000","v":9781.2000000000007},1504800,17.416666666666668,{"$f":"$D$5+((-Sanierungsdesign!$E$12)/4*PI()*$D$3)*(-LN((4*$D$4*AH215)/(Sanierungsdesign!$E$13^2))-$D$19)","v":1735.2435497860779},1462.0935497860778,2900.5248652718547,{"$f":"$D$3*$T$7*$AH$7*(AK215-$D$5)*(1/Sanierungsdesign!$E$15)/1000000","v":164.64252008707891},{"$f":"$D$5+(-Sanierungsdesign!$E$12/(4*PI()*$D$3))*(-LN((4*$D$4*AH215)/(Sanierungsdesign!$E$13+Sanierungsdesign!$E$15)^2)-$D$19)","v":317.9271151103452},44.777115110345221,{"$f":"(2*PI()*Sanierungsdesign!$E$10*$D$3)*(LN((Sanierungsdesign!$E$13+Sanierungsdesign!$E$15)/Sanierungsdesign!$E$13)*(AJ215-AN215))*$AH$7/1000000","v":126.53658291319044},2592.8308459117784,5852.0192192228842,{"$f":"AU215/Sanierungsdesign!$E$11","v":1.0492876926252057},1203840,8.3943015410016457,{"$error":"#DIV/0!"},{"$error":"#DIV/0!"},{"$error":"#DIV/0!"},{"$error":"#DIV/0!"},{"$f":"(AY215/(AH215*Sanierungsdesign!$E$10))*1000000","v":{"$error":"#DIV/0!"}},{"$f":"AZ215/Sanierungsdesign!$E$12","v":{"$error":"#DIV/0!"}},{"$f":"$D$5+((-(Sanierungsdesign!$E$12)*MIN($BA$7:$BA$932))/(4*PI()*$D$3))*(-LN((4*$D$4*AH215)/(Sanierungsdesign!$E$13)^2)-$D$19)","v":{"$error":"#DIV/0!"}},{"$f":"(BB215-273.15)/Heterogenität!$D$4","v":{"$error":"#DIV/0!"}},{"$f":"IF(AI215<Berechnung!$D$7,AI215,#N/A)","v":{"$error":"#N/A"}}]
[null,null,null,null,null,null,null,null,null,null,null,null,null,null,null,null,null,null,null,null,null,null,null,null,null,null,null,null,null,null,null,null,{"$f":"Sanierungsdesign!$E$12*AH216*Sanierungsdesign!$E$10/1000000","v":9828},1512000,17.5,{"$f":"$D$5+((-Sanierungsdesign!$E$12)/4*PI()*$D$3)*(-LN((4*$D$4*AH216)/(Sanierungsdesign!$E$13^2))-$D$19)","v":1741.9301312847788},1468.7801312847787,2913.899585753516,{"$f":"$D$3*$T$7*$AH$7*(AK216-$D$5)*(1/Sanierungsdesign!$E$15)/1000000","v":165.57631851102676},{"$f":"$D$5+(-Sanierungsdesign!$E$12/(4*PI()*$D$3))*(-LN((4*$D$4*AH216)/(Sanierungsdesign!$E$13+Sanierungsdesign!$E$15)^2)-$D$19)","v":318.28702698378299},45.137026983783016,{"$f":"(2*PI()*Sanierungsdesign!$E$10*$D$3)*(LN((Sanierungsdesign!$E$13+Sanierungsdesign!$E$15)/Sanierungsdesign!$E$13)*(AJ216-AN216))*$AH$7/1000000","v":127.10142160130219},2605.2367351266671,5880.0193111808876,{"$f":"AU216/Sanierungsdesign!$E$11","v":1.0541261029976658},1209600,8.4330088239813268,{"$error":"#DIV/0!"},{"$error":"#DIV/0!"},{"$error":"#DIV/0!"},{"$error":"#DIV/0!"},{"$f":"(AY216/(AH216*Sanierungsdesign!$E$10))*1000000","v":{"$error":"#DIV/0!"}},{"$f":"AZ216/Sanierungsdesign!$E$12","v":{"$error":"#DIV/0!"}},{"$f":"$D$5+((-(Sanierungsdesign!$E$12)*MIN($BA$7:$BA$932))/(4*PI()*$D$3))*(-LN((4*$D$4*AH216)/(Sanierungsdesign!$E$13)^2)-$D$19)","v":{"$error":"#DIV/0!"}},{"$f":"(BB216-273.15)/Heterogenität!$D$4","v":{"$error":"#DIV/0!"}},{"$f":"IF(AI216<Berechnung!$D$7,AI216,#N/A)","v":{"$error":"#N/A"}}]
[null,null,null,null,null,null,null,null,null,null,null,null,null,null,null,null,null,null,null,null,null,null,null,null,null,null,null,null,null,null,null,null,{"$f":"Sanierungsdesign!$E$12*AH217*Sanierungsdesign!$E$10/1000000","v":9874.7999999999993},1519200,17.583333333333332,{"$f":"$D$5+((-Sanierungsdesign!$E$12)/4*PI()*$D$3)*(-LN((4*$D$4*AH217)/(Sanierungsdesign!$E$13^2))-$D$19)","v":1748.5849474309402},1475.4349474309402,2927.2107681310954,{"$f":"$D$3*$T$7*$AH$7*(AK217-$D$5)*(1/Sanierungsdesign!$E$15)/1000000","v":166.50568082122305},{"$f":"$D$5+(-Sanierungsdesign!$E$12/(4*PI()*$D$3))*(-LN((4*$D$4*AH217)/(Sanierungsdesign!$E$13+Sanierungsdesign!$E$15)^2)-$D$19)","v":318.64522905565104},45.495229055651066,{"$f":"(2*PI()*Sanierungsdesign!$E$10*$D$3)*(LN((Sanierungsdesign!$E$13+Sanierungsdesign!$E$15)/Sanierungsdesign!$E$13)*(AJ217-AN217))*$AH$7/1000000","v":127.66357696011342},2617.6426243415563,5908.0194031388919,{"$f":"AU217/Sanierungsdesign!$E$11","v":1.0589415279610284},1215360,8.4715322236882269,{"$error":"#DIV/0!"},{"$error":"#DIV/0!"},{"$error":"#DIV/0!"},{"$error":"#DIV/0!"},{"$f":"(AY217/(AH217*Sanierungsdesign!$E$10))*1000000","v":{"$error":"#DIV/0!"}},{"$f":"AZ217/Sanierungsdesign!$E$12","v":{"$error":"#DIV/0!"}},{"$f":"$D$5+((-(Sanierungsdesign!$E$12)*MIN($BA$7:$BA$932))/(4*PI()*$D$3))*(-LN((4*$D$4*AH217)/(Sanierungsdesign!$E$13)^2)-$D$19)","v":{"$error":"#DIV/0!"}},{"$f":"(BB217-273.15)/Heterogenität!$D$4","v":{"$error":"#DIV/0!"}},{"$f":"IF(AI217<Berechnung!$D$7,AI217,#N/A)","v":{"$error":"#N/A"}}]
[null,null,null,null,null,null,null,null,null,null,null,null,null,null,null,null,null,null,null,null,null,null,null,null,null,null,null,null,null,null,null,null,{"$f":"Sanierungsdesign!$E$12*AH218*Sanierungsdesign!$E$10/1000000","v":9921.6},1526400,17.666666666666668,{"$f":"$D$5+((-Sanierungsdesign!$E$12)/4*PI()*$D$3)*(-LN((4*$D$4*AH218)/(Sanierungsdesign!$E$13^2))-$D$19)","v":1755.208298607834},1482.0582986078339,2940.4590132411035,{"$f":"$D$3*$T$7*$AH$7*(AK218-$D$5)*(1/Sanierungsdesign!$E$15)/1000000","v":167.43064896696964},{"$f":"$D$5+(-Sanierungsdesign!$E$12/(4*PI()*$D$3))*(-LN((4*$D$4*AH218)/(Sanierungsdesign!$E$13+Sanierungsdesign!$E$15)^2)-$D$19)","v":319.00173749437647},45.851737494376493,{"$f":"(2*PI()*Sanierungsdesign!$E$10*$D$3)*(LN((Sanierungsdesign!$E$13+Sanierungsdesign!$E$15)/Sanierungsdesign!$E$13)*(AJ218-AN218))*$AH$7/1000000","v":128.22307436403904},2630.048513556445,5936.0194950968962,{"$f":"AU218/Sanierungsdesign!$E$11","v":1.0637341848726285},1221120,8.509873478981028,{"$error":"#DIV/0!"},{"$error":"#DIV/0!"},{"$error":"#DIV/0!"},{"$error":"#DIV/0!"},{"$f":"(AY218/(AH218*Sanierungsdesign!$E$10))*1000000","v":{"$error":"#DIV/0!"}},{"$f":"AZ218/Sanierungsdesign!$E$12","v":{"$error":"#DIV/0!"}},{"$f":"$D$5+((-(Sanierungsdesign!$E$12)*MIN($BA$7:$BA$932))/(4*PI()*$D$3))*(-LN((4*$D$4*AH218)/(Sanierungsdesign!$E$13)^2)-$D$19)","v":{"$error":"#DIV/0!"}},{"$f":"(BB218-273.15)/Heterogenität!$D$4","v":{"$error":"#DIV/0!"}},{"$f":"IF(AI218<Berechnung!$D$7,AI218,#N/A)","v":{"$error":"#N/A"}}]
[null,null,null,null,null,null,null,null,null,null,null,null,null,null,null,null,null,null,null,null,null,null,null,null,null,null,null,null,null,null,null,null,{"$f":"Sanierungsdesign!$E$12*AH219*Sanierungsdesign!$E$10/1000000","v":9968.4},1533600,17.75,{"$f":"$D$5+((-Sanierungsdesign!$E$12)/4*PI()*$D$3)*(-LN((4*$D$4*AH219)/(Sanierungsdesign!$E$13^2))-$D$19)","v":1761.8004809579943},1488.6504809579942,2953.6449134375894,{"$f":"$D$3*$T$7*$AH$7*(AK219-$D$5)*(1/Sanierungsdesign!$E$15)/1000000","v":168.35126430533839},{"$f":"$D$5+(-Sanierungsdesign!$E$12/(4*PI()*$D$3))*(-LN((4*$D$4*AH219)/(Sanierungsdesign!$E$13+Sanierungsdesign!$E$15)^2)-$D$19)","v":319.3565682401246},46.206568240124625,{"$f":"(2*PI()*Sanierungsdesign!$E$10*$D$3)*(LN((Sanierungsdesign!$E$13+Sanierungsdesign!$E$15)/Sanierungsdesign!$E$13)*(AJ219-AN219))*$AH$7/1000000","v":128.77993882926413},2642.4544027713341,5964.0195870549014,{"$f":"AU219/Sanierungsdesign!$E$11","v":1.0685042880212046},1226880,8.5480343041696365,{"$error":"#DIV/0!"},{"$error":"#DIV/0!"},{"$error":"#DIV/0!"},{"$error":"#DIV/0!"},{"$f":"(AY219/(AH219*Sanierungsdesign!$E$10))*1000000","v":{"$error":"#DIV/0!"}},{"$f":"AZ219/Sanierungsdesign!$E$12","v":{"$error":"#DIV/0!"}},{"$f":"$D$5+((-(Sanierungsdesign!$E$12)*MIN($BA$7:$BA$932))/(4*PI()*$D$3))*(-LN((4*$D$4*AH219)/(Sanierungsdesign!$E$13)^2)-$D$19)","v":{"$error":"#DIV/0!"}},{"$f":"(BB219-273.15)/Heterogenität!$D$4","v":{"$error":"#DIV/0!"}},{"$f":"IF(AI219<Berechnung!$D$7,AI219,#N/A)","v":{"$error":"#N/A"}}]
[null,null,null,null,null,null,null,null,null,null,null,null,null,null,null,null,null,null,null,null,null,null,null,null,null,null,null,null,null,null,null,null,{"$f":"Sanierungsdesign!$E$12*AH220*Sanierungsdesign!$E$10/1000000","v":10015.200000000001},1540800,17.833333333333332,{"$f":"$D$5+((-Sanierungsdesign!$E$12)/4*PI()*$D$3)*(-LN((4*$D$4*AH220)/(Sanierungsdesign!$E$13^2))-$D$19)","v":1768.3617864626717},1495.2117864626716,2966.7690527510626,{"$f":"$D$3*$T$7*$AH$7*(AK220-$D$5)*(1/Sanierungsdesign!$E$15)/1000000","v":169.26756761226713},{"$f":"$D$5+(-Sanierungsdesign!$E$12/(4*PI()*$D$3))*(-LN((4*$D$4*AH220)/(Sanierungsdesign!$E$13+Sanierungsdesign!$E$15)^2)-$D$19)","v":319.70973700907552},46.559737009075548,{"$f":"(2*PI()*Sanierungsdesign!$E$10*$D$3)*(LN((Sanierungsdesign!$E$13+Sanierungsdesign!$E$15)/Sanierungsdesign!$E$13)*(AJ220-AN220))*$AH$7/1000000","v":129.33419502045575},2654.8602919862228,5992.0196790129048,{"$f":"AU220/Sanierungsdesign!$E$11","v":1.0732520486843891},1232640,8.5860163894751125,{"$error":"#DIV/0!"},{"$error":"#DIV/0!"},{"$error":"#DIV/0!"},{"$error":"#DIV/0!"},{"$f":"(AY220/(AH220*Sanierungsdesign!$E$10))*1000000","v":{"$error":"#DIV/0!"}},{"$f":"AZ220/Sanierungsdesign!$E$12","v":{"$error":"#DIV/0!"}},{"$f":"$D$5+((-(Sanierungsdesign!$E$12)*MIN($BA$7:$BA$932))/(4*PI()*$D$3))*(-LN((4*$D$4*AH220)/(Sanierungsdesign!$E$13)^2)-$D$19)","v":{"$error":"#DIV/0!"}},{"$f":"(BB220-273.15)/Heterogenität!$D$4","v":{"$error":"#DIV/0!"}},{"$f":"IF(AI220<Berechnung!$D$7,AI220,#N/A)","v":{"$error":"#N/A"}}]
[null,null,null,null,null,null,null,null,null,null,null,null,null,null,null,null,null,null,null,null,null,null,null,null,null,null,null,null,null,null,null,null,{"$f":"Sanierungsdesign!$E$12*AH221*Sanierungsdesign!$E$10/1000000","v":10062},1548000,17.916666666666668,{"$f":"$D$5+((-Sanierungsdesign!$E$12)/4*PI()*$D$3)*(-LN((4*$D$4*AH221)/(Sanierungsdesign!$E$13^2))-$D$19)","v":1774.8925030194328},1501.7425030194327,2979.8320070437171,{"$f":"$D$3*$T$7*$AH$7*(AK221-$D$5)*(1/Sanierungsdesign!$E$15)/1000000","v":170.17959909339669},{"$f":"$D$5+(-Sanierungsdesign!$E$12/(4*PI()*$D$3))*(-LN((4*$D$4*AH221)/(Sanierungsdesign!$E$13+Sanierungsdesign!$E$15)^2)-$D$19)","v":320.06125929760094},46.911259297600964,{"$f":"(2*PI()*Sanierungsdesign!$E$10*$D$3)*(LN((Sanierungsdesign!$E$13+Sanierungsdesign!$E$15)/Sanierungsdesign!$E$13)*(AJ221-AN221))*$AH$7/1000000","v":129.8858672573181},2667.266181201112,6020.01977097091,{"$f":"AU221/Sanierungsdesign!$E$11","v":1.0779776751848613},1238400,8.6238214014788905,{"$error":"#DIV/0!"},{"$error":"#DIV/0!"},{"$error":"#DIV/0!"},{"$error":"#DIV/0!"},{"$f":"(AY221/(AH221*Sanierungsdesign!$E$10))*1000000","v":{"$error":"#DIV/0!"}},{"$f":"AZ221/Sanierungsdesign!$E$12","v":{"$error":"#DIV/0!"}},{"$f":"$D$5+((-(Sanierungsdesign!$E$12)*MIN($BA$7:$BA$932))/(4*PI()*$D$3))*(-LN((4*$D$4*AH221)/(Sanierungsdesign!$E$13)^2)-$D$19)","v":{"$error":"#DIV/0!"}},{"$f":"(BB221-273.15)/Heterogenität!$D$4","v":{"$error":"#DIV/0!"}},{"$f":"IF(AI221<Berechnung!$D$7,AI221,#N/A)","v":{"$error":"#N/A"}}]
[null,null,null,null,null,null,null,null,null,null,null,null,null,null,null,null,null,null,null,null,null,null,null,null,null,null,null,null,null,null,null,null,{"$f":"Sanierungsdesign!$E$12*AH222*Sanierungsdesign!$E$10/1000000","v":10108.799999999999},1555200,18,{"$f":"$D$5+((-Sanierungsdesign!$E$12)/4*PI()*$D$3)*(-LN((4*$D$4*AH222)/(Sanierungsdesign!$E$13^2))-$D$19)","v":1781.3929145179609},1508.2429145179608,2992.8343441610436,{"$f":"$D$3*$T$7*$AH$7*(AK222-$D$5)*(1/Sanierungsdesign!$E$15)/1000000","v":171.08739839465662},{"$f":"$D$5+(-Sanierungsdesign!$E$12/(4*PI()*$D$3))*(-LN((4*$D$4*AH222)/(Sanierungsdesign!$E$13+Sanierungsdesign!$E$15)^2)-$D$19)","v":320.41115038634439},47.261150386344411,{"$f":"(2*PI()*Sanierungsdesign!$E$10*$D$3)*(LN((Sanierungsdesign!$E$13+Sanierungsdesign!$E$15)/Sanierungsdesign!$E$13)*(AJ222-AN222))*$AH$7/1000000","v":130.43497952099551},2679.6720704160007,6048.0198629289134,{"$f":"AU222/Sanierungsdesign!$E$11","v":1.0826813729451963},1244160,8.6614509835615703,{"$error":"#DIV/0!"},{"$error":"#DIV/0!"},{"$error":"#DIV/0!"},{"$error":"#DIV/0!"},{"$f":"(AY222/(AH222*Sanierungsdesign!$E$10))*1000000","v":{"$error":"#DIV/0!"}},{"$f":"AZ222/Sanierungsdesign!$E$12","v":{"$error":"#DIV/0!"}},{"$f":"$D$5+((-(Sanierungsdesign!$E$12)*MIN($BA$7:$BA$932))/(4*PI()*$D$3))*(-LN((4*$D$4*AH222)/(Sanierungsdesign!$E$13)^2)-$D$19)","v":{"$error":"#DIV/0!"}},{"$f":"(BB222-273.15)/Heterogenität!$D$4","v":{"$error":"#DIV/0!"}},{"$f":"IF(AI222<Berechnung!$D$7,AI222,#N/A)","v":{"$error":"#N/A"}}]
[null,null,null,null,null,null,null,null,null,null,null,null,null,null,null,null,null,null,null,null,null,null,null,null,null,null,null,null,null,null,null,null,{"$f":"Sanierungsdesign!$E$12*AH223*Sanierungsdesign!$E$10/1000000","v":10155.6},1562400,18.083333333333332,{"$f":"$D$5+((-Sanierungsdesign!$E$12)/4*PI()*$D$3)*(-LN((4*$D$4*AH223)/(Sanierungsdesign!$E$13^2))-$D$19)","v":1787.8633009141054},1514.7133009141053,3005.7766240799515,{"$f":"$D$3*$T$7*$AH$7*(AK223-$D$5)*(1/Sanierungsdesign!$E$15)/1000000","v":171.9910046126063},{"$f":"$D$5+(-Sanierungsdesign!$E$12/(4*PI()*$D$3))*(-LN((4*$D$4*AH223)/(Sanierungsdesign!$E$13+Sanierungsdesign!$E$15)^2)-$D$19)","v":320.75942534420659},47.609425344206613,{"$f":"(2*PI()*Sanierungsdesign!$E$10*$D$3)*(LN((Sanierungsdesign!$E$13+Sanierungsdesign!$E$15)/Sanierungsdesign!$E$13)*(AJ223-AN223))*$AH$7/1000000","v":130.98155546032777},2692.0779596308894,6076.0199548869168,{"$f":"AU223/Sanierungsdesign!$E$11","v":1.0873633445414466},1249920,8.6989067563315725,{"$error":"#DIV/0!"},{"$error":"#DIV/0!"},{"$error":"#DIV/0!"},{"$error":"#DIV/0!"},{"$f":"(AY223/(AH223*Sanierungsdesign!$E$10))*1000000","v":{"$error":"#DIV/0!"}},{"$f":"AZ223/Sanierungsdesign!$E$12","v":{"$error":"#DIV/0!"}},{"$f":"$D$5+((-(Sanierungsdesign!$E$12)*MIN($BA$7:$BA$932))/(4*PI()*$D$3))*(-LN((4*$D$4*AH223)/(Sanierungsdesign!$E$13)^2)-$D$19)","v":{"$error":"#DIV/0!"}},{"$f":"(BB223-273.15)/Heterogenität!$D$4","v":{"$error":"#DIV/0!"}},{"$f":"IF(AI223<Berechnung!$D$7,AI223,#N/A)","v":{"$error":"#N/A"}}]
[null,null,null,null,null,null,null,null,null,null,null,null,null,null,null,null,null,null,null,null,null,null,null,null,null,null,null,null,null,null,null,null,{"$f":"Sanierungsdesign!$E$12*AH224*Sanierungsdesign!$E$10/1000000","v":10202.4},1569600,18.166666666666668,{"$f":"$D$5+((-Sanierungsdesign!$E$12)/4*PI()*$D$3)*(-LN((4*$D$4*AH224)/(Sanierungsdesign!$E$13^2))-$D$19)","v":1794.303938302226},1521.1539383022259,3018.6593990534693,{"$f":"$D$3*$T$7*$AH$7*(AK224-$D$5)*(1/Sanierungsdesign!$E$15)/1000000","v":172.89045630453819},{"$f":"$D$5+(-Sanierungsdesign!$E$12/(4*PI()*$D$3))*(-LN((4*$D$4*AH224)/(Sanierungsdesign!$E$13+Sanierungsdesign!$E$15)^2)-$D$19)","v":321.10609903224025},47.956099032240274,{"$f":"(2*PI()*Sanierungsdesign!$E$10*$D$3)*(LN((Sanierungsdesign!$E$13+Sanierungsdesign!$E$15)/Sanierungsdesign!$E$13)*(AJ224-AN224))*$AH$7/1000000","v":131.52561839796135},2704.4838488457785,6104.020046844922,{"$f":"AU224/Sanierungsdesign!$E$11","v":1.0920237897554905},1255680,8.7361903180439242,{"$error":"#DIV/0!"},{"$error":"#DIV/0!"},{"$error":"#DIV/0!"},{"$error":"#DIV/0!"},{"$f":"(AY224/(AH224*Sanierungsdesign!$E$10))*1000000","v":{"$error":"#DIV/0!"}},{"$f":"AZ224/Sanierungsdesign!$E$12","v":{"$error":"#DIV/0!"}},{"$f":"$D$5+((-(Sanierungsdesign!$E$12)*MIN($BA$7:$BA$932))/(4*PI()*$D$3))*(-LN((4*$D$4*AH224)/(Sanierungsdesign!$E$13)^2)-$D$19)","v":{"$error":"#DIV/0!"}},{"$f":"(BB224-273.15)/Heterogenität!$D$4","v":{"$error":"#DIV/0!"}},{"$f":"IF(AI224<Berechnung!$D$7,AI224,#N/A)","v":{"$error":"#N/A"}}]
[null,null,null,null,null,null,null,null,null,null,null,null,null,null,null,null,null,null,null,null,null,null,null,null,null,null,null,null,null,null,null,null,{"$f":"Sanierungsdesign!$E$12*AH225*Sanierungsdesign!$E$10/1000000","v":10249.200000000001},1576800,18.25,{"$f":"$D$5+((-Sanierungsdesign!$E$12)/4*PI()*$D$3)*(-LN((4*$D$4*AH225)/(Sanierungsdesign!$E$13^2))-$D$19)","v":1800.7150989858897},1527.5650989858896,3031.4832137521571,{"$f":"$D$3*$T$7*$AH$7*(AK225-$D$5)*(1/Sanierungsdesign!$E$15)/1000000","v":173.78579149835056},{"$f":"$D$5+(-Sanierungsdesign!$E$12/(4*PI()*$D$3))*(-LN((4*$D$4*AH225)/(Sanierungsdesign!$E$13+Sanierungsdesign!$E$15)^2)-$D$19)","v":321.45118610745448},48.301186107454498,{"$f":"(2*PI()*Sanierungsdesign!$E$10*$D$3)*(LN((Sanierungsdesign!$E$13+Sanierungsdesign!$E$15)/Sanierungsdesign!$E$13)*(AJ225-AN225))*$AH$7/1000000","v":132.06719133632126},2716.8897380606672,6132.0201388029263,{"$f":"AU225/Sanierungsdesign!$E$11","v":1.0966629056261896},1261440,8.773303245009517,{"$error":"#DIV/0!"},{"$error":"#DIV/0!"},{"$error":"#DIV/0!"},{"$error":"#DIV/0!"},{"$f":"(AY225/(AH225*Sanierungsdesign!$E$10))*1000000","v":{"$error":"#DIV/0!"}},{"$f":"AZ225/Sanierungsdesign!$E$12","v":{"$error":"#DIV/0!"}},{"$f":"$D$5+((-(Sanierungsdesign!$E$12)*MIN($BA$7:$BA$932))/(4*PI()*$D$3))*(-LN((4*$D$4*AH225)/(Sanierungsdesign!$E$13)^2)-$D$19)","v":{"$error":"#DIV/0!"}},{"$f":"(BB225-273.15)/Heterogenität!$D$4","v":{"$error":"#DIV/0!"}},{"$f":"IF(AI225<Berechnung!$D$7,AI225,#N/A)","v":{"$error":"#N/A"}}]
[null,null,null,null,null,null,null,null,null,null,null,null,null,null,null,null,null,null,null,null,null,null,null,null,null,null,null,null,null,null,null,null,{"$f":"Sanierungsdesign!$E$12*AH226*Sanierungsdesign!$E$10/1000000","v":10296},1584000,18.333333333333332,{"$f":"$D$5+((-Sanierungsdesign!$E$12)/4*PI()*$D$3)*(-LN((4*$D$4*AH226)/(Sanierungsdesign!$E$13^2))-$D$19)","v":1807.0970515469462},1533.9470515469461,3044.2486054022756,{"$f":"$D$3*$T$7*$AH$7*(AK226-$D$5)*(1/Sanierungsdesign!$E$15)/1000000","v":174.67704770219441},{"$f":"$D$5+(-Sanierungsdesign!$E$12/(4*PI()*$D$3))*(-LN((4*$D$4*AH226)/(Sanierungsdesign!$E$13+Sanierungsdesign!$E$15)^2)-$D$19)","v":321.7947010265334},48.644701026533426,{"$f":"(2*PI()*Sanierungsdesign!$E$10*$D$3)*(LN((Sanierungsdesign!$E$13+Sanierungsdesign!$E$15)/Sanierungsdesign!$E$13)*(AJ226-AN226))*$AH$7/1000000","v":132.60629696344611},2729.2956272755564,6160.0202307609306,{"$f":"AU226/Sanierungsdesign!$E$11","v":1.1012808864993699},1267200,8.8102470919949596,{"$error":"#DIV/0!"},{"$error":"#DIV/0!"},{"$error":"#DIV/0!"},{"$error":"#DIV/0!"},{"$f":"(AY226/(AH226*Sanierungsdesign!$E$10))*1000000","v":{"$error":"#DIV/0!"}},{"$f":"AZ226/Sanierungsdesign!$E$12","v":{"$error":"#DIV/0!"}},{"$f":"$D$5+((-(Sanierungsdesign!$E$12)*MIN($BA$7:$BA$932))/(4*PI()*$D$3))*(-LN((4*$D$4*AH226)/(Sanierungsdesign!$E$13)^2)-$D$19)","v":{"$error":"#DIV/0!"}},{"$f":"(BB226-273.15)/Heterogenität!$D$4","v":{"$error":"#DIV/0!"}},{"$f":"IF(AI226<Berechnung!$D$7,AI226,#N/A)","v":{"$error":"#N/A"}}]
[null,null,null,null,null,null,null,null,null,null,null,null,null,null,null,null,null,null,null,null,null,null,null,null,null,null,null,null,null,null,null,null,{"$f":"Sanierungsdesign!$E$12*AH227*Sanierungsdesign!$E$10/1000000","v":10342.799999999999},1591200,18.416666666666668,{"$f":"$D$5+((-Sanierungsdesign!$E$12)/4*PI()*$D$3)*(-LN((4*$D$4*AH227)/(Sanierungsdesign!$E$13^2))-$D$19)","v":1813.4500609130469},1540.3000609130468,3056.9561039208356,{"$f":"$D$3*$T$7*$AH$7*(AK227-$D$5)*(1/Sanierungsdesign!$E$15)/1000000","v":175.56426191390239},{"$f":"$D$5+(-Sanierungsdesign!$E$12/(4*PI()*$D$3))*(-LN((4*$D$4*AH227)/(Sanierungsdesign!$E$13+Sanierungsdesign!$E$15)^2)-$D$19)","v":322.13665804947038},48.986658049470407,{"$f":"(2*PI()*Sanierungsdesign!$E$10*$D$3)*(LN((Sanierungsdesign!$E$13+Sanierungsdesign!$E$15)/Sanierungsdesign!$E$13)*(AJ227-AN227))*$AH$7/1000000","v":133.14295765869181},2741.7015164904451,6188.0203227189349,{"$f":"AU227/Sanierungsdesign!$E$11","v":1.1058779240766805},1272960,8.8470233926134441,{"$error":"#DIV/0!"},{"$error":"#DIV/0!"},{"$error":"#DIV/0!"},{"$error":"#DIV/0!"},{"$f":"(AY227/(AH227*Sanierungsdesign!$E$10))*1000000","v":{"$error":"#DIV/0!"}},{"$f":"AZ227/Sanierungsdesign!$E$12","v":{"$error":"#DIV/0!"}},{"$f":"$D$5+((-(Sanierungsdesign!$E$12)*MIN($BA$7:$BA$932))/(4*PI()*$D$3))*(-LN((4*$D$4*AH227)/(Sanierungsdesign!$E$13)^2)-$D$19)","v":{"$error":"#DIV/0!"}},{"$f":"(BB227-273.15)/Heterogenität!$D$4","v":{"$error":"#DIV/0!"}},{"$f":"IF(AI227<Berechnung!$D$7,AI227,#N/A)","v":{"$error":"#N/A"}}]
[null,null,null,null,null,null,null,null,null,null,null,null,null,null,null,null,null,null,null,null,null,null,null,null,null,null,null,null,null,null,null,null,{"$f":"Sanierungsdesign!$E$12*AH228*Sanierungsdesign!$E$10/1000000","v":10389.6},1598400,18.5,{"$f":"$D$5+((-Sanierungsdesign!$E$12)/4*PI()*$D$3)*(-LN((4*$D$4*AH228)/(Sanierungsdesign!$E$13^2))-$D$19)","v":1819.774388423632},1546.6243884236319,3069.6062320475908,{"$f":"$D$3*$T$7*$AH$7*(AK228-$D$5)*(1/Sanierungsdesign!$E$15)/1000000","v":176.44747063020412},{"$f":"$D$5+(-Sanierungsdesign!$E$12/(4*PI()*$D$3))*(-LN((4*$D$4*AH228)/(Sanierungsdesign!$E$13+Sanierungsdesign!$E$15)^2)-$D$19)","v":322.47707124311967},49.32707124311969,{"$f":"(2*PI()*Sanierungsdesign!$E$10*$D$3)*(LN((Sanierungsdesign!$E$13+Sanierungsdesign!$E$15)/Sanierungsdesign!$E$13)*(AJ228-AN228))*$AH$7/1000000","v":133.67719549830565},2754.1074057053338,6216.0204146769383,{"$f":"AU228/Sanierungsdesign!$E$11","v":1.1104542074633399},1278720,8.8836336597067191,{"$error":"#DIV/0!"},{"$error":"#DIV/0!"},{"$error":"#DIV/0!"},{"$error":"#DIV/0!"},{"$f":"(AY228/(AH228*Sanierungsdesign!$E$10))*1000000","v":{"$error":"#DIV/0!"}},{"$f":"AZ228/Sanierungsdesign!$E$12","v":{"$error":"#DIV/0!"}},{"$f":"$D$5+((-(Sanierungsdesign!$E$12)*MIN($BA$7:$BA$932))/(4*PI()*$D$3))*(-LN((4*$D$4*AH228)/(Sanierungsdesign!$E$13)^2)-$D$19)","v":{"$error":"#DIV/0!"}},{"$f":"(BB228-273.15)/Heterogenität!$D$4","v":{"$error":"#DIV/0!"}},{"$f":"IF(AI228<Berechnung!$D$7,AI228,#N/A)","v":{"$error":"#N/A"}}]
[null,null,null,null,null,null,null,null,null,null,null,null,null,null,null,null,null,null,null,null,null,null,null,null,null,null,null,null,null,null,null,null,{"$f":"Sanierungsdesign!$E$12*AH229*Sanierungsdesign!$E$10/1000000","v":10436.4},1605600,18.583333333333332,{"$f":"$D$5+((-Sanierungsdesign!$E$12)/4*PI()*$D$3)*(-LN((4*$D$4*AH229)/(Sanierungsdesign!$E$13^2))-$D$19)","v":1826.0702918944417},1552.9202918944416,3082.1995054740732,{"$f":"$D$3*$T$7*$AH$7*(AK229-$D$5)*(1/Sanierungsdesign!$E$15)/1000000","v":177.32670985573546},{"$f":"$D$5+(-Sanierungsdesign!$E$12/(4*PI()*$D$3))*(-LN((4*$D$4*AH229)/(Sanierungsdesign!$E$13+Sanierungsdesign!$E$15)^2)-$D$19)","v":322.81595448466885},49.665954484668873,{"$f":"(2*PI()*Sanierungsdesign!$E$10*$D$3)*(LN((Sanierungsdesign!$E$13+Sanierungsdesign!$E$15)/Sanierungsdesign!$E$13)*(AJ229-AN229))*$AH$7/1000000","v":134.2090322608758},2766.513294920223,6244.0205066349426,{"$f":"AU229/Sanierungsdesign!$E$11","v":1.1150099232148178},1284480,8.9200793857185428,{"$error":"#DIV/0!"},{"$error":"#DIV/0!"},{"$error":"#DIV/0!"},{"$error":"#DIV/0!"},{"$f":"(AY229/(AH229*Sanierungsdesign!$E$10))*1000000","v":{"$error":"#DIV/0!"}},{"$f":"AZ229/Sanierungsdesign!$E$12","v":{"$error":"#DIV/0!"}},{"$f":"$D$5+((-(Sanierungsdesign!$E$12)*MIN($BA$7:$BA$932))/(4*PI()*$D$3))*(-LN((4*$D$4*AH229)/(Sanierungsdesign!$E$13)^2)-$D$19)","v":{"$error":"#DIV/0!"}},{"$f":"(BB229-273.15)/Heterogenität!$D$4","v":{"$error":"#DIV/0!"}},{"$f":"IF(AI229<Berechnung!$D$7,AI229,#N/A)","v":{"$error":"#N/A"}}]
[null,null,null,null,null,null,null,null,null,null,null,null,null,null,null,null,null,null,null,null,null,null,null,null,null,null,null,null,null,null,null,null,{"$f":"Sanierungsdesign!$E$12*AH230*Sanierungsdesign!$E$10/1000000","v":10483.200000000001},1612800,18.666666666666668,{"$f":"$D$5+((-Sanierungsdesign!$E$12)/4*PI()*$D$3)*(-LN((4*$D$4*AH230)/(Sanierungsdesign!$E$13^2))-$D$19)","v":1832.3380256805781},1559.188025680578,3094.7364329697343,{"$f":"$D$3*$T$7*$AH$7*(AK230-$D$5)*(1/Sanierungsdesign!$E$15)/1000000","v":178.20201511184518},{"$f":"$D$5+(-Sanierungsdesign!$E$12/(4*PI()*$D$3))*(-LN((4*$D$4*AH230)/(Sanierungsdesign!$E$13+Sanierungsdesign!$E$15)^2)-$D$19)","v":323.15332146503329},50.003321465033309,{"$f":"(2*PI()*Sanierungsdesign!$E$10*$D$3)*(LN((Sanierungsdesign!$E$13+Sanierungsdesign!$E$15)/Sanierungsdesign!$E$13)*(AJ230-AN230))*$AH$7/1000000","v":134.73848943265824},2778.9191841351117,6272.020598592947,{"$f":"AU230/Sanierungsdesign!$E$11","v":1.1195452553824661},1290240,8.9563620430597286,{"$error":"#DIV/0!"},{"$error":"#DIV/0!"},{"$error":"#DIV/0!"},{"$error":"#DIV/0!"},{"$f":"(AY230/(AH230*Sanierungsdesign!$E$10))*1000000","v":{"$error":"#DIV/0!"}},{"$f":"AZ230/Sanierungsdesign!$E$12","v":{"$error":"#DIV/0!"}},{"$f":"$D$5+((-(Sanierungsdesign!$E$12)*MIN($BA$7:$BA$932))/(4*PI()*$D$3))*(-LN((4*$D$4*AH230)/(Sanierungsdesign!$E$13)^2)-$D$19)","v":{"$error":"#DIV/0!"}},{"$f":"(BB230-273.15)/Heterogenität!$D$4","v":{"$error":"#DIV/0!"}},{"$f":"IF(AI230<Berechnung!$D$7,AI230,#N/A)","v":{"$error":"#N/A"}}]
[null,null,null,null,null,null,null,null,null,null,null,null,null,null,null,null,null,null,null,null,null,null,null,null,null,null,null,null,null,null,null,null,{"$f":"Sanierungsdesign!$E$12*AH231*Sanierungsdesign!$E$10/1000000","v":10530},1620000,18.75,{"$f":"$D$5+((-Sanierungsdesign!$E$12)/4*PI()*$D$3)*(-LN((4*$D$4*AH231)/(Sanierungsdesign!$E$13^2))-$D$19)","v":1838.5778407381658},1565.4278407381657,3107.2175165052763,{"$f":"$D$3*$T$7*$AH$7*(AK231-$D$5)*(1/Sanierungsdesign!$E$15)/1000000","v":179.07342144520607},{"$f":"$D$5+(-Sanierungsdesign!$E$12/(4*PI()*$D$3))*(-LN((4*$D$4*AH231)/(Sanierungsdesign!$E$13+Sanierungsdesign!$E$15)^2)-$D$19)","v":323.48918569217511},50.339185692175136,{"$f":"(2*PI()*Sanierungsdesign!$E$10*$D$3)*(LN((Sanierungsdesign!$E$13+Sanierungsdesign!$E$15)/Sanierungsdesign!$E$13)*(AJ231-AN231))*$AH$7/1000000","v":135.26558821278567},2791.3250733500008,6300.0206905509522,{"$f":"AU231/Sanierungsdesign!$E$11","v":1.1240603855581366},1296000,8.9924830844650927,{"$error":"#DIV/0!"},{"$error":"#DIV/0!"},{"$error":"#DIV/0!"},{"$error":"#DIV/0!"},{"$f":"(AY231/(AH231*Sanierungsdesign!$E$10))*1000000","v":{"$error":"#DIV/0!"}},{"$f":"AZ231/Sanierungsdesign!$E$12","v":{"$error":"#DIV/0!"}},{"$f":"$D$5+((-(Sanierungsdesign!$E$12)*MIN($BA$7:$BA$932))/(4*PI()*$D$3))*(-LN((4*$D$4*AH231)/(Sanierungsdesign!$E$13)^2)-$D$19)","v":{"$error":"#DIV/0!"}},{"$f":"(BB231-273.15)/Heterogenität!$D$4","v":{"$error":"#DIV/0!"}},{"$f":"IF(AI231<Berechnung!$D$7,AI231,#N/A)","v":{"$error":"#N/A"}}]
[null,null,null,null,null,null,null,null,null,null,null,null,null,null,null,null,null,null,null,null,null,null,null,null,null,null,null,null,null,null,null,null,{"$f":"Sanierungsdesign!$E$12*AH232*Sanierungsdesign!$E$10/1000000","v":10576.8},1627200,18.833333333333332,{"$f":"$D$5+((-Sanierungsdesign!$E$12)/4*PI()*$D$3)*(-LN((4*$D$4*AH232)/(Sanierungsdesign!$E$13^2))-$D$19)","v":1844.7899846846453},1571.6399846846452,3119.6432513732575,{"$f":"$D$3*$T$7*$AH$7*(AK232-$D$5)*(1/Sanierungsdesign!$E$15)/1000000","v":179.94096343623499},{"$f":"$D$5+(-Sanierungsdesign!$E$12/(4*PI()*$D$3))*(-LN((4*$D$4*AH232)/(Sanierungsdesign!$E$13+Sanierungsdesign!$E$15)^2)-$D$19)","v":323.82356049434827},50.673560494348294,{"$f":"(2*PI()*Sanierungsdesign!$E$10*$D$3)*(LN((Sanierungsdesign!$E$13+Sanierungsdesign!$E$15)/Sanierungsdesign!$E$13)*(AJ232-AN232))*$AH$7/1000000","v":135.7903495183605},2803.7309625648895,6328.0207825089556,{"$f":"AU232/Sanierungsdesign!$E$11","v":1.1285554929178092},1301760,9.0284439433424737,{"$error":"#DIV/0!"},{"$error":"#DIV/0!"},{"$error":"#DIV/0!"},{"$error":"#DIV/0!"},{"$f":"(AY232/(AH232*Sanierungsdesign!$E$10))*1000000","v":{"$error":"#DIV/0!"}},{"$f":"AZ232/Sanierungsdesign!$E$12","v":{"$error":"#DIV/0!"}},{"$f":"$D$5+((-(Sanierungsdesign!$E$12)*MIN($BA$7:$BA$932))/(4*PI()*$D$3))*(-LN((4*$D$4*AH232)/(Sanierungsdesign!$E$13)^2)-$D$19)","v":{"$error":"#DIV/0!"}},{"$f":"(BB232-273.15)/Heterogenität!$D$4","v":{"$error":"#DIV/0!"}},{"$f":"IF(AI232<Berechnung!$D$7,AI232,#N/A)","v":{"$error":"#N/A"}}]
[null,null,null,null,null,null,null,null,null,null,null,null,null,null,null,null,null,null,null,null,null,null,null,null,null,null,null,null,null,null,null,null,{"$f":"Sanierungsdesign!$E$12*AH233*Sanierungsdesign!$E$10/1000000","v":10623.6},1634400,18.916666666666668,{"$f":"$D$5+((-Sanierungsdesign!$E$12)/4*PI()*$D$3)*(-LN((4*$D$4*AH233)/(Sanierungsdesign!$E$13^2))-$D$19)","v":1850.9747018577355},1577.8247018577354,3132.0141263060286,{"$f":"$D$3*$T$7*$AH$7*(AK233-$D$5)*(1/Sanierungsdesign!$E$15)/1000000","v":180.80467520732711},{"$f":"$D$5+(-Sanierungsdesign!$E$12/(4*PI()*$D$3))*(-LN((4*$D$4*AH233)/(Sanierungsdesign!$E$13+Sanierungsdesign!$E$15)^2)-$D$19)","v":324.15645902327253},51.006459023272555,{"$f":"(2*PI()*Sanierungsdesign!$E$10*$D$3)*(LN((Sanierungsdesign!$E$13+Sanierungsdesign!$E$15)/Sanierungsdesign!$E$13)*(AJ233-AN233))*$AH$7/1000000","v":136.31279398943576},2816.1368517797787,6356.0208744669608,{"$f":"AU233/Sanierungsdesign!$E$11","v":1.1330307542642573},1307520,9.064246034114058,{"$error":"#DIV/0!"},{"$error":"#DIV/0!"},{"$error":"#DIV/0!"},{"$error":"#DIV/0!"},{"$f":"(AY233/(AH233*Sanierungsdesign!$E$10))*1000000","v":{"$error":"#DIV/0!"}},{"$f":"AZ233/Sanierungsdesign!$E$12","v":{"$error":"#DIV/0!"}},{"$f":"$D$5+((-(Sanierungsdesign!$E$12)*MIN($BA$7:$BA$932))/(4*PI()*$D$3))*(-LN((4*$D$4*AH233)/(Sanierungsdesign!$E$13)^2)-$D$19)","v":{"$error":"#DIV/0!"}},{"$f":"(BB233-273.15)/Heterogenität!$D$4","v":{"$error":"#DIV/0!"}},{"$f":"IF(AI233<Berechnung!$D$7,AI233,#N/A)","v":{"$error":"#N/A"}}]
[null,null,null,null,null,null,null,null,null,null,null,null,null,null,null,null,null,null,null,null,null,null,null,null,null,null,null,null,null,null,null,null,{"$f":"Sanierungsdesign!$E$12*AH234*Sanierungsdesign!$E$10/1000000","v":10670.4},1641600,19,{"$f":"$D$5+((-Sanierungsdesign!$E$12)/4*PI()*$D$3)*(-LN((4*$D$4*AH234)/(Sanierungsdesign!$E$13^2))-$D$19)","v":1857.1322333730964},1583.9822333730963,3144.3306235910727,{"$f":"$D$3*$T$7*$AH$7*(AK234-$D$5)*(1/Sanierungsdesign!$E$15)/1000000","v":181.66459043090893},{"$f":"$D$5+(-Sanierungsdesign!$E$12/(4*PI()*$D$3))*(-LN((4*$D$4*AH234)/(Sanierungsdesign!$E$13+Sanierungsdesign!$E$15)^2)-$D$19)","v":324.4878942572372},51.337894257237224,{"$f":"(2*PI()*Sanierungsdesign!$E$10*$D$3)*(LN((Sanierungsdesign!$E$13+Sanierungsdesign!$E$15)/Sanierungsdesign!$E$13)*(AJ234-AN234))*$AH$7/1000000","v":136.83294199388598},2828.5427409946674,6384.0209664249642,{"$f":"AU234/Sanierungsdesign!$E$11","v":1.1374863440687724},1313280,9.0998907525501789,{"$error":"#DIV/0!"},{"$error":"#DIV/0!"},{"$error":"#DIV/0!"},{"$error":"#DIV/0!"},{"$f":"(AY234/(AH234*Sanierungsdesign!$E$10))*1000000","v":{"$error":"#DIV/0!"}},{"$f":"AZ234/Sanierungsdesign!$E$12","v":{"$error":"#DIV/0!"}},{"$f":"$D$5+((-(Sanierungsdesign!$E$12)*MIN($BA$7:$BA$932))/(4*PI()*$D$3))*(-LN((4*$D$4*AH234)/(Sanierungsdesign!$E$13)^2)-$D$19)","v":{"$error":"#DIV/0!"}},{"$f":"(BB234-273.15)/Heterogenität!$D$4","v":{"$error":"#DIV/0!"}},{"$f":"IF(AI234<Berechnung!$D$7,AI234,#N/A)","v":{"$error":"#N/A"}}]
[null,null,null,null,null,null,null,null,null,null,null,null,null,null,null,null,null,null,null,null,null,null,null,null,null,null,null,null,null,null,null,null,{"$f":"Sanierungsdesign!$E$12*AH235*Sanierungsdesign!$E$10/1000000","v":10717.2},1648800,19.083333333333332,{"$f":"$D$5+((-Sanierungsdesign!$E$12)/4*PI()*$D$3)*(-LN((4*$D$4*AH235)/(Sanierungsdesign!$E$13^2))-$D$19)","v":1863.2628171807373},1590.1128171807372,3156.5932191838315,{"$f":"$D$3*$T$7*$AH$7*(AK235-$D$5)*(1/Sanierungsdesign!$E$15)/1000000","v":182.52074233731548},{"$f":"$D$5+(-Sanierungsdesign!$E$12/(4*PI()*$D$3))*(-LN((4*$D$4*AH235)/(Sanierungsdesign!$E$13+Sanierungsdesign!$E$15)^2)-$D$19)","v":324.81787900413724},51.667879004137262,{"$f":"(2*PI()*Sanierungsdesign!$E$10*$D$3)*(LN((Sanierungsdesign!$E$13+Sanierungsdesign!$E$15)/Sanierungsdesign!$E$13)*(AJ235-AN235))*$AH$7/1000000","v":137.35081363217233},2840.9486302095561,6412.0210583829676,{"$f":"AU235/Sanierungsdesign!$E$11","v":1.1419224345119812},1319040,9.1353794760958493,{"$error":"#DIV/0!"},{"$error":"#DIV/0!"},{"$error":"#DIV/0!"},{"$error":"#DIV/0!"},{"$f":"(AY235/(AH235*Sanierungsdesign!$E$10))*1000000","v":{"$error":"#DIV/0!"}},{"$f":"AZ235/Sanierungsdesign!$E$12","v":{"$error":"#DIV/0!"}},{"$f":"$D$5+((-(Sanierungsdesign!$E$12)*MIN($BA$7:$BA$932))/(4*PI()*$D$3))*(-LN((4*$D$4*AH235)/(Sanierungsdesign!$E$13)^2)-$D$19)","v":{"$error":"#DIV/0!"}},{"$f":"(BB235-273.15)/Heterogenität!$D$4","v":{"$error":"#DIV/0!"}},{"$f":"IF(AI235<Berechnung!$D$7,AI235,#N/A)","v":{"$error":"#N/A"}}]
[null,null,null,null,null,null,null,null,null,null,null,null,null,null,null,null,null,null,null,null,null,null,null,null,null,null,null,null,null,null,null,null,{"$f":"Sanierungsdesign!$E$12*AH236*Sanierungsdesign!$E$10/1000000","v":10764},1656000,19.166666666666668,{"$f":"$D$5+((-Sanierungsdesign!$E$12)/4*PI()*$D$3)*(-LN((4*$D$4*AH236)/(Sanierungsdesign!$E$13^2))-$D$19)","v":1869.3666881201884},1596.2166881201883,3168.8023828180676,{"$f":"$D$3*$T$7*$AH$7*(AK236-$D$5)*(1/Sanierungsdesign!$E$15)/1000000","v":183.37316372249532},{"$f":"$D$5+(-Sanierungsdesign!$E$12/(4*PI()*$D$3))*(-LN((4*$D$4*AH236)/(Sanierungsdesign!$E$13+Sanierungsdesign!$E$15)^2)-$D$19)","v":325.14642590444311},51.996425904443129,{"$f":"(2*PI()*Sanierungsdesign!$E$10*$D$3)*(LN((Sanierungsdesign!$E$13+Sanierungsdesign!$E$15)/Sanierungsdesign!$E$13)*(AJ236-AN236))*$AH$7/1000000","v":137.8664287420028},2853.3545194244452,6440.0211503409728,{"$f":"AU236/Sanierungsdesign!$E$11","v":1.1463391955237683},1324800,9.1707135641901463,{"$error":"#DIV/0!"},{"$error":"#DIV/0!"},{"$error":"#DIV/0!"},{"$error":"#DIV/0!"},{"$f":"(AY236/(AH236*Sanierungsdesign!$E$10))*1000000","v":{"$error":"#DIV/0!"}},{"$f":"AZ236/Sanierungsdesign!$E$12","v":{"$error":"#DIV/0!"}},{"$f":"$D$5+((-(Sanierungsdesign!$E$12)*MIN($BA$7:$BA$932))/(4*PI()*$D$3))*(-LN((4*$D$4*AH236)/(Sanierungsdesign!$E$13)^2)-$D$19)","v":{"$error":"#DIV/0!"}},{"$f":"(BB236-273.15)/Heterogenität!$D$4","v":{"$error":"#DIV/0!"}},{"$f":"IF(AI236<Berechnung!$D$7,AI236,#N/A)","v":{"$error":"#N/A"}}]
[null,null,null,null,null,null,null,null,null,null,null,null,null,null,null,null,null,null,null,null,null,null,null,null,null,null,null,null,null,null,null,null,{"$f":"Sanierungsdesign!$E$12*AH237*Sanierungsdesign!$E$10/1000000","v":10810.8},1663200,19.25,{"$f":"$D$5+((-Sanierungsdesign!$E$12)/4*PI()*$D$3)*(-LN((4*$D$4*AH237)/(Sanierungsdesign!$E$13^2))-$D$19)","v":1875.4440779744832},1602.2940779744831,3180.9585781138358,{"$f":"$D$3*$T$7*$AH$7*(AK237-$D$5)*(1/Sanierungsdesign!$E$15)/1000000","v":184.22188695554945},{"$f":"$D$5+(-Sanierungsdesign!$E$12/(4*PI()*$D$3))*(-LN((4*$D$4*AH237)/(Sanierungsdesign!$E$13+Sanierungsdesign!$E$15)^2)-$D$19)","v":325.47354743410602},52.323547434106047,{"$f":"(2*PI()*Sanierungsdesign!$E$10*$D$3)*(LN((Sanierungsdesign!$E$13+Sanierungsdesign!$E$15)/Sanierungsdesign!$E$13)*(AJ237-AN237))*$AH$7/1000000","v":138.37980690289271},2865.7604086393339,6468.0212422989771,{"$f":"AU237/Sanierungsdesign!$E$11","v":1.1507367948223359},1330560,9.2058943585786874,{"$error":"#DIV/0!"},{"$error":"#DIV/0!"},{"$error":"#DIV/0!"},{"$error":"#DIV/0!"},{"$f":"(AY237/(AH237*Sanierungsdesign!$E$10))*1000000","v":{"$error":"#DIV/0!"}},{"$f":"AZ237/Sanierungsdesign!$E$12","v":{"$error":"#DIV/0!"}},{"$f":"$D$5+((-(Sanierungsdesign!$E$12)*MIN($BA$7:$BA$932))/(4*PI()*$D$3))*(-LN((4*$D$4*AH237)/(Sanierungsdesign!$E$13)^2)-$D$19)","v":{"$error":"#DIV/0!"}},{"$f":"(BB237-273.15)/Heterogenität!$D$4","v":{"$error":"#DIV/0!"}},{"$f":"IF(AI237<Berechnung!$D$7,AI237,#N/A)","v":{"$error":"#N/A"}}]
[null,null,null,null,null,null,null,null,null,null,null,null,null,null,null,null,null,null,null,null,null,null,null,null,null,null,null,null,null,null,null,null,{"$f":"Sanierungsdesign!$E$12*AH238*Sanierungsdesign!$E$10/1000000","v":10857.6},1670400,19.333333333333332,{"$f":"$D$5+((-Sanierungsdesign!$E$12)/4*PI()*$D$3)*(-LN((4*$D$4*AH238)/(Sanierungsdesign!$E$13^2))-$D$19)","v":1881.4952155229653},1608.3452155229652,3193.0622626831118,{"$f":"$D$3*$T$7*$AH$7*(AK238-$D$5)*(1/Sanierungsdesign!$E$15)/1000000","v":185.06694398610568},{"$f":"$D$5+(-Sanierungsdesign!$E$12/(4*PI()*$D$3))*(-LN((4*$D$4*AH238)/(Sanierungsdesign!$E$13+Sanierungsdesign!$E$15)^2)-$D$19)","v":325.79925590740095},52.649255907400971,{"$f":"(2*PI()*Sanierungsdesign!$E$10*$D$3)*(LN((Sanierungsdesign!$E$13+Sanierungsdesign!$E$15)/Sanierungsdesign!$E$13)*(AJ238-AN238))*$AH$7/1000000","v":138.89096744062522},2878.1662978542231,6496.0213342569823,{"$f":"AU238/Sanierungsdesign!$E$11","v":1.1551153979524174},1336320,9.2409231836193388,{"$error":"#DIV/0!"},{"$error":"#DIV/0!"},{"$error":"#DIV/0!"},{"$error":"#DIV/0!"},{"$f":"(AY238/(AH238*Sanierungsdesign!$E$10))*1000000","v":{"$error":"#DIV/0!"}},{"$f":"AZ238/Sanierungsdesign!$E$12","v":{"$error":"#DIV/0!"}},{"$f":"$D$5+((-(Sanierungsdesign!$E$12)*MIN($BA$7:$BA$932))/(4*PI()*$D$3))*(-LN((4*$D$4*AH238)/(Sanierungsdesign!$E$13)^2)-$D$19)","v":{"$error":"#DIV/0!"}},{"$f":"(BB238-273.15)/Heterogenität!$D$4","v":{"$error":"#DIV/0!"}},{"$f":"IF(AI238<Berechnung!$D$7,AI238,#N/A)","v":{"$error":"#N/A"}}]
[null,null,null,null,null,null,null,null,null,null,null,null,null,null,null,null,null,null,null,null,null,null,null,null,null,null,null,null,null,null,null,null,{"$f":"Sanierungsdesign!$E$12*AH239*Sanierungsdesign!$E$10/1000000","v":10904.4},1677600,19.416666666666668,{"$f":"$D$5+((-Sanierungsdesign!$E$12)/4*PI()*$D$3)*(-LN((4*$D$4*AH239)/(Sanierungsdesign!$E$13^2))-$D$19)","v":1887.5203265929713},1614.3703265929712,3205.1138882331702,{"$f":"$D$3*$T$7*$AH$7*(AK239-$D$5)*(1/Sanierungsdesign!$E$15)/1000000","v":185.90836635153644},{"$f":"$D$5+(-Sanierungsdesign!$E$12/(4*PI()*$D$3))*(-LN((4*$D$4*AH239)/(Sanierungsdesign!$E$13+Sanierungsdesign!$E$15)^2)-$D$19)","v":326.12356347970797},52.973563479707991,{"$f":"(2*PI()*Sanierungsdesign!$E$10*$D$3)*(LN((Sanierungsdesign!$E$13+Sanierungsdesign!$E$15)/Sanierungsdesign!$E$13)*(AJ239-AN239))*$AH$7/1000000","v":139.39992943161732},2890.5721870691118,6524.0214262149848,{"$f":"AU239/Sanierungsdesign!$E$11","v":1.1594751683226738},1342080,9.2758013465813907,{"$error":"#DIV/0!"},{"$error":"#DIV/0!"},{"$error":"#DIV/0!"},{"$error":"#DIV/0!"},{"$f":"(AY239/(AH239*Sanierungsdesign!$E$10))*1000000","v":{"$error":"#DIV/0!"}},{"$f":"AZ239/Sanierungsdesign!$E$12","v":{"$error":"#DIV/0!"}},{"$f":"$D$5+((-(Sanierungsdesign!$E$12)*MIN($BA$7:$BA$932))/(4*PI()*$D$3))*(-LN((4*$D$4*AH239)/(Sanierungsdesign!$E$13)^2)-$D$19)","v":{"$error":"#DIV/0!"}},{"$f":"(BB239-273.15)/Heterogenität!$D$4","v":{"$error":"#DIV/0!"}},{"$f":"IF(AI239<Berechnung!$D$7,AI239,#N/A)","v":{"$error":"#N/A"}}]
[null,null,null,null,null,null,null,null,null,null,null,null,null,null,null,null,null,null,null,null,null,null,null,null,null,null,null,null,null,null,null,null,{"$f":"Sanierungsdesign!$E$12*AH240*Sanierungsdesign!$E$10/1000000","v":10951.2},1684800,19.5,{"$f":"$D$5+((-Sanierungsdesign!$E$12)/4*PI()*$D$3)*(-LN((4*$D$4*AH240)/(Sanierungsdesign!$E$13^2))-$D$19)","v":1893.5196341103965},1620.3696341103964,3217.1139006677276,{"$f":"$D$3*$T$7*$AH$7*(AK240-$D$5)*(1/Sanierungsdesign!$E$15)/1000000","v":186.74618518402036},{"$f":"$D$5+(-Sanierungsdesign!$E$12/(4*PI()*$D$3))*(-LN((4*$D$4*AH240)/(Sanierungsdesign!$E$13+Sanierungsdesign!$E$15)^2)-$D$19)","v":326.4464821502342},53.296482150234226,{"$f":"(2*PI()*Sanierungsdesign!$E$10*$D$3)*(LN((Sanierungsdesign!$E$13+Sanierungsdesign!$E$15)/Sanierungsdesign!$E$13)*(AJ240-AN240))*$AH$7/1000000","v":139.90671170719114},2902.9780762840005,6552.0215181729891,{"$f":"AU240/Sanierungsdesign!$E$11","v":1.1638162672422827},1347840,9.3105301379382617,{"$error":"#DIV/0!"},{"$error":"#DIV/0!"},{"$error":"#DIV/0!"},{"$error":"#DIV/0!"},{"$f":"(AY240/(AH240*Sanierungsdesign!$E$10))*1000000","v":{"$error":"#DIV/0!"}},{"$f":"AZ240/Sanierungsdesign!$E$12","v":{"$error":"#DIV/0!"}},{"$f":"$D$5+((-(Sanierungsdesign!$E$12)*MIN($BA$7:$BA$932))/(4*PI()*$D$3))*(-LN((4*$D$4*AH240)/(Sanierungsdesign!$E$13)^2)-$D$19)","v":{"$error":"#DIV/0!"}},{"$f":"(BB240-273.15)/Heterogenität!$D$4","v":{"$error":"#DIV/0!"}},{"$f":"IF(AI240<Berechnung!$D$7,AI240,#N/A)","v":{"$error":"#N/A"}}]
[null,null,null,null,null,null,null,null,null,null,null,null,null,null,null,null,null,null,null,null,null,null,null,null,null,null,null,null,null,null,null,null,{"$f":"Sanierungsdesign!$E$12*AH241*Sanierungsdesign!$E$10/1000000","v":10998},1692000,19.583333333333332,{"$f":"$D$5+((-Sanierungsdesign!$E$12)/4*PI()*$D$3)*(-LN((4*$D$4*AH241)/(Sanierungsdesign!$E$13^2))-$D$19)","v":1899.4933581491887},1626.3433581491886,3229.0627401859397,{"$f":"$D$3*$T$7*$AH$7*(AK241-$D$5)*(1/Sanierungsdesign!$E$15)/1000000","v":187.58043121745428},{"$f":"$D$5+(-Sanierungsdesign!$E$12/(4*PI()*$D$3))*(-LN((4*$D$4*AH241)/(Sanierungsdesign!$E$13+Sanierungsdesign!$E$15)^2)-$D$19)","v":326.76802376467799},53.618023764678014,{"$f":"(2*PI()*Sanierungsdesign!$E$10*$D$3)*(LN((Sanierungsdesign!$E$13+Sanierungsdesign!$E$15)/Sanierungsdesign!$E$13)*(AJ241-AN241))*$AH$7/1000000","v":140.41133285775496},2915.3839654988897,6580.0216101309934,{"$f":"AU241/Sanierungsdesign!$E$11","v":1.1681388539567528},1353600,9.3451108316540221,{"$error":"#DIV/0!"},{"$error":"#DIV/0!"},{"$error":"#DIV/0!"},{"$error":"#DIV/0!"},{"$f":"(AY241/(AH241*Sanierungsdesign!$E$10))*1000000","v":{"$error":"#DIV/0!"}},{"$f":"AZ241/Sanierungsdesign!$E$12","v":{"$error":"#DIV/0!"}},{"$f":"$D$5+((-(Sanierungsdesign!$E$12)*MIN($BA$7:$BA$932))/(4*PI()*$D$3))*(-LN((4*$D$4*AH241)/(Sanierungsdesign!$E$13)^2)-$D$19)","v":{"$error":"#DIV/0!"}},{"$f":"(BB241-273.15)/Heterogenität!$D$4","v":{"$error":"#DIV/0!"}},{"$f":"IF(AI241<Berechnung!$D$7,AI241,#N/A)","v":{"$error":"#N/A"}}]
[null,null,null,null,null,null,null,null,null,null,null,null,null,null,null,null,null,null,null,null,null,null,null,null,null,null,null,null,null,null,null,null,{"$f":"Sanierungsdesign!$E$12*AH242*Sanierungsdesign!$E$10/1000000","v":11044.8},1699200,19.666666666666668,{"$f":"$D$5+((-Sanierungsdesign!$E$12)/4*PI()*$D$3)*(-LN((4*$D$4*AH242)/(Sanierungsdesign!$E$13^2))-$D$19)","v":1905.4417159797899},1632.2917159797898,3240.9608413793003,{"$f":"$D$3*$T$7*$AH$7*(AK242-$D$5)*(1/Sanierungsdesign!$E$15)/1000000","v":188.41113479421807},{"$f":"$D$5+(-Sanierungsdesign!$E$12/(4*PI()*$D$3))*(-LN((4*$D$4*AH242)/(Sanierungsdesign!$E$13+Sanierungsdesign!$E$15)^2)-$D$19)","v":327.08820001783607},53.938200017836095,{"$f":"(2*PI()*Sanierungsdesign!$E$10*$D$3)*(LN((Sanierungsdesign!$E$13+Sanierungsdesign!$E$15)/Sanierungsdesign!$E$13)*(AJ242-AN242))*$AH$7/1000000","v":140.91381123689516},2927.7898547137784,6608.0217020889977,{"$f":"AU242/Sanierungsdesign!$E$11","v":1.1724430856829757},1359360,9.3795446854638058,{"$error":"#DIV/0!"},{"$error":"#DIV/0!"},{"$error":"#DIV/0!"},{"$error":"#DIV/0!"},{"$f":"(AY242/(AH242*Sanierungsdesign!$E$10))*1000000","v":{"$error":"#DIV/0!"}},{"$f":"AZ242/Sanierungsdesign!$E$12","v":{"$error":"#DIV/0!"}},{"$f":"$D$5+((-(Sanierungsdesign!$E$12)*MIN($BA$7:$BA$932))/(4*PI()*$D$3))*(-LN((4*$D$4*AH242)/(Sanierungsdesign!$E$13)^2)-$D$19)","v":{"$error":"#DIV/0!"}},{"$f":"(BB242-273.15)/Heterogenität!$D$4","v":{"$error":"#DIV/0!"}},{"$f":"IF(AI242<Berechnung!$D$7,AI242,#N/A)","v":{"$error":"#N/A"}}]
[null,null,null,null,null,null,null,null,null,null,null,null,null,null,null,null,null,null,null,null,null,null,null,null,null,null,null,null,null,null,null,null,{"$f":"Sanierungsdesign!$E$12*AH243*Sanierungsdesign!$E$10/1000000","v":11091.6},1706400,19.75,{"$f":"$D$5+((-Sanierungsdesign!$E$12)/4*PI()*$D$3)*(-LN((4*$D$4*AH243)/(Sanierungsdesign!$E$13^2))-$D$19)","v":1911.3649221165506},1638.2149221165505,3252.8086333264746,{"$f":"$D$3*$T$7*$AH$7*(AK243-$D$5)*(1/Sanierungsdesign!$E$15)/1000000","v":189.23832587179638},{"$f":"$D$5+(-Sanierungsdesign!$E$12/(4*PI()*$D$3))*(-LN((4*$D$4*AH243)/(Sanierungsdesign!$E$13+Sanierungsdesign!$E$15)^2)-$D$19)","v":327.40702245615586},54.25702245615588,{"$f":"(2*PI()*Sanierungsdesign!$E$10*$D$3)*(LN((Sanierungsdesign!$E$13+Sanierungsdesign!$E$15)/Sanierungsdesign!$E$13)*(AJ243-AN243))*$AH$7/1000000","v":141.41416496538159},2940.1957439286675,6636.0217940470029,{"$f":"AU243/Sanierungsdesign!$E$11","v":1.1767291176435359},1365120,9.4138329411482875,{"$error":"#DIV/0!"},{"$error":"#DIV/0!"},{"$error":"#DIV/0!"},{"$error":"#DIV/0!"},{"$f":"(AY243/(AH243*Sanierungsdesign!$E$10))*1000000","v":{"$error":"#DIV/0!"}},{"$f":"AZ243/Sanierungsdesign!$E$12","v":{"$error":"#DIV/0!"}},{"$f":"$D$5+((-(Sanierungsdesign!$E$12)*MIN($BA$7:$BA$932))/(4*PI()*$D$3))*(-LN((4*$D$4*AH243)/(Sanierungsdesign!$E$13)^2)-$D$19)","v":{"$error":"#DIV/0!"}},{"$f":"(BB243-273.15)/Heterogenität!$D$4","v":{"$error":"#DIV/0!"}},{"$f":"IF(AI243<Berechnung!$D$7,AI243,#N/A)","v":{"$error":"#N/A"}}]
[null,null,null,null,null,null,null,null,null,null,null,null,null,null,null,null,null,null,null,null,null,null,null,null,null,null,null,null,null,null,null,null,{"$f":"Sanierungsdesign!$E$12*AH244*Sanierungsdesign!$E$10/1000000","v":11138.4},1713600,19.833333333333332,{"$f":"$D$5+((-Sanierungsdesign!$E$12)/4*PI()*$D$3)*(-LN((4*$D$4*AH244)/(Sanierungsdesign!$E$13^2))-$D$19)","v":1917.2631883641516},1644.1131883641515,3264.60653968616,{"$f":"$D$3*$T$7*$AH$7*(AK244-$D$5)*(1/Sanierungsdesign!$E$15)/1000000","v":190.06203402926141},{"$f":"$D$5+(-Sanierungsdesign!$E$12/(4*PI()*$D$3))*(-LN((4*$D$4*AH244)/(Sanierungsdesign!$E$13+Sanierungsdesign!$E$15)^2)-$D$19)","v":327.72450248023415},54.574502480234173,{"$f":"(2*PI()*Sanierungsdesign!$E$10*$D$3)*(LN((Sanierungsdesign!$E$13+Sanierungsdesign!$E$15)/Sanierungsdesign!$E$13)*(AJ244-AN244))*$AH$7/1000000","v":141.9124119350889},2952.6016331435562,6664.0218860050072,{"$f":"AU244/Sanierungsdesign!$E$11","v":1.1809971031002999},1370880,9.4479768248023994,{"$error":"#DIV/0!"},{"$error":"#DIV/0!"},{"$error":"#DIV/0!"},{"$error":"#DIV/0!"},{"$f":"(AY244/(AH244*Sanierungsdesign!$E$10))*1000000","v":{"$error":"#DIV/0!"}},{"$f":"AZ244/Sanierungsdesign!$E$12","v":{"$error":"#DIV/0!"}},{"$f":"$D$5+((-(Sanierungsdesign!$E$12)*MIN($BA$7:$BA$932))/(4*PI()*$D$3))*(-LN((4*$D$4*AH244)/(Sanierungsdesign!$E$13)^2)-$D$19)","v":{"$error":"#DIV/0!"}},{"$f":"(BB244-273.15)/Heterogenität!$D$4","v":{"$error":"#DIV/0!"}},{"$f":"IF(AI244<Berechnung!$D$7,AI244,#N/A)","v":{"$error":"#N/A"}}]
[null,null,null,null,null,null,null,null,null,null,null,null,null,null,null,null,null,null,null,null,null,null,null,null,null,null,null,null,null,null,null,null,{"$f":"Sanierungsdesign!$E$12*AH245*Sanierungsdesign!$E$10/1000000","v":11185.2},1720800,19.916666666666668,{"$f":"$D$5+((-Sanierungsdesign!$E$12)/4*PI()*$D$3)*(-LN((4*$D$4*AH245)/(Sanierungsdesign!$E$13^2))-$D$19)","v":1923.1367238630478},1649.9867238630477,3276.3549787879815,{"$f":"$D$3*$T$7*$AH$7*(AK245-$D$5)*(1/Sanierungsdesign!$E$15)/1000000","v":190.88228847361938},{"$f":"$D$5+(-Sanierungsdesign!$E$12/(4*PI()*$D$3))*(-LN((4*$D$4*AH245)/(Sanierungsdesign!$E$13+Sanierungsdesign!$E$15)^2)-$D$19)","v":328.04065134726306},54.890651347263088,{"$f":"(2*PI()*Sanierungsdesign!$E$10*$D$3)*(LN((Sanierungsdesign!$E$13+Sanierungsdesign!$E$15)/Sanierungsdesign!$E$13)*(AJ245-AN245))*$AH$7/1000000","v":142.4085698128354},2965.0075223584454,6692.0219779630106,{"$f":"AU245/Sanierungsdesign!$E$11","v":1.1852471933873012},1376640,9.4819775470984098,{"$error":"#DIV/0!"},{"$error":"#DIV/0!"},{"$error":"#DIV/0!"},{"$error":"#DIV/0!"},{"$f":"(AY245/(AH245*Sanierungsdesign!$E$10))*1000000","v":{"$error":"#DIV/0!"}},{"$f":"AZ245/Sanierungsdesign!$E$12","v":{"$error":"#DIV/0!"}},{"$f":"$D$5+((-(Sanierungsdesign!$E$12)*MIN($BA$7:$BA$932))/(4*PI()*$D$3))*(-LN((4*$D$4*AH245)/(Sanierungsdesign!$E$13)^2)-$D$19)","v":{"$error":"#DIV/0!"}},{"$f":"(BB245-273.15)/Heterogenität!$D$4","v":{"$error":"#DIV/0!"}},{"$f":"IF(AI245<Berechnung!$D$7,AI245,#N/A)","v":{"$error":"#N/A"}}]
[null,null,null,null,null,null,null,null,null,null,null,null,null,null,null,null,null,null,null,null,null,null,null,null,null,null,null,null,null,null,null,null,{"$f":"Sanierungsdesign!$E$12*AH246*Sanierungsdesign!$E$10/1000000","v":11232},1728000,20,{"$f":"$D$5+((-Sanierungsdesign!$E$12)/4*PI()*$D$3)*(-LN((4*$D$4*AH246)/(Sanierungsdesign!$E$13^2))-$D$19)","v":1928.9857351339647},1655.8357351339646,3288.0543637214932,{"$f":"$D$3*$T$7*$AH$7*(AK246-$D$5)*(1/Sanierungsdesign!$E$15)/1000000","v":191.69911804602444},{"$f":"$D$5+(-Sanierungsdesign!$E$12/(4*PI()*$D$3))*(-LN((4*$D$4*AH246)/(Sanierungsdesign!$E$13+Sanierungsdesign!$E$15)^2)-$D$19)","v":328.35548017342541},55.205480173425428,{"$f":"(2*PI()*Sanierungsdesign!$E$10*$D$3)*(LN((Sanierungsdesign!$E$13+Sanierungsdesign!$E$15)/Sanierungsdesign!$E$13)*(AJ246-AN246))*$AH$7/1000000","v":142.90265604414168},2977.4134115733341,6720.0220699210149,{"$f":"AU246/Sanierungsdesign!$E$11","v":1.1894795379429366},1382400,9.5158363035434927,{"$error":"#DIV/0!"},{"$error":"#DIV/0!"},{"$error":"#DIV/0!"},{"$error":"#DIV/0!"},{"$f":"(AY246/(AH246*Sanierungsdesign!$E$10))*1000000","v":{"$error":"#DIV/0!"}},{"$f":"AZ246/Sanierungsdesign!$E$12","v":{"$error":"#DIV/0!"}},{"$f":"$D$5+((-(Sanierungsdesign!$E$12)*MIN($BA$7:$BA$932))/(4*PI()*$D$3))*(-LN((4*$D$4*AH246)/(Sanierungsdesign!$E$13)^2)-$D$19)","v":{"$error":"#DIV/0!"}},{"$f":"(BB246-273.15)/Heterogenität!$D$4","v":{"$error":"#DIV/0!"}},{"$f":"IF(AI246<Berechnung!$D$7,AI246,#N/A)","v":{"$error":"#N/A"}}]
[null,null,null,null,null,null,null,null,null,null,null,null,null,null,null,null,null,null,null,null,null,null,null,null,null,null,null,null,null,null,null,null,{"$f":"Sanierungsdesign!$E$12*AH247*Sanierungsdesign!$E$10/1000000","v":11278.8},1735200,20.083333333333332,{"$f":"$D$5+((-Sanierungsdesign!$E$12)/4*PI()*$D$3)*(-LN((4*$D$4*AH247)/(Sanierungsdesign!$E$13^2))-$D$19)","v":1934.8104261214717},1661.6604261214716,3299.7051024233383,{"$f":"$D$3*$T$7*$AH$7*(AK247-$D$5)*(1/Sanierungsdesign!$E$15)/1000000","v":192.51255122786392},{"$f":"$D$5+(-Sanierungsdesign!$E$12/(4*PI()*$D$3))*(-LN((4*$D$4*AH247)/(Sanierungsdesign!$E$13+Sanierungsdesign!$E$15)^2)-$D$19)","v":328.66899993623952},55.518999936239538,{"$f":"(2*PI()*Sanierungsdesign!$E$10*$D$3)*(LN((Sanierungsdesign!$E$13+Sanierungsdesign!$E$15)/Sanierungsdesign!$E$13)*(AJ247-AN247))*$AH$7/1000000","v":143.39468785691162},2989.8193007882228,6748.0221618790192,{"$f":"AU247/Sanierungsdesign!$E$11","v":1.1936942843414966},1388160,9.5495542747319728,{"$error":"#DIV/0!"},{"$error":"#DIV/0!"},{"$error":"#DIV/0!"},{"$error":"#DIV/0!"},{"$f":"(AY247/(AH247*Sanierungsdesign!$E$10))*1000000","v":{"$error":"#DIV/0!"}},{"$f":"AZ247/Sanierungsdesign!$E$12","v":{"$error":"#DIV/0!"}},{"$f":"$D$5+((-(Sanierungsdesign!$E$12)*MIN($BA$7:$BA$932))/(4*PI()*$D$3))*(-LN((4*$D$4*AH247)/(Sanierungsdesign!$E$13)^2)-$D$19)","v":{"$error":"#DIV/0!"}},{"$f":"(BB247-273.15)/Heterogenität!$D$4","v":{"$error":"#DIV/0!"}},{"$f":"IF(AI247<Berechnung!$D$7,AI247,#N/A)","v":{"$error":"#N/A"}}]
[null,null,null,null,null,null,null,null,null,null,null,null,null,null,null,null,null,null,null,null,null,null,null,null,null,null,null,null,null,null,null,null,{"$f":"Sanierungsdesign!$E$12*AH248*Sanierungsdesign!$E$10/1000000","v":11325.6},1742400,20.166666666666668,{"$f":"$D$5+((-Sanierungsdesign!$E$12)/4*PI()*$D$3)*(-LN((4*$D$4*AH248)/(Sanierungsdesign!$E$13^2))-$D$19)","v":1940.6109982366506},1667.4609982366505,3311.3075977625954,{"$f":"$D$3*$T$7*$AH$7*(AK248-$D$5)*(1/Sanierungsdesign!$E$15)/1000000","v":193.32261614671711},{"$f":"$D$5+(-Sanierungsdesign!$E$12/(4*PI()*$D$3))*(-LN((4*$D$4*AH248)/(Sanierungsdesign!$E$13+Sanierungsdesign!$E$15)^2)-$D$19)","v":328.98122147685638},55.831221476856399,{"$f":"(2*PI()*Sanierungsdesign!$E$10*$D$3)*(LN((Sanierungsdesign!$E$13+Sanierungsdesign!$E$15)/Sanierungsdesign!$E$13)*(AJ248-AN248))*$AH$7/1000000","v":143.88468226503662},3002.2251900031119,6776.0222538370235,{"$f":"AU248/Sanierungsdesign!$E$11","v":1.1978915783240403},1393920,9.583132626592322,{"$error":"#DIV/0!"},{"$error":"#DIV/0!"},{"$error":"#DIV/0!"},{"$error":"#DIV/0!"},{"$f":"(AY248/(AH248*Sanierungsdesign!$E$10))*1000000","v":{"$error":"#DIV/0!"}},{"$f":"AZ248/Sanierungsdesign!$E$12","v":{"$error":"#DIV/0!"}},{"$f":"$D$5+((-(Sanierungsdesign!$E$12)*MIN($BA$7:$BA$932))/(4*PI()*$D$3))*(-LN((4*$D$4*AH248)/(Sanierungsdesign!$E$13)^2)-$D$19)","v":{"$error":"#DIV/0!"}},{"$f":"(BB248-273.15)/Heterogenität!$D$4","v":{"$error":"#DIV/0!"}},{"$f":"IF(AI248<Berechnung!$D$7,AI248,#N/A)","v":{"$error":"#N/A"}}]
[null,null,null,null,null,null,null,null,null,null,null,null,null,null,null,null,null,null,null,null,null,null,null,null,null,null,null,null,null,null,null,null,{"$f":"Sanierungsdesign!$E$12*AH249*Sanierungsdesign!$E$10/1000000","v":11372.4},1749600,20.25,{"$f":"$D$5+((-Sanierungsdesign!$E$12)/4*PI()*$D$3)*(-LN((4*$D$4*AH249)/(Sanierungsdesign!$E$13^2))-$D$19)","v":1946.3876503988845},1673.2376503988844,3322.8622476243627,{"$f":"$D$3*$T$7*$AH$7*(AK249-$D$5)*(1/Sanierungsdesign!$E$15)/1000000","v":194.12934058219091},{"$f":"$D$5+(-Sanierungsdesign!$E$12/(4*PI()*$D$3))*(-LN((4*$D$4*AH249)/(Sanierungsdesign!$E$13+Sanierungsdesign!$E$15)^2)-$D$19)","v":329.29215550230901},56.142155502309038,{"$f":"(2*PI()*Sanierungsdesign!$E$10*$D$3)*(LN((Sanierungsdesign!$E$13+Sanierungsdesign!$E$15)/Sanierungsdesign!$E$13)*(AJ249-AN249))*$AH$7/1000000","v":144.37265607192552},3014.6310792180007,6804.0223457950278,{"$f":"AU249/Sanierungsdesign!$E$11","v":1.2020715638286328},1399680,9.6165725106290623,{"$error":"#DIV/0!"},{"$error":"#DIV/0!"},{"$error":"#DIV/0!"},{"$error":"#DIV/0!"},{"$f":"(AY249/(AH249*Sanierungsdesign!$E$10))*1000000","v":{"$error":"#DIV/0!"}},{"$f":"AZ249/Sanierungsdesign!$E$12","v":{"$error":"#DIV/0!"}},{"$f":"$D$5+((-(Sanierungsdesign!$E$12)*MIN($BA$7:$BA$932))/(4*PI()*$D$3))*(-LN((4*$D$4*AH249)/(Sanierungsdesign!$E$13)^2)-$D$19)","v":{"$error":"#DIV/0!"}},{"$f":"(BB249-273.15)/Heterogenität!$D$4","v":{"$error":"#DIV/0!"}},{"$f":"IF(AI249<Berechnung!$D$7,AI249,#N/A)","v":{"$error":"#N/A"}}]
[null,null,null,null,null,null,null,null,null,null,null,null,null,null,null,null,null,null,null,null,null,null,null,null,null,null,null,null,null,null,null,null,{"$f":"Sanierungsdesign!$E$12*AH250*Sanierungsdesign!$E$10/1000000","v":11419.2},1756800,20.333333333333332,{"$f":"$D$5+((-Sanierungsdesign!$E$12)/4*PI()*$D$3)*(-LN((4*$D$4*AH250)/(Sanierungsdesign!$E$13^2))-$D$19)","v":1952.1405790767922},1678.9905790767921,3334.3694449916416,{"$f":"$D$3*$T$7*$AH$7*(AK250-$D$5)*(1/Sanierungsdesign!$E$15)/1000000","v":194.93275197163683},{"$f":"$D$5+(-Sanierungsdesign!$E$12/(4*PI()*$D$3))*(-LN((4*$D$4*AH250)/(Sanierungsdesign!$E$13+Sanierungsdesign!$E$15)^2)-$D$19)","v":329.60181258771541},56.451812587715438,{"$f":"(2*PI()*Sanierungsdesign!$E$10*$D$3)*(LN((Sanierungsdesign!$E$13+Sanierungsdesign!$E$15)/Sanierungsdesign!$E$13)*(AJ250-AN250))*$AH$7/1000000","v":144.85862587396281},3027.0369684328898,6832.022437753033,{"$f":"AU250/Sanierungsdesign!$E$11","v":1.2062343830199664},1405440,9.6498750641597315,{"$error":"#DIV/0!"},{"$error":"#DIV/0!"},{"$error":"#DIV/0!"},{"$error":"#DIV/0!"},{"$f":"(AY250/(AH250*Sanierungsdesign!$E$10))*1000000","v":{"$error":"#DIV/0!"}},{"$f":"AZ250/Sanierungsdesign!$E$12","v":{"$error":"#DIV/0!"}},{"$f":"$D$5+((-(Sanierungsdesign!$E$12)*MIN($BA$7:$BA$932))/(4*PI()*$D$3))*(-LN((4*$D$4*AH250)/(Sanierungsdesign!$E$13)^2)-$D$19)","v":{"$error":"#DIV/0!"}},{"$f":"(BB250-273.15)/Heterogenität!$D$4","v":{"$error":"#DIV/0!"}},{"$f":"IF(AI250<Berechnung!$D$7,AI250,#N/A)","v":{"$error":"#N/A"}}]
[null,null,null,null,null,null,null,null,null,null,null,null,null,null,null,null,null,null,null,null,null,null,null,null,null,null,null,null,null,null,null,null,{"$f":"Sanierungsdesign!$E$12*AH251*Sanierungsdesign!$E$10/1000000","v":11466},1764000,20.416666666666668,{"$f":"$D$5+((-Sanierungsdesign!$E$12)/4*PI()*$D$3)*(-LN((4*$D$4*AH251)/(Sanierungsdesign!$E$13^2))-$D$19)","v":1957.8699783283191},1684.719978328319,3345.8295780255248,{"$f":"$D$3*$T$7*$AH$7*(AK251-$D$5)*(1/Sanierungsdesign!$E$15)/1000000","v":195.73287741574956},{"$f":"$D$5+(-Sanierungsdesign!$E$12/(4*PI()*$D$3))*(-LN((4*$D$4*AH251)/(Sanierungsdesign!$E$13+Sanierungsdesign!$E$15)^2)-$D$19)","v":329.91020317843663},56.760203178436655,{"$f":"(2*PI()*Sanierungsdesign!$E$10*$D$3)*(LN((Sanierungsdesign!$E$13+Sanierungsdesign!$E$15)/Sanierungsdesign!$E$13)*(AJ251-AN251))*$AH$7/1000000","v":145.34260806389497},3039.4428576477785,6860.0225297110355,{"$f":"AU251/Sanierungsdesign!$E$11","v":1.2103801763183715},1411200,9.6830414105469718,{"$error":"#DIV/0!"},{"$error":"#DIV/0!"},{"$error":"#DIV/0!"},{"$error":"#DIV/0!"},{"$f":"(AY251/(AH251*Sanierungsdesign!$E$10))*1000000","v":{"$error":"#DIV/0!"}},{"$f":"AZ251/Sanierungsdesign!$E$12","v":{"$error":"#DIV/0!"}},{"$f":"$D$5+((-(Sanierungsdesign!$E$12)*MIN($BA$7:$BA$932))/(4*PI()*$D$3))*(-LN((4*$D$4*AH251)/(Sanierungsdesign!$E$13)^2)-$D$19)","v":{"$error":"#DIV/0!"}},{"$f":"(BB251-273.15)/Heterogenität!$D$4","v":{"$error":"#DIV/0!"}},{"$f":"IF(AI251<Berechnung!$D$7,AI251,#N/A)","v":{"$error":"#N/A"}}]
[null,null,null,null,null,null,null,null,null,null,null,null,null,null,null,null,null,null,null,null,null,null,null,null,null,null,null,null,null,null,null,null,{"$f":"Sanierungsdesign!$E$12*AH252*Sanierungsdesign!$E$10/1000000","v":11512.8},1771200,20.5,{"$f":"$D$5+((-Sanierungsdesign!$E$12)/4*PI()*$D$3)*(-LN((4*$D$4*AH252)/(Sanierungsdesign!$E$13^2))-$D$19)","v":1963.5760398400184},1690.4260398400183,3357.2430301437662,{"$f":"$D$3*$T$7*$AH$7*(AK252-$D$5)*(1/Sanierungsdesign!$E$15)/1000000","v":196.52974368405268},{"$f":"$D$5+(-Sanierungsdesign!$E$12/(4*PI()*$D$3))*(-LN((4*$D$4*AH252)/(Sanierungsdesign!$E$13+Sanierungsdesign!$E$15)^2)-$D$19)","v":330.21733759219143},57.06733759219145,{"$f":"(2*PI()*Sanierungsdesign!$E$10*$D$3)*(LN((Sanierungsdesign!$E$13+Sanierungsdesign!$E$15)/Sanierungsdesign!$E$13)*(AJ252-AN252))*$AH$7/1000000","v":145.82461883414868},3051.8487468626672,6888.0226216690398,{"$f":"AU252/Sanierungsdesign!$E$11","v":1.2145090824282372},1416960,9.7160726594258975,{"$error":"#DIV/0!"},{"$error":"#DIV/0!"},{"$error":"#DIV/0!"},{"$error":"#DIV/0!"},{"$f":"(AY252/(AH252*Sanierungsdesign!$E$10))*1000000","v":{"$error":"#DIV/0!"}},{"$f":"AZ252/Sanierungsdesign!$E$12","v":{"$error":"#DIV/0!"}},{"$f":"$D$5+((-(Sanierungsdesign!$E$12)*MIN($BA$7:$BA$932))/(4*PI()*$D$3))*(-LN((4*$D$4*AH252)/(Sanierungsdesign!$E$13)^2)-$D$19)","v":{"$error":"#DIV/0!"}},{"$f":"(BB252-273.15)/Heterogenität!$D$4","v":{"$error":"#DIV/0!"}},{"$f":"IF(AI252<Berechnung!$D$7,AI252,#N/A)","v":{"$error":"#N/A"}}]
[null,null,null,null,null,null,null,null,null,null,null,null,null,null,null,null,null,null,null,null,null,null,null,null,null,null,null,null,null,null,null,null,{"$f":"Sanierungsdesign!$E$12*AH253*Sanierungsdesign!$E$10/1000000","v":11559.6},1778400,20.583333333333332,{"$f":"$D$5+((-Sanierungsdesign!$E$12)/4*PI()*$D$3)*(-LN((4*$D$4*AH253)/(Sanierungsdesign!$E$13^2))-$D$19)","v":1969.2589529655315},1696.1089529655314,3368.6101800977553,{"$f":"$D$3*$T$7*$AH$7*(AK253-$D$5)*(1/Sanierungsdesign!$E$15)/1000000","v":197.32337722027259},{"$f":"$D$5+(-Sanierungsdesign!$E$12/(4*PI()*$D$3))*(-LN((4*$D$4*AH253)/(Sanierungsdesign!$E$13+Sanierungsdesign!$E$15)^2)-$D$19)","v":330.52322602112707},57.373226021127095,{"$f":"(2*PI()*Sanierungsdesign!$E$10*$D$3)*(LN((Sanierungsdesign!$E$13+Sanierungsdesign!$E$15)/Sanierungsdesign!$E$13)*(AJ253-AN253))*$AH$7/1000000","v":146.30467418008163},3064.2546360775564,6916.0227136270451,{"$f":"AU253/Sanierungsdesign!$E$11","v":1.2186212383658583},1422720,9.7489699069268667,{"$error":"#DIV/0!"},{"$error":"#DIV/0!"},{"$error":"#DIV/0!"},{"$error":"#DIV/0!"},{"$f":"(AY253/(AH253*Sanierungsdesign!$E$10))*1000000","v":{"$error":"#DIV/0!"}},{"$f":"AZ253/Sanierungsdesign!$E$12","v":{"$error":"#DIV/0!"}},{"$f":"$D$5+((-(Sanierungsdesign!$E$12)*MIN($BA$7:$BA$932))/(4*PI()*$D$3))*(-LN((4*$D$4*AH253)/(Sanierungsdesign!$E$13)^2)-$D$19)","v":{"$error":"#DIV/0!"}},{"$f":"(BB253-273.15)/Heterogenität!$D$4","v":{"$error":"#DIV/0!"}},{"$f":"IF(AI253<Berechnung!$D$7,AI253,#N/A)","v":{"$error":"#N/A"}}]
[null,null,null,null,null,null,null,null,null,null,null,null,null,null,null,null,null,null,null,null,null,null,null,null,null,null,null,null,null,null,null,null,{"$f":"Sanierungsdesign!$E$12*AH254*Sanierungsdesign!$E$10/1000000","v":11606.4},1785600,20.666666666666668,{"$f":"$D$5+((-Sanierungsdesign!$E$12)/4*PI()*$D$3)*(-LN((4*$D$4*AH254)/(Sanierungsdesign!$E$13^2))-$D$19)","v":1974.9189047632908},1701.7689047632907,3379.9314020479273,{"$f":"$D$3*$T$7*$AH$7*(AK254-$D$5)*(1/Sanierungsdesign!$E$15)/1000000","v":198.11380414760393},{"$f":"$D$5+(-Sanierungsdesign!$E$12/(4*PI()*$D$3))*(-LN((4*$D$4*AH254)/(Sanierungsdesign!$E$13+Sanierungsdesign!$E$15)^2)-$D$19)","v":330.827878533849},57.677878533849025,{"$f":"(2*PI()*Sanierungsdesign!$E$10*$D$3)*(LN((Sanierungsdesign!$E$13+Sanierungsdesign!$E$15)/Sanierungsdesign!$E$13)*(AJ254-AN254))*$AH$7/1000000","v":146.78278990316724},3076.6605252924451,6944.0228055850484,{"$f":"AU254/Sanierungsdesign!$E$11","v":1.2227167794867169},1428480,9.7817342358937349,{"$error":"#DIV/0!"},{"$error":"#DIV/0!"},{"$error":"#DIV/0!"},{"$error":"#DIV/0!"},{"$f":"(AY254/(AH254*Sanierungsdesign!$E$10))*1000000","v":{"$error":"#DIV/0!"}},{"$f":"AZ254/Sanierungsdesign!$E$12","v":{"$error":"#DIV/0!"}},{"$f":"$D$5+((-(Sanierungsdesign!$E$12)*MIN($BA$7:$BA$932))/(4*PI()*$D$3))*(-LN((4*$D$4*AH254)/(Sanierungsdesign!$E$13)^2)-$D$19)","v":{"$error":"#DIV/0!"}},{"$f":"(BB254-273.15)/Heterogenität!$D$4","v":{"$error":"#DIV/0!"}},{"$f":"IF(AI254<Berechnung!$D$7,AI254,#N/A)","v":{"$error":"#N/A"}}]
[null,null,null,null,null,null,null,null,null,null,null,null,null,null,null,null,null,null,null,null,null,null,null,null,null,null,null,null,null,null,null,null,{"$f":"Sanierungsdesign!$E$12*AH255*Sanierungsdesign!$E$10/1000000","v":11653.2},1792800,20.75,{"$f":"$D$5+((-Sanierungsdesign!$E$12)/4*PI()*$D$3)*(-LN((4*$D$4*AH255)/(Sanierungsdesign!$E$13^2))-$D$19)","v":1980.5560800334665},1707.4060800334664,3391.2070656376677,{"$f":"$D$3*$T$7*$AH$7*(AK255-$D$5)*(1/Sanierungsdesign!$E$15)/1000000","v":198.901050273869},{"$f":"$D$5+(-Sanierungsdesign!$E$12/(4*PI()*$D$3))*(-LN((4*$D$4*AH255)/(Sanierungsdesign!$E$13+Sanierungsdesign!$E$15)^2)-$D$19)","v":331.13130507740942},57.981305077409445,{"$f":"(2*PI()*Sanierungsdesign!$E$10*$D$3)*(LN((Sanierungsdesign!$E$13+Sanierungsdesign!$E$15)/Sanierungsdesign!$E$13)*(AJ255-AN255))*$AH$7/1000000","v":147.25898161411561},3089.0664145073342,6972.0228975430537,{"$f":"AU255/Sanierungsdesign!$E$11","v":1.2267958395122163},1434240,9.8143667160977301,{"$error":"#DIV/0!"},{"$error":"#DIV/0!"},{"$error":"#DIV/0!"},{"$error":"#DIV/0!"},{"$f":"(AY255/(AH255*Sanierungsdesign!$E$10))*1000000","v":{"$error":"#DIV/0!"}},{"$f":"AZ255/Sanierungsdesign!$E$12","v":{"$error":"#DIV/0!"}},{"$f":"$D$5+((-(Sanierungsdesign!$E$12)*MIN($BA$7:$BA$932))/(4*PI()*$D$3))*(-LN((4*$D$4*AH255)/(Sanierungsdesign!$E$13)^2)-$D$19)","v":{"$error":"#DIV/0!"}},{"$f":"(BB255-273.15)/Heterogenität!$D$4","v":{"$error":"#DIV/0!"}},{"$f":"IF(AI255<Berechnung!$D$7,AI255,#N/A)","v":{"$error":"#N/A"}}]
[null,null,null,null,null,null,null,null,null,null,null,null,null,null,null,null,null,null,null,null,null,null,null,null,null,null,null,null,null,null,null,null,{"$f":"Sanierungsdesign!$E$12*AH256*Sanierungsdesign!$E$10/1000000","v":11700},1800000,20.833333333333332,{"$f":"$D$5+((-Sanierungsdesign!$E$12)/4*PI()*$D$3)*(-LN((4*$D$4*AH256)/(Sanierungsdesign!$E$13^2))-$D$19)","v":1986.1706613541696},1713.0206613541695,3402.4375360657259,{"$f":"$D$3*$T$7*$AH$7*(AK256-$D$5)*(1/Sanierungsdesign!$E$15)/1000000","v":199.68514109657389},{"$f":"$D$5+(-Sanierungsdesign!$E$12/(4*PI()*$D$3))*(-LN((4*$D$4*AH256)/(Sanierungsdesign!$E$13+Sanierungsdesign!$E$15)^2)-$D$19)","v":331.43351547925613},58.283515479256153,{"$f":"(2*PI()*Sanierungsdesign!$E$10*$D$3)*(LN((Sanierungsdesign!$E$13+Sanierungsdesign!$E$15)/Sanierungsdesign!$E$13)*(AJ256-AN256))*$AH$7/1000000","v":147.73326473593187},3101.4723037222229,7000.022989501058,{"$f":"AU256/Sanierungsdesign!$E$11","v":1.2308585505558769},1440000,9.8468684044470152,{"$error":"#DIV/0!"},{"$error":"#DIV/0!"},{"$error":"#DIV/0!"},{"$error":"#DIV/0!"},{"$f":"(AY256/(AH256*Sanierungsdesign!$E$10))*1000000","v":{"$error":"#DIV/0!"}},{"$f":"AZ256/Sanierungsdesign!$E$12","v":{"$error":"#DIV/0!"}},{"$f":"$D$5+((-(Sanierungsdesign!$E$12)*MIN($BA$7:$BA$932))/(4*PI()*$D$3))*(-LN((4*$D$4*AH256)/(Sanierungsdesign!$E$13)^2)-$D$19)","v":{"$error":"#DIV/0!"}},{"$f":"(BB256-273.15)/Heterogenität!$D$4","v":{"$error":"#DIV/0!"}},{"$f":"IF(AI256<Berechnung!$D$7,AI256,#N/A)","v":{"$error":"#N/A"}}]
[null,null,null,null,null,null,null,null,null,null,null,null,null,null,null,null,null,null,null,null,null,null,null,null,null,null,null,null,null,null,null,null,{"$f":"Sanierungsdesign!$E$12*AH257*Sanierungsdesign!$E$10/1000000","v":11746.8},1807200,20.916666666666668,{"$f":"$D$5+((-Sanierungsdesign!$E$12)/4*PI()*$D$3)*(-LN((4*$D$4*AH257)/(Sanierungsdesign!$E$13^2))-$D$19)","v":1991.7628291169353},1718.6128291169352,3413.6231741571896,{"$f":"$D$3*$T$7*$AH$7*(AK257-$D$5)*(1/Sanierungsdesign!$E$15)/1000000","v":200.46610180786371},{"$f":"$D$5+(-Sanierungsdesign!$E$12/(4*PI()*$D$3))*(-LN((4*$D$4*AH257)/(Sanierungsdesign!$E$13+Sanierungsdesign!$E$15)^2)-$D$19)","v":331.73451944914217},58.584519449142192,{"$f":"(2*PI()*Sanierungsdesign!$E$10*$D$3)*(LN((Sanierungsdesign!$E$13+Sanierungsdesign!$E$15)/Sanierungsdesign!$E$13)*(AJ257-AN257))*$AH$7/1000000","v":148.20565450691348},3113.8781929371121,7028.0230814590614,{"$f":"AU257/Sanierungsdesign!$E$11","v":1.2349050431490143},1445760,9.8792403451921142,{"$error":"#DIV/0!"},{"$error":"#DIV/0!"},{"$error":"#DIV/0!"},{"$error":"#DIV/0!"},{"$f":"(AY257/(AH257*Sanierungsdesign!$E$10))*1000000","v":{"$error":"#DIV/0!"}},{"$f":"AZ257/Sanierungsdesign!$E$12","v":{"$error":"#DIV/0!"}},{"$f":"$D$5+((-(Sanierungsdesign!$E$12)*MIN($BA$7:$BA$932))/(4*PI()*$D$3))*(-LN((4*$D$4*AH257)/(Sanierungsdesign!$E$13)^2)-$D$19)","v":{"$error":"#DIV/0!"}},{"$f":"(BB257-273.15)/Heterogenität!$D$4","v":{"$error":"#DIV/0!"}},{"$f":"IF(AI257<Berechnung!$D$7,AI257,#N/A)","v":{"$error":"#N/A"}}]
[null,null,null,null,null,null,null,null,null,null,null,null,null,null,null,null,null,null,null,null,null,null,null,null,null,null,null,null,null,null,null,null,{"$f":"Sanierungsdesign!$E$12*AH258*Sanierungsdesign!$E$10/1000000","v":11793.6},1814400,21,{"$f":"$D$5+((-Sanierungsdesign!$E$12)/4*PI()*$D$3)*(-LN((4*$D$4*AH258)/(Sanierungsdesign!$E$13^2))-$D$19)","v":1997.3327615615012},1724.1827615615011,3424.764336433052,{"$f":"$D$3*$T$7*$AH$7*(AK258-$D$5)*(1/Sanierungsdesign!$E$15)/1000000","v":201.24395729937942},{"$f":"$D$5+(-Sanierungsdesign!$E$12/(4*PI()*$D$3))*(-LN((4*$D$4*AH258)/(Sanierungsdesign!$E$13+Sanierungsdesign!$E$15)^2)-$D$19)","v":332.03432658099797},58.884326580997993,{"$f":"(2*PI()*Sanierungsdesign!$E$10*$D$3)*(LN((Sanierungsdesign!$E$13+Sanierungsdesign!$E$15)/Sanierungsdesign!$E$13)*(AJ258-AN258))*$AH$7/1000000","v":148.67616598358825},3126.2840821520008,7056.0231734170657,{"$f":"AU258/Sanierungsdesign!$E$11","v":1.2389354462659021},1451520,9.911483570127217,{"$error":"#DIV/0!"},{"$error":"#DIV/0!"},{"$error":"#DIV/0!"},{"$error":"#DIV/0!"},{"$f":"(AY258/(AH258*Sanierungsdesign!$E$10))*1000000","v":{"$error":"#DIV/0!"}},{"$f":"AZ258/Sanierungsdesign!$E$12","v":{"$error":"#DIV/0!"}},{"$f":"$D$5+((-(Sanierungsdesign!$E$12)*MIN($BA$7:$BA$932))/(4*PI()*$D$3))*(-LN((4*$D$4*AH258)/(Sanierungsdesign!$E$13)^2)-$D$19)","v":{"$error":"#DIV/0!"}},{"$f":"(BB258-273.15)/Heterogenität!$D$4","v":{"$error":"#DIV/0!"}},{"$f":"IF(AI258<Berechnung!$D$7,AI258,#N/A)","v":{"$error":"#N/A"}}]
[null,null,null,null,null,null,null,null,null,null,null,null,null,null,null,null,null,null,null,null,null,null,null,null,null,null,null,null,null,null,null,null,{"$f":"Sanierungsdesign!$E$12*AH259*Sanierungsdesign!$E$10/1000000","v":11840.4},1821600,21.083333333333332,{"$f":"$D$5+((-Sanierungsdesign!$E$12)/4*PI()*$D$3)*(-LN((4*$D$4*AH259)/(Sanierungsdesign!$E$13^2))-$D$19)","v":2002.8806348098933},1729.7306348098932,3435.8613751783882,{"$f":"$D$3*$T$7*$AH$7*(AK259-$D$5)*(1/Sanierungsdesign!$E$15)/1000000","v":202.01873216701807},{"$f":"$D$5+(-Sanierungsdesign!$E$12/(4*PI()*$D$3))*(-LN((4*$D$4*AH259)/(Sanierungsdesign!$E$13+Sanierungsdesign!$E$15)^2)-$D$19)","v":332.33294635476608},59.182946354766102,{"$f":"(2*PI()*Sanierungsdesign!$E$10*$D$3)*(LN((Sanierungsdesign!$E$13+Sanierungsdesign!$E$15)/Sanierungsdesign!$E$13)*(AJ259-AN259))*$AH$7/1000000","v":149.14481404359333},3138.6899713668895,7084.02326537507,{"$f":"AU259/Sanierungsdesign!$E$11","v":1.2429498873484386},1457280,9.9435990987875087,{"$error":"#DIV/0!"},{"$error":"#DIV/0!"},{"$error":"#DIV/0!"},{"$error":"#DIV/0!"},{"$f":"(AY259/(AH259*Sanierungsdesign!$E$10))*1000000","v":{"$error":"#DIV/0!"}},{"$f":"AZ259/Sanierungsdesign!$E$12","v":{"$error":"#DIV/0!"}},{"$f":"$D$5+((-(Sanierungsdesign!$E$12)*MIN($BA$7:$BA$932))/(4*PI()*$D$3))*(-LN((4*$D$4*AH259)/(Sanierungsdesign!$E$13)^2)-$D$19)","v":{"$error":"#DIV/0!"}},{"$f":"(BB259-273.15)/Heterogenität!$D$4","v":{"$error":"#DIV/0!"}},{"$f":"IF(AI259<Berechnung!$D$7,AI259,#N/A)","v":{"$error":"#N/A"}}]
[null,null,null,null,null,null,null,null,null,null,null,null,null,null,null,null,null,null,null,null,null,null,null,null,null,null,null,null,null,null,null,null,{"$f":"Sanierungsdesign!$E$12*AH260*Sanierungsdesign!$E$10/1000000","v":11887.2},1828800,21.166666666666668,{"$f":"$D$5+((-Sanierungsdesign!$E$12)/4*PI()*$D$3)*(-LN((4*$D$4*AH260)/(Sanierungsdesign!$E$13^2))-$D$19)","v":2008.4066228998408},1735.2566228998407,3446.914638509194,{"$f":"$D$3*$T$7*$AH$7*(AK260-$D$5)*(1/Sanierungsdesign!$E$15)/1000000","v":202.79045071559932},{"$f":"$D$5+(-Sanierungsdesign!$E$12/(4*PI()*$D$3))*(-LN((4*$D$4*AH260)/(Sanierungsdesign!$E$13+Sanierungsdesign!$E$15)^2)-$D$19)","v":332.63038813819975},59.480388138199771,{"$f":"(2*PI()*Sanierungsdesign!$E$10*$D$3)*(LN((Sanierungsdesign!$E$13+Sanierungsdesign!$E$15)/Sanierungsdesign!$E$13)*(AJ260-AN260))*$AH$7/1000000","v":149.61161338849828},3151.0958605817787,7112.0233573330743,{"$f":"AU260/Sanierungsdesign!$E$11","v":1.2469484923303247},1463040,9.9755879386425974,{"$error":"#DIV/0!"},{"$error":"#DIV/0!"},{"$error":"#DIV/0!"},{"$error":"#DIV/0!"},{"$f":"(AY260/(AH260*Sanierungsdesign!$E$10))*1000000","v":{"$error":"#DIV/0!"}},{"$f":"AZ260/Sanierungsdesign!$E$12","v":{"$error":"#DIV/0!"}},{"$f":"$D$5+((-(Sanierungsdesign!$E$12)*MIN($BA$7:$BA$932))/(4*PI()*$D$3))*(-LN((4*$D$4*AH260)/(Sanierungsdesign!$E$13)^2)-$D$19)","v":{"$error":"#DIV/0!"}},{"$f":"(BB260-273.15)/Heterogenität!$D$4","v":{"$error":"#DIV/0!"}},{"$f":"IF(AI260<Berechnung!$D$7,AI260,#N/A)","v":{"$error":"#N/A"}}]
[null,null,null,null,null,null,null,null,null,null,null,null,null,null,null,null,null,null,null,null,null,null,null,null,null,null,null,null,null,null,null,null,{"$f":"Sanierungsdesign!$E$12*AH261*Sanierungsdesign!$E$10/1000000","v":11934},1836000,21.25,{"$f":"$D$5+((-Sanierungsdesign!$E$12)/4*PI()*$D$3)*(-LN((4*$D$4*AH261)/(Sanierungsdesign!$E$13^2))-$D$19)","v":2013.9108978175386},1740.7608978175385,3457.9244704379203,{"$f":"$D$3*$T$7*$AH$7*(AK261-$D$5)*(1/Sanierungsdesign!$E$15)/1000000","v":203.55913696344072},{"$f":"$D$5+(-Sanierungsdesign!$E$12/(4*PI()*$D$3))*(-LN((4*$D$4*AH261)/(Sanierungsdesign!$E$13+Sanierungsdesign!$E$15)^2)-$D$19)","v":332.92666118862621},59.776661188626235,{"$f":"(2*PI()*Sanierungsdesign!$E$10*$D$3)*(LN((Sanierungsdesign!$E$13+Sanierungsdesign!$E$15)/Sanierungsdesign!$E$13)*(AJ261-AN261))*$AH$7/1000000","v":150.07657854657239},3163.5017497966674,7140.0234492910786,{"$f":"AU261/Sanierungsdesign!$E$11","v":1.2509313856607709},1468800,10.007451085286167,{"$error":"#DIV/0!"},{"$error":"#DIV/0!"},{"$error":"#DIV/0!"},{"$error":"#DIV/0!"},{"$f":"(AY261/(AH261*Sanierungsdesign!$E$10))*1000000","v":{"$error":"#DIV/0!"}},{"$f":"AZ261/Sanierungsdesign!$E$12","v":{"$error":"#DIV/0!"}},{"$f":"$D$5+((-(Sanierungsdesign!$E$12)*MIN($BA$7:$BA$932))/(4*PI()*$D$3))*(-LN((4*$D$4*AH261)/(Sanierungsdesign!$E$13)^2)-$D$19)","v":{"$error":"#DIV/0!"}},{"$f":"(BB261-273.15)/Heterogenität!$D$4","v":{"$error":"#DIV/0!"}},{"$f":"IF(AI261<Berechnung!$D$7,AI261,#N/A)","v":{"$error":"#N/A"}}]
[null,null,null,null,null,null,null,null,null,null,null,null,null,null,null,null,null,null,null,null,null,null,null,null,null,null,null,null,null,null,null,null,{"$f":"Sanierungsdesign!$E$12*AH262*Sanierungsdesign!$E$10/1000000","v":11980.8},1843200,21.333333333333332,{"$f":"$D$5+((-Sanierungsdesign!$E$12)/4*PI()*$D$3)*(-LN((4*$D$4*AH262)/(Sanierungsdesign!$E$13^2))-$D$19)","v":2019.3936295297635},1746.2436295297634,3468.8912109377097,{"$f":"$D$3*$T$7*$AH$7*(AK262-$D$5)*(1/Sanierungsdesign!$E$15)/1000000","v":204.32481464684281},{"$f":"$D$5+(-Sanierungsdesign!$E$12/(4*PI()*$D$3))*(-LN((4*$D$4*AH262)/(Sanierungsdesign!$E$13+Sanierungsdesign!$E$15)^2)-$D$19)","v":333.22177465467564},60.071774654675664,{"$f":"(2*PI()*Sanierungsdesign!$E$10*$D$3)*(LN((Sanierungsdesign!$E$13+Sanierungsdesign!$E$15)/Sanierungsdesign!$E$13)*(AJ262-AN262))*$AH$7/1000000","v":150.53972387549769},3175.9076390115565,7168.0235412490838,{"$f":"AU262/Sanierungsdesign!$E$11","v":1.2548986903277368},1474560,10.039189522621895,{"$error":"#DIV/0!"},{"$error":"#DIV/0!"},{"$error":"#DIV/0!"},{"$error":"#DIV/0!"},{"$f":"(AY262/(AH262*Sanierungsdesign!$E$10))*1000000","v":{"$error":"#DIV/0!"}},{"$f":"AZ262/Sanierungsdesign!$E$12","v":{"$error":"#DIV/0!"}},{"$f":"$D$5+((-(Sanierungsdesign!$E$12)*MIN($BA$7:$BA$932))/(4*PI()*$D$3))*(-LN((4*$D$4*AH262)/(Sanierungsdesign!$E$13)^2)-$D$19)","v":{"$error":"#DIV/0!"}},{"$f":"(BB262-273.15)/Heterogenität!$D$4","v":{"$error":"#DIV/0!"}},{"$f":"IF(AI262<Berechnung!$D$7,AI262,#N/A)","v":{"$error":"#N/A"}}]
[null,null,null,null,null,null,null,null,null,null,null,null,null,null,null,null,null,null,null,null,null,null,null,null,null,null,null,null,null,null,null,null,{"$f":"Sanierungsdesign!$E$12*AH263*Sanierungsdesign!$E$10/1000000","v":12027.6},1850400,{"$f":"AH263/86400","v":21.416666666666668},{"$f":"$D$5+((-Sanierungsdesign!$E$12)/4*PI()*$D$3)*(-LN((4*$D$4*AH263)/(Sanierungsdesign!$E$13^2))-$D$19)","v":2024.8549860153676},{"$f":"AJ263-273.15","v":1751.7049860153675},3479.8151960053938,{"$f":"$D$3*$T$7*$AH$7*(AK263-$D$5)*(1/Sanierungsdesign!$E$15)/1000000","v":205.08750722448735},{"$f":"$D$5+(-Sanierungsdesign!$E$12/(4*PI()*$D$3))*(-LN((4*$D$4*AH263)/(Sanierungsdesign!$E$13+Sanierungsdesign!$E$15)^2)-$D$19)","v":333.51573757797615},{"$f":"AN263-273.15","v":60.365737577976176},{"$f":"(2*PI()*Sanierungsdesign!$E$10*$D$3)*(LN((Sanierungsdesign!$E$13+Sanierungsdesign!$E$15)/Sanierungsdesign!$E$13)*(AJ263-AN263))*$AH$7/1000000","v":151.00106356502945},3188.3135282264452,7196.0236332070863,{"$f":"AU263/Sanierungsdesign!$E$11","v":1.2588505278807196},1480320,10.070804223045757,{"$error":"#DIV/0!"},{"$error":"#DIV/0!"},{"$error":"#DIV/0!"},{"$f":"AG263-AX263","v":{"$error":"#DIV/0!"}},{"$f":"(AY263/(AH263*Sanierungsdesign!$E$10))*1000000","v":{"$error":"#DIV/0!"}},{"$f":"AZ263/Sanierungsdesign!$E$12","v":{"$error":"#DIV/0!"}},{"$f":"$D$5+((-(Sanierungsdesign!$E$12)*MIN($BA$7:$BA$932))/(4*PI()*$D$3))*(-LN((4*$D$4*AH263)/(Sanierungsdesign!$E$13)^2)-$D$19)","v":{"$error":"#DIV/0!"}},{"$f":"(BB263-273.15)/Heterogenität!$D$4","v":{"$error":"#DIV/0!"}},{"$f":"IF(AI263<Berechnung!$D$7,AI263,#N/A)","v":{"$error":"#N/A"}}]
[null,null,null,null,null,null,null,null,null,null,null,null,null,null,null,null,null,null,null,null,null,null,null,null,null,null,null,null,null,null,null,null,{"$f":"Sanierungsdesign!$E$12*AH264*Sanierungsdesign!$E$10/1000000","v":12074.4},1857600,21.5,{"$f":"$D$5+((-Sanierungsdesign!$E$12)/4*PI()*$D$3)*(-LN((4*$D$4*AH264)/(Sanierungsdesign!$E$13^2))-$D$19)","v":2030.2951332961557},1757.1451332961556,{"$f":"$T$4*$T$7*$AH$7*(AJ264-$D$2)/1000000","v":3490.6967577232531},{"$f":"$D$3*$T$7*$AH$7*(AK264-$D$5)*(1/Sanierungsdesign!$E$15)/1000000","v":205.84723788174938},{"$f":"$D$5+(-Sanierungsdesign!$E$12/(4*PI()*$D$3))*(-LN((4*$D$4*AH264)/(Sanierungsdesign!$E$13+Sanierungsdesign!$E$15)^2)-$D$19)","v":333.80855889481597},60.658558894815997,{"$f":"(2*PI()*Sanierungsdesign!$E$10*$D$3)*(LN((Sanierungsdesign!$E$13+Sanierungsdesign!$E$15)/Sanierungsdesign!$E$13)*(AJ264-AN264))*$AH$7/1000000","v":151.46061163960414},{"$f":"$T$20*AH264","v":3200.7194174413339},{"$f":"$D$12*AQ264/1000000","v":7224.0237251650906},{"$f":"AU264/Sanierungsdesign!$E$11","v":1.2627870184530978},{"$f":"$T$18/$D$24*AH264","v":1486080},{"$f":"($D$10*$T$18)*(AJ264-$D$2)/1000000","v":10.102296147624783},{"$f":"($D$17*$L$10*$T$28+$L$2*$D$10*$T$28+$D$16*$L$4*$T$28+$D$18*$L$7*$T$28)*(AJ264-$D$5)/1000000","v":{"$error":"#DIV/0!"}},{"$f":"AV264*$D$28","v":{"$error":"#DIV/0!"}},{"$f":"AL264+AM264+AR264+(0.5*AP264)-(2*AW264)+AS264","v":{"$error":"#DIV/0!"}},{"$error":"#DIV/0!"},{"$f":"(AY264/(AH264*Sanierungsdesign!$E$10))*1000000","v":{"$error":"#DIV/0!"}},{"$f":"AZ264/Sanierungsdesign!$E$12","v":{"$error":"#DIV/0!"}},{"$f":"$D$5+((-(Sanierungsdesign!$E$12)*MIN($BA$7:$BA$932))/(4*PI()*$D$3))*(-LN((4*$D$4*AH264)/(Sanierungsdesign!$E$13)^2)-$D$19)","v":{"$error":"#DIV/0!"}},{"$f":"(BB264-273.15)/Heterogenität!$D$4","v":{"$error":"#DIV/0!"}},{"$f":"IF(AI264<Berechnung!$D$7,AI264,#N/A)","v":{"$error":"#N/A"}}]
[null,null,null,null,null,null,null,null,null,null,null,null,null,null,null,null,null,null,null,null,null,null,null,null,null,null,null,null,null,null,null,null,{"$f":"Sanierungsdesign!$E$12*AH265*Sanierungsdesign!$E$10/1000000","v":12121.2},{"$f":"AH264+$D$24","v":1864800},21.583333333333332,{"$f":"$D$5+((-Sanierungsdesign!$E$12)/4*PI()*$D$3)*(-LN((4*$D$4*AH265)/(Sanierungsdesign!$E$13^2))-$D$19)","v":2035.7142354671723},1762.5642354671722,3501.5362243195991,{"$f":"$D$3*$T$7*$AH$7*(AK265-$D$5)*(1/Sanierungsdesign!$E$15)/1000000","v":206.60402953492689},{"$f":"$D$5+(-Sanierungsdesign!$E$12/(4*PI()*$D$3))*(-LN((4*$D$4*AH265)/(Sanierungsdesign!$E$13+Sanierungsdesign!$E$15)^2)-$D$19)","v":334.10024743777325},60.950247437773271,{"$f":"(2*PI()*Sanierungsdesign!$E$10*$D$3)*(LN((Sanierungsdesign!$E$13+Sanierungsdesign!$E$15)/Sanierungsdesign!$E$13)*(AJ265-AN265))*$AH$7/1000000","v":151.91838196089842},3213.1253066562231,7252.0238171230958,{"$f":"AU265/Sanierungsdesign!$E$11","v":1.2667082807840455},1491840,10.133666246272364,{"$error":"#DIV/0!"},{"$error":"#DIV/0!"},{"$error":"#DIV/0!"},{"$error":"#DIV/0!"},{"$f":"(AY265/(AH265*Sanierungsdesign!$E$10))*1000000","v":{"$error":"#DIV/0!"}},{"$f":"AZ265/Sanierungsdesign!$E$12","v":{"$error":"#DIV/0!"}},{"$f":"$D$5+((-(Sanierungsdesign!$E$12)*MIN($BA$7:$BA$932))/(4*PI()*$D$3))*(-LN((4*$D$4*AH265)/(Sanierungsdesign!$E$13)^2)-$D$19)","v":{"$error":"#DIV/0!"}},{"$f":"(BB265-273.15)/Heterogenität!$D$4","v":{"$error":"#DIV/0!"}},{"$f":"IF(AI265<Berechnung!$D$7,AI265,#N/A)","v":{"$error":"#N/A"}}]
[null,null,null,null,null,null,null,null,null,null,null,null,null,null,null,null,null,null,null,null,null,null,null,null,null,null,null,null,null,null,null,null,{"$f":"Sanierungsdesign!$E$12*AH266*Sanierungsdesign!$E$10/1000000","v":12168},1872000,21.666666666666668,{"$f":"$D$5+((-Sanierungsdesign!$E$12)/4*PI()*$D$3)*(-LN((4*$D$4*AH266)/(Sanierungsdesign!$E$13^2))-$D$19)","v":2041.1124547263998},1767.9624547263998,3512.3339202281763,{"$f":"$D$3*$T$7*$AH$7*(AK266-$D$5)*(1/Sanierungsdesign!$E$15)/1000000","v":207.35790483538813},{"$f":"$D$5+(-Sanierungsdesign!$E$12/(4*PI()*$D$3))*(-LN((4*$D$4*AH266)/(Sanierungsdesign!$E$13+Sanierungsdesign!$E$15)^2)-$D$19)","v":334.39081193731522},61.240811937315243,{"$f":"(2*PI()*Sanierungsdesign!$E$10*$D$3)*(LN((Sanierungsdesign!$E$13+Sanierungsdesign!$E$15)/Sanierungsdesign!$E$13)*(AJ266-AN266))*$AH$7/1000000","v":152.3743882303373},3225.5311958711118,7280.0239090810992,{"$f":"AU266/Sanierungsdesign!$E$11","v":1.2706144322400228},1497600,10.164915457920182,{"$error":"#DIV/0!"},{"$error":"#DIV/0!"},{"$error":"#DIV/0!"},{"$error":"#DIV/0!"},{"$f":"(AY266/(AH266*Sanierungsdesign!$E$10))*1000000","v":{"$error":"#DIV/0!"}},{"$f":"AZ266/Sanierungsdesign!$E$12","v":{"$error":"#DIV/0!"}},{"$f":"$D$5+((-(Sanierungsdesign!$E$12)*MIN($BA$7:$BA$932))/(4*PI()*$D$3))*(-LN((4*$D$4*AH266)/(Sanierungsdesign!$E$13)^2)-$D$19)","v":{"$error":"#DIV/0!"}},{"$f":"(BB266-273.15)/Heterogenität!$D$4","v":{"$error":"#DIV/0!"}},{"$f":"IF(AI266<Berechnung!$D$7,AI266,#N/A)","v":{"$error":"#N/A"}}]
[null,null,null,null,null,null,null,null,null,null,null,null,null,null,null,null,null,null,null,null,null,null,null,null,null,null,null,null,null,null,null,null,{"$f":"Sanierungsdesign!$E$12*AH267*Sanierungsdesign!$E$10/1000000","v":12214.8},1879200,21.75,{"$f":"$D$5+((-Sanierungsdesign!$E$12)/4*PI()*$D$3)*(-LN((4*$D$4*AH267)/(Sanierungsdesign!$E$13^2))-$D$19)","v":2046.4899514038889},1773.3399514038888,3523.0901661464304,{"$f":"$D$3*$T$7*$AH$7*(AK267-$D$5)*(1/Sanierungsdesign!$E$15)/1000000","v":208.10888617363995},{"$f":"$D$5+(-Sanierungsdesign!$E$12/(4*PI()*$D$3))*(-LN((4*$D$4*AH267)/(Sanierungsdesign!$E$13+Sanierungsdesign!$E$15)^2)-$D$19)","v":334.68026102336563},61.530261023365654,{"$f":"(2*PI()*Sanierungsdesign!$E$10*$D$3)*(LN((Sanierungsdesign!$E$13+Sanierungsdesign!$E$15)/Sanierungsdesign!$E$13)*(AJ267-AN267))*$AH$7/1000000","v":152.82864399155525},3237.9370850860009,7308.0240010391044,{"$f":"AU267/Sanierungsdesign!$E$11","v":1.2745055888358539},1503360,10.196044710686831,{"$error":"#DIV/0!"},{"$error":"#DIV/0!"},{"$error":"#DIV/0!"},{"$error":"#DIV/0!"},{"$f":"(AY267/(AH267*Sanierungsdesign!$E$10))*1000000","v":{"$error":"#DIV/0!"}},{"$f":"AZ267/Sanierungsdesign!$E$12","v":{"$error":"#DIV/0!"}},{"$f":"$D$5+((-(Sanierungsdesign!$E$12)*MIN($BA$7:$BA$932))/(4*PI()*$D$3))*(-LN((4*$D$4*AH267)/(Sanierungsdesign!$E$13)^2)-$D$19)","v":{"$error":"#DIV/0!"}},{"$f":"(BB267-273.15)/Heterogenität!$D$4","v":{"$error":"#DIV/0!"}},{"$f":"IF(AI267<Berechnung!$D$7,AI267,#N/A)","v":{"$error":"#N/A"}}]
[null,null,null,null,null,null,null,null,null,null,null,null,null,null,null,null,null,null,null,null,null,null,null,null,null,null,null,null,null,null,null,null,{"$f":"Sanierungsdesign!$E$12*AH268*Sanierungsdesign!$E$10/1000000","v":12261.6},1886400,21.833333333333332,{"$f":"$D$5+((-Sanierungsdesign!$E$12)/4*PI()*$D$3)*(-LN((4*$D$4*AH268)/(Sanierungsdesign!$E$13^2))-$D$19)","v":2051.8468839903294},1778.6968839903293,3533.8052790926595,{"$f":"$D$3*$T$7*$AH$7*(AK268-$D$5)*(1/Sanierungsdesign!$E$15)/1000000","v":208.85699568331765},{"$f":"$D$5+(-Sanierungsdesign!$E$12/(4*PI()*$D$3))*(-LN((4*$D$4*AH268)/(Sanierungsdesign!$E$13+Sanierungsdesign!$E$15)^2)-$D$19)","v":334.9686032268429},61.818603226842924,{"$f":"(2*PI()*Sanierungsdesign!$E$10*$D$3)*(LN((Sanierungsdesign!$E$13+Sanierungsdesign!$E$15)/Sanierungsdesign!$E$13)*(AJ268-AN268))*$AH$7/1000000","v":153.28116263280955},3250.3429743008896,7336.0240929971078,{"$f":"AU268/Sanierungsdesign!$E$11","v":1.2783818652554022},1509120,10.227054922043218,{"$error":"#DIV/0!"},{"$error":"#DIV/0!"},{"$error":"#DIV/0!"},{"$error":"#DIV/0!"},{"$f":"(AY268/(AH268*Sanierungsdesign!$E$10))*1000000","v":{"$error":"#DIV/0!"}},{"$f":"AZ268/Sanierungsdesign!$E$12","v":{"$error":"#DIV/0!"}},{"$f":"$D$5+((-(Sanierungsdesign!$E$12)*MIN($BA$7:$BA$932))/(4*PI()*$D$3))*(-LN((4*$D$4*AH268)/(Sanierungsdesign!$E$13)^2)-$D$19)","v":{"$error":"#DIV/0!"}},{"$f":"(BB268-273.15)/Heterogenität!$D$4","v":{"$error":"#DIV/0!"}},{"$f":"IF(AI268<Berechnung!$D$7,AI268,#N/A)","v":{"$error":"#N/A"}}]
[null,null,null,null,null,null,null,null,null,null,null,null,null,null,null,null,null,null,null,null,null,null,null,null,null,null,null,null,null,null,null,null,{"$f":"Sanierungsdesign!$E$12*AH269*Sanierungsdesign!$E$10/1000000","v":12308.4},1893600,21.916666666666668,{"$f":"$D$5+((-Sanierungsdesign!$E$12)/4*PI()*$D$3)*(-LN((4*$D$4*AH269)/(Sanierungsdesign!$E$13^2))-$D$19)","v":2057.1834091650808},1784.0334091650807,3544.4795724620762,{"$f":"$D$3*$T$7*$AH$7*(AK269-$D$5)*(1/Sanierungsdesign!$E$15)/1000000","v":209.60225524509957},{"$f":"$D$5+(-Sanierungsdesign!$E$12/(4*PI()*$D$3))*(-LN((4*$D$4*AH269)/(Sanierungsdesign!$E$13+Sanierungsdesign!$E$15)^2)-$D$19)","v":335.25584698116882},62.105846981168838,{"$f":"(2*PI()*Sanierungsdesign!$E$10*$D$3)*(LN((Sanierungsdesign!$E$13+Sanierungsdesign!$E$15)/Sanierungsdesign!$E$13)*(AJ269-AN269))*$AH$7/1000000","v":153.73195738934808},3262.7488635157788,7364.0241849551121,{"$f":"AU269/Sanierungsdesign!$E$11","v":1.282243374871852},1514880,10.257946998974816,{"$error":"#DIV/0!"},{"$error":"#DIV/0!"},{"$error":"#DIV/0!"},{"$error":"#DIV/0!"},{"$f":"(AY269/(AH269*Sanierungsdesign!$E$10))*1000000","v":{"$error":"#DIV/0!"}},{"$f":"AZ269/Sanierungsdesign!$E$12","v":{"$error":"#DIV/0!"}},{"$f":"$D$5+((-(Sanierungsdesign!$E$12)*MIN($BA$7:$BA$932))/(4*PI()*$D$3))*(-LN((4*$D$4*AH269)/(Sanierungsdesign!$E$13)^2)-$D$19)","v":{"$error":"#DIV/0!"}},{"$f":"(BB269-273.15)/Heterogenität!$D$4","v":{"$error":"#DIV/0!"}},{"$f":"IF(AI269<Berechnung!$D$7,AI269,#N/A)","v":{"$error":"#N/A"}}]
[null,null,null,null,null,null,null,null,null,null,null,null,null,null,null,null,null,null,null,null,null,null,null,null,null,null,null,null,null,null,null,null,{"$f":"Sanierungsdesign!$E$12*AH270*Sanierungsdesign!$E$10/1000000","v":12355.2},1900800,22,{"$f":"$D$5+((-Sanierungsdesign!$E$12)/4*PI()*$D$3)*(-LN((4*$D$4*AH270)/(Sanierungsdesign!$E$13^2))-$D$19)","v":2062.4996818236687},1789.3496818236686,3555.1133560818116,{"$f":"$D$3*$T$7*$AH$7*(AK270-$D$5)*(1/Sanierungsdesign!$E$15)/1000000","v":210.34468649054705},{"$f":"$D$5+(-Sanierungsdesign!$E$12/(4*PI()*$D$3))*(-LN((4*$D$4*AH270)/(Sanierungsdesign!$E$13+Sanierungsdesign!$E$15)^2)-$D$19)","v":335.54200062374838},62.392000623748402,{"$f":"(2*PI()*Sanierungsdesign!$E$10*$D$3)*(LN((Sanierungsdesign!$E$13+Sanierungsdesign!$E$15)/Sanierungsdesign!$E$13)*(AJ270-AN270))*$AH$7/1000000","v":154.18104134573215},3275.1547527306675,7392.0242769131164,{"$f":"AU270/Sanierungsdesign!$E$11","v":1.2860902297676065},1520640,10.288721838140852,{"$error":"#DIV/0!"},{"$error":"#DIV/0!"},{"$error":"#DIV/0!"},{"$error":"#DIV/0!"},{"$f":"(AY270/(AH270*Sanierungsdesign!$E$10))*1000000","v":{"$error":"#DIV/0!"}},{"$f":"AZ270/Sanierungsdesign!$E$12","v":{"$error":"#DIV/0!"}},{"$f":"$D$5+((-(Sanierungsdesign!$E$12)*MIN($BA$7:$BA$932))/(4*PI()*$D$3))*(-LN((4*$D$4*AH270)/(Sanierungsdesign!$E$13)^2)-$D$19)","v":{"$error":"#DIV/0!"}},{"$f":"(BB270-273.15)/Heterogenität!$D$4","v":{"$error":"#DIV/0!"}},{"$f":"IF(AI270<Berechnung!$D$7,AI270,#N/A)","v":{"$error":"#N/A"}}]
[null,null,null,null,null,null,null,null,null,null,null,null,null,null,null,null,null,null,null,null,null,null,null,null,null,null,null,null,null,null,null,null,{"$f":"Sanierungsdesign!$E$12*AH271*Sanierungsdesign!$E$10/1000000","v":12402},1908000,22.083333333333332,{"$f":"$D$5+((-Sanierungsdesign!$E$12)/4*PI()*$D$3)*(-LN((4*$D$4*AH271)/(Sanierungsdesign!$E$13^2))-$D$19)","v":2067.7958551047609},1794.6458551047608,3565.7069362648713,{"$f":"$D$3*$T$7*$AH$7*(AK271-$D$5)*(1/Sanierungsdesign!$E$15)/1000000","v":211.08431080587167},{"$f":"$D$5+(-Sanierungsdesign!$E$12/(4*PI()*$D$3))*(-LN((4*$D$4*AH271)/(Sanierungsdesign!$E$13+Sanierungsdesign!$E$15)^2)-$D$19)","v":335.82707239742217},62.677072397422194,{"$f":"(2*PI()*Sanierungsdesign!$E$10*$D$3)*(LN((Sanierungsdesign!$E$13+Sanierungsdesign!$E$15)/Sanierungsdesign!$E$13)*(AJ271-AN271))*$AH$7/1000000","v":154.62842743811521},3287.5606419455562,7420.0243688711207,{"$f":"AU271/Sanierungsdesign!$E$11","v":1.2899225407538049},1526400,10.319380326030439,{"$error":"#DIV/0!"},{"$error":"#DIV/0!"},{"$error":"#DIV/0!"},{"$error":"#DIV/0!"},{"$f":"(AY271/(AH271*Sanierungsdesign!$E$10))*1000000","v":{"$error":"#DIV/0!"}},{"$f":"AZ271/Sanierungsdesign!$E$12","v":{"$error":"#DIV/0!"}},{"$f":"$D$5+((-(Sanierungsdesign!$E$12)*MIN($BA$7:$BA$932))/(4*PI()*$D$3))*(-LN((4*$D$4*AH271)/(Sanierungsdesign!$E$13)^2)-$D$19)","v":{"$error":"#DIV/0!"}},{"$f":"(BB271-273.15)/Heterogenität!$D$4","v":{"$error":"#DIV/0!"}},{"$f":"IF(AI271<Berechnung!$D$7,AI271,#N/A)","v":{"$error":"#N/A"}}]
[null,null,null,null,null,null,null,null,null,null,null,null,null,null,null,null,null,null,null,null,null,null,null,null,null,null,null,null,null,null,null,null,{"$f":"Sanierungsdesign!$E$12*AH272*Sanierungsdesign!$E$10/1000000","v":12448.8},1915200,22.166666666666668,{"$f":"$D$5+((-Sanierungsdesign!$E$12)/4*PI()*$D$3)*(-LN((4*$D$4*AH272)/(Sanierungsdesign!$E$13^2))-$D$19)","v":2073.0720804166367},1799.9220804166366,3576.2606158630811,{"$f":"$D$3*$T$7*$AH$7*(AK272-$D$5)*(1/Sanierungsdesign!$E$15)/1000000","v":211.8211493356317},{"$f":"$D$5+(-Sanierungsdesign!$E$12/(4*PI()*$D$3))*(-LN((4*$D$4*AH272)/(Sanierungsdesign!$E$13+Sanierungsdesign!$E$15)^2)-$D$19)","v":336.11107045189084},62.961070451890862,{"$f":"(2*PI()*Sanierungsdesign!$E$10*$D$3)*(LN((Sanierungsdesign!$E$13+Sanierungsdesign!$E$15)/Sanierungsdesign!$E$13)*(AJ272-AN272))*$AH$7/1000000","v":155.07412845647877},3299.9665311604454,7448.024460829125,{"$f":"AU272/Sanierungsdesign!$E$11","v":1.293740417389478},1532160,10.349923339115824,{"$error":"#DIV/0!"},{"$error":"#DIV/0!"},{"$error":"#DIV/0!"},{"$error":"#DIV/0!"},{"$f":"(AY272/(AH272*Sanierungsdesign!$E$10))*1000000","v":{"$error":"#DIV/0!"}},{"$f":"AZ272/Sanierungsdesign!$E$12","v":{"$error":"#DIV/0!"}},{"$f":"$D$5+((-(Sanierungsdesign!$E$12)*MIN($BA$7:$BA$932))/(4*PI()*$D$3))*(-LN((4*$D$4*AH272)/(Sanierungsdesign!$E$13)^2)-$D$19)","v":{"$error":"#DIV/0!"}},{"$f":"(BB272-273.15)/Heterogenität!$D$4","v":{"$error":"#DIV/0!"}},{"$f":"IF(AI272<Berechnung!$D$7,AI272,#N/A)","v":{"$error":"#N/A"}}]
[null,null,null,null,null,null,null,null,null,null,null,null,null,null,null,null,null,null,null,null,null,null,null,null,null,null,null,null,null,null,null,null,{"$f":"Sanierungsdesign!$E$12*AH273*Sanierungsdesign!$E$10/1000000","v":12495.6},1922400,22.25,{"$f":"$D$5+((-Sanierungsdesign!$E$12)/4*PI()*$D$3)*(-LN((4*$D$4*AH273)/(Sanierungsdesign!$E$13^2))-$D$19)","v":2078.3285074631581},1805.178507463158,3586.7746943190341,{"$f":"$D$3*$T$7*$AH$7*(AK273-$D$5)*(1/Sanierungsdesign!$E$15)/1000000","v":212.55522298635927},{"$f":"$D$5+(-Sanierungsdesign!$E$12/(4*PI()*$D$3))*(-LN((4*$D$4*AH273)/(Sanierungsdesign!$E$13+Sanierungsdesign!$E$15)^2)-$D$19)","v":336.39400284511299},63.244002845113016,{"$f":"(2*PI()*Sanierungsdesign!$E$10*$D$3)*(LN((Sanierungsdesign!$E$13+Sanierungsdesign!$E$15)/Sanierungsdesign!$E$13)*(AJ273-AN273))*$AH$7/1000000","v":155.51815704682633},3312.3724203753341,7476.0245527871293,{"$f":"AU273/Sanierungsdesign!$E$11","v":1.2975439680003409},1537920,10.380351744002727,{"$error":"#DIV/0!"},{"$error":"#DIV/0!"},{"$error":"#DIV/0!"},{"$error":"#DIV/0!"},{"$f":"(AY273/(AH273*Sanierungsdesign!$E$10))*1000000","v":{"$error":"#DIV/0!"}},{"$f":"AZ273/Sanierungsdesign!$E$12","v":{"$error":"#DIV/0!"}},{"$f":"$D$5+((-(Sanierungsdesign!$E$12)*MIN($BA$7:$BA$932))/(4*PI()*$D$3))*(-LN((4*$D$4*AH273)/(Sanierungsdesign!$E$13)^2)-$D$19)","v":{"$error":"#DIV/0!"}},{"$f":"(BB273-273.15)/Heterogenität!$D$4","v":{"$error":"#DIV/0!"}},{"$f":"IF(AI273<Berechnung!$D$7,AI273,#N/A)","v":{"$error":"#N/A"}}]
[null,null,null,null,null,null,null,null,null,null,null,null,null,null,null,null,null,null,null,null,null,null,null,null,null,null,null,null,null,null,null,null,{"$f":"Sanierungsdesign!$E$12*AH274*Sanierungsdesign!$E$10/1000000","v":12542.4},1929600,22.333333333333332,{"$f":"$D$5+((-Sanierungsdesign!$E$12)/4*PI()*$D$3)*(-LN((4*$D$4*AH274)/(Sanierungsdesign!$E$13^2))-$D$19)","v":2083.5652842692584},1810.4152842692583,3597.2494677170771,{"$f":"$D$3*$T$7*$AH$7*(AK274-$D$5)*(1/Sanierungsdesign!$E$15)/1000000","v":213.28655243011963},{"$f":"$D$5+(-Sanierungsdesign!$E$12/(4*PI()*$D$3))*(-LN((4*$D$4*AH274)/(Sanierungsdesign!$E$13+Sanierungsdesign!$E$15)^2)-$D$19)","v":336.67587754467741},63.525877544677428,{"$f":"(2*PI()*Sanierungsdesign!$E$10*$D$3)*(LN((Sanierungsdesign!$E$13+Sanierungsdesign!$E$15)/Sanierungsdesign!$E$13)*(AJ274-AN274))*$AH$7/1000000","v":155.96052571333649},3324.7783095902232,7504.0246447451336,{"$f":"AU274/Sanierungsdesign!$E$11","v":1.3013332996972353},1543680,10.410666397577883,{"$error":"#DIV/0!"},{"$error":"#DIV/0!"},{"$error":"#DIV/0!"},{"$error":"#DIV/0!"},{"$f":"(AY274/(AH274*Sanierungsdesign!$E$10))*1000000","v":{"$error":"#DIV/0!"}},{"$f":"AZ274/Sanierungsdesign!$E$12","v":{"$error":"#DIV/0!"}},{"$f":"$D$5+((-(Sanierungsdesign!$E$12)*MIN($BA$7:$BA$932))/(4*PI()*$D$3))*(-LN((4*$D$4*AH274)/(Sanierungsdesign!$E$13)^2)-$D$19)","v":{"$error":"#DIV/0!"}},{"$f":"(BB274-273.15)/Heterogenität!$D$4","v":{"$error":"#DIV/0!"}},{"$f":"IF(AI274<Berechnung!$D$7,AI274,#N/A)","v":{"$error":"#N/A"}}]
[null,null,null,null,null,null,null,null,null,null,null,null,null,null,null,null,null,null,null,null,null,null,null,null,null,null,null,null,null,null,null,null,{"$f":"Sanierungsdesign!$E$12*AH275*Sanierungsdesign!$E$10/1000000","v":12589.2},1936800,22.416666666666668,{"$f":"$D$5+((-Sanierungsdesign!$E$12)/4*PI()*$D$3)*(-LN((4*$D$4*AH275)/(Sanierungsdesign!$E$13^2))-$D$19)","v":2088.7825572059533},1815.6325572059532,3607.6852288333343,{"$f":"$D$3*$T$7*$AH$7*(AK275-$D$5)*(1/Sanierungsdesign!$E$15)/1000000","v":214.01515810800421},{"$f":"$D$5+(-Sanierungsdesign!$E$12/(4*PI()*$D$3))*(-LN((4*$D$4*AH275)/(Sanierungsdesign!$E$13+Sanierungsdesign!$E$15)^2)-$D$19)","v":336.95670242914895},63.80670242914897,{"$f":"(2*PI()*Sanierungsdesign!$E$10*$D$3)*(LN((Sanierungsdesign!$E$13+Sanierungsdesign!$E$15)/Sanierungsdesign!$E$13)*(AJ275-AN275))*$AH$7/1000000","v":156.40124682047568},3337.1841988051119,7532.024736703137,{"$f":"AU275/Sanierungsdesign!$E$11","v":1.3051085183942277},1549440,10.440868147153822,{"$error":"#DIV/0!"},{"$error":"#DIV/0!"},{"$error":"#DIV/0!"},{"$error":"#DIV/0!"},{"$f":"(AY275/(AH275*Sanierungsdesign!$E$10))*1000000","v":{"$error":"#DIV/0!"}},{"$f":"AZ275/Sanierungsdesign!$E$12","v":{"$error":"#DIV/0!"}},{"$f":"$D$5+((-(Sanierungsdesign!$E$12)*MIN($BA$7:$BA$932))/(4*PI()*$D$3))*(-LN((4*$D$4*AH275)/(Sanierungsdesign!$E$13)^2)-$D$19)","v":{"$error":"#DIV/0!"}},{"$f":"(BB275-273.15)/Heterogenität!$D$4","v":{"$error":"#DIV/0!"}},{"$f":"IF(AI275<Berechnung!$D$7,AI275,#N/A)","v":{"$error":"#N/A"}}]
[null,null,null,null,null,null,null,null,null,null,null,null,null,null,null,null,null,null,null,null,null,null,null,null,null,null,null,null,null,null,null,null,{"$f":"Sanierungsdesign!$E$12*AH276*Sanierungsdesign!$E$10/1000000","v":12636},1944000,22.5,{"$f":"$D$5+((-Sanierungsdesign!$E$12)/4*PI()*$D$3)*(-LN((4*$D$4*AH276)/(Sanierungsdesign!$E$13^2))-$D$19)","v":2093.9804710148883},1820.8304710148882,3618.0822671848123,{"$f":"$D$3*$T$7*$AH$7*(AK276-$D$5)*(1/Sanierungsdesign!$E$15)/1000000","v":214.74106023355873},{"$f":"$D$5+(-Sanierungsdesign!$E$12/(4*PI()*$D$3))*(-LN((4*$D$4*AH276)/(Sanierungsdesign!$E$13+Sanierungsdesign!$E$15)^2)-$D$19)","v":337.23648528939009},64.086485289390112,{"$f":"(2*PI()*Sanierungsdesign!$E$10*$D$3)*(LN((Sanierungsdesign!$E$13+Sanierungsdesign!$E$15)/Sanierungsdesign!$E$13)*(AJ276-AN276))*$AH$7/1000000","v":156.84033259507171},3349.5900880200006,7560.0248286611413,{"$f":"AU276/Sanierungsdesign!$E$11","v":1.3088697288263729},1555200,10.470957830610983,{"$error":"#DIV/0!"},{"$error":"#DIV/0!"},{"$error":"#DIV/0!"},{"$error":"#DIV/0!"},{"$f":"(AY276/(AH276*Sanierungsdesign!$E$10))*1000000","v":{"$error":"#DIV/0!"}},{"$f":"AZ276/Sanierungsdesign!$E$12","v":{"$error":"#DIV/0!"}},{"$f":"$D$5+((-(Sanierungsdesign!$E$12)*MIN($BA$7:$BA$932))/(4*PI()*$D$3))*(-LN((4*$D$4*AH276)/(Sanierungsdesign!$E$13)^2)-$D$19)","v":{"$error":"#DIV/0!"}},{"$f":"(BB276-273.15)/Heterogenität!$D$4","v":{"$error":"#DIV/0!"}},{"$f":"IF(AI276<Berechnung!$D$7,AI276,#N/A)","v":{"$error":"#N/A"}}]
[null,null,null,null,null,null,null,null,null,null,null,null,null,null,null,null,null,null,null,null,null,null,null,null,null,null,null,null,null,null,null,null,{"$f":"Sanierungsdesign!$E$12*AH277*Sanierungsdesign!$E$10/1000000","v":12682.8},1951200,22.583333333333332,{"$f":"$D$5+((-Sanierungsdesign!$E$12)/4*PI()*$D$3)*(-LN((4*$D$4*AH277)/(Sanierungsdesign!$E$13^2))-$D$19)","v":2099.1591688324347},1826.0091688324346,3628.4408690775922,{"$f":"$D$3*$T$7*$AH$7*(AK277-$D$5)*(1/Sanierungsdesign!$E$15)/1000000","v":215.46427879614808},{"$f":"$D$5+(-Sanierungsdesign!$E$12/(4*PI()*$D$3))*(-LN((4*$D$4*AH277)/(Sanierungsdesign!$E$13+Sanierungsdesign!$E$15)^2)-$D$19)","v":337.51523382985778},64.3652338298578,{"$f":"(2*PI()*Sanierungsdesign!$E$10*$D$3)*(LN((Sanierungsdesign!$E$13+Sanierungsdesign!$E$15)/Sanierungsdesign!$E$13)*(AJ277-AN277))*$AH$7/1000000","v":157.27779512834951},3361.9959772348898,7588.0249206191465,{"$f":"AU277/Sanierungsdesign!$E$11","v":1.3126170345671495},1560960,10.500936276537196,{"$error":"#DIV/0!"},{"$error":"#DIV/0!"},{"$error":"#DIV/0!"},{"$error":"#DIV/0!"},{"$f":"(AY277/(AH277*Sanierungsdesign!$E$10))*1000000","v":{"$error":"#DIV/0!"}},{"$f":"AZ277/Sanierungsdesign!$E$12","v":{"$error":"#DIV/0!"}},{"$f":"$D$5+((-(Sanierungsdesign!$E$12)*MIN($BA$7:$BA$932))/(4*PI()*$D$3))*(-LN((4*$D$4*AH277)/(Sanierungsdesign!$E$13)^2)-$D$19)","v":{"$error":"#DIV/0!"}},{"$f":"(BB277-273.15)/Heterogenität!$D$4","v":{"$error":"#DIV/0!"}},{"$f":"IF(AI277<Berechnung!$D$7,AI277,#N/A)","v":{"$error":"#N/A"}}]
[null,null,null,null,null,null,null,null,null,null,null,null,null,null,null,null,null,null,null,null,null,null,null,null,null,null,null,null,null,null,null,null,{"$f":"Sanierungsdesign!$E$12*AH278*Sanierungsdesign!$E$10/1000000","v":12729.6},1958400,22.666666666666668,{"$f":"$D$5+((-Sanierungsdesign!$E$12)/4*PI()*$D$3)*(-LN((4*$D$4*AH278)/(Sanierungsdesign!$E$13^2))-$D$19)","v":2104.3187922133379},1831.1687922133378,3638.7613176541381,{"$f":"$D$3*$T$7*$AH$7*(AK278-$D$5)*(1/Sanierungsdesign!$E$15)/1000000","v":216.18483356425915},{"$f":"$D$5+(-Sanierungsdesign!$E$12/(4*PI()*$D$3))*(-LN((4*$D$4*AH278)/(Sanierungsdesign!$E$13+Sanierungsdesign!$E$15)^2)-$D$19)","v":337.79295566987651},64.642955669876528,{"$f":"(2*PI()*Sanierungsdesign!$E$10*$D$3)*(LN((Sanierungsdesign!$E$13+Sanierungsdesign!$E$15)/Sanierungsdesign!$E$13)*(AJ278-AN278))*$AH$7/1000000","v":157.71364637792843},3374.4018664497785,7616.0250125771499,{"$f":"AU278/Sanierungsdesign!$E$11","v":1.3163505380455711},1566720,10.530804304364569,{"$error":"#DIV/0!"},{"$error":"#DIV/0!"},{"$error":"#DIV/0!"},{"$error":"#DIV/0!"},{"$f":"(AY278/(AH278*Sanierungsdesign!$E$10))*1000000","v":{"$error":"#DIV/0!"}},{"$f":"AZ278/Sanierungsdesign!$E$12","v":{"$error":"#DIV/0!"}},{"$f":"$D$5+((-(Sanierungsdesign!$E$12)*MIN($BA$7:$BA$932))/(4*PI()*$D$3))*(-LN((4*$D$4*AH278)/(Sanierungsdesign!$E$13)^2)-$D$19)","v":{"$error":"#DIV/0!"}},{"$f":"(BB278-273.15)/Heterogenität!$D$4","v":{"$error":"#DIV/0!"}},{"$f":"IF(AI278<Berechnung!$D$7,AI278,#N/A)","v":{"$error":"#N/A"}}]
[null,null,null,null,null,null,null,null,null,null,null,null,null,null,null,null,null,null,null,null,null,null,null,null,null,null,null,null,null,null,null,null,{"$f":"Sanierungsdesign!$E$12*AH279*Sanierungsdesign!$E$10/1000000","v":12776.4},1965600,22.75,{"$f":"$D$5+((-Sanierungsdesign!$E$12)/4*PI()*$D$3)*(-LN((4*$D$4*AH279)/(Sanierungsdesign!$E$13^2))-$D$19)","v":2109.4594811539364},1836.3094811539363,3649.0438929397351,{"$f":"$D$3*$T$7*$AH$7*(AK279-$D$5)*(1/Sanierungsdesign!$E$15)/1000000","v":216.90274408874308},{"$f":"$D$5+(-Sanierungsdesign!$E$12/(4*PI()*$D$3))*(-LN((4*$D$4*AH279)/(Sanierungsdesign!$E$13+Sanierungsdesign!$E$15)^2)-$D$19)","v":338.06965834488784},64.919658344887864,{"$f":"(2*PI()*Sanierungsdesign!$E$10*$D$3)*(LN((Sanierungsdesign!$E$13+Sanierungsdesign!$E$15)/Sanierungsdesign!$E$13)*(AJ279-AN279))*$AH$7/1000000","v":158.1478981697839},3386.8077556646676,7644.0251045351552,{"$f":"AU279/Sanierungsdesign!$E$11","v":1.3200703405629881},1572480,10.560562724503905,{"$error":"#DIV/0!"},{"$error":"#DIV/0!"},{"$error":"#DIV/0!"},{"$error":"#DIV/0!"},{"$f":"(AY279/(AH279*Sanierungsdesign!$E$10))*1000000","v":{"$error":"#DIV/0!"}},{"$f":"AZ279/Sanierungsdesign!$E$12","v":{"$error":"#DIV/0!"}},{"$f":"$D$5+((-(Sanierungsdesign!$E$12)*MIN($BA$7:$BA$932))/(4*PI()*$D$3))*(-LN((4*$D$4*AH279)/(Sanierungsdesign!$E$13)^2)-$D$19)","v":{"$error":"#DIV/0!"}},{"$f":"(BB279-273.15)/Heterogenität!$D$4","v":{"$error":"#DIV/0!"}},{"$f":"IF(AI279<Berechnung!$D$7,AI279,#N/A)","v":{"$error":"#N/A"}}]
[null,null,null,null,null,null,null,null,null,null,null,null,null,null,null,null,null,null,null,null,null,null,null,null,null,null,null,null,null,null,null,null,{"$f":"Sanierungsdesign!$E$12*AH280*Sanierungsdesign!$E$10/1000000","v":12823.2},1972800,22.833333333333332,{"$f":"$D$5+((-Sanierungsdesign!$E$12)/4*PI()*$D$3)*(-LN((4*$D$4*AH280)/(Sanierungsdesign!$E$13^2))-$D$19)","v":2114.5813741149536},1841.4313741149535,3659.2888718880818,{"$f":"$D$3*$T$7*$AH$7*(AK280-$D$5)*(1/Sanierungsdesign!$E$15)/1000000","v":217.61802970599862},{"$f":"$D$5+(-Sanierungsdesign!$E$12/(4*PI()*$D$3))*(-LN((4*$D$4*AH280)/(Sanierungsdesign!$E$13+Sanierungsdesign!$E$15)^2)-$D$19)","v":338.3453493076774},65.195349307677418,{"$f":"(2*PI()*Sanierungsdesign!$E$10*$D$3)*(LN((Sanierungsdesign!$E$13+Sanierungsdesign!$E$15)/Sanierungsdesign!$E$13)*(AJ280-AN280))*$AH$7/1000000","v":158.58056220017247},3399.2136448795563,7672.0251964931585,{"$f":"AU280/Sanierungsdesign!$E$11","v":1.3237765423095802},1578240,10.590212338476642,{"$error":"#DIV/0!"},{"$error":"#DIV/0!"},{"$error":"#DIV/0!"},{"$error":"#DIV/0!"},{"$f":"(AY280/(AH280*Sanierungsdesign!$E$10))*1000000","v":{"$error":"#DIV/0!"}},{"$f":"AZ280/Sanierungsdesign!$E$12","v":{"$error":"#DIV/0!"}},{"$f":"$D$5+((-(Sanierungsdesign!$E$12)*MIN($BA$7:$BA$932))/(4*PI()*$D$3))*(-LN((4*$D$4*AH280)/(Sanierungsdesign!$E$13)^2)-$D$19)","v":{"$error":"#DIV/0!"}},{"$f":"(BB280-273.15)/Heterogenität!$D$4","v":{"$error":"#DIV/0!"}},{"$f":"IF(AI280<Berechnung!$D$7,AI280,#N/A)","v":{"$error":"#N/A"}}]
[null,null,null,null,null,null,null,null,null,null,null,null,null,null,null,null,null,null,null,null,null,null,null,null,null,null,null,null,null,null,null,null,{"$f":"Sanierungsdesign!$E$12*AH281*Sanierungsdesign!$E$10/1000000","v":12870},1980000,22.916666666666668,{"$f":"$D$5+((-Sanierungsdesign!$E$12)/4*PI()*$D$3)*(-LN((4*$D$4*AH281)/(Sanierungsdesign!$E$13^2))-$D$19)","v":2119.6846080438736},1846.5346080438735,3669.4965284260438,{"$f":"$D$3*$T$7*$AH$7*(AK281-$D$5)*(1/Sanierungsdesign!$E$15)/1000000","v":218.3307095410965},{"$f":"$D$5+(-Sanierungsdesign!$E$12/(4*PI()*$D$3))*(-LN((4*$D$4*AH281)/(Sanierungsdesign!$E$13+Sanierungsdesign!$E$15)^2)-$D$19)","v":338.6200359295791},65.470035929579126,{"$f":"(2*PI()*Sanierungsdesign!$E$10*$D$3)*(LN((Sanierungsdesign!$E$13+Sanierungsdesign!$E$15)/Sanierungsdesign!$E$13)*(AJ281-AN281))*$AH$7/1000000","v":159.01165003752234},3411.6195340944455,7700.0252884511629,{"$f":"AU281/Sanierungsdesign!$E$11","v":1.3274692423805465},1584000,10.619753939044372,{"$error":"#DIV/0!"},{"$error":"#DIV/0!"},{"$error":"#DIV/0!"},{"$error":"#DIV/0!"},{"$f":"(AY281/(AH281*Sanierungsdesign!$E$10))*1000000","v":{"$error":"#DIV/0!"}},{"$f":"AZ281/Sanierungsdesign!$E$12","v":{"$error":"#DIV/0!"}},{"$f":"$D$5+((-(Sanierungsdesign!$E$12)*MIN($BA$7:$BA$932))/(4*PI()*$D$3))*(-LN((4*$D$4*AH281)/(Sanierungsdesign!$E$13)^2)-$D$19)","v":{"$error":"#DIV/0!"}},{"$f":"(BB281-273.15)/Heterogenität!$D$4","v":{"$error":"#DIV/0!"}},{"$f":"IF(AI281<Berechnung!$D$7,AI281,#N/A)","v":{"$error":"#N/A"}}]
[null,null,null,null,null,null,null,null,null,null,null,null,null,null,null,null,null,null,null,null,null,null,null,null,null,null,null,null,null,null,null,null,{"$f":"Sanierungsdesign!$E$12*AH282*Sanierungsdesign!$E$10/1000000","v":12916.8},1987200,23,{"$f":"$D$5+((-Sanierungsdesign!$E$12)/4*PI()*$D$3)*(-LN((4*$D$4*AH282)/(Sanierungsdesign!$E$13^2))-$D$19)","v":2124.7693183969118},1851.6193183969117,3679.6671334976054,{"$f":"$D$3*$T$7*$AH$7*(AK282-$D$5)*(1/Sanierungsdesign!$E$15)/1000000","v":219.0408025108481},{"$f":"$D$5+(-Sanierungsdesign!$E$12/(4*PI()*$D$3))*(-LN((4*$D$4*AH282)/(Sanierungsdesign!$E$13+Sanierungsdesign!$E$15)^2)-$D$19)","v":338.89372550165808},65.743725501658105,{"$f":"(2*PI()*Sanierungsdesign!$E$10*$D$3)*(LN((Sanierungsdesign!$E$13+Sanierungsdesign!$E$15)/Sanierungsdesign!$E$13)*(AJ282-AN282))*$AH$7/1000000","v":159.44117312428892},3424.0254233093342,7728.0253804091672,{"$f":"AU282/Sanierungsdesign!$E$11","v":1.331148538792005},1589760,10.64918831033604,{"$error":"#DIV/0!"},{"$error":"#DIV/0!"},{"$error":"#DIV/0!"},{"$error":"#DIV/0!"},{"$f":"(AY282/(AH282*Sanierungsdesign!$E$10))*1000000","v":{"$error":"#DIV/0!"}},{"$f":"AZ282/Sanierungsdesign!$E$12","v":{"$error":"#DIV/0!"}},{"$f":"$D$5+((-(Sanierungsdesign!$E$12)*MIN($BA$7:$BA$932))/(4*PI()*$D$3))*(-LN((4*$D$4*AH282)/(Sanierungsdesign!$E$13)^2)-$D$19)","v":{"$error":"#DIV/0!"}},{"$f":"(BB282-273.15)/Heterogenität!$D$4","v":{"$error":"#DIV/0!"}},{"$f":"IF(AI282<Berechnung!$D$7,AI282,#N/A)","v":{"$error":"#N/A"}}]
[null,null,null,null,null,null,null,null,null,null,null,null,null,null,null,null,null,null,null,null,null,null,null,null,null,null,null,null,null,null,null,null,{"$f":"Sanierungsdesign!$E$12*AH283*Sanierungsdesign!$E$10/1000000","v":12963.6},1994400,23.083333333333332,{"$f":"$D$5+((-Sanierungsdesign!$E$12)/4*PI()*$D$3)*(-LN((4*$D$4*AH283)/(Sanierungsdesign!$E$13^2))-$D$19)","v":2129.8356391605898},1856.6856391605897,3689.8009551070177,{"$f":"$D$3*$T$7*$AH$7*(AK283-$D$5)*(1/Sanierungsdesign!$E$15)/1000000","v":219.74832732681813},{"$f":"$D$5+(-Sanierungsdesign!$E$12/(4*PI()*$D$3))*(-LN((4*$D$4*AH283)/(Sanierungsdesign!$E$13+Sanierungsdesign!$E$15)^2)-$D$19)","v":339.16642523587149},66.016425235871509,{"$f":"(2*PI()*Sanierungsdesign!$E$10*$D$3)*(LN((Sanierungsdesign!$E$13+Sanierungsdesign!$E$15)/Sanierungsdesign!$E$13)*(AJ283-AN283))*$AH$7/1000000","v":159.86914277877756},3436.4313125242229,7756.0254723671715,{"$f":"AU283/Sanierungsdesign!$E$11","v":1.3348145284966026},1595520,10.678516227972821,{"$error":"#DIV/0!"},{"$error":"#DIV/0!"},{"$error":"#DIV/0!"},{"$error":"#DIV/0!"},{"$f":"(AY283/(AH283*Sanierungsdesign!$E$10))*1000000","v":{"$error":"#DIV/0!"}},{"$f":"AZ283/Sanierungsdesign!$E$12","v":{"$error":"#DIV/0!"}},{"$f":"$D$5+((-(Sanierungsdesign!$E$12)*MIN($BA$7:$BA$932))/(4*PI()*$D$3))*(-LN((4*$D$4*AH283)/(Sanierungsdesign!$E$13)^2)-$D$19)","v":{"$error":"#DIV/0!"}},{"$f":"(BB283-273.15)/Heterogenität!$D$4","v":{"$error":"#DIV/0!"}},{"$f":"IF(AI283<Berechnung!$D$7,AI283,#N/A)","v":{"$error":"#N/A"}}]
[null,null,null,null,null,null,null,null,null,null,null,null,null,null,null,null,null,null,null,null,null,null,null,null,null,null,null,null,null,null,null,null,{"$f":"Sanierungsdesign!$E$12*AH284*Sanierungsdesign!$E$10/1000000","v":13010.4},2001600,23.166666666666668,{"$f":"$D$5+((-Sanierungsdesign!$E$12)/4*PI()*$D$3)*(-LN((4*$D$4*AH284)/(Sanierungsdesign!$E$13^2))-$D$19)","v":2134.8837028729213},1861.7337028729212,3699.8982583611792,{"$f":"$D$3*$T$7*$AH$7*(AK284-$D$5)*(1/Sanierungsdesign!$E$15)/1000000","v":220.45330249828345},{"$f":"$D$5+(-Sanierungsdesign!$E$12/(4*PI()*$D$3))*(-LN((4*$D$4*AH284)/(Sanierungsdesign!$E$13+Sanierungsdesign!$E$15)^2)-$D$19)","v":339.4381422662093},66.28814226620932,{"$f":"(2*PI()*Sanierungsdesign!$E$10*$D$3)*(LN((Sanierungsdesign!$E$13+Sanierungsdesign!$E$15)/Sanierungsdesign!$E$13)*(AJ284-AN284))*$AH$7/1000000","v":160.29557019693311},3448.8372017391121,7784.0255643251767,{"$f":"AU284/Sanierungsdesign!$E$11","v":1.3384673073988458},1601280,10.707738459190766,{"$error":"#DIV/0!"},{"$error":"#DIV/0!"},{"$error":"#DIV/0!"},{"$error":"#DIV/0!"},{"$f":"(AY284/(AH284*Sanierungsdesign!$E$10))*1000000","v":{"$error":"#DIV/0!"}},{"$f":"AZ284/Sanierungsdesign!$E$12","v":{"$error":"#DIV/0!"}},{"$f":"$D$5+((-(Sanierungsdesign!$E$12)*MIN($BA$7:$BA$932))/(4*PI()*$D$3))*(-LN((4*$D$4*AH284)/(Sanierungsdesign!$E$13)^2)-$D$19)","v":{"$error":"#DIV/0!"}},{"$f":"(BB284-273.15)/Heterogenität!$D$4","v":{"$error":"#DIV/0!"}},{"$f":"IF(AI284<Berechnung!$D$7,AI284,#N/A)","v":{"$error":"#N/A"}}]
[null,null,null,null,null,null,null,null,null,null,null,null,null,null,null,null,null,null,null,null,null,null,null,null,null,null,null,null,null,null,null,null,{"$f":"Sanierungsdesign!$E$12*AH285*Sanierungsdesign!$E$10/1000000","v":13057.2},2008800,23.25,{"$f":"$D$5+((-Sanierungsdesign!$E$12)/4*PI()*$D$3)*(-LN((4*$D$4*AH285)/(Sanierungsdesign!$E$13^2))-$D$19)","v":2139.9136406442144},1866.7636406442143,3709.9593055112464,{"$f":"$D$3*$T$7*$AH$7*(AK285-$D$5)*(1/Sanierungsdesign!$E$15)/1000000","v":221.15574633513819},{"$f":"$D$5+(-Sanierungsdesign!$E$12/(4*PI()*$D$3))*(-LN((4*$D$4*AH285)/(Sanierungsdesign!$E$13+Sanierungsdesign!$E$15)^2)-$D$19)","v":339.70888364981369},66.558883649813708,{"$f":"(2*PI()*Sanierungsdesign!$E$10*$D$3)*(LN((Sanierungsdesign!$E$13+Sanierungsdesign!$E$15)/Sanierungsdesign!$E$13)*(AJ285-AN285))*$AH$7/1000000","v":160.72046645409728},3461.2430909540008,7812.0256562831792,{"$f":"AU285/Sanierungsdesign!$E$11","v":1.3421069703701531},1607040,10.736855762961225,{"$error":"#DIV/0!"},{"$error":"#DIV/0!"},{"$error":"#DIV/0!"},{"$error":"#DIV/0!"},{"$f":"(AY285/(AH285*Sanierungsdesign!$E$10))*1000000","v":{"$error":"#DIV/0!"}},{"$f":"AZ285/Sanierungsdesign!$E$12","v":{"$error":"#DIV/0!"}},{"$f":"$D$5+((-(Sanierungsdesign!$E$12)*MIN($BA$7:$BA$932))/(4*PI()*$D$3))*(-LN((4*$D$4*AH285)/(Sanierungsdesign!$E$13)^2)-$D$19)","v":{"$error":"#DIV/0!"}},{"$f":"(BB285-273.15)/Heterogenität!$D$4","v":{"$error":"#DIV/0!"}},{"$f":"IF(AI285<Berechnung!$D$7,AI285,#N/A)","v":{"$error":"#N/A"}}]
[null,null,null,null,null,null,null,null,null,null,null,null,null,null,null,null,null,null,null,null,null,null,null,null,null,null,null,null,null,null,null,null,{"$f":"Sanierungsdesign!$E$12*AH286*Sanierungsdesign!$E$10/1000000","v":13104},2016000,23.333333333333332,{"$f":"$D$5+((-Sanierungsdesign!$E$12)/4*PI()*$D$3)*(-LN((4*$D$4*AH286)/(Sanierungsdesign!$E$13^2))-$D$19)","v":2144.9255821775055},1871.7755821775054,3719.9843559935025,{"$f":"$D$3*$T$7*$AH$7*(AK286-$D$5)*(1/Sanierungsdesign!$E$15)/1000000","v":221.85567695074732},{"$f":"$D$5+(-Sanierungsdesign!$E$12/(4*PI()*$D$3))*(-LN((4*$D$4*AH286)/(Sanierungsdesign!$E$13+Sanierungsdesign!$E$15)^2)-$D$19)","v":339.97865636807899},66.82865636807901,{"$f":"(2*PI()*Sanierungsdesign!$E$10*$D$3)*(LN((Sanierungsdesign!$E$13+Sanierungsdesign!$E$15)/Sanierungsdesign!$E$13)*(AJ286-AN286))*$AH$7/1000000","v":161.1438425067345},3473.6489801688899,7840.0257482411844,{"$f":"AU286/Sanierungsdesign!$E$11","v":1.3457336112636429},1612800,10.765868890109143,{"$error":"#DIV/0!"},{"$error":"#DIV/0!"},{"$error":"#DIV/0!"},{"$error":"#DIV/0!"},{"$f":"(AY286/(AH286*Sanierungsdesign!$E$10))*1000000","v":{"$error":"#DIV/0!"}},{"$f":"AZ286/Sanierungsdesign!$E$12","v":{"$error":"#DIV/0!"}},{"$f":"$D$5+((-(Sanierungsdesign!$E$12)*MIN($BA$7:$BA$932))/(4*PI()*$D$3))*(-LN((4*$D$4*AH286)/(Sanierungsdesign!$E$13)^2)-$D$19)","v":{"$error":"#DIV/0!"}},{"$f":"(BB286-273.15)/Heterogenität!$D$4","v":{"$error":"#DIV/0!"}},{"$f":"IF(AI286<Berechnung!$D$7,AI286,#N/A)","v":{"$error":"#N/A"}}]
[null,null,null,null,null,null,null,null,null,null,null,null,null,null,null,null,null,null,null,null,null,null,null,null,null,null,null,null,null,null,null,null,{"$f":"Sanierungsdesign!$E$12*AH287*Sanierungsdesign!$E$10/1000000","v":13150.8},2023200,23.416666666666668,{"$f":"$D$5+((-Sanierungsdesign!$E$12)/4*PI()*$D$3)*(-LN((4*$D$4*AH287)/(Sanierungsdesign!$E$13^2))-$D$19)","v":2149.9196557886244},1876.7696557886243,3729.9736664694956,{"$f":"$D$3*$T$7*$AH$7*(AK287-$D$5)*(1/Sanierungsdesign!$E$15)/1000000","v":222.55311226474873},{"$f":"$D$5+(-Sanierungsdesign!$E$12/(4*PI()*$D$3))*(-LN((4*$D$4*AH287)/(Sanierungsdesign!$E$13+Sanierungsdesign!$E$15)^2)-$D$19)","v":340.24746732773207},67.09746732773209,{"$f":"(2*PI()*Sanierungsdesign!$E$10*$D$3)*(LN((Sanierungsdesign!$E$13+Sanierungsdesign!$E$15)/Sanierungsdesign!$E$13)*(AJ287-AN287))*$AH$7/1000000","v":161.56570919412715},3486.0548693837786,7868.0258401991887,{"$f":"AU287/Sanierungsdesign!$E$11","v":1.3493473229286483},1618560,10.794778583429187,{"$error":"#DIV/0!"},{"$error":"#DIV/0!"},{"$error":"#DIV/0!"},{"$error":"#DIV/0!"},{"$f":"(AY287/(AH287*Sanierungsdesign!$E$10))*1000000","v":{"$error":"#DIV/0!"}},{"$f":"AZ287/Sanierungsdesign!$E$12","v":{"$error":"#DIV/0!"}},{"$f":"$D$5+((-(Sanierungsdesign!$E$12)*MIN($BA$7:$BA$932))/(4*PI()*$D$3))*(-LN((4*$D$4*AH287)/(Sanierungsdesign!$E$13)^2)-$D$19)","v":{"$error":"#DIV/0!"}},{"$f":"(BB287-273.15)/Heterogenität!$D$4","v":{"$error":"#DIV/0!"}},{"$f":"IF(AI287<Berechnung!$D$7,AI287,#N/A)","v":{"$error":"#N/A"}}]
[null,null,null,null,null,null,null,null,null,null,null,null,null,null,null,null,null,null,null,null,null,null,null,null,null,null,null,null,null,null,null,null,{"$f":"Sanierungsdesign!$E$12*AH288*Sanierungsdesign!$E$10/1000000","v":13197.6},2030400,23.5,{"$f":"$D$5+((-Sanierungsdesign!$E$12)/4*PI()*$D$3)*(-LN((4*$D$4*AH288)/(Sanierungsdesign!$E$13^2))-$D$19)","v":2154.8959884259116},1881.7459884259115,3739.9274908654766,{"$f":"$D$3*$T$7*$AH$7*(AK288-$D$5)*(1/Sanierungsdesign!$E$15)/1000000","v":223.24807000580699},{"$f":"$D$5+(-Sanierungsdesign!$E$12/(4*PI()*$D$3))*(-LN((4*$D$4*AH288)/(Sanierungsdesign!$E$13+Sanierungsdesign!$E$15)^2)-$D$19)","v":340.51532336189297},67.36532336189299,{"$f":"(2*PI()*Sanierungsdesign!$E$10*$D$3)*(LN((Sanierungsdesign!$E$13+Sanierungsdesign!$E$15)/Sanierungsdesign!$E$13)*(AJ288-AN288))*$AH$7/1000000","v":161.98607724004106},3498.4607585986673,7896.0259321571921,{"$f":"AU288/Sanierungsdesign!$E$11","v":1.3529481972249893},1624320,10.823585577799914,{"$error":"#DIV/0!"},{"$error":"#DIV/0!"},{"$error":"#DIV/0!"},{"$error":"#DIV/0!"},{"$f":"(AY288/(AH288*Sanierungsdesign!$E$10))*1000000","v":{"$error":"#DIV/0!"}},{"$f":"AZ288/Sanierungsdesign!$E$12","v":{"$error":"#DIV/0!"}},{"$f":"$D$5+((-(Sanierungsdesign!$E$12)*MIN($BA$7:$BA$932))/(4*PI()*$D$3))*(-LN((4*$D$4*AH288)/(Sanierungsdesign!$E$13)^2)-$D$19)","v":{"$error":"#DIV/0!"}},{"$f":"(BB288-273.15)/Heterogenität!$D$4","v":{"$error":"#DIV/0!"}},{"$f":"IF(AI288<Berechnung!$D$7,AI288,#N/A)","v":{"$error":"#N/A"}}]
[null,null,null,null,null,null,null,null,null,null,null,null,null,null,null,null,null,null,null,null,null,null,null,null,null,null,null,null,null,null,null,null,{"$f":"Sanierungsdesign!$E$12*AH289*Sanierungsdesign!$E$10/1000000","v":13244.4},2037600,23.583333333333332,{"$f":"$D$5+((-Sanierungsdesign!$E$12)/4*PI()*$D$3)*(-LN((4*$D$4*AH289)/(Sanierungsdesign!$E$13^2))-$D$19)","v":2159.8547056895763},1886.7047056895763,3749.8460804111201,{"$f":"$D$3*$T$7*$AH$7*(AK289-$D$5)*(1/Sanierungsdesign!$E$15)/1000000","v":223.94056771431661},{"$f":"$D$5+(-Sanierungsdesign!$E$12/(4*PI()*$D$3))*(-LN((4*$D$4*AH289)/(Sanierungsdesign!$E$13+Sanierungsdesign!$E$15)^2)-$D$19)","v":340.78223123111746},67.632231231117487,{"$f":"(2*PI()*Sanierungsdesign!$E$10*$D$3)*(LN((Sanierungsdesign!$E$13+Sanierungsdesign!$E$15)/Sanierungsdesign!$E$13)*(AJ289-AN289))*$AH$7/1000000","v":162.40495725436071},3510.8666478135565,7924.0260241151973,{"$f":"AU289/Sanierungsdesign!$E$11","v":1.3565363250369771},1630080,10.852290600295817,{"$error":"#DIV/0!"},{"$error":"#DIV/0!"},{"$error":"#DIV/0!"},{"$error":"#DIV/0!"},{"$f":"(AY289/(AH289*Sanierungsdesign!$E$10))*1000000","v":{"$error":"#DIV/0!"}},{"$f":"AZ289/Sanierungsdesign!$E$12","v":{"$error":"#DIV/0!"}},{"$f":"$D$5+((-(Sanierungsdesign!$E$12)*MIN($BA$7:$BA$932))/(4*PI()*$D$3))*(-LN((4*$D$4*AH289)/(Sanierungsdesign!$E$13)^2)-$D$19)","v":{"$error":"#DIV/0!"}},{"$f":"(BB289-273.15)/Heterogenität!$D$4","v":{"$error":"#DIV/0!"}},{"$f":"IF(AI289<Berechnung!$D$7,AI289,#N/A)","v":{"$error":"#N/A"}}]
[null,null,null,null,null,null,null,null,null,null,null,null,null,null,null,null,null,null,null,null,null,null,null,null,null,null,null,null,null,null,null,null,{"$f":"Sanierungsdesign!$E$12*AH290*Sanierungsdesign!$E$10/1000000","v":13291.2},2044800,23.666666666666668,{"$f":"$D$5+((-Sanierungsdesign!$E$12)/4*PI()*$D$3)*(-LN((4*$D$4*AH290)/(Sanierungsdesign!$E$13^2))-$D$19)","v":2164.7959318507205},1891.6459318507204,3759.729683677574,{"$f":"$D$3*$T$7*$AH$7*(AK290-$D$5)*(1/Sanierungsdesign!$E$15)/1000000","v":224.63062274505884},{"$f":"$D$5+(-Sanierungsdesign!$E$12/(4*PI()*$D$3))*(-LN((4*$D$4*AH290)/(Sanierungsdesign!$E$13+Sanierungsdesign!$E$15)^2)-$D$19)","v":341.0481976244206},67.898197624420618,{"$f":"(2*PI()*Sanierungsdesign!$E$10*$D$3)*(LN((Sanierungsdesign!$E$13+Sanierungsdesign!$E$15)/Sanierungsdesign!$E$13)*(AJ290-AN290))*$AH$7/1000000","v":162.82235973469636},3523.2725370284452,7952.0261160732016,{"$f":"AU290/Sanierungsdesign!$E$11","v":1.3601117962871812},1635840,10.880894370297449,{"$error":"#DIV/0!"},{"$error":"#DIV/0!"},{"$error":"#DIV/0!"},{"$error":"#DIV/0!"},{"$f":"(AY290/(AH290*Sanierungsdesign!$E$10))*1000000","v":{"$error":"#DIV/0!"}},{"$f":"AZ290/Sanierungsdesign!$E$12","v":{"$error":"#DIV/0!"}},{"$f":"$D$5+((-(Sanierungsdesign!$E$12)*MIN($BA$7:$BA$932))/(4*PI()*$D$3))*(-LN((4*$D$4*AH290)/(Sanierungsdesign!$E$13)^2)-$D$19)","v":{"$error":"#DIV/0!"}},{"$f":"(BB290-273.15)/Heterogenität!$D$4","v":{"$error":"#DIV/0!"}},{"$f":"IF(AI290<Berechnung!$D$7,AI290,#N/A)","v":{"$error":"#N/A"}}]
[null,null,null,null,null,null,null,null,null,null,null,null,null,null,null,null,null,null,null,null,null,null,null,null,null,null,null,null,null,null,null,null,{"$f":"Sanierungsdesign!$E$12*AH291*Sanierungsdesign!$E$10/1000000","v":13338},2052000,23.75,{"$f":"$D$5+((-Sanierungsdesign!$E$12)/4*PI()*$D$3)*(-LN((4*$D$4*AH291)/(Sanierungsdesign!$E$13^2))-$D$19)","v":2169.7197898700233},1896.5697898700232,3769.57854661484,{"$f":"$D$3*$T$7*$AH$7*(AK291-$D$5)*(1/Sanierungsdesign!$E$15)/1000000","v":225.31825226981096},{"$f":"$D$5+(-Sanierungsdesign!$E$12/(4*PI()*$D$3))*(-LN((4*$D$4*AH291)/(Sanierungsdesign!$E$13+Sanierungsdesign!$E$15)^2)-$D$19)","v":341.3132291602829},68.163229160282924,{"$f":"(2*PI()*Sanierungsdesign!$E$10*$D$3)*(LN((Sanierungsdesign!$E$13+Sanierungsdesign!$E$15)/Sanierungsdesign!$E$13)*(AJ291-AN291))*$AH$7/1000000","v":163.23829506796224},3535.6784262433343,7980.026208031205,{"$f":"AU291/Sanierungsdesign!$E$11","v":1.3636746999499485},1641600,10.909397599599588,{"$error":"#DIV/0!"},{"$error":"#DIV/0!"},{"$error":"#DIV/0!"},{"$error":"#DIV/0!"},{"$f":"(AY291/(AH291*Sanierungsdesign!$E$10))*1000000","v":{"$error":"#DIV/0!"}},{"$f":"AZ291/Sanierungsdesign!$E$12","v":{"$error":"#DIV/0!"}},{"$f":"$D$5+((-(Sanierungsdesign!$E$12)*MIN($BA$7:$BA$932))/(4*PI()*$D$3))*(-LN((4*$D$4*AH291)/(Sanierungsdesign!$E$13)^2)-$D$19)","v":{"$error":"#DIV/0!"}},{"$f":"(BB291-273.15)/Heterogenität!$D$4","v":{"$error":"#DIV/0!"}},{"$f":"IF(AI291<Berechnung!$D$7,AI291,#N/A)","v":{"$error":"#N/A"}}]
[null,null,null,null,null,null,null,null,null,null,null,null,null,null,null,null,null,null,null,null,null,null,null,null,null,null,null,null,null,null,null,null,{"$f":"Sanierungsdesign!$E$12*AH292*Sanierungsdesign!$E$10/1000000","v":13384.8},2059200,23.833333333333332,{"$f":"$D$5+((-Sanierungsdesign!$E$12)/4*PI()*$D$3)*(-LN((4*$D$4*AH292)/(Sanierungsdesign!$E$13^2))-$D$19)","v":2174.6264014161043},1901.4764014161042,3779.3929125884952,{"$f":"$D$3*$T$7*$AH$7*(AK292-$D$5)*(1/Sanierungsdesign!$E$15)/1000000","v":226.00347327991079},{"$f":"$D$5+(-Sanierungsdesign!$E$12/(4*PI()*$D$3))*(-LN((4*$D$4*AH292)/(Sanierungsdesign!$E$13+Sanierungsdesign!$E$15)^2)-$D$19)","v":341.57733238763825},68.427332387638273,{"$f":"(2*PI()*Sanierungsdesign!$E$10*$D$3)*(LN((Sanierungsdesign!$E$13+Sanierungsdesign!$E$15)/Sanierungsdesign!$E$13)*(AJ292-AN292))*$AH$7/1000000","v":163.65277353192783},3548.084315458223,8008.0262999892093,{"$f":"AU292/Sanierungsdesign!$E$11","v":1.3672251240646927},1647360,10.937800992517541,{"$error":"#DIV/0!"},{"$error":"#DIV/0!"},{"$error":"#DIV/0!"},{"$error":"#DIV/0!"},{"$f":"(AY292/(AH292*Sanierungsdesign!$E$10))*1000000","v":{"$error":"#DIV/0!"}},{"$f":"AZ292/Sanierungsdesign!$E$12","v":{"$error":"#DIV/0!"}},{"$f":"$D$5+((-(Sanierungsdesign!$E$12)*MIN($BA$7:$BA$932))/(4*PI()*$D$3))*(-LN((4*$D$4*AH292)/(Sanierungsdesign!$E$13)^2)-$D$19)","v":{"$error":"#DIV/0!"}},{"$f":"(BB292-273.15)/Heterogenität!$D$4","v":{"$error":"#DIV/0!"}},{"$f":"IF(AI292<Berechnung!$D$7,AI292,#N/A)","v":{"$error":"#N/A"}}]
[null,null,null,null,null,null,null,null,null,null,null,null,null,null,null,null,null,null,null,null,null,null,null,null,null,null,null,null,null,null,null,null,{"$f":"Sanierungsdesign!$E$12*AH293*Sanierungsdesign!$E$10/1000000","v":13431.6},2066400,23.916666666666668,{"$f":"$D$5+((-Sanierungsdesign!$E$12)/4*PI()*$D$3)*(-LN((4*$D$4*AH293)/(Sanierungsdesign!$E$13^2))-$D$19)","v":2179.5158868835588},1906.3658868835587,3789.173022415775,{"$f":"$D$3*$T$7*$AH$7*(AK293-$D$5)*(1/Sanierungsdesign!$E$15)/1000000","v":226.68630258877545},{"$f":"$D$5+(-Sanierungsdesign!$E$12/(4*PI()*$D$3))*(-LN((4*$D$4*AH293)/(Sanierungsdesign!$E$13+Sanierungsdesign!$E$15)^2)-$D$19)","v":341.84051378684507},68.690513786845088,{"$f":"(2*PI()*Sanierungsdesign!$E$10*$D$3)*(LN((Sanierungsdesign!$E$13+Sanierungsdesign!$E$15)/Sanierungsdesign!$E$13)*(AJ293-AN293))*$AH$7/1000000","v":164.06580529674142},3560.4902046731122,8036.0263919472145,{"$f":"AU293/Sanierungsdesign!$E$11","v":1.3707631557489428},1653120,10.966105245991542,{"$error":"#DIV/0!"},{"$error":"#DIV/0!"},{"$error":"#DIV/0!"},{"$error":"#DIV/0!"},{"$f":"(AY293/(AH293*Sanierungsdesign!$E$10))*1000000","v":{"$error":"#DIV/0!"}},{"$f":"AZ293/Sanierungsdesign!$E$12","v":{"$error":"#DIV/0!"}},{"$f":"$D$5+((-(Sanierungsdesign!$E$12)*MIN($BA$7:$BA$932))/(4*PI()*$D$3))*(-LN((4*$D$4*AH293)/(Sanierungsdesign!$E$13)^2)-$D$19)","v":{"$error":"#DIV/0!"}},{"$f":"(BB293-273.15)/Heterogenität!$D$4","v":{"$error":"#DIV/0!"}},{"$f":"IF(AI293<Berechnung!$D$7,AI293,#N/A)","v":{"$error":"#N/A"}}]
[null,null,null,null,null,null,null,null,null,null,null,null,null,null,null,null,null,null,null,null,null,null,null,null,null,null,null,null,null,null,null,null,{"$f":"Sanierungsdesign!$E$12*AH294*Sanierungsdesign!$E$10/1000000","v":13478.4},2073600,24,{"$f":"$D$5+((-Sanierungsdesign!$E$12)/4*PI()*$D$3)*(-LN((4*$D$4*AH294)/(Sanierungsdesign!$E$13^2))-$D$19)","v":2184.3883654106871},1911.238365410687,3798.9191144010292,{"$f":"$D$3*$T$7*$AH$7*(AK294-$D$5)*(1/Sanierungsdesign!$E$15)/1000000","v":227.36675683437707},{"$f":"$D$5+(-Sanierungsdesign!$E$12/(4*PI()*$D$3))*(-LN((4*$D$4*AH294)/(Sanierungsdesign!$E$13+Sanierungsdesign!$E$15)^2)-$D$19)","v":342.10277977064032},68.952779770640348,{"$f":"(2*PI()*Sanierungsdesign!$E$10*$D$3)*(LN((Sanierungsdesign!$E$13+Sanierungsdesign!$E$15)/Sanierungsdesign!$E$13)*(AJ294-AN294))*$AH$7/1000000","v":164.47740042642772},3572.8960938880009,8064.0264839052179,{"$f":"AU294/Sanierungsdesign!$E$11","v":1.3742888812111731},1658880,10.994311049689385,{"$error":"#DIV/0!"},{"$error":"#DIV/0!"},{"$error":"#DIV/0!"},{"$error":"#DIV/0!"},{"$f":"(AY294/(AH294*Sanierungsdesign!$E$10))*1000000","v":{"$error":"#DIV/0!"}},{"$f":"AZ294/Sanierungsdesign!$E$12","v":{"$error":"#DIV/0!"}},{"$f":"$D$5+((-(Sanierungsdesign!$E$12)*MIN($BA$7:$BA$932))/(4*PI()*$D$3))*(-LN((4*$D$4*AH294)/(Sanierungsdesign!$E$13)^2)-$D$19)","v":{"$error":"#DIV/0!"}},{"$f":"(BB294-273.15)/Heterogenität!$D$4","v":{"$error":"#DIV/0!"}},{"$f":"IF(AI294<Berechnung!$D$7,AI294,#N/A)","v":{"$error":"#N/A"}}]
[null,null,null,null,null,null,null,null,null,null,null,null,null,null,null,null,null,null,null,null,null,null,null,null,null,null,null,null,null,null,null,null,{"$f":"Sanierungsdesign!$E$12*AH295*Sanierungsdesign!$E$10/1000000","v":13525.2},2080800,24.083333333333332,{"$f":"$D$5+((-Sanierungsdesign!$E$12)/4*PI()*$D$3)*(-LN((4*$D$4*AH295)/(Sanierungsdesign!$E$13^2))-$D$19)","v":2189.2439548969114},1916.0939548969113,3808.6314243705647,{"$f":"$D$3*$T$7*$AH$7*(AK295-$D$5)*(1/Sanierungsdesign!$E$15)/1000000","v":228.04485248167535},{"$f":"$D$5+(-Sanierungsdesign!$E$12/(4*PI()*$D$3))*(-LN((4*$D$4*AH295)/(Sanierungsdesign!$E$13+Sanierungsdesign!$E$15)^2)-$D$19)","v":342.36413668507731},69.214136685077335,{"$f":"(2*PI()*Sanierungsdesign!$E$10*$D$3)*(LN((Sanierungsdesign!$E$13+Sanierungsdesign!$E$15)/Sanierungsdesign!$E$13)*(AJ295-AN295))*$AH$7/1000000","v":164.88756888035911},3585.3019831028896,8092.0265758632222,{"$f":"AU295/Sanierungsdesign!$E$11","v":1.377802385763405},1664640,11.02241908610724,{"$error":"#DIV/0!"},{"$error":"#DIV/0!"},{"$error":"#DIV/0!"},{"$error":"#DIV/0!"},{"$f":"(AY295/(AH295*Sanierungsdesign!$E$10))*1000000","v":{"$error":"#DIV/0!"}},{"$f":"AZ295/Sanierungsdesign!$E$12","v":{"$error":"#DIV/0!"}},{"$f":"$D$5+((-(Sanierungsdesign!$E$12)*MIN($BA$7:$BA$932))/(4*PI()*$D$3))*(-LN((4*$D$4*AH295)/(Sanierungsdesign!$E$13)^2)-$D$19)","v":{"$error":"#DIV/0!"}},{"$f":"(BB295-273.15)/Heterogenität!$D$4","v":{"$error":"#DIV/0!"}},{"$f":"IF(AI295<Berechnung!$D$7,AI295,#N/A)","v":{"$error":"#N/A"}}]
[null,null,null,null,null,null,null,null,null,null,null,null,null,null,null,null,null,null,null,null,null,null,null,null,null,null,null,null,null,null,null,null,{"$f":"Sanierungsdesign!$E$12*AH296*Sanierungsdesign!$E$10/1000000","v":13572},2088000,24.166666666666668,{"$f":"$D$5+((-Sanierungsdesign!$E$12)/4*PI()*$D$3)*(-LN((4*$D$4*AH296)/(Sanierungsdesign!$E$13^2))-$D$19)","v":2194.0827720198922},1920.9327720198921,3818.3101857068791,{"$f":"$D$3*$T$7*$AH$7*(AK296-$D$5)*(1/Sanierungsdesign!$E$15)/1000000","v":228.72060582500771},{"$f":"$D$5+(-Sanierungsdesign!$E$12/(4*PI()*$D$3))*(-LN((4*$D$4*AH296)/(Sanierungsdesign!$E$13+Sanierungsdesign!$E$15)^2)-$D$19)","v":342.62459081044665},69.474590810446671,{"$f":"(2*PI()*Sanierungsdesign!$E$10*$D$3)*(LN((Sanierungsdesign!$E$13+Sanierungsdesign!$E$15)/Sanierungsdesign!$E$13)*(AJ296-AN296))*$AH$7/1000000","v":165.29632051470142},3597.7078723177788,8120.0266678212274,{"$f":"AU296/Sanierungsdesign!$E$11","v":1.3813037538335937},1670400,11.05043003066875,{"$error":"#DIV/0!"},{"$error":"#DIV/0!"},{"$error":"#DIV/0!"},{"$error":"#DIV/0!"},{"$f":"(AY296/(AH296*Sanierungsdesign!$E$10))*1000000","v":{"$error":"#DIV/0!"}},{"$f":"AZ296/Sanierungsdesign!$E$12","v":{"$error":"#DIV/0!"}},{"$f":"$D$5+((-(Sanierungsdesign!$E$12)*MIN($BA$7:$BA$932))/(4*PI()*$D$3))*(-LN((4*$D$4*AH296)/(Sanierungsdesign!$E$13)^2)-$D$19)","v":{"$error":"#DIV/0!"}},{"$f":"(BB296-273.15)/Heterogenität!$D$4","v":{"$error":"#DIV/0!"}},{"$f":"IF(AI296<Berechnung!$D$7,AI296,#N/A)","v":{"$error":"#N/A"}}]
[null,null,null,null,null,null,null,null,null,null,null,null,null,null,null,null,null,null,null,null,null,null,null,null,null,null,null,null,null,null,null,null,{"$f":"Sanierungsdesign!$E$12*AH297*Sanierungsdesign!$E$10/1000000","v":13618.8},2095200,24.25,{"$f":"$D$5+((-Sanierungsdesign!$E$12)/4*PI()*$D$3)*(-LN((4*$D$4*AH297)/(Sanierungsdesign!$E$13^2))-$D$19)","v":2198.9049322523538},1925.7549322523537,3827.9556293823184,{"$f":"$D$3*$T$7*$AH$7*(AK297-$D$5)*(1/Sanierungsdesign!$E$15)/1000000","v":229.39403299043917},{"$f":"$D$5+(-Sanierungsdesign!$E$12/(4*PI()*$D$3))*(-LN((4*$D$4*AH297)/(Sanierungsdesign!$E$13+Sanierungsdesign!$E$15)^2)-$D$19)","v":342.88414836218215},69.734148362182168,{"$f":"(2*PI()*Sanierungsdesign!$E$10*$D$3)*(LN((Sanierungsdesign!$E$13+Sanierungsdesign!$E$15)/Sanierungsdesign!$E$13)*(AJ297-AN297))*$AH$7/1000000","v":165.70366508383549},3610.1137615326675,8148.0267597792299,{"$f":"AU297/Sanierungsdesign!$E$11","v":1.384793068977803},1676160,11.078344551822424,{"$error":"#DIV/0!"},{"$error":"#DIV/0!"},{"$error":"#DIV/0!"},{"$error":"#DIV/0!"},{"$f":"(AY297/(AH297*Sanierungsdesign!$E$10))*1000000","v":{"$error":"#DIV/0!"}},{"$f":"AZ297/Sanierungsdesign!$E$12","v":{"$error":"#DIV/0!"}},{"$f":"$D$5+((-(Sanierungsdesign!$E$12)*MIN($BA$7:$BA$932))/(4*PI()*$D$3))*(-LN((4*$D$4*AH297)/(Sanierungsdesign!$E$13)^2)-$D$19)","v":{"$error":"#DIV/0!"}},{"$f":"(BB297-273.15)/Heterogenität!$D$4","v":{"$error":"#DIV/0!"}},{"$f":"IF(AI297<Berechnung!$D$7,AI297,#N/A)","v":{"$error":"#N/A"}}]
[null,null,null,null,null,null,null,null,null,null,null,null,null,null,null,null,null,null,null,null,null,null,null,null,null,null,null,null,null,null,null,null,{"$f":"Sanierungsdesign!$E$12*AH298*Sanierungsdesign!$E$10/1000000","v":13665.6},2102400,24.333333333333332,{"$f":"$D$5+((-Sanierungsdesign!$E$12)/4*PI()*$D$3)*(-LN((4*$D$4*AH298)/(Sanierungsdesign!$E$13^2))-$D$19)","v":2203.7105498786159},1930.5605498786158,3837.5679839921427,{"$f":"$D$3*$T$7*$AH$7*(AK298-$D$5)*(1/Sanierungsdesign!$E$15)/1000000","v":230.06514993807104},{"$f":"$D$5+(-Sanierungsdesign!$E$12/(4*PI()*$D$3))*(-LN((4*$D$4*AH298)/(Sanierungsdesign!$E$13+Sanierungsdesign!$E$15)^2)-$D$19)","v":343.14281549175047},69.992815491750491,{"$f":"(2*PI()*Sanierungsdesign!$E$10*$D$3)*(LN((Sanierungsdesign!$E$13+Sanierungsdesign!$E$15)/Sanierungsdesign!$E$13)*(AJ298-AN298))*$AH$7/1000000","v":166.1096122417535},3622.5196507475566,8176.0268517372351,{"$f":"AU298/Sanierungsdesign!$E$11","v":1.3882704138921662},1681920,11.10616331113733,{"$error":"#DIV/0!"},{"$error":"#DIV/0!"},{"$error":"#DIV/0!"},{"$error":"#DIV/0!"},{"$f":"(AY298/(AH298*Sanierungsdesign!$E$10))*1000000","v":{"$error":"#DIV/0!"}},{"$f":"AZ298/Sanierungsdesign!$E$12","v":{"$error":"#DIV/0!"}},{"$f":"$D$5+((-(Sanierungsdesign!$E$12)*MIN($BA$7:$BA$932))/(4*PI()*$D$3))*(-LN((4*$D$4*AH298)/(Sanierungsdesign!$E$13)^2)-$D$19)","v":{"$error":"#DIV/0!"}},{"$f":"(BB298-273.15)/Heterogenität!$D$4","v":{"$error":"#DIV/0!"}},{"$f":"IF(AI298<Berechnung!$D$7,AI298,#N/A)","v":{"$error":"#N/A"}}]
[null,null,null,null,null,null,null,null,null,null,null,null,null,null,null,null,null,null,null,null,null,null,null,null,null,null,null,null,null,null,null,null,{"$f":"Sanierungsdesign!$E$12*AH299*Sanierungsdesign!$E$10/1000000","v":13712.4},2109600,24.416666666666668,{"$f":"$D$5+((-Sanierungsdesign!$E$12)/4*PI()*$D$3)*(-LN((4*$D$4*AH299)/(Sanierungsdesign!$E$13^2))-$D$19)","v":2208.499738010848},1935.3497380108479,3847.1474757870365,{"$f":"$D$3*$T$7*$AH$7*(AK299-$D$5)*(1/Sanierungsdesign!$E$15)/1000000","v":230.73397246431065},{"$f":"$D$5+(-Sanierungsdesign!$E$12/(4*PI()*$D$3))*(-LN((4*$D$4*AH299)/(Sanierungsdesign!$E$13+Sanierungsdesign!$E$15)^2)-$D$19)","v":343.40059828752624},70.250598287526259,{"$f":"(2*PI()*Sanierungsdesign!$E$10*$D$3)*(LN((Sanierungsdesign!$E$13+Sanierungsdesign!$E$15)/Sanierungsdesign!$E$13)*(AJ299-AN299))*$AH$7/1000000","v":166.51417154343193},3634.9255399624453,8204.0269436952385,{"$f":"AU299/Sanierungsdesign!$E$11","v":1.3917358704246494},1687680,11.133886963397195,{"$error":"#DIV/0!"},{"$error":"#DIV/0!"},{"$error":"#DIV/0!"},{"$error":"#DIV/0!"},{"$f":"(AY299/(AH299*Sanierungsdesign!$E$10))*1000000","v":{"$error":"#DIV/0!"}},{"$f":"AZ299/Sanierungsdesign!$E$12","v":{"$error":"#DIV/0!"}},{"$f":"$D$5+((-(Sanierungsdesign!$E$12)*MIN($BA$7:$BA$932))/(4*PI()*$D$3))*(-LN((4*$D$4*AH299)/(Sanierungsdesign!$E$13)^2)-$D$19)","v":{"$error":"#DIV/0!"}},{"$f":"(BB299-273.15)/Heterogenität!$D$4","v":{"$error":"#DIV/0!"}},{"$f":"IF(AI299<Berechnung!$D$7,AI299,#N/A)","v":{"$error":"#N/A"}}]
[null,null,null,null,null,null,null,null,null,null,null,null,null,null,null,null,null,null,null,null,null,null,null,null,null,null,null,null,null,null,null,null,{"$f":"Sanierungsdesign!$E$12*AH300*Sanierungsdesign!$E$10/1000000","v":13759.2},2116800,24.5,{"$f":"$D$5+((-Sanierungsdesign!$E$12)/4*PI()*$D$3)*(-LN((4*$D$4*AH300)/(Sanierungsdesign!$E$13^2))-$D$19)","v":2213.272608605042},1940.1226086050419,3856.6943287050613,{"$f":"$D$3*$T$7*$AH$7*(AK300-$D$5)*(1/Sanierungsdesign!$E$15)/1000000","v":231.40051620410227},{"$f":"$D$5+(-Sanierungsdesign!$E$12/(4*PI()*$D$3))*(-LN((4*$D$4*AH300)/(Sanierungsdesign!$E$13+Sanierungsdesign!$E$15)^2)-$D$19)","v":343.65750277565161},70.507502775651631,{"$f":"(2*PI()*Sanierungsdesign!$E$10*$D$3)*(LN((Sanierungsdesign!$E$13+Sanierungsdesign!$E$15)/Sanierungsdesign!$E$13)*(AJ300-AN300))*$AH$7/1000000","v":166.91735244618104},3647.331429177334,8232.0270356532437,{"$f":"AU300/Sanierungsdesign!$E$11","v":1.3951895195866082},1693440,11.161516156692866,{"$error":"#DIV/0!"},{"$error":"#DIV/0!"},{"$error":"#DIV/0!"},{"$error":"#DIV/0!"},{"$f":"(AY300/(AH300*Sanierungsdesign!$E$10))*1000000","v":{"$error":"#DIV/0!"}},{"$f":"AZ300/Sanierungsdesign!$E$12","v":{"$error":"#DIV/0!"}},{"$f":"$D$5+((-(Sanierungsdesign!$E$12)*MIN($BA$7:$BA$932))/(4*PI()*$D$3))*(-LN((4*$D$4*AH300)/(Sanierungsdesign!$E$13)^2)-$D$19)","v":{"$error":"#DIV/0!"}},{"$f":"(BB300-273.15)/Heterogenität!$D$4","v":{"$error":"#DIV/0!"}},{"$f":"IF(AI300<Berechnung!$D$7,AI300,#N/A)","v":{"$error":"#N/A"}}]
[null,null,null,null,null,null,null,null,null,null,null,null,null,null,null,null,null,null,null,null,null,null,null,null,null,null,null,null,null,null,null,null,{"$f":"Sanierungsdesign!$E$12*AH301*Sanierungsdesign!$E$10/1000000","v":13806},2124000,24.583333333333332,{"$f":"$D$5+((-Sanierungsdesign!$E$12)/4*PI()*$D$3)*(-LN((4*$D$4*AH301)/(Sanierungsdesign!$E$13^2))-$D$19)","v":2218.0292724767169},1944.8792724767168,3866.2087644030676,{"$f":"$D$3*$T$7*$AH$7*(AK301-$D$5)*(1/Sanierungsdesign!$E$15)/1000000","v":232.0647966331201},{"$f":"$D$5+(-Sanierungsdesign!$E$12/(4*PI()*$D$3))*(-LN((4*$D$4*AH301)/(Sanierungsdesign!$E$13+Sanierungsdesign!$E$15)^2)-$D$19)","v":343.91353492088177},70.763534920881796,{"$f":"(2*PI()*Sanierungsdesign!$E$10*$D$3)*(LN((Sanierungsdesign!$E$13+Sanierungsdesign!$E$15)/Sanierungsdesign!$E$13)*(AJ301-AN301))*$AH$7/1000000","v":167.31916431097133},3659.7373183922232,8260.0271276112471,{"$f":"AU301/Sanierungsdesign!$E$11","v":1.3986314415641521},1699200,11.189051532513217,{"$error":"#DIV/0!"},{"$error":"#DIV/0!"},{"$error":"#DIV/0!"},{"$error":"#DIV/0!"},{"$f":"(AY301/(AH301*Sanierungsdesign!$E$10))*1000000","v":{"$error":"#DIV/0!"}},{"$f":"AZ301/Sanierungsdesign!$E$12","v":{"$error":"#DIV/0!"}},{"$f":"$D$5+((-(Sanierungsdesign!$E$12)*MIN($BA$7:$BA$932))/(4*PI()*$D$3))*(-LN((4*$D$4*AH301)/(Sanierungsdesign!$E$13)^2)-$D$19)","v":{"$error":"#DIV/0!"}},{"$f":"(BB301-273.15)/Heterogenität!$D$4","v":{"$error":"#DIV/0!"}},{"$f":"IF(AI301<Berechnung!$D$7,AI301,#N/A)","v":{"$error":"#N/A"}}]
[null,null,null,null,null,null,null,null,null,null,null,null,null,null,null,null,null,null,null,null,null,null,null,null,null,null,null,null,null,null,null,null,{"$f":"Sanierungsdesign!$E$12*AH302*Sanierungsdesign!$E$10/1000000","v":13852.8},2131200,24.666666666666668,{"$f":"$D$5+((-Sanierungsdesign!$E$12)/4*PI()*$D$3)*(-LN((4*$D$4*AH302)/(Sanierungsdesign!$E$13^2))-$D$19)","v":2222.7698393163582},1949.6198393163581,3875.6910022875763,{"$f":"$D$3*$T$7*$AH$7*(AK302-$D$5)*(1/Sanierungsdesign!$E$15)/1000000","v":232.72682906992458},{"$f":"$D$5+(-Sanierungsdesign!$E$12/(4*PI()*$D$3))*(-LN((4*$D$4*AH302)/(Sanierungsdesign!$E$13+Sanierungsdesign!$E$15)^2)-$D$19)","v":344.16870062741566},71.018700627415683,{"$f":"(2*PI()*Sanierungsdesign!$E$10*$D$3)*(LN((Sanierungsdesign!$E$13+Sanierungsdesign!$E$15)/Sanierungsdesign!$E$13)*(AJ302-AN302))*$AH$7/1000000","v":167.71961640373794},3672.1432076071119,8288.0272195692505,{"$f":"AU302/Sanierungsdesign!$E$11","v":1.4020617157293165},1704960,11.216493725834532,{"$error":"#DIV/0!"},{"$error":"#DIV/0!"},{"$error":"#DIV/0!"},{"$error":"#DIV/0!"},{"$f":"(AY302/(AH302*Sanierungsdesign!$E$10))*1000000","v":{"$error":"#DIV/0!"}},{"$f":"AZ302/Sanierungsdesign!$E$12","v":{"$error":"#DIV/0!"}},{"$f":"$D$5+((-(Sanierungsdesign!$E$12)*MIN($BA$7:$BA$932))/(4*PI()*$D$3))*(-LN((4*$D$4*AH302)/(Sanierungsdesign!$E$13)^2)-$D$19)","v":{"$error":"#DIV/0!"}},{"$f":"(BB302-273.15)/Heterogenität!$D$4","v":{"$error":"#DIV/0!"}},{"$f":"IF(AI302<Berechnung!$D$7,AI302,#N/A)","v":{"$error":"#N/A"}}]
[null,null,null,null,null,null,null,null,null,null,null,null,null,null,null,null,null,null,null,null,null,null,null,null,null,null,null,null,null,null,null,null,{"$f":"Sanierungsdesign!$E$12*AH303*Sanierungsdesign!$E$10/1000000","v":13899.6},2138400,24.75,{"$f":"$D$5+((-Sanierungsdesign!$E$12)/4*PI()*$D$3)*(-LN((4*$D$4*AH303)/(Sanierungsdesign!$E$13^2))-$D$19)","v":2227.4944177045923},1954.3444177045922,3885.1412595451307,{"$f":"$D$3*$T$7*$AH$7*(AK303-$D$5)*(1/Sanierungsdesign!$E$15)/1000000","v":233.38662867808134},{"$f":"$D$5+(-Sanierungsdesign!$E$12/(4*PI()*$D$3))*(-LN((4*$D$4*AH303)/(Sanierungsdesign!$E$13+Sanierungsdesign!$E$15)^2)-$D$19)","v":344.42300573971306},71.273005739713085,{"$f":"(2*PI()*Sanierungsdesign!$E$10*$D$3)*(LN((Sanierungsdesign!$E$13+Sanierungsdesign!$E$15)/Sanierungsdesign!$E$13)*(AJ303-AN303))*$AH$7/1000000","v":168.11871789666216},3684.549096822001,8316.0273115272557,{"$f":"AU303/Sanierungsdesign!$E$11","v":1.4054804206510425},1710720,11.24384336520834,{"$error":"#DIV/0!"},{"$error":"#DIV/0!"},{"$error":"#DIV/0!"},{"$error":"#DIV/0!"},{"$f":"(AY303/(AH303*Sanierungsdesign!$E$10))*1000000","v":{"$error":"#DIV/0!"}},{"$f":"AZ303/Sanierungsdesign!$E$12","v":{"$error":"#DIV/0!"}},{"$f":"$D$5+((-(Sanierungsdesign!$E$12)*MIN($BA$7:$BA$932))/(4*PI()*$D$3))*(-LN((4*$D$4*AH303)/(Sanierungsdesign!$E$13)^2)-$D$19)","v":{"$error":"#DIV/0!"}},{"$f":"(BB303-273.15)/Heterogenität!$D$4","v":{"$error":"#DIV/0!"}},{"$f":"IF(AI303<Berechnung!$D$7,AI303,#N/A)","v":{"$error":"#N/A"}}]
[null,null,null,null,null,null,null,null,null,null,null,null,null,null,null,null,null,null,null,null,null,null,null,null,null,null,null,null,null,null,null,null,{"$f":"Sanierungsdesign!$E$12*AH304*Sanierungsdesign!$E$10/1000000","v":13946.4},2145600,24.833333333333332,{"$f":"$D$5+((-Sanierungsdesign!$E$12)/4*PI()*$D$3)*(-LN((4*$D$4*AH304)/(Sanierungsdesign!$E$13^2))-$D$19)","v":2232.2031151271121},1959.0531151271121,3894.5597511721535,{"$f":"$D$3*$T$7*$AH$7*(AK304-$D$5)*(1/Sanierungsdesign!$E$15)/1000000","v":234.04421046824584},{"$f":"$D$5+(-Sanierungsdesign!$E$12/(4*PI()*$D$3))*(-LN((4*$D$4*AH304)/(Sanierungsdesign!$E$13+Sanierungsdesign!$E$15)^2)-$D$19)","v":344.67645604329795},71.526456043297969,{"$f":"(2*PI()*Sanierungsdesign!$E$10*$D$3)*(LN((Sanierungsdesign!$E$13+Sanierungsdesign!$E$15)/Sanierungsdesign!$E$13)*(AJ304-AN304))*$AH$7/1000000","v":168.51647786943275},3696.9549860368897,8344.0274034852591,{"$f":"AU304/Sanierungsdesign!$E$11","v":1.4088876341059782},1716480,11.271101072847825,{"$error":"#DIV/0!"},{"$error":"#DIV/0!"},{"$error":"#DIV/0!"},{"$error":"#DIV/0!"},{"$f":"(AY304/(AH304*Sanierungsdesign!$E$10))*1000000","v":{"$error":"#DIV/0!"}},{"$f":"AZ304/Sanierungsdesign!$E$12","v":{"$error":"#DIV/0!"}},{"$f":"$D$5+((-(Sanierungsdesign!$E$12)*MIN($BA$7:$BA$932))/(4*PI()*$D$3))*(-LN((4*$D$4*AH304)/(Sanierungsdesign!$E$13)^2)-$D$19)","v":{"$error":"#DIV/0!"}},{"$f":"(BB304-273.15)/Heterogenität!$D$4","v":{"$error":"#DIV/0!"}},{"$f":"IF(AI304<Berechnung!$D$7,AI304,#N/A)","v":{"$error":"#N/A"}}]
[null,null,null,null,null,null,null,null,null,null,null,null,null,null,null,null,null,null,null,null,null,null,null,null,null,null,null,null,null,null,null,null,{"$f":"Sanierungsdesign!$E$12*AH305*Sanierungsdesign!$E$10/1000000","v":13993.2},2152800,24.916666666666668,{"$f":"$D$5+((-Sanierungsdesign!$E$12)/4*PI()*$D$3)*(-LN((4*$D$4*AH305)/(Sanierungsdesign!$E$13^2))-$D$19)","v":2236.896037989347},1963.7460379893469,3903.946690004288,{"$f":"$D$3*$T$7*$AH$7*(AK305-$D$5)*(1/Sanierungsdesign!$E$15)/1000000","v":234.69958930021178},{"$f":"$D$5+(-Sanierungsdesign!$E$12/(4*PI()*$D$3))*(-LN((4*$D$4*AH305)/(Sanierungsdesign!$E$13+Sanierungsdesign!$E$15)^2)-$D$19)","v":344.92905726554795},71.779057265547976,{"$f":"(2*PI()*Sanierungsdesign!$E$10*$D$3)*(LN((Sanierungsdesign!$E$13+Sanierungsdesign!$E$15)/Sanierungsdesign!$E$13)*(AJ305-AN305))*$AH$7/1000000","v":168.91290531048452},3709.3608752517785,8372.0274954432643,{"$f":"AU305/Sanierungsdesign!$E$11","v":1.4122834330890912},1722240,11.29826746471273,{"$error":"#DIV/0!"},{"$error":"#DIV/0!"},{"$error":"#DIV/0!"},{"$error":"#DIV/0!"},{"$f":"(AY305/(AH305*Sanierungsdesign!$E$10))*1000000","v":{"$error":"#DIV/0!"}},{"$f":"AZ305/Sanierungsdesign!$E$12","v":{"$error":"#DIV/0!"}},{"$f":"$D$5+((-(Sanierungsdesign!$E$12)*MIN($BA$7:$BA$932))/(4*PI()*$D$3))*(-LN((4*$D$4*AH305)/(Sanierungsdesign!$E$13)^2)-$D$19)","v":{"$error":"#DIV/0!"}},{"$f":"(BB305-273.15)/Heterogenität!$D$4","v":{"$error":"#DIV/0!"}},{"$f":"IF(AI305<Berechnung!$D$7,AI305,#N/A)","v":{"$error":"#N/A"}}]
[null,null,null,null,null,null,null,null,null,null,null,null,null,null,null,null,null,null,null,null,null,null,null,null,null,null,null,null,null,null,null,null,{"$f":"Sanierungsdesign!$E$12*AH306*Sanierungsdesign!$E$10/1000000","v":14040},2160000,25,{"$f":"$D$5+((-Sanierungsdesign!$E$12)/4*PI()*$D$3)*(-LN((4*$D$4*AH306)/(Sanierungsdesign!$E$13^2))-$D$19)","v":2241.5732916308916},1968.4232916308915,3913.3022867452605,{"$f":"$D$3*$T$7*$AH$7*(AK306-$D$5)*(1/Sanierungsdesign!$E$15)/1000000","v":235.35277988492646},{"$f":"$D$5+(-Sanierungsdesign!$E$12/(4*PI()*$D$3))*(-LN((4*$D$4*AH306)/(Sanierungsdesign!$E$13+Sanierungsdesign!$E$15)^2)-$D$19)","v":345.18081507647111},72.030815076471129,{"$f":"(2*PI()*Sanierungsdesign!$E$10*$D$3)*(LN((Sanierungsdesign!$E$13+Sanierungsdesign!$E$15)/Sanierungsdesign!$E$13)*(AJ306-AN306))*$AH$7/1000000","v":169.30800911821788},3721.7667644666676,8400.0275874012696,{"$f":"AU306/Sanierungsdesign!$E$11","v":1.4156678938241127},1728000,11.325343150592902,{"$error":"#DIV/0!"},{"$error":"#DIV/0!"},{"$error":"#DIV/0!"},{"$error":"#DIV/0!"},{"$f":"(AY306/(AH306*Sanierungsdesign!$E$10))*1000000","v":{"$error":"#DIV/0!"}},{"$f":"AZ306/Sanierungsdesign!$E$12","v":{"$error":"#DIV/0!"}},{"$f":"$D$5+((-(Sanierungsdesign!$E$12)*MIN($BA$7:$BA$932))/(4*PI()*$D$3))*(-LN((4*$D$4*AH306)/(Sanierungsdesign!$E$13)^2)-$D$19)","v":{"$error":"#DIV/0!"}},{"$f":"(BB306-273.15)/Heterogenität!$D$4","v":{"$error":"#DIV/0!"}},{"$f":"IF(AI306<Berechnung!$D$7,AI306,#N/A)","v":{"$error":"#N/A"}}]
[null,null,null,null,null,null,null,null,null,null,null,null,null,null,null,null,null,null,null,null,null,null,null,null,null,null,null,null,null,null,null,null,{"$f":"Sanierungsdesign!$E$12*AH307*Sanierungsdesign!$E$10/1000000","v":14086.8},2167200,25.083333333333332,{"$f":"$D$5+((-Sanierungsdesign!$E$12)/4*PI()*$D$3)*(-LN((4*$D$4*AH307)/(Sanierungsdesign!$E$13^2))-$D$19)","v":2246.2349803396955},1973.0849803396954,3922.626749995261,{"$f":"$D$3*$T$7*$AH$7*(AK307-$D$5)*(1/Sanierungsdesign!$E$15)/1000000","v":236.00379678647215},{"$f":"$D$5+(-Sanierungsdesign!$E$12/(4*PI()*$D$3))*(-LN((4*$D$4*AH307)/(Sanierungsdesign!$E$13+Sanierungsdesign!$E$15)^2)-$D$19)","v":345.43173508946956},72.281735089469578,{"$f":"(2*PI()*Sanierungsdesign!$E$10*$D$3)*(LN((Sanierungsdesign!$E$13+Sanierungsdesign!$E$15)/Sanierungsdesign!$E$13)*(AJ307-AN307))*$AH$7/1000000","v":169.70179810219688},3734.1726536815563,8428.027679359273,{"$f":"AU307/Sanierungsdesign!$E$11","v":1.4190410917738034},1733760,11.352328734190428,{"$error":"#DIV/0!"},{"$error":"#DIV/0!"},{"$error":"#DIV/0!"},{"$error":"#DIV/0!"},{"$f":"(AY307/(AH307*Sanierungsdesign!$E$10))*1000000","v":{"$error":"#DIV/0!"}},{"$f":"AZ307/Sanierungsdesign!$E$12","v":{"$error":"#DIV/0!"}},{"$f":"$D$5+((-(Sanierungsdesign!$E$12)*MIN($BA$7:$BA$932))/(4*PI()*$D$3))*(-LN((4*$D$4*AH307)/(Sanierungsdesign!$E$13)^2)-$D$19)","v":{"$error":"#DIV/0!"}},{"$f":"(BB307-273.15)/Heterogenität!$D$4","v":{"$error":"#DIV/0!"}},{"$f":"IF(AI307<Berechnung!$D$7,AI307,#N/A)","v":{"$error":"#N/A"}}]
[null,null,null,null,null,null,null,null,null,null,null,null,null,null,null,null,null,null,null,null,null,null,null,null,null,null,null,null,null,null,null,null,{"$f":"Sanierungsdesign!$E$12*AH308*Sanierungsdesign!$E$10/1000000","v":14133.6},2174400,25.166666666666668,{"$f":"$D$5+((-Sanierungsdesign!$E$12)/4*PI()*$D$3)*(-LN((4*$D$4*AH308)/(Sanierungsdesign!$E$13^2))-$D$19)","v":2250.8812073660115},1977.7312073660114,3931.9202862788447,{"$f":"$D$3*$T$7*$AH$7*(AK308-$D$5)*(1/Sanierungsdesign!$E$15)/1000000","v":236.65265442401395},{"$f":"$D$5+(-Sanierungsdesign!$E$12/(4*PI()*$D$3))*(-LN((4*$D$4*AH308)/(Sanierungsdesign!$E$13+Sanierungsdesign!$E$15)^2)-$D$19)","v":345.68182286209054},72.531822862090564,{"$f":"(2*PI()*Sanierungsdesign!$E$10*$D$3)*(LN((Sanierungsdesign!$E$13+Sanierungsdesign!$E$15)/Sanierungsdesign!$E$13)*(AJ308-AN308))*$AH$7/1000000","v":170.09428098432781},3746.5785428964455,8456.0277713172763,{"$f":"AU308/Sanierungsdesign!$E$11","v":1.4224031016500458},1739520,11.379224813200366,{"$error":"#DIV/0!"},{"$error":"#DIV/0!"},{"$error":"#DIV/0!"},{"$error":"#DIV/0!"},{"$f":"(AY308/(AH308*Sanierungsdesign!$E$10))*1000000","v":{"$error":"#DIV/0!"}},{"$f":"AZ308/Sanierungsdesign!$E$12","v":{"$error":"#DIV/0!"}},{"$f":"$D$5+((-(Sanierungsdesign!$E$12)*MIN($BA$7:$BA$932))/(4*PI()*$D$3))*(-LN((4*$D$4*AH308)/(Sanierungsdesign!$E$13)^2)-$D$19)","v":{"$error":"#DIV/0!"}},{"$f":"(BB308-273.15)/Heterogenität!$D$4","v":{"$error":"#DIV/0!"}},{"$f":"IF(AI308<Berechnung!$D$7,AI308,#N/A)","v":{"$error":"#N/A"}}]
[null,null,null,null,null,null,null,null,null,null,null,null,null,null,null,null,null,null,null,null,null,null,null,null,null,null,null,null,null,null,null,null,{"$f":"Sanierungsdesign!$E$12*AH309*Sanierungsdesign!$E$10/1000000","v":14180.4},2181600,25.25,{"$f":"$D$5+((-Sanierungsdesign!$E$12)/4*PI()*$D$3)*(-LN((4*$D$4*AH309)/(Sanierungsdesign!$E$13^2))-$D$19)","v":2255.5120749361199},1982.3620749361198,3941.1831000723837,{"$f":"$D$3*$T$7*$AH$7*(AK309-$D$5)*(1/Sanierungsdesign!$E$15)/1000000","v":237.29936707371672},{"$f":"$D$5+(-Sanierungsdesign!$E$12/(4*PI()*$D$3))*(-LN((4*$D$4*AH309)/(Sanierungsdesign!$E$13+Sanierungsdesign!$E$15)^2)-$D$19)","v":345.93108389676479},72.781083896764812,{"$f":"(2*PI()*Sanierungsdesign!$E$10*$D$3)*(LN((Sanierungsdesign!$E$13+Sanierungsdesign!$E$15)/Sanierungsdesign!$E$13)*(AJ309-AN309))*$AH$7/1000000","v":170.48546640001854},3758.9844321113342,8484.0278632752816,{"$f":"AU309/Sanierungsdesign!$E$11","v":1.4257539974237763},1745280,11.40603197939021,{"$error":"#DIV/0!"},{"$error":"#DIV/0!"},{"$error":"#DIV/0!"},{"$error":"#DIV/0!"},{"$f":"(AY309/(AH309*Sanierungsdesign!$E$10))*1000000","v":{"$error":"#DIV/0!"}},{"$f":"AZ309/Sanierungsdesign!$E$12","v":{"$error":"#DIV/0!"}},{"$f":"$D$5+((-(Sanierungsdesign!$E$12)*MIN($BA$7:$BA$932))/(4*PI()*$D$3))*(-LN((4*$D$4*AH309)/(Sanierungsdesign!$E$13)^2)-$D$19)","v":{"$error":"#DIV/0!"}},{"$f":"(BB309-273.15)/Heterogenität!$D$4","v":{"$error":"#DIV/0!"}},{"$f":"IF(AI309<Berechnung!$D$7,AI309,#N/A)","v":{"$error":"#N/A"}}]
[null,null,null,null,null,null,null,null,null,null,null,null,null,null,null,null,null,null,null,null,null,null,null,null,null,null,null,null,null,null,null,null,{"$f":"Sanierungsdesign!$E$12*AH310*Sanierungsdesign!$E$10/1000000","v":14227.2},2188800,25.333333333333332,{"$f":"$D$5+((-Sanierungsdesign!$E$12)/4*PI()*$D$3)*(-LN((4*$D$4*AH310)/(Sanierungsdesign!$E$13^2))-$D$19)","v":2260.1276842658226},1986.9776842658225,3950.4153938310574,{"$f":"$D$3*$T$7*$AH$7*(AK310-$D$5)*(1/Sanierungsdesign!$E$15)/1000000","v":237.94394887062941},{"$f":"$D$5+(-Sanierungsdesign!$E$12/(4*PI()*$D$3))*(-LN((4*$D$4*AH310)/(Sanierungsdesign!$E$13+Sanierungsdesign!$E$15)^2)-$D$19)","v":346.17952364153319},73.029523641533217,{"$f":"(2*PI()*Sanierungsdesign!$E$10*$D$3)*(LN((Sanierungsdesign!$E$13+Sanierungsdesign!$E$15)/Sanierungsdesign!$E$13)*(AJ310-AN310))*$AH$7/1000000","v":170.87536289931828},3771.3903213262233,8512.0279552332868,{"$f":"AU310/Sanierungsdesign!$E$11","v":1.4290938523347489},1751040,11.432750818677992,{"$error":"#DIV/0!"},{"$error":"#DIV/0!"},{"$error":"#DIV/0!"},{"$error":"#DIV/0!"},{"$f":"(AY310/(AH310*Sanierungsdesign!$E$10))*1000000","v":{"$error":"#DIV/0!"}},{"$f":"AZ310/Sanierungsdesign!$E$12","v":{"$error":"#DIV/0!"}},{"$f":"$D$5+((-(Sanierungsdesign!$E$12)*MIN($BA$7:$BA$932))/(4*PI()*$D$3))*(-LN((4*$D$4*AH310)/(Sanierungsdesign!$E$13)^2)-$D$19)","v":{"$error":"#DIV/0!"}},{"$f":"(BB310-273.15)/Heterogenität!$D$4","v":{"$error":"#DIV/0!"}},{"$f":"IF(AI310<Berechnung!$D$7,AI310,#N/A)","v":{"$error":"#N/A"}}]
[null,null,null,null,null,null,null,null,null,null,null,null,null,null,null,null,null,null,null,null,null,null,null,null,null,null,null,null,null,null,null,null,{"$f":"Sanierungsdesign!$E$12*AH311*Sanierungsdesign!$E$10/1000000","v":14274},2196000,25.416666666666668,{"$f":"$D$5+((-Sanierungsdesign!$E$12)/4*PI()*$D$3)*(-LN((4*$D$4*AH311)/(Sanierungsdesign!$E$13^2))-$D$19)","v":2264.7281355737191},1991.578135573719,3959.6173680154093,{"$f":"$D$3*$T$7*$AH$7*(AK311-$D$5)*(1/Sanierungsdesign!$E$15)/1000000","v":238.58641381053886},{"$f":"$D$5+(-Sanierungsdesign!$E$12/(4*PI()*$D$3))*(-LN((4*$D$4*AH311)/(Sanierungsdesign!$E$13+Sanierungsdesign!$E$15)^2)-$D$19)","v":346.42714749076112},73.277147490761138,{"$f":"(2*PI()*Sanierungsdesign!$E$10*$D$3)*(LN((Sanierungsdesign!$E$13+Sanierungsdesign!$E$15)/Sanierungsdesign!$E$13)*(AJ311-AN311))*$AH$7/1000000","v":171.26397894803898},3783.796210541112,8540.0280471912902,{"$f":"AU311/Sanierungsdesign!$E$11","v":1.432422738901143},1756800,11.459381911209144,{"$error":"#DIV/0!"},{"$error":"#DIV/0!"},{"$error":"#DIV/0!"},{"$error":"#DIV/0!"},{"$f":"(AY311/(AH311*Sanierungsdesign!$E$10))*1000000","v":{"$error":"#DIV/0!"}},{"$f":"AZ311/Sanierungsdesign!$E$12","v":{"$error":"#DIV/0!"}},{"$f":"$D$5+((-(Sanierungsdesign!$E$12)*MIN($BA$7:$BA$932))/(4*PI()*$D$3))*(-LN((4*$D$4*AH311)/(Sanierungsdesign!$E$13)^2)-$D$19)","v":{"$error":"#DIV/0!"}},{"$f":"(BB311-273.15)/Heterogenität!$D$4","v":{"$error":"#DIV/0!"}},{"$f":"IF(AI311<Berechnung!$D$7,AI311,#N/A)","v":{"$error":"#N/A"}}]
[null,null,null,null,null,null,null,null,null,null,null,null,null,null,null,null,null,null,null,null,null,null,null,null,null,null,null,null,null,null,null,null,{"$f":"Sanierungsdesign!$E$12*AH312*Sanierungsdesign!$E$10/1000000","v":14320.8},2203200,25.5,{"$f":"$D$5+((-Sanierungsdesign!$E$12)/4*PI()*$D$3)*(-LN((4*$D$4*AH312)/(Sanierungsdesign!$E$13^2))-$D$19)","v":2269.3135280942611},1996.163528094261,3968.7892211174558,{"$f":"$D$3*$T$7*$AH$7*(AK312-$D$5)*(1/Sanierungsdesign!$E$15)/1000000","v":239.22677575179335},{"$f":"$D$5+(-Sanierungsdesign!$E$12/(4*PI()*$D$3))*(-LN((4*$D$4*AH312)/(Sanierungsdesign!$E$13+Sanierungsdesign!$E$15)^2)-$D$19)","v":346.67396078584119},73.523960785841211,{"$f":"(2*PI()*Sanierungsdesign!$E$10*$D$3)*(LN((Sanierungsdesign!$E$13+Sanierungsdesign!$E$15)/Sanierungsdesign!$E$13)*(AJ312-AN312))*$AH$7/1000000","v":171.65132292885841},3796.2020997560007,8568.0281391492936,{"$f":"AU312/Sanierungsdesign!$E$11","v":1.4357407289290069},1762560,11.485925831432056,{"$error":"#DIV/0!"},{"$error":"#DIV/0!"},{"$error":"#DIV/0!"},{"$error":"#DIV/0!"},{"$f":"(AY312/(AH312*Sanierungsdesign!$E$10))*1000000","v":{"$error":"#DIV/0!"}},{"$f":"AZ312/Sanierungsdesign!$E$12","v":{"$error":"#DIV/0!"}},{"$f":"$D$5+((-(Sanierungsdesign!$E$12)*MIN($BA$7:$BA$932))/(4*PI()*$D$3))*(-LN((4*$D$4*AH312)/(Sanierungsdesign!$E$13)^2)-$D$19)","v":{"$error":"#DIV/0!"}},{"$f":"(BB312-273.15)/Heterogenität!$D$4","v":{"$error":"#DIV/0!"}},{"$f":"IF(AI312<Berechnung!$D$7,AI312,#N/A)","v":{"$error":"#N/A"}}]
[null,null,null,null,null,null,null,null,null,null,null,null,null,null,null,null,null,null,null,null,null,null,null,null,null,null,null,null,null,null,null,null,{"$f":"Sanierungsdesign!$E$12*AH313*Sanierungsdesign!$E$10/1000000","v":14367.6},2210400,25.583333333333332,{"$f":"$D$5+((-Sanierungsdesign!$E$12)/4*PI()*$D$3)*(-LN((4*$D$4*AH313)/(Sanierungsdesign!$E$13^2))-$D$19)","v":2273.8839600905976},2000.7339600905975,3977.9311496863847,{"$f":"$D$3*$T$7*$AH$7*(AK313-$D$5)*(1/Sanierungsdesign!$E$15)/1000000","v":239.86504841709612},{"$f":"$D$5+(-Sanierungsdesign!$E$12/(4*PI()*$D$3))*(-LN((4*$D$4*AH313)/(Sanierungsdesign!$E$13+Sanierungsdesign!$E$15)^2)-$D$19)","v":346.91996881588483},73.769968815884852,{"$f":"(2*PI()*Sanierungsdesign!$E$10*$D$3)*(LN((Sanierungsdesign!$E$13+Sanierungsdesign!$E$15)/Sanierungsdesign!$E$13)*(AJ313-AN313))*$AH$7/1000000","v":172.03740314240494},3808.6079889708899,8596.0282311072988,{"$f":"AU313/Sanierungsdesign!$E$11","v":1.4390478935215563},1768320,11.51238314817245,{"$error":"#DIV/0!"},{"$error":"#DIV/0!"},{"$error":"#DIV/0!"},{"$error":"#DIV/0!"},{"$f":"(AY313/(AH313*Sanierungsdesign!$E$10))*1000000","v":{"$error":"#DIV/0!"}},{"$f":"AZ313/Sanierungsdesign!$E$12","v":{"$error":"#DIV/0!"}},{"$f":"$D$5+((-(Sanierungsdesign!$E$12)*MIN($BA$7:$BA$932))/(4*PI()*$D$3))*(-LN((4*$D$4*AH313)/(Sanierungsdesign!$E$13)^2)-$D$19)","v":{"$error":"#DIV/0!"}},{"$f":"(BB313-273.15)/Heterogenität!$D$4","v":{"$error":"#DIV/0!"}},{"$f":"IF(AI313<Berechnung!$D$7,AI313,#N/A)","v":{"$error":"#N/A"}}]
[null,null,null,null,null,null,null,null,null,null,null,null,null,null,null,null,null,null,null,null,null,null,null,null,null,null,null,null,null,null,null,null,{"$f":"Sanierungsdesign!$E$12*AH314*Sanierungsdesign!$E$10/1000000","v":14414.4},2217600,25.666666666666668,{"$f":"$D$5+((-Sanierungsdesign!$E$12)/4*PI()*$D$3)*(-LN((4*$D$4*AH314)/(Sanierungsdesign!$E$13^2))-$D$19)","v":2278.4395288672094},2005.2895288672094,3987.0433483538209,{"$f":"$D$3*$T$7*$AH$7*(AK314-$D$5)*(1/Sanierungsdesign!$E$15)/1000000","v":240.5012453952699},{"$f":"$D$5+(-Sanierungsdesign!$E$12/(4*PI()*$D$3))*(-LN((4*$D$4*AH314)/(Sanierungsdesign!$E$13+Sanierungsdesign!$E$15)^2)-$D$19)","v":347.16517681840202},74.01517681840204,{"$f":"(2*PI()*Sanierungsdesign!$E$10*$D$3)*(LN((Sanierungsdesign!$E$13+Sanierungsdesign!$E$15)/Sanierungsdesign!$E$13)*(AJ314-AN314))*$AH$7/1000000","v":172.42222780832498},3821.0138781857786,8624.0283230653022,{"$f":"AU314/Sanierungsdesign!$E$11","v":1.4423443030883125},1774080,11.5387544247065,{"$error":"#DIV/0!"},{"$error":"#DIV/0!"},{"$error":"#DIV/0!"},{"$error":"#DIV/0!"},{"$f":"(AY314/(AH314*Sanierungsdesign!$E$10))*1000000","v":{"$error":"#DIV/0!"}},{"$f":"AZ314/Sanierungsdesign!$E$12","v":{"$error":"#DIV/0!"}},{"$f":"$D$5+((-(Sanierungsdesign!$E$12)*MIN($BA$7:$BA$932))/(4*PI()*$D$3))*(-LN((4*$D$4*AH314)/(Sanierungsdesign!$E$13)^2)-$D$19)","v":{"$error":"#DIV/0!"}},{"$f":"(BB314-273.15)/Heterogenität!$D$4","v":{"$error":"#DIV/0!"}},{"$f":"IF(AI314<Berechnung!$D$7,AI314,#N/A)","v":{"$error":"#N/A"}}]
[null,null,null,null,null,null,null,null,null,null,null,null,null,null,null,null,null,null,null,null,null,null,null,null,null,null,null,null,null,null,null,null,{"$f":"Sanierungsdesign!$E$12*AH315*Sanierungsdesign!$E$10/1000000","v":14461.2},2224800,25.75,{"$f":"$D$5+((-Sanierungsdesign!$E$12)/4*PI()*$D$3)*(-LN((4*$D$4*AH315)/(Sanierungsdesign!$E$13^2))-$D$19)","v":2282.9803307823381},2009.830330782338,3996.1260098586927,{"$f":"$D$3*$T$7*$AH$7*(AK315-$D$5)*(1/Sanierungsdesign!$E$15)/1000000","v":241.13538014299272},{"$f":"$D$5+(-Sanierungsdesign!$E$12/(4*PI()*$D$3))*(-LN((4*$D$4*AH315)/(Sanierungsdesign!$E$13+Sanierungsdesign!$E$15)^2)-$D$19)","v":347.40958997997069},74.259589979970713,{"$f":"(2*PI()*Sanierungsdesign!$E$10*$D$3)*(LN((Sanierungsdesign!$E$13+Sanierungsdesign!$E$15)/Sanierungsdesign!$E$13)*(AJ315-AN315))*$AH$7/1000000","v":172.8058050663326},3833.4197674006678,8652.0284150233074,{"$f":"AU315/Sanierungsdesign!$E$11","v":1.4456300273540996},1779840,11.565040218832797,{"$error":"#DIV/0!"},{"$error":"#DIV/0!"},{"$error":"#DIV/0!"},{"$error":"#DIV/0!"},{"$f":"(AY315/(AH315*Sanierungsdesign!$E$10))*1000000","v":{"$error":"#DIV/0!"}},{"$f":"AZ315/Sanierungsdesign!$E$12","v":{"$error":"#DIV/0!"}},{"$f":"$D$5+((-(Sanierungsdesign!$E$12)*MIN($BA$7:$BA$932))/(4*PI()*$D$3))*(-LN((4*$D$4*AH315)/(Sanierungsdesign!$E$13)^2)-$D$19)","v":{"$error":"#DIV/0!"}},{"$f":"(BB315-273.15)/Heterogenität!$D$4","v":{"$error":"#DIV/0!"}},{"$f":"IF(AI315<Berechnung!$D$7,AI315,#N/A)","v":{"$error":"#N/A"}}]
[null,null,null,null,null,null,null,null,null,null,null,null,null,null,null,null,null,null,null,null,null,null,null,null,null,null,null,null,null,null,null,null,{"$f":"Sanierungsdesign!$E$12*AH316*Sanierungsdesign!$E$10/1000000","v":14508},2232000,25.833333333333332,{"$f":"$D$5+((-Sanierungsdesign!$E$12)/4*PI()*$D$3)*(-LN((4*$D$4*AH316)/(Sanierungsdesign!$E$13^2))-$D$19)","v":2287.5064612602182},2014.3564612602181,4005.179325071696,{"$f":"$D$3*$T$7*$AH$7*(AK316-$D$5)*(1/Sanierungsdesign!$E$15)/1000000","v":241.76746598650601},{"$f":"$D$5+(-Sanierungsdesign!$E$12/(4*PI()*$D$3))*(-LN((4*$D$4*AH316)/(Sanierungsdesign!$E$13+Sanierungsdesign!$E$15)^2)-$D$19)","v":347.6532134368947},74.503213436894725,{"$f":"(2*PI()*Sanierungsdesign!$E$10*$D$3)*(LN((Sanierungsdesign!$E$13+Sanierungsdesign!$E$15)/Sanierungsdesign!$E$13)*(AJ316-AN316))*$AH$7/1000000","v":173.18814297724344},3845.8256566155565,8680.0285069813126,{"$f":"AU316/Sanierungsdesign!$E$11","v":1.4489051353678937},1785600,11.591241082943149,{"$error":"#DIV/0!"},{"$error":"#DIV/0!"},{"$error":"#DIV/0!"},{"$error":"#DIV/0!"},{"$f":"(AY316/(AH316*Sanierungsdesign!$E$10))*1000000","v":{"$error":"#DIV/0!"}},{"$f":"AZ316/Sanierungsdesign!$E$12","v":{"$error":"#DIV/0!"}},{"$f":"$D$5+((-(Sanierungsdesign!$E$12)*MIN($BA$7:$BA$932))/(4*PI()*$D$3))*(-LN((4*$D$4*AH316)/(Sanierungsdesign!$E$13)^2)-$D$19)","v":{"$error":"#DIV/0!"}},{"$f":"(BB316-273.15)/Heterogenität!$D$4","v":{"$error":"#DIV/0!"}},{"$f":"IF(AI316<Berechnung!$D$7,AI316,#N/A)","v":{"$error":"#N/A"}}]
[null,null,null,null,null,null,null,null,null,null,null,null,null,null,null,null,null,null,null,null,null,null,null,null,null,null,null,null,null,null,null,null,{"$f":"Sanierungsdesign!$E$12*AH317*Sanierungsdesign!$E$10/1000000","v":14554.8},2239200,25.916666666666668,{"$f":"$D$5+((-Sanierungsdesign!$E$12)/4*PI()*$D$3)*(-LN((4*$D$4*AH317)/(Sanierungsdesign!$E$13^2))-$D$19)","v":2292.0180148031063},2018.8680148031062,4014.2034830193556,{"$f":"$D$3*$T$7*$AH$7*(AK317-$D$5)*(1/Sanierungsdesign!$E$15)/1000000","v":242.39751612329474},{"$f":"$D$5+(-Sanierungsdesign!$E$12/(4*PI()*$D$3))*(-LN((4*$D$4*AH317)/(Sanierungsdesign!$E$13+Sanierungsdesign!$E$15)^2)-$D$19)","v":347.89605227585167},74.746052275851696,{"$f":"(2*PI()*Sanierungsdesign!$E$10*$D$3)*(LN((Sanierungsdesign!$E$13+Sanierungsdesign!$E$15)/Sanierungsdesign!$E$13)*(AJ317-AN317))*$AH$7/1000000","v":173.56924952399024},3858.2315458304452,8708.0285989393142,{"$f":"AU317/Sanierungsdesign!$E$11","v":1.4521696955115275},1791360,11.61735756409222,{"$error":"#DIV/0!"},{"$error":"#DIV/0!"},{"$error":"#DIV/0!"},{"$error":"#DIV/0!"},{"$f":"(AY317/(AH317*Sanierungsdesign!$E$10))*1000000","v":{"$error":"#DIV/0!"}},{"$f":"AZ317/Sanierungsdesign!$E$12","v":{"$error":"#DIV/0!"}},{"$f":"$D$5+((-(Sanierungsdesign!$E$12)*MIN($BA$7:$BA$932))/(4*PI()*$D$3))*(-LN((4*$D$4*AH317)/(Sanierungsdesign!$E$13)^2)-$D$19)","v":{"$error":"#DIV/0!"}},{"$f":"(BB317-273.15)/Heterogenität!$D$4","v":{"$error":"#DIV/0!"}},{"$f":"IF(AI317<Berechnung!$D$7,AI317,#N/A)","v":{"$error":"#N/A"}}]
[null,null,null,null,null,null,null,null,null,null,null,null,null,null,null,null,null,null,null,null,null,null,null,null,null,null,null,null,null,null,null,null,{"$f":"Sanierungsdesign!$E$12*AH318*Sanierungsdesign!$E$10/1000000","v":14601.6},2246400,26,{"$f":"$D$5+((-Sanierungsdesign!$E$12)/4*PI()*$D$3)*(-LN((4*$D$4*AH318)/(Sanierungsdesign!$E$13^2))-$D$19)","v":2296.5150850031227},2023.3650850031227,4023.1986709077128,{"$f":"$D$3*$T$7*$AH$7*(AK318-$D$5)*(1/Sanierungsdesign!$E$15)/1000000","v":243.02554362374084},{"$f":"$D$5+(-Sanierungsdesign!$E$12/(4*PI()*$D$3))*(-LN((4*$D$4*AH318)/(Sanierungsdesign!$E$13+Sanierungsdesign!$E$15)^2)-$D$19)","v":348.13811153453025},74.988111534530276,{"$f":"(2*PI()*Sanierungsdesign!$E$10*$D$3)*(LN((Sanierungsdesign!$E$13+Sanierungsdesign!$E$15)/Sanierungsdesign!$E$13)*(AJ318-AN318))*$AH$7/1000000","v":173.9491326126234},3870.6374350453343,8736.0286908973194,{"$f":"AU318/Sanierungsdesign!$E$11","v":1.4554237755082595},1797120,11.643390204066076,{"$error":"#DIV/0!"},{"$error":"#DIV/0!"},{"$error":"#DIV/0!"},{"$error":"#DIV/0!"},{"$f":"(AY318/(AH318*Sanierungsdesign!$E$10))*1000000","v":{"$error":"#DIV/0!"}},{"$f":"AZ318/Sanierungsdesign!$E$12","v":{"$error":"#DIV/0!"}},{"$f":"$D$5+((-(Sanierungsdesign!$E$12)*MIN($BA$7:$BA$932))/(4*PI()*$D$3))*(-LN((4*$D$4*AH318)/(Sanierungsdesign!$E$13)^2)-$D$19)","v":{"$error":"#DIV/0!"}},{"$f":"(BB318-273.15)/Heterogenität!$D$4","v":{"$error":"#DIV/0!"}},{"$f":"IF(AI318<Berechnung!$D$7,AI318,#N/A)","v":{"$error":"#N/A"}}]
[null,null,null,null,null,null,null,null,null,null,null,null,null,null,null,null,null,null,null,null,null,null,null,null,null,null,null,null,null,null,null,null,{"$f":"Sanierungsdesign!$E$12*AH319*Sanierungsdesign!$E$10/1000000","v":14648.4},2253600,26.083333333333332,{"$f":"$D$5+((-Sanierungsdesign!$E$12)/4*PI()*$D$3)*(-LN((4*$D$4*AH319)/(Sanierungsdesign!$E$13^2))-$D$19)","v":2300.9977645538993},2027.8477645538992,4032.1650741456219,{"$f":"$D$3*$T$7*$AH$7*(AK319-$D$5)*(1/Sanierungsdesign!$E$15)/1000000","v":243.6515614327501},{"$f":"$D$5+(-Sanierungsdesign!$E$12/(4*PI()*$D$3))*(-LN((4*$D$4*AH319)/(Sanierungsdesign!$E$13+Sanierungsdesign!$E$15)^2)-$D$19)","v":348.37939620225688},75.229396202256908,{"$f":"(2*PI()*Sanierungsdesign!$E$10*$D$3)*(LN((Sanierungsdesign!$E$13+Sanierungsdesign!$E$15)/Sanierungsdesign!$E$13)*(AJ319-AN319))*$AH$7/1000000","v":174.32780007329487},3883.043324260223,8764.0287828553246,{"$f":"AU319/Sanierungsdesign!$E$11","v":1.4586674424312012},1802880,11.669339539449609,{"$error":"#DIV/0!"},{"$error":"#DIV/0!"},{"$error":"#DIV/0!"},{"$error":"#DIV/0!"},{"$f":"(AY319/(AH319*Sanierungsdesign!$E$10))*1000000","v":{"$error":"#DIV/0!"}},{"$f":"AZ319/Sanierungsdesign!$E$12","v":{"$error":"#DIV/0!"}},{"$f":"$D$5+((-(Sanierungsdesign!$E$12)*MIN($BA$7:$BA$932))/(4*PI()*$D$3))*(-LN((4*$D$4*AH319)/(Sanierungsdesign!$E$13)^2)-$D$19)","v":{"$error":"#DIV/0!"}},{"$f":"(BB319-273.15)/Heterogenität!$D$4","v":{"$error":"#DIV/0!"}},{"$f":"IF(AI319<Berechnung!$D$7,AI319,#N/A)","v":{"$error":"#N/A"}}]
[null,null,null,null,null,null,null,null,null,null,null,null,null,null,null,null,null,null,null,null,null,null,null,null,null,null,null,null,null,null,null,null,{"$f":"Sanierungsdesign!$E$12*AH320*Sanierungsdesign!$E$10/1000000","v":14695.2},2260800,26.166666666666668,{"$f":"$D$5+((-Sanierungsdesign!$E$12)/4*PI()*$D$3)*(-LN((4*$D$4*AH320)/(Sanierungsdesign!$E$13^2))-$D$19)","v":2305.4661452620458},2032.3161452620457,4041.1028763676868,{"$f":"$D$3*$T$7*$AH$7*(AK320-$D$5)*(1/Sanierungsdesign!$E$15)/1000000","v":244.27558237135329},{"$f":"$D$5+(-Sanierungsdesign!$E$12/(4*PI()*$D$3))*(-LN((4*$D$4*AH320)/(Sanierungsdesign!$E$13+Sanierungsdesign!$E$15)^2)-$D$19)","v":348.61991122061335},75.469911220613369,{"$f":"(2*PI()*Sanierungsdesign!$E$10*$D$3)*(LN((Sanierungsdesign!$E$13+Sanierungsdesign!$E$15)/Sanierungsdesign!$E$13)*(AJ320-AN320))*$AH$7/1000000","v":174.7052596612269},3895.4492134751122,8792.028874813328,{"$f":"AU320/Sanierungsdesign!$E$11","v":1.4619007627116161},1808640,11.695206101692929,{"$error":"#DIV/0!"},{"$error":"#DIV/0!"},{"$error":"#DIV/0!"},{"$error":"#DIV/0!"},{"$f":"(AY320/(AH320*Sanierungsdesign!$E$10))*1000000","v":{"$error":"#DIV/0!"}},{"$f":"AZ320/Sanierungsdesign!$E$12","v":{"$error":"#DIV/0!"}},{"$f":"$D$5+((-(Sanierungsdesign!$E$12)*MIN($BA$7:$BA$932))/(4*PI()*$D$3))*(-LN((4*$D$4*AH320)/(Sanierungsdesign!$E$13)^2)-$D$19)","v":{"$error":"#DIV/0!"}},{"$f":"(BB320-273.15)/Heterogenität!$D$4","v":{"$error":"#DIV/0!"}},{"$f":"IF(AI320<Berechnung!$D$7,AI320,#N/A)","v":{"$error":"#N/A"}}]
[null,null,null,null,null,null,null,null,null,null,null,null,null,null,null,null,null,null,null,null,null,null,null,null,null,null,null,null,null,null,null,null,{"$f":"Sanierungsdesign!$E$12*AH321*Sanierungsdesign!$E$10/1000000","v":14742},2268000,26.25,{"$f":"$D$5+((-Sanierungsdesign!$E$12)/4*PI()*$D$3)*(-LN((4*$D$4*AH321)/(Sanierungsdesign!$E$13^2))-$D$19)","v":2309.9203180584282},2036.7703180584281,4050.0122594568197,{"$f":"$D$3*$T$7*$AH$7*(AK321-$D$5)*(1/Sanierungsdesign!$E$15)/1000000","v":244.89761913828144},{"$f":"$D$5+(-Sanierungsdesign!$E$12/(4*PI()*$D$3))*(-LN((4*$D$4*AH321)/(Sanierungsdesign!$E$13+Sanierungsdesign!$E$15)^2)-$D$19)","v":348.85966148404373},75.70966148404375,{"$f":"(2*PI()*Sanierungsdesign!$E$10*$D$3)*(LN((Sanierungsdesign!$E$13+Sanierungsdesign!$E$15)/Sanierungsdesign!$E$13)*(AJ321-AN321))*$AH$7/1000000","v":175.08151905766442},3907.8551026900009,8820.0289667713314,{"$f":"AU321/Sanierungsdesign!$E$11","v":1.4651238021470783},1814400,11.720990417176626,{"$error":"#DIV/0!"},{"$error":"#DIV/0!"},{"$error":"#DIV/0!"},{"$error":"#DIV/0!"},{"$f":"(AY321/(AH321*Sanierungsdesign!$E$10))*1000000","v":{"$error":"#DIV/0!"}},{"$f":"AZ321/Sanierungsdesign!$E$12","v":{"$error":"#DIV/0!"}},{"$f":"$D$5+((-(Sanierungsdesign!$E$12)*MIN($BA$7:$BA$932))/(4*PI()*$D$3))*(-LN((4*$D$4*AH321)/(Sanierungsdesign!$E$13)^2)-$D$19)","v":{"$error":"#DIV/0!"}},{"$f":"(BB321-273.15)/Heterogenität!$D$4","v":{"$error":"#DIV/0!"}},{"$f":"IF(AI321<Berechnung!$D$7,AI321,#N/A)","v":{"$error":"#N/A"}}]
[null,null,null,null,null,null,null,null,null,null,null,null,null,null,null,null,null,null,null,null,null,null,null,null,null,null,null,null,null,null,null,null,{"$f":"Sanierungsdesign!$E$12*AH322*Sanierungsdesign!$E$10/1000000","v":14788.8},2275200,26.333333333333332,{"$f":"$D$5+((-Sanierungsdesign!$E$12)/4*PI()*$D$3)*(-LN((4*$D$4*AH322)/(Sanierungsdesign!$E$13^2))-$D$19)","v":2314.3603730092768},2041.2103730092767,4058.8934035664597,{"$f":"$D$3*$T$7*$AH$7*(AK322-$D$5)*(1/Sanierungsdesign!$E$15)/1000000","v":245.51768431151683},{"$f":"$D$5+(-Sanierungsdesign!$E$12/(4*PI()*$D$3))*(-LN((4*$D$4*AH322)/(Sanierungsdesign!$E$13+Sanierungsdesign!$E$15)^2)-$D$19)","v":349.09865184045185},75.948651840451873,{"$f":"(2*PI()*Sanierungsdesign!$E$10*$D$3)*(LN((Sanierungsdesign!$E$13+Sanierungsdesign!$E$15)/Sanierungsdesign!$E$13)*(AJ322-AN322))*$AH$7/1000000","v":175.45658587081383},3920.26099190489,8848.0290587293384,{"$f":"AU322/Sanierungsdesign!$E$11","v":1.4683366259095123},1820160,11.746693007276098,{"$error":"#DIV/0!"},{"$error":"#DIV/0!"},{"$error":"#DIV/0!"},{"$error":"#DIV/0!"},{"$f":"(AY322/(AH322*Sanierungsdesign!$E$10))*1000000","v":{"$error":"#DIV/0!"}},{"$f":"AZ322/Sanierungsdesign!$E$12","v":{"$error":"#DIV/0!"}},{"$f":"$D$5+((-(Sanierungsdesign!$E$12)*MIN($BA$7:$BA$932))/(4*PI()*$D$3))*(-LN((4*$D$4*AH322)/(Sanierungsdesign!$E$13)^2)-$D$19)","v":{"$error":"#DIV/0!"}},{"$f":"(BB322-273.15)/Heterogenität!$D$4","v":{"$error":"#DIV/0!"}},{"$f":"IF(AI322<Berechnung!$D$7,AI322,#N/A)","v":{"$error":"#N/A"}}]
[null,null,null,null,null,null,null,null,null,null,null,null,null,null,null,null,null,null,null,null,null,null,null,null,null,null,null,null,null,null,null,null,{"$f":"Sanierungsdesign!$E$12*AH323*Sanierungsdesign!$E$10/1000000","v":14835.6},2282400,26.416666666666668,{"$f":"$D$5+((-Sanierungsdesign!$E$12)/4*PI()*$D$3)*(-LN((4*$D$4*AH323)/(Sanierungsdesign!$E$13^2))-$D$19)","v":2318.786399327108},2045.6363993271079,4067.7464871424204,{"$f":"$D$3*$T$7*$AH$7*(AK323-$D$5)*(1/Sanierungsdesign!$E$15)/1000000","v":246.13579034981842},{"$f":"$D$5+(-Sanierungsdesign!$E$12/(4*PI()*$D$3))*(-LN((4*$D$4*AH323)/(Sanierungsdesign!$E$13+Sanierungsdesign!$E$15)^2)-$D$19)","v":349.33688709178995},76.18688709178997,{"$f":"(2*PI()*Sanierungsdesign!$E$10*$D$3)*(LN((Sanierungsdesign!$E$13+Sanierungsdesign!$E$15)/Sanierungsdesign!$E$13)*(AJ323-AN323))*$AH$7/1000000","v":175.83046763676512},3932.6668811197787,8876.02915068734,{"$f":"AU323/Sanierungsdesign!$E$11","v":1.4715392985530953},1825920,11.772314388424762,{"$error":"#DIV/0!"},{"$error":"#DIV/0!"},{"$error":"#DIV/0!"},{"$error":"#DIV/0!"},{"$f":"(AY323/(AH323*Sanierungsdesign!$E$10))*1000000","v":{"$error":"#DIV/0!"}},{"$f":"AZ323/Sanierungsdesign!$E$12","v":{"$error":"#DIV/0!"}},{"$f":"$D$5+((-(Sanierungsdesign!$E$12)*MIN($BA$7:$BA$932))/(4*PI()*$D$3))*(-LN((4*$D$4*AH323)/(Sanierungsdesign!$E$13)^2)-$D$19)","v":{"$error":"#DIV/0!"}},{"$f":"(BB323-273.15)/Heterogenität!$D$4","v":{"$error":"#DIV/0!"}},{"$f":"IF(AI323<Berechnung!$D$7,AI323,#N/A)","v":{"$error":"#N/A"}}]
[null,null,null,null,null,null,null,null,null,null,null,null,null,null,null,null,null,null,null,null,null,null,null,null,null,null,null,null,null,null,null,null,{"$f":"Sanierungsdesign!$E$12*AH324*Sanierungsdesign!$E$10/1000000","v":14882.4},2289600,26.5,{"$f":"$D$5+((-Sanierungsdesign!$E$12)/4*PI()*$D$3)*(-LN((4*$D$4*AH324)/(Sanierungsdesign!$E$13^2))-$D$19)","v":2323.1984853814838},2050.0484853814837,4076.5716869444082,{"$f":"$D$3*$T$7*$AH$7*(AK324-$D$5)*(1/Sanierungsdesign!$E$15)/1000000","v":246.75194959422436},{"$f":"$D$5+(-Sanierungsdesign!$E$12/(4*PI()*$D$3))*(-LN((4*$D$4*AH324)/(Sanierungsdesign!$E$13+Sanierungsdesign!$E$15)^2)-$D$19)","v":349.5743719946372},76.424371994637227,{"$f":"(2*PI()*Sanierungsdesign!$E$10*$D$3)*(LN((Sanierungsdesign!$E$13+Sanierungsdesign!$E$15)/Sanierungsdesign!$E$13)*(AJ324-AN324))*$AH$7/1000000","v":176.20317182040128},3945.0727703346674,8904.0292426453434,{"$f":"AU324/Sanierungsdesign!$E$11","v":1.4747318840220414},1831680,11.797855072176331,{"$error":"#DIV/0!"},{"$error":"#DIV/0!"},{"$error":"#DIV/0!"},{"$error":"#DIV/0!"},{"$f":"(AY324/(AH324*Sanierungsdesign!$E$10))*1000000","v":{"$error":"#DIV/0!"}},{"$f":"AZ324/Sanierungsdesign!$E$12","v":{"$error":"#DIV/0!"}},{"$f":"$D$5+((-(Sanierungsdesign!$E$12)*MIN($BA$7:$BA$932))/(4*PI()*$D$3))*(-LN((4*$D$4*AH324)/(Sanierungsdesign!$E$13)^2)-$D$19)","v":{"$error":"#DIV/0!"}},{"$f":"(BB324-273.15)/Heterogenität!$D$4","v":{"$error":"#DIV/0!"}},{"$f":"IF(AI324<Berechnung!$D$7,AI324,#N/A)","v":{"$error":"#N/A"}}]
[null,null,null,null,null,null,null,null,null,null,null,null,null,null,null,null,null,null,null,null,null,null,null,null,null,null,null,null,null,null,null,null,{"$f":"Sanierungsdesign!$E$12*AH325*Sanierungsdesign!$E$10/1000000","v":14929.2},2296800,26.583333333333332,{"$f":"$D$5+((-Sanierungsdesign!$E$12)/4*PI()*$D$3)*(-LN((4*$D$4*AH325)/(Sanierungsdesign!$E$13^2))-$D$19)","v":2327.5967187095966},2054.4467187095966,4085.3691780671984,{"$f":"$D$3*$T$7*$AH$7*(AK325-$D$5)*(1/Sanierungsdesign!$E$15)/1000000","v":247.36617426953038},{"$f":"$D$5+(-Sanierungsdesign!$E$12/(4*PI()*$D$3))*(-LN((4*$D$4*AH325)/(Sanierungsdesign!$E$13+Sanierungsdesign!$E$15)^2)-$D$19)","v":349.81111126076968},76.661111260769701,{"$f":"(2*PI()*Sanierungsdesign!$E$10*$D$3)*(LN((Sanierungsdesign!$E$13+Sanierungsdesign!$E$15)/Sanierungsdesign!$E$13)*(AJ325-AN325))*$AH$7/1000000","v":176.57470581629192},3957.4786595495566,8932.0293346033504,{"$f":"AU325/Sanierungsdesign!$E$11","v":1.477914445658264},1837440,11.823315565266112,{"$error":"#DIV/0!"},{"$error":"#DIV/0!"},{"$error":"#DIV/0!"},{"$error":"#DIV/0!"},{"$f":"(AY325/(AH325*Sanierungsdesign!$E$10))*1000000","v":{"$error":"#DIV/0!"}},{"$f":"AZ325/Sanierungsdesign!$E$12","v":{"$error":"#DIV/0!"}},{"$f":"$D$5+((-(Sanierungsdesign!$E$12)*MIN($BA$7:$BA$932))/(4*PI()*$D$3))*(-LN((4*$D$4*AH325)/(Sanierungsdesign!$E$13)^2)-$D$19)","v":{"$error":"#DIV/0!"}},{"$f":"(BB325-273.15)/Heterogenität!$D$4","v":{"$error":"#DIV/0!"}},{"$f":"IF(AI325<Berechnung!$D$7,AI325,#N/A)","v":{"$error":"#N/A"}}]
[null,null,null,null,null,null,null,null,null,null,null,null,null,null,null,null,null,null,null,null,null,null,null,null,null,null,null,null,null,null,null,null,{"$f":"Sanierungsdesign!$E$12*AH326*Sanierungsdesign!$E$10/1000000","v":14976},2304000,26.666666666666668,{"$f":"$D$5+((-Sanierungsdesign!$E$12)/4*PI()*$D$3)*(-LN((4*$D$4*AH326)/(Sanierungsdesign!$E$13^2))-$D$19)","v":2331.9811860266909},2058.8311860266908,4094.1391339614784,{"$f":"$D$3*$T$7*$AH$7*(AK326-$D$5)*(1/Sanierungsdesign!$E$15)/1000000","v":247.97847648574492},{"$f":"$D$5+(-Sanierungsdesign!$E$12/(4*PI()*$D$3))*(-LN((4*$D$4*AH326)/(Sanierungsdesign!$E$13+Sanierungsdesign!$E$15)^2)-$D$19)","v":350.04710955772134},76.897109557721365,{"$f":"(2*PI()*Sanierungsdesign!$E$10*$D$3)*(LN((Sanierungsdesign!$E$13+Sanierungsdesign!$E$15)/Sanierungsdesign!$E$13)*(AJ326-AN326))*$AH$7/1000000","v":176.94507694957392},3969.8845487644453,8960.0294265613538,{"$f":"AU326/Sanierungsdesign!$E$11","v":1.4810870462089132},1843200,11.848696369671305,{"$error":"#DIV/0!"},{"$error":"#DIV/0!"},{"$error":"#DIV/0!"},{"$error":"#DIV/0!"},{"$f":"(AY326/(AH326*Sanierungsdesign!$E$10))*1000000","v":{"$error":"#DIV/0!"}},{"$f":"AZ326/Sanierungsdesign!$E$12","v":{"$error":"#DIV/0!"}},{"$f":"$D$5+((-(Sanierungsdesign!$E$12)*MIN($BA$7:$BA$932))/(4*PI()*$D$3))*(-LN((4*$D$4*AH326)/(Sanierungsdesign!$E$13)^2)-$D$19)","v":{"$error":"#DIV/0!"}},{"$f":"(BB326-273.15)/Heterogenität!$D$4","v":{"$error":"#DIV/0!"}},{"$f":"IF(AI326<Berechnung!$D$7,AI326,#N/A)","v":{"$error":"#N/A"}}]
[null,null,null,null,null,null,null,null,null,null,null,null,null,null,null,null,null,null,null,null,null,null,null,null,null,null,null,null,null,null,null,null,{"$f":"Sanierungsdesign!$E$12*AH327*Sanierungsdesign!$E$10/1000000","v":15022.8},2311200,{"$f":"AH327/86400","v":26.75},{"$f":"$D$5+((-Sanierungsdesign!$E$12)/4*PI()*$D$3)*(-LN((4*$D$4*AH327)/(Sanierungsdesign!$E$13^2))-$D$19)","v":2336.3519732363216},{"$f":"AJ327-273.15","v":2063.2019732363215},4102.8817264543668,{"$f":"$D$3*$T$7*$AH$7*(AK327-$D$5)*(1/Sanierungsdesign!$E$15)/1000000","v":248.58886823952187},{"$f":"$D$5+(-Sanierungsdesign!$E$12/(4*PI()*$D$3))*(-LN((4*$D$4*AH327)/(Sanierungsdesign!$E$13+Sanierungsdesign!$E$15)^2)-$D$19)","v":350.28237150933626},{"$f":"AN327-273.15","v":77.132371509336281},{"$f":"(2*PI()*Sanierungsdesign!$E$10*$D$3)*(LN((Sanierungsdesign!$E$13+Sanierungsdesign!$E$15)/Sanierungsdesign!$E$13)*(AJ327-AN327))*$AH$7/1000000","v":177.31429247681797},3982.2904379793345,8988.0295185193572,{"$f":"AU327/Sanierungsdesign!$E$11","v":1.4842497478338021},1848960,11.873997982670417,{"$error":"#DIV/0!"},{"$error":"#DIV/0!"},{"$error":"#DIV/0!"},{"$f":"AG327-AX327","v":{"$error":"#DIV/0!"}},{"$f":"(AY327/(AH327*Sanierungsdesign!$E$10))*1000000","v":{"$error":"#DIV/0!"}},{"$f":"AZ327/Sanierungsdesign!$E$12","v":{"$error":"#DIV/0!"}},{"$f":"$D$5+((-(Sanierungsdesign!$E$12)*MIN($BA$7:$BA$932))/(4*PI()*$D$3))*(-LN((4*$D$4*AH327)/(Sanierungsdesign!$E$13)^2)-$D$19)","v":{"$error":"#DIV/0!"}},{"$f":"(BB327-273.15)/Heterogenität!$D$4","v":{"$error":"#DIV/0!"}},{"$f":"IF(AI327<Berechnung!$D$7,AI327,#N/A)","v":{"$error":"#N/A"}}]
[null,null,null,null,null,null,null,null,null,null,null,null,null,null,null,null,null,null,null,null,null,null,null,null,null,null,null,null,null,null,null,null,{"$f":"Sanierungsdesign!$E$12*AH328*Sanierungsdesign!$E$10/1000000","v":15069.6},2318400,26.833333333333332,{"$f":"$D$5+((-Sanierungsdesign!$E$12)/4*PI()*$D$3)*(-LN((4*$D$4*AH328)/(Sanierungsdesign!$E$13^2))-$D$19)","v":2340.7091654404517},2067.5591654404516,{"$f":"$T$4*$T$7*$AH$7*(AJ328-$D$2)/1000000","v":4111.5971257696128},{"$f":"$D$3*$T$7*$AH$7*(AK328-$D$5)*(1/Sanierungsdesign!$E$15)/1000000","v":249.19736141557084},{"$f":"$D$5+(-Sanierungsdesign!$E$12/(4*PI()*$D$3))*(-LN((4*$D$4*AH328)/(Sanierungsdesign!$E$13+Sanierungsdesign!$E$15)^2)-$D$19)","v":350.51690169631172},77.366901696311743,{"$f":"(2*PI()*Sanierungsdesign!$E$10*$D$3)*(LN((Sanierungsdesign!$E$13+Sanierungsdesign!$E$15)/Sanierungsdesign!$E$13)*(AJ328-AN328))*$AH$7/1000000","v":177.6823595868816},{"$f":"$T$20*AH328","v":3994.6963271942232},{"$f":"$D$12*AQ328/1000000","v":9016.0296104773624},{"$f":"AU328/Sanierungsdesign!$E$11","v":1.4874026121127104},{"$f":"$T$18/$D$24*AH328","v":1854720},{"$f":"($D$10*$T$18)*(AJ328-$D$2)/1000000","v":11.899220896901683},{"$f":"($D$17*$L$10*$T$28+$L$2*$D$10*$T$28+$D$16*$L$4*$T$28+$D$18*$L$7*$T$28)*(AJ328-$D$5)/1000000","v":{"$error":"#DIV/0!"}},{"$f":"AV328*$D$28","v":{"$error":"#DIV/0!"}},{"$f":"AL328+AM328+AR328+(0.5*AP328)-(2*AW328)+AS328","v":{"$error":"#DIV/0!"}},{"$error":"#DIV/0!"},{"$f":"(AY328/(AH328*Sanierungsdesign!$E$10))*1000000","v":{"$error":"#DIV/0!"}},{"$f":"AZ328/Sanierungsdesign!$E$12","v":{"$error":"#DIV/0!"}},{"$f":"$D$5+((-(Sanierungsdesign!$E$12)*MIN($BA$7:$BA$932))/(4*PI()*$D$3))*(-LN((4*$D$4*AH328)/(Sanierungsdesign!$E$13)^2)-$D$19)","v":{"$error":"#DIV/0!"}},{"$f":"(BB328-273.15)/Heterogenität!$D$4","v":{"$error":"#DIV/0!"}},{"$f":"IF(AI328<Berechnung!$D$7,AI328,#N/A)","v":{"$error":"#N/A"}}]
[null,null,null,null,null,null,null,null,null,null,null,null,null,null,null,null,null,null,null,null,null,null,null,null,null,null,null,null,null,null,null,null,{"$f":"Sanierungsdesign!$E$12*AH329*Sanierungsdesign!$E$10/1000000","v":15116.4},{"$f":"AH328+$D$24","v":2325600},26.916666666666668,{"$f":"$D$5+((-Sanierungsdesign!$E$12)/4*PI()*$D$3)*(-LN((4*$D$4*AH329)/(Sanierungsdesign!$E$13^2))-$D$19)","v":2345.0528469493966},2071.9028469493965,4120.2855005474848,{"$f":"$D$3*$T$7*$AH$7*(AK329-$D$5)*(1/Sanierungsdesign!$E$15)/1000000","v":249.80396778804564},{"$f":"$D$5+(-Sanierungsdesign!$E$12/(4*PI()*$D$3))*(-LN((4*$D$4*AH329)/(Sanierungsdesign!$E$13+Sanierungsdesign!$E$15)^2)-$D$19)","v":350.750704656734},77.600704656734024,{"$f":"(2*PI()*Sanierungsdesign!$E$10*$D$3)*(LN((Sanierungsdesign!$E$13+Sanierungsdesign!$E$15)/Sanierungsdesign!$E$13)*(AJ329-AN329))*$AH$7/1000000","v":178.04928540174896},4007.1022164091119,9044.0297024353658,{"$f":"AU329/Sanierungsdesign!$E$11","v":1.490545700052583},1860480,11.924365600420664,{"$error":"#DIV/0!"},{"$error":"#DIV/0!"},{"$error":"#DIV/0!"},{"$error":"#DIV/0!"},{"$f":"(AY329/(AH329*Sanierungsdesign!$E$10))*1000000","v":{"$error":"#DIV/0!"}},{"$f":"AZ329/Sanierungsdesign!$E$12","v":{"$error":"#DIV/0!"}},{"$f":"$D$5+((-(Sanierungsdesign!$E$12)*MIN($BA$7:$BA$932))/(4*PI()*$D$3))*(-LN((4*$D$4*AH329)/(Sanierungsdesign!$E$13)^2)-$D$19)","v":{"$error":"#DIV/0!"}},{"$f":"(BB329-273.15)/Heterogenität!$D$4","v":{"$error":"#DIV/0!"}},{"$f":"IF(AI329<Berechnung!$D$7,AI329,#N/A)","v":{"$error":"#N/A"}}]
[null,null,null,null,null,null,null,null,null,null,null,null,null,null,null,null,null,null,null,null,null,null,null,null,null,null,null,null,null,null,null,null,{"$f":"Sanierungsdesign!$E$12*AH330*Sanierungsdesign!$E$10/1000000","v":15163.2},2332800,27,{"$f":"$D$5+((-Sanierungsdesign!$E$12)/4*PI()*$D$3)*(-LN((4*$D$4*AH330)/(Sanierungsdesign!$E$13^2))-$D$19)","v":2349.3831012916112},2076.2331012916111,4128.9470178643487,{"$f":"$D$3*$T$7*$AH$7*(AK330-$D$5)*(1/Sanierungsdesign!$E$15)/1000000","v":250.40869902191145},{"$f":"$D$5+(-Sanierungsdesign!$E$12/(4*PI()*$D$3))*(-LN((4*$D$4*AH330)/(Sanierungsdesign!$E$13+Sanierungsdesign!$E$15)^2)-$D$19)","v":350.98378488660501},77.833784886605031,{"$f":"(2*PI()*Sanierungsdesign!$E$10*$D$3)*(LN((Sanierungsdesign!$E$13+Sanierungsdesign!$E$15)/Sanierungsdesign!$E$13)*(AJ330-AN330))*$AH$7/1000000","v":178.41507697735781},4019.508105624001,9072.0297943933692,{"$f":"AU330/Sanierungsdesign!$E$11","v":1.4936790720946096},1866240,11.949432576756877,{"$error":"#DIV/0!"},{"$error":"#DIV/0!"},{"$error":"#DIV/0!"},{"$error":"#DIV/0!"},{"$f":"(AY330/(AH330*Sanierungsdesign!$E$10))*1000000","v":{"$error":"#DIV/0!"}},{"$f":"AZ330/Sanierungsdesign!$E$12","v":{"$error":"#DIV/0!"}},{"$f":"$D$5+((-(Sanierungsdesign!$E$12)*MIN($BA$7:$BA$932))/(4*PI()*$D$3))*(-LN((4*$D$4*AH330)/(Sanierungsdesign!$E$13)^2)-$D$19)","v":{"$error":"#DIV/0!"}},{"$f":"(BB330-273.15)/Heterogenität!$D$4","v":{"$error":"#DIV/0!"}},{"$f":"IF(AI330<Berechnung!$D$7,AI330,#N/A)","v":{"$error":"#N/A"}}]
[null,null,null,null,null,null,null,null,null,null,null,null,null,null,null,null,null,null,null,null,null,null,null,null,null,null,null,null,null,null,null,null,{"$f":"Sanierungsdesign!$E$12*AH331*Sanierungsdesign!$E$10/1000000","v":15210},2340000,27.083333333333332,{"$f":"$D$5+((-Sanierungsdesign!$E$12)/4*PI()*$D$3)*(-LN((4*$D$4*AH331)/(Sanierungsdesign!$E$13^2))-$D$19)","v":2353.7000112233272},2080.5500112233271,4137.5818432519445,{"$f":"$D$3*$T$7*$AH$7*(AK331-$D$5)*(1/Sanierungsdesign!$E$15)/1000000","v":251.01156667429024},{"$f":"$D$5+(-Sanierungsdesign!$E$12/(4*PI()*$D$3))*(-LN((4*$D$4*AH331)/(Sanierungsdesign!$E$13+Sanierungsdesign!$E$15)^2)-$D$19)","v":351.21614684036092},78.066146840360943,{"$f":"(2*PI()*Sanierungsdesign!$E$10*$D$3)*(LN((Sanierungsdesign!$E$13+Sanierungsdesign!$E$15)/Sanierungsdesign!$E$13)*(AJ331-AN331))*$AH$7/1000000","v":178.77974130441353},4031.9139948388897,9100.0298863513744,{"$f":"AU331/Sanierungsdesign!$E$11","v":1.4968027881211992},1872000,11.974422304969593,{"$error":"#DIV/0!"},{"$error":"#DIV/0!"},{"$error":"#DIV/0!"},{"$error":"#DIV/0!"},{"$f":"(AY331/(AH331*Sanierungsdesign!$E$10))*1000000","v":{"$error":"#DIV/0!"}},{"$f":"AZ331/Sanierungsdesign!$E$12","v":{"$error":"#DIV/0!"}},{"$f":"$D$5+((-(Sanierungsdesign!$E$12)*MIN($BA$7:$BA$932))/(4*PI()*$D$3))*(-LN((4*$D$4*AH331)/(Sanierungsdesign!$E$13)^2)-$D$19)","v":{"$error":"#DIV/0!"}},{"$f":"(BB331-273.15)/Heterogenität!$D$4","v":{"$error":"#DIV/0!"}},{"$f":"IF(AI331<Berechnung!$D$7,AI331,#N/A)","v":{"$error":"#N/A"}}]
[null,null,null,null,null,null,null,null,null,null,null,null,null,null,null,null,null,null,null,null,null,null,null,null,null,null,null,null,null,null,null,null,{"$f":"Sanierungsdesign!$E$12*AH332*Sanierungsdesign!$E$10/1000000","v":15256.8},2347200,27.166666666666668,{"$f":"$D$5+((-Sanierungsdesign!$E$12)/4*PI()*$D$3)*(-LN((4*$D$4*AH332)/(Sanierungsdesign!$E$13^2))-$D$19)","v":2358.003658738045},2084.8536587380449,4146.1901407163705,{"$f":"$D$3*$T$7*$AH$7*(AK332-$D$5)*(1/Sanierungsdesign!$E$15)/1000000","v":251.61258219578676},{"$f":"$D$5+(-Sanierungsdesign!$E$12/(4*PI()*$D$3))*(-LN((4*$D$4*AH332)/(Sanierungsdesign!$E$13+Sanierungsdesign!$E$15)^2)-$D$19)","v":351.4477949313831},78.297794931383123,{"$f":"(2*PI()*Sanierungsdesign!$E$10*$D$3)*(LN((Sanierungsdesign!$E$13+Sanierungsdesign!$E$15)/Sanierungsdesign!$E$13)*(AJ332-AN332))*$AH$7/1000000","v":179.14328530919099},4044.3198840537789,9128.0299783093797,{"$f":"AU332/Sanierungsdesign!$E$11","v":1.4999169074628491},1877760,11.999335259702793,{"$error":"#DIV/0!"},{"$error":"#DIV/0!"},{"$error":"#DIV/0!"},{"$error":"#DIV/0!"},{"$f":"(AY332/(AH332*Sanierungsdesign!$E$10))*1000000","v":{"$error":"#DIV/0!"}},{"$f":"AZ332/Sanierungsdesign!$E$12","v":{"$error":"#DIV/0!"}},{"$f":"$D$5+((-(Sanierungsdesign!$E$12)*MIN($BA$7:$BA$932))/(4*PI()*$D$3))*(-LN((4*$D$4*AH332)/(Sanierungsdesign!$E$13)^2)-$D$19)","v":{"$error":"#DIV/0!"}},{"$f":"(BB332-273.15)/Heterogenität!$D$4","v":{"$error":"#DIV/0!"}},{"$f":"IF(AI332<Berechnung!$D$7,AI332,#N/A)","v":{"$error":"#N/A"}}]
[null,null,null,null,null,null,null,null,null,null,null,null,null,null,null,null,null,null,null,null,null,null,null,null,null,null,null,null,null,null,null,null,{"$f":"Sanierungsdesign!$E$12*AH333*Sanierungsdesign!$E$10/1000000","v":15303.6},2354400,27.25,{"$f":"$D$5+((-Sanierungsdesign!$E$12)/4*PI()*$D$3)*(-LN((4*$D$4*AH333)/(Sanierungsdesign!$E$13^2))-$D$19)","v":2362.2941250758759},2089.1441250758758,4154.7720727567739,{"$f":"$D$3*$T$7*$AH$7*(AK333-$D$5)*(1/Sanierungsdesign!$E$15)/1000000","v":252.21175693179291},{"$f":"$D$5+(-Sanierungsdesign!$E$12/(4*PI()*$D$3))*(-LN((4*$D$4*AH333)/(Sanierungsdesign!$E$13+Sanierungsdesign!$E$15)^2)-$D$19)","v":351.67873353250093},78.528733532500951,{"$f":"(2*PI()*Sanierungsdesign!$E$10*$D$3)*(LN((Sanierungsdesign!$E$13+Sanierungsdesign!$E$15)/Sanierungsdesign!$E$13)*(AJ333-AN333))*$AH$7/1000000","v":179.50571585432363},4056.7257732686676,9156.0300702673831,{"$f":"AU333/Sanierungsdesign!$E$11","v":1.5030214889049034},1883520,12.024171911239227,{"$error":"#DIV/0!"},{"$error":"#DIV/0!"},{"$error":"#DIV/0!"},{"$error":"#DIV/0!"},{"$f":"(AY333/(AH333*Sanierungsdesign!$E$10))*1000000","v":{"$error":"#DIV/0!"}},{"$f":"AZ333/Sanierungsdesign!$E$12","v":{"$error":"#DIV/0!"}},{"$f":"$D$5+((-(Sanierungsdesign!$E$12)*MIN($BA$7:$BA$932))/(4*PI()*$D$3))*(-LN((4*$D$4*AH333)/(Sanierungsdesign!$E$13)^2)-$D$19)","v":{"$error":"#DIV/0!"}},{"$f":"(BB333-273.15)/Heterogenität!$D$4","v":{"$error":"#DIV/0!"}},{"$f":"IF(AI333<Berechnung!$D$7,AI333,#N/A)","v":{"$error":"#N/A"}}]
[null,null,null,null,null,null,null,null,null,null,null,null,null,null,null,null,null,null,null,null,null,null,null,null,null,null,null,null,null,null,null,null,{"$f":"Sanierungsdesign!$E$12*AH334*Sanierungsdesign!$E$10/1000000","v":15350.4},2361600,27.333333333333332,{"$f":"$D$5+((-Sanierungsdesign!$E$12)/4*PI()*$D$3)*(-LN((4*$D$4*AH334)/(Sanierungsdesign!$E$13^2))-$D$19)","v":2366.5714907327451},2093.421490732745,4163.3278003837522,{"$f":"$D$3*$T$7*$AH$7*(AK334-$D$5)*(1/Sanierungsdesign!$E$15)/1000000","v":252.80910212377321},{"$f":"$D$5+(-Sanierungsdesign!$E$12/(4*PI()*$D$3))*(-LN((4*$D$4*AH334)/(Sanierungsdesign!$E$13+Sanierungsdesign!$E$15)^2)-$D$19)","v":351.90896697648742},78.758966976487443,{"$f":"(2*PI()*Sanierungsdesign!$E$10*$D$3)*(LN((Sanierungsdesign!$E$13+Sanierungsdesign!$E$15)/Sanierungsdesign!$E$13)*(AJ334-AN334))*$AH$7/1000000","v":179.86703973958095},4069.1316624835567,9184.0301622253883,{"$f":"AU334/Sanierungsdesign!$E$11","v":1.5061165906942142},1889280,12.048932725553714,{"$error":"#DIV/0!"},{"$error":"#DIV/0!"},{"$error":"#DIV/0!"},{"$error":"#DIV/0!"},{"$f":"(AY334/(AH334*Sanierungsdesign!$E$10))*1000000","v":{"$error":"#DIV/0!"}},{"$f":"AZ334/Sanierungsdesign!$E$12","v":{"$error":"#DIV/0!"}},{"$f":"$D$5+((-(Sanierungsdesign!$E$12)*MIN($BA$7:$BA$932))/(4*PI()*$D$3))*(-LN((4*$D$4*AH334)/(Sanierungsdesign!$E$13)^2)-$D$19)","v":{"$error":"#DIV/0!"}},{"$f":"(BB334-273.15)/Heterogenität!$D$4","v":{"$error":"#DIV/0!"}},{"$f":"IF(AI334<Berechnung!$D$7,AI334,#N/A)","v":{"$error":"#N/A"}}]
[null,null,null,null,null,null,null,null,null,null,null,null,null,null,null,null,null,null,null,null,null,null,null,null,null,null,null,null,null,null,null,null,{"$f":"Sanierungsdesign!$E$12*AH335*Sanierungsdesign!$E$10/1000000","v":15397.2},2368800,27.416666666666668,{"$f":"$D$5+((-Sanierungsdesign!$E$12)/4*PI()*$D$3)*(-LN((4*$D$4*AH335)/(Sanierungsdesign!$E$13^2))-$D$19)","v":2370.8358354694519},2097.6858354694518,4171.8574831374854,{"$f":"$D$3*$T$7*$AH$7*(AK335-$D$5)*(1/Sanierungsdesign!$E$15)/1000000","v":253.40462891052977},{"$f":"$D$5+(-Sanierungsdesign!$E$12/(4*PI()*$D$3))*(-LN((4*$D$4*AH335)/(Sanierungsdesign!$E$13+Sanierungsdesign!$E$15)^2)-$D$19)","v":352.13849955654661},78.988499556546628,{"$f":"(2*PI()*Sanierungsdesign!$E$10*$D$3)*(LN((Sanierungsdesign!$E$13+Sanierungsdesign!$E$15)/Sanierungsdesign!$E$13)*(AJ335-AN335))*$AH$7/1000000","v":180.22726370263376},4081.5375516984454,9212.0302541833917,{"$f":"AU335/Sanierungsdesign!$E$11","v":1.5092022705456951},1895040,12.073618164365561,{"$error":"#DIV/0!"},{"$error":"#DIV/0!"},{"$error":"#DIV/0!"},{"$error":"#DIV/0!"},{"$f":"(AY335/(AH335*Sanierungsdesign!$E$10))*1000000","v":{"$error":"#DIV/0!"}},{"$f":"AZ335/Sanierungsdesign!$E$12","v":{"$error":"#DIV/0!"}},{"$f":"$D$5+((-(Sanierungsdesign!$E$12)*MIN($BA$7:$BA$932))/(4*PI()*$D$3))*(-LN((4*$D$4*AH335)/(Sanierungsdesign!$E$13)^2)-$D$19)","v":{"$error":"#DIV/0!"}},{"$f":"(BB335-273.15)/Heterogenität!$D$4","v":{"$error":"#DIV/0!"}},{"$f":"IF(AI335<Berechnung!$D$7,AI335,#N/A)","v":{"$error":"#N/A"}}]
[null,null,null,null,null,null,null,null,null,null,null,null,null,null,null,null,null,null,null,null,null,null,null,null,null,null,null,null,null,null,null,null,{"$f":"Sanierungsdesign!$E$12*AH336*Sanierungsdesign!$E$10/1000000","v":15444},2376000,27.5,{"$f":"$D$5+((-Sanierungsdesign!$E$12)/4*PI()*$D$3)*(-LN((4*$D$4*AH336)/(Sanierungsdesign!$E$13^2))-$D$19)","v":2375.0872383205965},2101.9372383205964,4180.3612791055812,{"$f":"$D$3*$T$7*$AH$7*(AK336-$D$5)*(1/Sanierungsdesign!$E$15)/1000000","v":253.99834832944924},{"$f":"$D$5+(-Sanierungsdesign!$E$12/(4*PI()*$D$3))*(-LN((4*$D$4*AH336)/(Sanierungsdesign!$E$13+Sanierungsdesign!$E$15)^2)-$D$19)","v":352.36733552679408},79.217335526794102,{"$f":"(2*PI()*Sanierungsdesign!$E$10*$D$3)*(LN((Sanierungsdesign!$E$13+Sanierungsdesign!$E$15)/Sanierungsdesign!$E$13)*(AJ336-AN336))*$AH$7/1000000","v":180.58639441980839},4093.9434409133341,9240.0303461413951,{"$f":"AU336/Sanierungsdesign!$E$11","v":1.5122785856487835},1900800,12.098228685190268,{"$error":"#DIV/0!"},{"$error":"#DIV/0!"},{"$error":"#DIV/0!"},{"$error":"#DIV/0!"},{"$f":"(AY336/(AH336*Sanierungsdesign!$E$10))*1000000","v":{"$error":"#DIV/0!"}},{"$f":"AZ336/Sanierungsdesign!$E$12","v":{"$error":"#DIV/0!"}},{"$f":"$D$5+((-(Sanierungsdesign!$E$12)*MIN($BA$7:$BA$932))/(4*PI()*$D$3))*(-LN((4*$D$4*AH336)/(Sanierungsdesign!$E$13)^2)-$D$19)","v":{"$error":"#DIV/0!"}},{"$f":"(BB336-273.15)/Heterogenität!$D$4","v":{"$error":"#DIV/0!"}},{"$f":"IF(AI336<Berechnung!$D$7,AI336,#N/A)","v":{"$error":"#N/A"}}]
[null,null,null,null,null,null,null,null,null,null,null,null,null,null,null,null,null,null,null,null,null,null,null,null,null,null,null,null,null,null,null,null,{"$f":"Sanierungsdesign!$E$12*AH337*Sanierungsdesign!$E$10/1000000","v":15490.8},2383200,27.583333333333332,{"$f":"$D$5+((-Sanierungsdesign!$E$12)/4*PI()*$D$3)*(-LN((4*$D$4*AH337)/(Sanierungsdesign!$E$13^2))-$D$19)","v":2379.3257776033656},2106.1757776033655,4188.8393449406558,{"$f":"$D$3*$T$7*$AH$7*(AK337-$D$5)*(1/Sanierungsdesign!$E$15)/1000000","v":254.59027131772956},{"$f":"$D$5+(-Sanierungsdesign!$E$12/(4*PI()*$D$3))*(-LN((4*$D$4*AH337)/(Sanierungsdesign!$E$13+Sanierungsdesign!$E$15)^2)-$D$19)","v":352.59547910273011},79.445479102730133,{"$f":"(2*PI()*Sanierungsdesign!$E$10*$D$3)*(LN((Sanierungsdesign!$E$13+Sanierungsdesign!$E$15)/Sanierungsdesign!$E$13)*(AJ337-AN337))*$AH$7/1000000","v":180.94443850682873},4106.3493301282233,9268.0304380994003,{"$f":"AU337/Sanierungsdesign!$E$11","v":1.5153455926737951},1906560,12.122764741390361,{"$error":"#DIV/0!"},{"$error":"#DIV/0!"},{"$error":"#DIV/0!"},{"$error":"#DIV/0!"},{"$f":"(AY337/(AH337*Sanierungsdesign!$E$10))*1000000","v":{"$error":"#DIV/0!"}},{"$f":"AZ337/Sanierungsdesign!$E$12","v":{"$error":"#DIV/0!"}},{"$f":"$D$5+((-(Sanierungsdesign!$E$12)*MIN($BA$7:$BA$932))/(4*PI()*$D$3))*(-LN((4*$D$4*AH337)/(Sanierungsdesign!$E$13)^2)-$D$19)","v":{"$error":"#DIV/0!"}},{"$f":"(BB337-273.15)/Heterogenität!$D$4","v":{"$error":"#DIV/0!"}},{"$f":"IF(AI337<Berechnung!$D$7,AI337,#N/A)","v":{"$error":"#N/A"}}]
[null,null,null,null,null,null,null,null,null,null,null,null,null,null,null,null,null,null,null,null,null,null,null,null,null,null,null,null,null,null,null,null,{"$f":"Sanierungsdesign!$E$12*AH338*Sanierungsdesign!$E$10/1000000","v":15537.6},2390400,27.666666666666668,{"$f":"$D$5+((-Sanierungsdesign!$E$12)/4*PI()*$D$3)*(-LN((4*$D$4*AH338)/(Sanierungsdesign!$E$13^2))-$D$19)","v":2383.5515309261928},2110.4015309261927,4197.2918358776533,{"$f":"$D$3*$T$7*$AH$7*(AK338-$D$5)*(1/Sanierungsdesign!$E$15)/1000000","v":255.18040871358946},{"$f":"$D$5+(-Sanierungsdesign!$E$12/(4*PI()*$D$3))*(-LN((4*$D$4*AH338)/(Sanierungsdesign!$E$13+Sanierungsdesign!$E$15)^2)-$D$19)","v":352.82293446170542},79.672934461705438,{"$f":"(2*PI()*Sanierungsdesign!$E$10*$D$3)*(LN((Sanierungsdesign!$E$13+Sanierungsdesign!$E$15)/Sanierungsdesign!$E$13)*(AJ338-AN338))*$AH$7/1000000","v":181.30140251954785},4118.755219343112,9296.0305300574037,{"$f":"AU338/Sanierungsdesign!$E$11","v":1.5184033477781926},1912320,12.147226782225541,{"$error":"#DIV/0!"},{"$error":"#DIV/0!"},{"$error":"#DIV/0!"},{"$error":"#DIV/0!"},{"$f":"(AY338/(AH338*Sanierungsdesign!$E$10))*1000000","v":{"$error":"#DIV/0!"}},{"$f":"AZ338/Sanierungsdesign!$E$12","v":{"$error":"#DIV/0!"}},{"$f":"$D$5+((-(Sanierungsdesign!$E$12)*MIN($BA$7:$BA$932))/(4*PI()*$D$3))*(-LN((4*$D$4*AH338)/(Sanierungsdesign!$E$13)^2)-$D$19)","v":{"$error":"#DIV/0!"}},{"$f":"(BB338-273.15)/Heterogenität!$D$4","v":{"$error":"#DIV/0!"}},{"$f":"IF(AI338<Berechnung!$D$7,AI338,#N/A)","v":{"$error":"#N/A"}}]
[null,null,null,null,null,null,null,null,null,null,null,null,null,null,null,null,null,null,null,null,null,null,null,null,null,null,null,null,null,null,null,null,{"$f":"Sanierungsdesign!$E$12*AH339*Sanierungsdesign!$E$10/1000000","v":15584.4},2397600,27.75,{"$f":"$D$5+((-Sanierungsdesign!$E$12)/4*PI()*$D$3)*(-LN((4*$D$4*AH339)/(Sanierungsdesign!$E$13^2))-$D$19)","v":2387.7645751972818},2114.6145751972817,4205.7189057508949,{"$f":"$D$3*$T$7*$AH$7*(AK339-$D$5)*(1/Sanierungsdesign!$E$15)/1000000","v":255.76877125745884},{"$f":"$D$5+(-Sanierungsdesign!$E$12/(4*PI()*$D$3))*(-LN((4*$D$4*AH339)/(Sanierungsdesign!$E$13+Sanierungsdesign!$E$15)^2)-$D$19)","v":353.04970574338029},79.899705743380309,{"$f":"(2*PI()*Sanierungsdesign!$E$10*$D$3)*(LN((Sanierungsdesign!$E$13+Sanierungsdesign!$E$15)/Sanierungsdesign!$E$13)*(AJ339-AN339))*$AH$7/1000000","v":181.65729295466795},4131.1611085580007,9324.0306220154071,{"$f":"AU339/Sanierungsdesign!$E$11","v":1.521451906612753},1918080,12.171615252902024,{"$error":"#DIV/0!"},{"$error":"#DIV/0!"},{"$error":"#DIV/0!"},{"$error":"#DIV/0!"},{"$f":"(AY339/(AH339*Sanierungsdesign!$E$10))*1000000","v":{"$error":"#DIV/0!"}},{"$f":"AZ339/Sanierungsdesign!$E$12","v":{"$error":"#DIV/0!"}},{"$f":"$D$5+((-(Sanierungsdesign!$E$12)*MIN($BA$7:$BA$932))/(4*PI()*$D$3))*(-LN((4*$D$4*AH339)/(Sanierungsdesign!$E$13)^2)-$D$19)","v":{"$error":"#DIV/0!"}},{"$f":"(BB339-273.15)/Heterogenität!$D$4","v":{"$error":"#DIV/0!"}},{"$f":"IF(AI339<Berechnung!$D$7,AI339,#N/A)","v":{"$error":"#N/A"}}]
[null,null,null,null,null,null,null,null,null,null,null,null,null,null,null,null,null,null,null,null,null,null,null,null,null,null,null,null,null,null,null,null,{"$f":"Sanierungsdesign!$E$12*AH340*Sanierungsdesign!$E$10/1000000","v":15631.2},2404800,27.833333333333332,{"$f":"$D$5+((-Sanierungsdesign!$E$12)/4*PI()*$D$3)*(-LN((4*$D$4*AH340)/(Sanierungsdesign!$E$13^2))-$D$19)","v":2391.9649866330074},2118.8149866330073,4214.120707010884,{"$f":"$D$3*$T$7*$AH$7*(AK340-$D$5)*(1/Sanierungsdesign!$E$15)/1000000","v":256.35536959315181},{"$f":"$D$5+(-Sanierungsdesign!$E$12/(4*PI()*$D$3))*(-LN((4*$D$4*AH340)/(Sanierungsdesign!$E$13+Sanierungsdesign!$E$15)^2)-$D$19)","v":353.27579705017666},80.125797050176686,{"$f":"(2*PI()*Sanierungsdesign!$E$10*$D$3)*(LN((Sanierungsdesign!$E$13+Sanierungsdesign!$E$15)/Sanierungsdesign!$E$13)*(AJ340-AN340))*$AH$7/1000000","v":182.01211625045008},4143.5669977728903,9352.0307139734141,{"$f":"AU340/Sanierungsdesign!$E$11","v":1.5244913243276439},1923840,12.195930594621151,{"$error":"#DIV/0!"},{"$error":"#DIV/0!"},{"$error":"#DIV/0!"},{"$error":"#DIV/0!"},{"$f":"(AY340/(AH340*Sanierungsdesign!$E$10))*1000000","v":{"$error":"#DIV/0!"}},{"$f":"AZ340/Sanierungsdesign!$E$12","v":{"$error":"#DIV/0!"}},{"$f":"$D$5+((-(Sanierungsdesign!$E$12)*MIN($BA$7:$BA$932))/(4*PI()*$D$3))*(-LN((4*$D$4*AH340)/(Sanierungsdesign!$E$13)^2)-$D$19)","v":{"$error":"#DIV/0!"}},{"$f":"(BB340-273.15)/Heterogenität!$D$4","v":{"$error":"#DIV/0!"}},{"$f":"IF(AI340<Berechnung!$D$7,AI340,#N/A)","v":{"$error":"#N/A"}}]
[null,null,null,null,null,null,null,null,null,null,null,null,null,null,null,null,null,null,null,null,null,null,null,null,null,null,null,null,null,null,null,null,{"$f":"Sanierungsdesign!$E$12*AH341*Sanierungsdesign!$E$10/1000000","v":15678},2412000,27.916666666666668,{"$f":"$D$5+((-Sanierungsdesign!$E$12)/4*PI()*$D$3)*(-LN((4*$D$4*AH341)/(Sanierungsdesign!$E$13^2))-$D$19)","v":2396.1528407661858},2123.0028407661857,4222.4973907408457,{"$f":"$D$3*$T$7*$AH$7*(AK341-$D$5)*(1/Sanierungsdesign!$E$15)/1000000","v":256.94021426902174},{"$f":"$D$5+(-Sanierungsdesign!$E$12/(4*PI()*$D$3))*(-LN((4*$D$4*AH341)/(Sanierungsdesign!$E$13+Sanierungsdesign!$E$15)^2)-$D$19)","v":353.50121244772311},80.351212447723128,{"$f":"(2*PI()*Sanierungsdesign!$E$10*$D$3)*(LN((Sanierungsdesign!$E$13+Sanierungsdesign!$E$15)/Sanierungsdesign!$E$13)*(AJ341-AN341))*$AH$7/1000000","v":182.3658787874127},4155.972886987779,9380.0308059314175,{"$f":"AU341/Sanierungsdesign!$E$11","v":1.5275216555784119},1929600,12.220173244627295,{"$error":"#DIV/0!"},{"$error":"#DIV/0!"},{"$error":"#DIV/0!"},{"$error":"#DIV/0!"},{"$f":"(AY341/(AH341*Sanierungsdesign!$E$10))*1000000","v":{"$error":"#DIV/0!"}},{"$f":"AZ341/Sanierungsdesign!$E$12","v":{"$error":"#DIV/0!"}},{"$f":"$D$5+((-(Sanierungsdesign!$E$12)*MIN($BA$7:$BA$932))/(4*PI()*$D$3))*(-LN((4*$D$4*AH341)/(Sanierungsdesign!$E$13)^2)-$D$19)","v":{"$error":"#DIV/0!"}},{"$f":"(BB341-273.15)/Heterogenität!$D$4","v":{"$error":"#DIV/0!"}},{"$f":"IF(AI341<Berechnung!$D$7,AI341,#N/A)","v":{"$error":"#N/A"}}]
[null,null,null,null,null,null,null,null,null,null,null,null,null,null,null,null,null,null,null,null,null,null,null,null,null,null,null,null,null,null,null,null,{"$f":"Sanierungsdesign!$E$12*AH342*Sanierungsdesign!$E$10/1000000","v":15724.8},2419200,28,{"$f":"$D$5+((-Sanierungsdesign!$E$12)/4*PI()*$D$3)*(-LN((4*$D$4*AH342)/(Sanierungsdesign!$E$13^2))-$D$19)","v":2400.3282124542279},2127.1782124542278,4230.8491066730385,{"$f":"$D$3*$T$7*$AH$7*(AK342-$D$5)*(1/Sanierungsdesign!$E$15)/1000000","v":257.52331573909993},{"$f":"$D$5+(-Sanierungsdesign!$E$12/(4*PI()*$D$3))*(-LN((4*$D$4*AH342)/(Sanierungsdesign!$E$13+Sanierungsdesign!$E$15)^2)-$D$19)","v":353.72595596529402},80.575955965294042,{"$f":"(2*PI()*Sanierungsdesign!$E$10*$D$3)*(LN((Sanierungsdesign!$E$13+Sanierungsdesign!$E$15)/Sanierungsdesign!$E$13)*(AJ342-AN342))*$AH$7/1000000","v":182.71858688902054},4168.3787762026677,9408.0308978894209,{"$f":"AU342/Sanierungsdesign!$E$11","v":1.5305429545318792},1935360,12.244343636255033,{"$error":"#DIV/0!"},{"$error":"#DIV/0!"},{"$error":"#DIV/0!"},{"$error":"#DIV/0!"},{"$f":"(AY342/(AH342*Sanierungsdesign!$E$10))*1000000","v":{"$error":"#DIV/0!"}},{"$f":"AZ342/Sanierungsdesign!$E$12","v":{"$error":"#DIV/0!"}},{"$f":"$D$5+((-(Sanierungsdesign!$E$12)*MIN($BA$7:$BA$932))/(4*PI()*$D$3))*(-LN((4*$D$4*AH342)/(Sanierungsdesign!$E$13)^2)-$D$19)","v":{"$error":"#DIV/0!"}},{"$f":"(BB342-273.15)/Heterogenität!$D$4","v":{"$error":"#DIV/0!"}},{"$f":"IF(AI342<Berechnung!$D$7,AI342,#N/A)","v":{"$error":"#N/A"}}]
[null,null,null,null,null,null,null,null,null,null,null,null,null,null,null,null,null,null,null,null,null,null,null,null,null,null,null,null,null,null,null,null,{"$f":"Sanierungsdesign!$E$12*AH343*Sanierungsdesign!$E$10/1000000","v":15771.6},2426400,28.083333333333332,{"$f":"$D$5+((-Sanierungsdesign!$E$12)/4*PI()*$D$3)*(-LN((4*$D$4*AH343)/(Sanierungsdesign!$E$13^2))-$D$19)","v":2404.4911758871644},2131.3411758871644,4239.1760032048041,{"$f":"$D$3*$T$7*$AH$7*(AK343-$D$5)*(1/Sanierungsdesign!$E$15)/1000000","v":258.10468436421638},{"$f":"$D$5+(-Sanierungsdesign!$E$12/(4*PI()*$D$3))*(-LN((4*$D$4*AH343)/(Sanierungsdesign!$E$13+Sanierungsdesign!$E$15)^2)-$D$19)","v":353.95003159624116},80.800031596241183,{"$f":"(2*PI()*Sanierungsdesign!$E$10*$D$3)*(LN((Sanierungsdesign!$E$13+Sanierungsdesign!$E$15)/Sanierungsdesign!$E$13)*(AJ343-AN343))*$AH$7/1000000","v":183.07024682236226},4180.7846654175564,9436.0309898474261,{"$f":"AU343/Sanierungsdesign!$E$11","v":1.5335552748719519},1941120,12.268442198975615,{"$error":"#DIV/0!"},{"$error":"#DIV/0!"},{"$error":"#DIV/0!"},{"$error":"#DIV/0!"},{"$f":"(AY343/(AH343*Sanierungsdesign!$E$10))*1000000","v":{"$error":"#DIV/0!"}},{"$f":"AZ343/Sanierungsdesign!$E$12","v":{"$error":"#DIV/0!"}},{"$f":"$D$5+((-(Sanierungsdesign!$E$12)*MIN($BA$7:$BA$932))/(4*PI()*$D$3))*(-LN((4*$D$4*AH343)/(Sanierungsdesign!$E$13)^2)-$D$19)","v":{"$error":"#DIV/0!"}},{"$f":"(BB343-273.15)/Heterogenität!$D$4","v":{"$error":"#DIV/0!"}},{"$f":"IF(AI343<Berechnung!$D$7,AI343,#N/A)","v":{"$error":"#N/A"}}]
[null,null,null,null,null,null,null,null,null,null,null,null,null,null,null,null,null,null,null,null,null,null,null,null,null,null,null,null,null,null,null,null,{"$f":"Sanierungsdesign!$E$12*AH344*Sanierungsdesign!$E$10/1000000","v":15818.4},2433600,28.166666666666668,{"$f":"$D$5+((-Sanierungsdesign!$E$12)/4*PI()*$D$3)*(-LN((4*$D$4*AH344)/(Sanierungsdesign!$E$13^2))-$D$19)","v":2408.6418045955584},2135.4918045955583,4247.4782274143963,{"$f":"$D$3*$T$7*$AH$7*(AK344-$D$5)*(1/Sanierungsdesign!$E$15)/1000000","v":258.68433041310459},{"$f":"$D$5+(-Sanierungsdesign!$E$12/(4*PI()*$D$3))*(-LN((4*$D$4*AH344)/(Sanierungsdesign!$E$13+Sanierungsdesign!$E$15)^2)-$D$19)","v":354.17344329842007},81.023443298420091,{"$f":"(2*PI()*Sanierungsdesign!$E$10*$D$3)*(LN((Sanierungsdesign!$E$13+Sanierungsdesign!$E$15)/Sanierungsdesign!$E$13)*(AJ344-AN344))*$AH$7/1000000","v":183.42086479881905},4193.1905546324451,9464.0310818054295,{"$f":"AU344/Sanierungsdesign!$E$11","v":1.5365586698053457},1946880,12.292469358442766,{"$error":"#DIV/0!"},{"$error":"#DIV/0!"},{"$error":"#DIV/0!"},{"$error":"#DIV/0!"},{"$f":"(AY344/(AH344*Sanierungsdesign!$E$10))*1000000","v":{"$error":"#DIV/0!"}},{"$f":"AZ344/Sanierungsdesign!$E$12","v":{"$error":"#DIV/0!"}},{"$f":"$D$5+((-(Sanierungsdesign!$E$12)*MIN($BA$7:$BA$932))/(4*PI()*$D$3))*(-LN((4*$D$4*AH344)/(Sanierungsdesign!$E$13)^2)-$D$19)","v":{"$error":"#DIV/0!"}},{"$f":"(BB344-273.15)/Heterogenität!$D$4","v":{"$error":"#DIV/0!"}},{"$f":"IF(AI344<Berechnung!$D$7,AI344,#N/A)","v":{"$error":"#N/A"}}]
[null,null,null,null,null,null,null,null,null,null,null,null,null,null,null,null,null,null,null,null,null,null,null,null,null,null,null,null,null,null,null,null,{"$f":"Sanierungsdesign!$E$12*AH345*Sanierungsdesign!$E$10/1000000","v":15865.2},2440800,28.25,{"$f":"$D$5+((-Sanierungsdesign!$E$12)/4*PI()*$D$3)*(-LN((4*$D$4*AH345)/(Sanierungsdesign!$E$13^2))-$D$19)","v":2412.7801714582956},2139.6301714582955,4255.7559250765626,{"$f":"$D$3*$T$7*$AH$7*(AK345-$D$5)*(1/Sanierungsdesign!$E$15)/1000000","v":259.26226406348974},{"$f":"$D$5+(-Sanierungsdesign!$E$12/(4*PI()*$D$3))*(-LN((4*$D$4*AH345)/(Sanierungsdesign!$E$13+Sanierungsdesign!$E$15)^2)-$D$19)","v":354.39619499460895},81.24619499460897,{"$f":"(2*PI()*Sanierungsdesign!$E$10*$D$3)*(LN((Sanierungsdesign!$E$13+Sanierungsdesign!$E$15)/Sanierungsdesign!$E$13)*(AJ345-AN345))*$AH$7/1000000","v":183.77044697472283},4205.5964438473347,9492.0311737634347,{"$f":"AU345/Sanierungsdesign!$E$11","v":1.5395531920672225},1952640,12.31642553653778,{"$error":"#DIV/0!"},{"$error":"#DIV/0!"},{"$error":"#DIV/0!"},{"$error":"#DIV/0!"},{"$f":"(AY345/(AH345*Sanierungsdesign!$E$10))*1000000","v":{"$error":"#DIV/0!"}},{"$f":"AZ345/Sanierungsdesign!$E$12","v":{"$error":"#DIV/0!"}},{"$f":"$D$5+((-(Sanierungsdesign!$E$12)*MIN($BA$7:$BA$932))/(4*PI()*$D$3))*(-LN((4*$D$4*AH345)/(Sanierungsdesign!$E$13)^2)-$D$19)","v":{"$error":"#DIV/0!"}},{"$f":"(BB345-273.15)/Heterogenität!$D$4","v":{"$error":"#DIV/0!"}},{"$f":"IF(AI345<Berechnung!$D$7,AI345,#N/A)","v":{"$error":"#N/A"}}]
[null,null,null,null,null,null,null,null,null,null,null,null,null,null,null,null,null,null,null,null,null,null,null,null,null,null,null,null,null,null,null,null,{"$f":"Sanierungsdesign!$E$12*AH346*Sanierungsdesign!$E$10/1000000","v":15912},2448000,28.333333333333332,{"$f":"$D$5+((-Sanierungsdesign!$E$12)/4*PI()*$D$3)*(-LN((4*$D$4*AH346)/(Sanierungsdesign!$E$13^2))-$D$19)","v":2416.9063487102649},2143.7563487102648,4264.0092406779058,{"$f":"$D$3*$T$7*$AH$7*(AK346-$D$5)*(1/Sanierungsdesign!$E$15)/1000000","v":259.83849540316118},{"$f":"$D$5+(-Sanierungsdesign!$E$12/(4*PI()*$D$3))*(-LN((4*$D$4*AH346)/(Sanierungsdesign!$E$13+Sanierungsdesign!$E$15)^2)-$D$19)","v":354.61829057292221},81.468290572922228,{"$f":"(2*PI()*Sanierungsdesign!$E$10*$D$3)*(LN((Sanierungsdesign!$E$13+Sanierungsdesign!$E$15)/Sanierungsdesign!$E$13)*(AJ346-AN346))*$AH$7/1000000","v":184.1189994520046},4218.0023330622234,9520.0312657214381,{"$f":"AU346/Sanierungsdesign!$E$11","v":1.5425388939267475},1958400,12.34031115141398,{"$error":"#DIV/0!"},{"$error":"#DIV/0!"},{"$error":"#DIV/0!"},{"$error":"#DIV/0!"},{"$f":"(AY346/(AH346*Sanierungsdesign!$E$10))*1000000","v":{"$error":"#DIV/0!"}},{"$f":"AZ346/Sanierungsdesign!$E$12","v":{"$error":"#DIV/0!"}},{"$f":"$D$5+((-(Sanierungsdesign!$E$12)*MIN($BA$7:$BA$932))/(4*PI()*$D$3))*(-LN((4*$D$4*AH346)/(Sanierungsdesign!$E$13)^2)-$D$19)","v":{"$error":"#DIV/0!"}},{"$f":"(BB346-273.15)/Heterogenität!$D$4","v":{"$error":"#DIV/0!"}},{"$f":"IF(AI346<Berechnung!$D$7,AI346,#N/A)","v":{"$error":"#N/A"}}]
[null,null,null,null,null,null,null,null,null,null,null,null,null,null,null,null,null,null,null,null,null,null,null,null,null,null,null,null,null,null,null,null,{"$f":"Sanierungsdesign!$E$12*AH347*Sanierungsdesign!$E$10/1000000","v":15958.8},2455200,28.416666666666668,{"$f":"$D$5+((-Sanierungsdesign!$E$12)/4*PI()*$D$3)*(-LN((4*$D$4*AH347)/(Sanierungsdesign!$E$13^2))-$D$19)","v":2421.0204079499226},2147.8704079499225,4272.2383174320148,{"$f":"$D$3*$T$7*$AH$7*(AK347-$D$5)*(1/Sanierungsdesign!$E$15)/1000000","v":260.41303443102868},{"$f":"$D$5+(-Sanierungsdesign!$E$12/(4*PI()*$D$3))*(-LN((4*$D$4*AH347)/(Sanierungsdesign!$E$13+Sanierungsdesign!$E$15)^2)-$D$19)","v":354.83973388721768},81.689733887217699,{"$f":"(2*PI()*Sanierungsdesign!$E$10*$D$3)*(LN((Sanierungsdesign!$E$13+Sanierungsdesign!$E$15)/Sanierungsdesign!$E$13)*(AJ347-AN347))*$AH$7/1000000","v":184.46652827883395},4230.4082222771121,9548.0313576794415,{"$f":"AU347/Sanierungsdesign!$E$11","v":1.5455158271925638},1964160,12.36412661754051,{"$error":"#DIV/0!"},{"$error":"#DIV/0!"},{"$error":"#DIV/0!"},{"$error":"#DIV/0!"},{"$f":"(AY347/(AH347*Sanierungsdesign!$E$10))*1000000","v":{"$error":"#DIV/0!"}},{"$f":"AZ347/Sanierungsdesign!$E$12","v":{"$error":"#DIV/0!"}},{"$f":"$D$5+((-(Sanierungsdesign!$E$12)*MIN($BA$7:$BA$932))/(4*PI()*$D$3))*(-LN((4*$D$4*AH347)/(Sanierungsdesign!$E$13)^2)-$D$19)","v":{"$error":"#DIV/0!"}},{"$f":"(BB347-273.15)/Heterogenität!$D$4","v":{"$error":"#DIV/0!"}},{"$f":"IF(AI347<Berechnung!$D$7,AI347,#N/A)","v":{"$error":"#N/A"}}]
[null,null,null,null,null,null,null,null,null,null,null,null,null,null,null,null,null,null,null,null,null,null,null,null,null,null,null,null,null,null,null,null,{"$f":"Sanierungsdesign!$E$12*AH348*Sanierungsdesign!$E$10/1000000","v":16005.6},2462400,28.5,{"$f":"$D$5+((-Sanierungsdesign!$E$12)/4*PI()*$D$3)*(-LN((4*$D$4*AH348)/(Sanierungsdesign!$E$13^2))-$D$19)","v":2425.1224201467462},2151.9724201467461,4280.4432972943769,{"$f":"$D$3*$T$7*$AH$7*(AK348-$D$5)*(1/Sanierungsdesign!$E$15)/1000000","v":260.98589105816365},{"$f":"$D$5+(-Sanierungsdesign!$E$12/(4*PI()*$D$3))*(-LN((4*$D$4*AH348)/(Sanierungsdesign!$E$13+Sanierungsdesign!$E$15)^2)-$D$19)","v":355.06052875749788},81.9105287574979,{"$f":"(2*PI()*Sanierungsdesign!$E$10*$D$3)*(LN((Sanierungsdesign!$E$13+Sanierungsdesign!$E$15)/Sanierungsdesign!$E$13)*(AJ348-AN348))*$AH$7/1000000","v":184.81303945024831},4242.8141114920008,9576.0314496374449,{"$f":"AU348/Sanierungsdesign!$E$11","v":1.5484840432181852},1969920,12.387872345745482,{"$error":"#DIV/0!"},{"$error":"#DIV/0!"},{"$error":"#DIV/0!"},{"$error":"#DIV/0!"},{"$f":"(AY348/(AH348*Sanierungsdesign!$E$10))*1000000","v":{"$error":"#DIV/0!"}},{"$f":"AZ348/Sanierungsdesign!$E$12","v":{"$error":"#DIV/0!"}},{"$f":"$D$5+((-(Sanierungsdesign!$E$12)*MIN($BA$7:$BA$932))/(4*PI()*$D$3))*(-LN((4*$D$4*AH348)/(Sanierungsdesign!$E$13)^2)-$D$19)","v":{"$error":"#DIV/0!"}},{"$f":"(BB348-273.15)/Heterogenität!$D$4","v":{"$error":"#DIV/0!"}},{"$f":"IF(AI348<Berechnung!$D$7,AI348,#N/A)","v":{"$error":"#N/A"}}]
[null,null,null,null,null,null,null,null,null,null,null,null,null,null,null,null,null,null,null,null,null,null,null,null,null,null,null,null,null,null,null,null,{"$f":"Sanierungsdesign!$E$12*AH349*Sanierungsdesign!$E$10/1000000","v":16052.4},2469600,28.583333333333332,{"$f":"$D$5+((-Sanierungsdesign!$E$12)/4*PI()*$D$3)*(-LN((4*$D$4*AH349)/(Sanierungsdesign!$E$13^2))-$D$19)","v":2429.2124556485824},2156.0624556485823,4288.6243209770701,{"$f":"$D$3*$T$7*$AH$7*(AK349-$D$5)*(1/Sanierungsdesign!$E$15)/1000000","v":261.55707510882507},{"$f":"$D$5+(-Sanierungsdesign!$E$12/(4*PI()*$D$3))*(-LN((4*$D$4*AH349)/(Sanierungsdesign!$E$13+Sanierungsdesign!$E$15)^2)-$D$19)","v":355.28067897030525},82.130678970305269,{"$f":"(2*PI()*Sanierungsdesign!$E$10*$D$3)*(LN((Sanierungsdesign!$E$13+Sanierungsdesign!$E$15)/Sanierungsdesign!$E$13)*(AJ349-AN349))*$AH$7/1000000","v":185.15853890877378},4255.2200007068896,9604.0315415954501,{"$f":"AU349/Sanierungsdesign!$E$11","v":1.551443592907314},1975680,12.411548743258512,{"$error":"#DIV/0!"},{"$error":"#DIV/0!"},{"$error":"#DIV/0!"},{"$error":"#DIV/0!"},{"$f":"(AY349/(AH349*Sanierungsdesign!$E$10))*1000000","v":{"$error":"#DIV/0!"}},{"$f":"AZ349/Sanierungsdesign!$E$12","v":{"$error":"#DIV/0!"}},{"$f":"$D$5+((-(Sanierungsdesign!$E$12)*MIN($BA$7:$BA$932))/(4*PI()*$D$3))*(-LN((4*$D$4*AH349)/(Sanierungsdesign!$E$13)^2)-$D$19)","v":{"$error":"#DIV/0!"}},{"$f":"(BB349-273.15)/Heterogenität!$D$4","v":{"$error":"#DIV/0!"}},{"$f":"IF(AI349<Berechnung!$D$7,AI349,#N/A)","v":{"$error":"#N/A"}}]
[null,null,null,null,null,null,null,null,null,null,null,null,null,null,null,null,null,null,null,null,null,null,null,null,null,null,null,null,null,null,null,null,{"$f":"Sanierungsdesign!$E$12*AH350*Sanierungsdesign!$E$10/1000000","v":16099.2},2476800,28.666666666666668,{"$f":"$D$5+((-Sanierungsdesign!$E$12)/4*PI()*$D$3)*(-LN((4*$D$4*AH350)/(Sanierungsdesign!$E$13^2))-$D$19)","v":2433.2905841888819},2160.1405841888818,4296.7815279632387,{"$f":"$D$3*$T$7*$AH$7*(AK350-$D$5)*(1/Sanierungsdesign!$E$15)/1000000","v":262.12659632146989},{"$f":"$D$5+(-Sanierungsdesign!$E$12/(4*PI()*$D$3))*(-LN((4*$D$4*AH350)/(Sanierungsdesign!$E$13+Sanierungsdesign!$E$15)^2)-$D$19)","v":355.50018827911197},82.35018827911199,{"$f":"(2*PI()*Sanierungsdesign!$E$10*$D$3)*(LN((Sanierungsdesign!$E$13+Sanierungsdesign!$E$15)/Sanierungsdesign!$E$13)*(AJ350-AN350))*$AH$7/1000000","v":185.50303254503638},4267.6258899217792,9632.0316335534553,{"$f":"AU350/Sanierungsdesign!$E$11","v":1.5543945267190746},1981440,12.435156213752597,{"$error":"#DIV/0!"},{"$error":"#DIV/0!"},{"$error":"#DIV/0!"},{"$error":"#DIV/0!"},{"$f":"(AY350/(AH350*Sanierungsdesign!$E$10))*1000000","v":{"$error":"#DIV/0!"}},{"$f":"AZ350/Sanierungsdesign!$E$12","v":{"$error":"#DIV/0!"}},{"$f":"$D$5+((-(Sanierungsdesign!$E$12)*MIN($BA$7:$BA$932))/(4*PI()*$D$3))*(-LN((4*$D$4*AH350)/(Sanierungsdesign!$E$13)^2)-$D$19)","v":{"$error":"#DIV/0!"}},{"$f":"(BB350-273.15)/Heterogenität!$D$4","v":{"$error":"#DIV/0!"}},{"$f":"IF(AI350<Berechnung!$D$7,AI350,#N/A)","v":{"$error":"#N/A"}}]
[null,null,null,null,null,null,null,null,null,null,null,null,null,null,null,null,null,null,null,null,null,null,null,null,null,null,null,null,null,null,null,null,{"$f":"Sanierungsdesign!$E$12*AH351*Sanierungsdesign!$E$10/1000000","v":16146},2484000,28.75,{"$f":"$D$5+((-Sanierungsdesign!$E$12)/4*PI()*$D$3)*(-LN((4*$D$4*AH351)/(Sanierungsdesign!$E$13^2))-$D$19)","v":2437.3568748938383},2164.2068748938382,4304.9150565213722,{"$f":"$D$3*$T$7*$AH$7*(AK351-$D$5)*(1/Sanierungsdesign!$E$15)/1000000","v":262.69446434975009},{"$f":"$D$5+(-Sanierungsdesign!$E$12/(4*PI()*$D$3))*(-LN((4*$D$4*AH351)/(Sanierungsdesign!$E$13+Sanierungsdesign!$E$15)^2)-$D$19)","v":355.71906040470378},82.569060404703805,{"$f":"(2*PI()*Sanierungsdesign!$E$10*$D$3)*(LN((Sanierungsdesign!$E$13+Sanierungsdesign!$E$15)/Sanierungsdesign!$E$13)*(AJ351-AN351))*$AH$7/1000000","v":185.84652619836507},4280.0317791366679,9660.0317255114587,{"$f":"AU351/Sanierungsdesign!$E$11","v":1.5573368946731809},1987200,12.458695157385447,{"$error":"#DIV/0!"},{"$error":"#DIV/0!"},{"$error":"#DIV/0!"},{"$error":"#DIV/0!"},{"$f":"(AY351/(AH351*Sanierungsdesign!$E$10))*1000000","v":{"$error":"#DIV/0!"}},{"$f":"AZ351/Sanierungsdesign!$E$12","v":{"$error":"#DIV/0!"}},{"$f":"$D$5+((-(Sanierungsdesign!$E$12)*MIN($BA$7:$BA$932))/(4*PI()*$D$3))*(-LN((4*$D$4*AH351)/(Sanierungsdesign!$E$13)^2)-$D$19)","v":{"$error":"#DIV/0!"}},{"$f":"(BB351-273.15)/Heterogenität!$D$4","v":{"$error":"#DIV/0!"}},{"$f":"IF(AI351<Berechnung!$D$7,AI351,#N/A)","v":{"$error":"#N/A"}}]
[null,null,null,null,null,null,null,null,null,null,null,null,null,null,null,null,null,null,null,null,null,null,null,null,null,null,null,null,null,null,null,null,{"$f":"Sanierungsdesign!$E$12*AH352*Sanierungsdesign!$E$10/1000000","v":16192.8},2491200,28.833333333333332,{"$f":"$D$5+((-Sanierungsdesign!$E$12)/4*PI()*$D$3)*(-LN((4*$D$4*AH352)/(Sanierungsdesign!$E$13^2))-$D$19)","v":2441.4113962894157},2168.2613962894156,4313.025043719359,{"$f":"$D$3*$T$7*$AH$7*(AK352-$D$5)*(1/Sanierungsdesign!$E$15)/1000000","v":263.26068876349404},{"$f":"$D$5+(-Sanierungsdesign!$E$12/(4*PI()*$D$3))*(-LN((4*$D$4*AH352)/(Sanierungsdesign!$E$13+Sanierungsdesign!$E$15)^2)-$D$19)","v":355.93729903555862},82.787299035558647,{"$f":"(2*PI()*Sanierungsdesign!$E$10*$D$3)*(LN((Sanierungsdesign!$E$13+Sanierungsdesign!$E$15)/Sanierungsdesign!$E$13)*(AJ352-AN352))*$AH$7/1000000","v":186.18902565738517},4292.4376683515566,9688.0318174694639,{"$f":"AU352/Sanierungsdesign!$E$11","v":1.5602707463550209},1992960,12.482165970840168,{"$error":"#DIV/0!"},{"$error":"#DIV/0!"},{"$error":"#DIV/0!"},{"$error":"#DIV/0!"},{"$f":"(AY352/(AH352*Sanierungsdesign!$E$10))*1000000","v":{"$error":"#DIV/0!"}},{"$f":"AZ352/Sanierungsdesign!$E$12","v":{"$error":"#DIV/0!"}},{"$f":"$D$5+((-(Sanierungsdesign!$E$12)*MIN($BA$7:$BA$932))/(4*PI()*$D$3))*(-LN((4*$D$4*AH352)/(Sanierungsdesign!$E$13)^2)-$D$19)","v":{"$error":"#DIV/0!"}},{"$f":"(BB352-273.15)/Heterogenität!$D$4","v":{"$error":"#DIV/0!"}},{"$f":"IF(AI352<Berechnung!$D$7,AI352,#N/A)","v":{"$error":"#N/A"}}]
[null,null,null,null,null,null,null,null,null,null,null,null,null,null,null,null,null,null,null,null,null,null,null,null,null,null,null,null,null,null,null,null,{"$f":"Sanierungsdesign!$E$12*AH353*Sanierungsdesign!$E$10/1000000","v":16239.6},2498400,28.916666666666668,{"$f":"$D$5+((-Sanierungsdesign!$E$12)/4*PI()*$D$3)*(-LN((4*$D$4*AH353)/(Sanierungsdesign!$E$13^2))-$D$19)","v":2445.4542163082774},2172.3042163082773,4321.1116254383505,{"$f":"$D$3*$T$7*$AH$7*(AK353-$D$5)*(1/Sanierungsdesign!$E$15)/1000000","v":263.82527904967412},{"$f":"$D$5+(-Sanierungsdesign!$E$12/(4*PI()*$D$3))*(-LN((4*$D$4*AH353)/(Sanierungsdesign!$E$13+Sanierungsdesign!$E$15)^2)-$D$19)","v":356.15490782821939},83.004907828219416,{"$f":"(2*PI()*Sanierungsdesign!$E$10*$D$3)*(LN((Sanierungsdesign!$E$13+Sanierungsdesign!$E$15)/Sanierungsdesign!$E$13)*(AJ353-AN353))*$AH$7/1000000","v":186.53053666060404},4304.8435575664453,9716.0319094274673,{"$f":"AU353/Sanierungsdesign!$E$11","v":1.5631961309206692},1998720,12.505569047365354,{"$error":"#DIV/0!"},{"$error":"#DIV/0!"},{"$error":"#DIV/0!"},{"$error":"#DIV/0!"},{"$f":"(AY353/(AH353*Sanierungsdesign!$E$10))*1000000","v":{"$error":"#DIV/0!"}},{"$f":"AZ353/Sanierungsdesign!$E$12","v":{"$error":"#DIV/0!"}},{"$f":"$D$5+((-(Sanierungsdesign!$E$12)*MIN($BA$7:$BA$932))/(4*PI()*$D$3))*(-LN((4*$D$4*AH353)/(Sanierungsdesign!$E$13)^2)-$D$19)","v":{"$error":"#DIV/0!"}},{"$f":"(BB353-273.15)/Heterogenität!$D$4","v":{"$error":"#DIV/0!"}},{"$f":"IF(AI353<Berechnung!$D$7,AI353,#N/A)","v":{"$error":"#N/A"}}]
[null,null,null,null,null,null,null,null,null,null,null,null,null,null,null,null,null,null,null,null,null,null,null,null,null,null,null,null,null,null,null,null,{"$f":"Sanierungsdesign!$E$12*AH354*Sanierungsdesign!$E$10/1000000","v":16286.4},2505600,29,{"$f":"$D$5+((-Sanierungsdesign!$E$12)/4*PI()*$D$3)*(-LN((4*$D$4*AH354)/(Sanierungsdesign!$E$13^2))-$D$19)","v":2449.4854022966151},2176.335402296615,4329.1749363864155,{"$f":"$D$3*$T$7*$AH$7*(AK354-$D$5)*(1/Sanierungsdesign!$E$15)/1000000","v":264.38824461336043},{"$f":"$D$5+(-Sanierungsdesign!$E$12/(4*PI()*$D$3))*(-LN((4*$D$4*AH354)/(Sanierungsdesign!$E$13+Sanierungsdesign!$E$15)^2)-$D$19)","v":356.37189040766168},83.221890407661704,{"$f":"(2*PI()*Sanierungsdesign!$E$10*$D$3)*(LN((Sanierungsdesign!$E$13+Sanierungsdesign!$E$15)/Sanierungsdesign!$E$13)*(AJ354-AN354))*$AH$7/1000000","v":186.87106489698746},4317.249446781334,9744.0320013854707,{"$f":"AU354/Sanierungsdesign!$E$11","v":1.5661130971018304},2004480,12.528904776814644,{"$error":"#DIV/0!"},{"$error":"#DIV/0!"},{"$error":"#DIV/0!"},{"$error":"#DIV/0!"},{"$f":"(AY354/(AH354*Sanierungsdesign!$E$10))*1000000","v":{"$error":"#DIV/0!"}},{"$f":"AZ354/Sanierungsdesign!$E$12","v":{"$error":"#DIV/0!"}},{"$f":"$D$5+((-(Sanierungsdesign!$E$12)*MIN($BA$7:$BA$932))/(4*PI()*$D$3))*(-LN((4*$D$4*AH354)/(Sanierungsdesign!$E$13)^2)-$D$19)","v":{"$error":"#DIV/0!"}},{"$f":"(BB354-273.15)/Heterogenität!$D$4","v":{"$error":"#DIV/0!"}},{"$f":"IF(AI354<Berechnung!$D$7,AI354,#N/A)","v":{"$error":"#N/A"}}]
[null,null,null,null,null,null,null,null,null,null,null,null,null,null,null,null,null,null,null,null,null,null,null,null,null,null,null,null,null,null,null,null,{"$f":"Sanierungsdesign!$E$12*AH355*Sanierungsdesign!$E$10/1000000","v":16333.2},2512800,29.083333333333332,{"$f":"$D$5+((-Sanierungsdesign!$E$12)/4*PI()*$D$3)*(-LN((4*$D$4*AH355)/(Sanierungsdesign!$E$13^2))-$D$19)","v":2453.5050210208838},2180.3550210208837,4337.2151101120171,{"$f":"$D$3*$T$7*$AH$7*(AK355-$D$5)*(1/Sanierungsdesign!$E$15)/1000000","v":264.94959477866126},{"$f":"$D$5+(-Sanierungsdesign!$E$12/(4*PI()*$D$3))*(-LN((4*$D$4*AH355)/(Sanierungsdesign!$E$13+Sanierungsdesign!$E$15)^2)-$D$19)","v":356.58825036765586},83.438250367655883,{"$f":"(2*PI()*Sanierungsdesign!$E$10*$D$3)*(LN((Sanierungsdesign!$E$13+Sanierungsdesign!$E$15)/Sanierungsdesign!$E$13)*(AJ355-AN355))*$AH$7/1000000","v":187.21061600652928},4329.6553359962236,9772.0320933434778,{"$f":"AU355/Sanierungsdesign!$E$11","v":1.5690216932107113},2010240,12.55217354568569,{"$error":"#DIV/0!"},{"$error":"#DIV/0!"},{"$error":"#DIV/0!"},{"$error":"#DIV/0!"},{"$f":"(AY355/(AH355*Sanierungsdesign!$E$10))*1000000","v":{"$error":"#DIV/0!"}},{"$f":"AZ355/Sanierungsdesign!$E$12","v":{"$error":"#DIV/0!"}},{"$f":"$D$5+((-(Sanierungsdesign!$E$12)*MIN($BA$7:$BA$932))/(4*PI()*$D$3))*(-LN((4*$D$4*AH355)/(Sanierungsdesign!$E$13)^2)-$D$19)","v":{"$error":"#DIV/0!"}},{"$f":"(BB355-273.15)/Heterogenität!$D$4","v":{"$error":"#DIV/0!"}},{"$f":"IF(AI355<Berechnung!$D$7,AI355,#N/A)","v":{"$error":"#N/A"}}]
[null,null,null,null,null,null,null,null,null,null,null,null,null,null,null,null,null,null,null,null,null,null,null,null,null,null,null,null,null,null,null,null,{"$f":"Sanierungsdesign!$E$12*AH356*Sanierungsdesign!$E$10/1000000","v":16380},2520000,29.166666666666668,{"$f":"$D$5+((-Sanierungsdesign!$E$12)/4*PI()*$D$3)*(-LN((4*$D$4*AH356)/(Sanierungsdesign!$E$13^2))-$D$19)","v":2457.5131386744324},2184.3631386744323,4345.2322790172702,{"$f":"$D$3*$T$7*$AH$7*(AK356-$D$5)*(1/Sanierungsdesign!$E$15)/1000000","v":265.50933878964935},{"$f":"$D$5+(-Sanierungsdesign!$E$12/(4*PI()*$D$3))*(-LN((4*$D$4*AH356)/(Sanierungsdesign!$E$13+Sanierungsdesign!$E$15)^2)-$D$19)","v":356.80399127112469},83.65399127112471,{"$f":"(2*PI()*Sanierungsdesign!$E$10*$D$3)*(LN((Sanierungsdesign!$E$13+Sanierungsdesign!$E$15)/Sanierungsdesign!$E$13)*(AJ356-AN356))*$AH$7/1000000","v":187.5491955808107},4342.0612252111123,9800.0321853014811,{"$f":"AU356/Sanierungsdesign!$E$11","v":1.571921967144819},2016000,12.575375737158552,{"$error":"#DIV/0!"},{"$error":"#DIV/0!"},{"$error":"#DIV/0!"},{"$error":"#DIV/0!"},{"$f":"(AY356/(AH356*Sanierungsdesign!$E$10))*1000000","v":{"$error":"#DIV/0!"}},{"$f":"AZ356/Sanierungsdesign!$E$12","v":{"$error":"#DIV/0!"}},{"$f":"$D$5+((-(Sanierungsdesign!$E$12)*MIN($BA$7:$BA$932))/(4*PI()*$D$3))*(-LN((4*$D$4*AH356)/(Sanierungsdesign!$E$13)^2)-$D$19)","v":{"$error":"#DIV/0!"}},{"$f":"(BB356-273.15)/Heterogenität!$D$4","v":{"$error":"#DIV/0!"}},{"$f":"IF(AI356<Berechnung!$D$7,AI356,#N/A)","v":{"$error":"#N/A"}}]
[null,null,null,null,null,null,null,null,null,null,null,null,null,null,null,null,null,null,null,null,null,null,null,null,null,null,null,null,null,null,null,null,{"$f":"Sanierungsdesign!$E$12*AH357*Sanierungsdesign!$E$10/1000000","v":16426.8},2527200,29.25,{"$f":"$D$5+((-Sanierungsdesign!$E$12)/4*PI()*$D$3)*(-LN((4*$D$4*AH357)/(Sanierungsdesign!$E$13^2))-$D$19)","v":2461.5098208840459},2188.3598208840458,4353.2265743710304,{"$f":"$D$3*$T$7*$AH$7*(AK357-$D$5)*(1/Sanierungsdesign!$E$15)/1000000","v":266.06748581127505},{"$f":"$D$5+(-Sanierungsdesign!$E$12/(4*PI()*$D$3))*(-LN((4*$D$4*AH357)/(Sanierungsdesign!$E$13+Sanierungsdesign!$E$15)^2)-$D$19)","v":357.01911665049488},83.869116650494902,{"$f":"(2*PI()*Sanierungsdesign!$E$10*$D$3)*(LN((Sanierungsdesign!$E$13+Sanierungsdesign!$E$15)/Sanierungsdesign!$E$13)*(AJ357-AN357))*$AH$7/1000000","v":187.88680916355338},4354.467114426001,9828.0322772594827,{"$f":"AU357/Sanierungsdesign!$E$11","v":1.5748139663916954},2021760,12.598511731133563,{"$error":"#DIV/0!"},{"$error":"#DIV/0!"},{"$error":"#DIV/0!"},{"$error":"#DIV/0!"},{"$f":"(AY357/(AH357*Sanierungsdesign!$E$10))*1000000","v":{"$error":"#DIV/0!"}},{"$f":"AZ357/Sanierungsdesign!$E$12","v":{"$error":"#DIV/0!"}},{"$f":"$D$5+((-(Sanierungsdesign!$E$12)*MIN($BA$7:$BA$932))/(4*PI()*$D$3))*(-LN((4*$D$4*AH357)/(Sanierungsdesign!$E$13)^2)-$D$19)","v":{"$error":"#DIV/0!"}},{"$f":"(BB357-273.15)/Heterogenität!$D$4","v":{"$error":"#DIV/0!"}},{"$f":"IF(AI357<Berechnung!$D$7,AI357,#N/A)","v":{"$error":"#N/A"}}]
[null,null,null,null,null,null,null,null,null,null,null,null,null,null,null,null,null,null,null,null,null,null,null,null,null,null,null,null,null,null,null,null,{"$f":"Sanierungsdesign!$E$12*AH358*Sanierungsdesign!$E$10/1000000","v":16473.599999999999},2534400,29.333333333333332,{"$f":"$D$5+((-Sanierungsdesign!$E$12)/4*PI()*$D$3)*(-LN((4*$D$4*AH358)/(Sanierungsdesign!$E$13^2))-$D$19)","v":2465.4951327163958},2192.3451327163957,4361.1981263217986,{"$f":"$D$3*$T$7*$AH$7*(AK358-$D$5)*(1/Sanierungsdesign!$E$15)/1000000","v":266.62404493026764},{"$f":"$D$5+(-Sanierungsdesign!$E$12/(4*PI()*$D$3))*(-LN((4*$D$4*AH358)/(Sanierungsdesign!$E$13+Sanierungsdesign!$E$15)^2)-$D$19)","v":357.23363000804437},84.083630008044395,{"$f":"(2*PI()*Sanierungsdesign!$E$10*$D$3)*(LN((Sanierungsdesign!$E$13+Sanierungsdesign!$E$15)/Sanierungsdesign!$E$13)*(AJ358-AN358))*$AH$7/1000000","v":188.22346225116451},4366.8730036408897,9856.0323692174879,{"$f":"AU358/Sanierungsdesign!$E$11","v":1.5776977380335839},2027520,12.621581904268671,{"$error":"#DIV/0!"},{"$error":"#DIV/0!"},{"$error":"#DIV/0!"},{"$error":"#DIV/0!"},{"$f":"(AY358/(AH358*Sanierungsdesign!$E$10))*1000000","v":{"$error":"#DIV/0!"}},{"$f":"AZ358/Sanierungsdesign!$E$12","v":{"$error":"#DIV/0!"}},{"$f":"$D$5+((-(Sanierungsdesign!$E$12)*MIN($BA$7:$BA$932))/(4*PI()*$D$3))*(-LN((4*$D$4*AH358)/(Sanierungsdesign!$E$13)^2)-$D$19)","v":{"$error":"#DIV/0!"}},{"$f":"(BB358-273.15)/Heterogenität!$D$4","v":{"$error":"#DIV/0!"}},{"$f":"IF(AI358<Berechnung!$D$7,AI358,#N/A)","v":{"$error":"#N/A"}}]
[null,null,null,null,null,null,null,null,null,null,null,null,null,null,null,null,null,null,null,null,null,null,null,null,null,null,null,null,null,null,null,null,{"$f":"Sanierungsdesign!$E$12*AH359*Sanierungsdesign!$E$10/1000000","v":16520.400000000001},2541600,29.416666666666668,{"$f":"$D$5+((-Sanierungsdesign!$E$12)/4*PI()*$D$3)*(-LN((4*$D$4*AH359)/(Sanierungsdesign!$E$13^2))-$D$19)","v":2469.4691386843883},2196.3191386843882,4369.1470639104127,{"$f":"$D$3*$T$7*$AH$7*(AK359-$D$5)*(1/Sanierungsdesign!$E$15)/1000000","v":267.17902515602157},{"$f":"$D$5+(-Sanierungsdesign!$E$12/(4*PI()*$D$3))*(-LN((4*$D$4*AH359)/(Sanierungsdesign!$E$13+Sanierungsdesign!$E$15)^2)-$D$19)","v":357.4475348162444},84.297534816244422,{"$f":"(2*PI()*Sanierungsdesign!$E$10*$D$3)*(LN((Sanierungsdesign!$E$13+Sanierungsdesign!$E$15)/Sanierungsdesign!$E$13)*(AJ359-AN359))*$AH$7/1000000","v":188.55916029327241},4379.2788928557784,9884.0324611754913,{"$f":"AU359/Sanierungsdesign!$E$11","v":1.5805733287520232},2033280,12.644586630016185,{"$error":"#DIV/0!"},{"$error":"#DIV/0!"},{"$error":"#DIV/0!"},{"$error":"#DIV/0!"},{"$f":"(AY359/(AH359*Sanierungsdesign!$E$10))*1000000","v":{"$error":"#DIV/0!"}},{"$f":"AZ359/Sanierungsdesign!$E$12","v":{"$error":"#DIV/0!"}},{"$f":"$D$5+((-(Sanierungsdesign!$E$12)*MIN($BA$7:$BA$932))/(4*PI()*$D$3))*(-LN((4*$D$4*AH359)/(Sanierungsdesign!$E$13)^2)-$D$19)","v":{"$error":"#DIV/0!"}},{"$f":"(BB359-273.15)/Heterogenität!$D$4","v":{"$error":"#DIV/0!"}},{"$f":"IF(AI359<Berechnung!$D$7,AI359,#N/A)","v":{"$error":"#N/A"}}]
[null,null,null,null,null,null,null,null,null,null,null,null,null,null,null,null,null,null,null,null,null,null,null,null,null,null,null,null,null,null,null,null,{"$f":"Sanierungsdesign!$E$12*AH360*Sanierungsdesign!$E$10/1000000","v":16567.2},2548800,29.5,{"$f":"$D$5+((-Sanierungsdesign!$E$12)/4*PI()*$D$3)*(-LN((4*$D$4*AH360)/(Sanierungsdesign!$E$13^2))-$D$19)","v":2473.4319027534398},2200.2819027534397,4377.073515082604,{"$f":"$D$3*$T$7*$AH$7*(AK360-$D$5)*(1/Sanierungsdesign!$E$15)/1000000","v":267.73243542147281},{"$f":"$D$5+(-Sanierungsdesign!$E$12/(4*PI()*$D$3))*(-LN((4*$D$4*AH360)/(Sanierungsdesign!$E$13+Sanierungsdesign!$E$15)^2)-$D$19)","v":357.66083451809675},84.510834518096772,{"$f":"(2*PI()*Sanierungsdesign!$E$10*$D$3)*(LN((Sanierungsdesign!$E$13+Sanierungsdesign!$E$15)/Sanierungsdesign!$E$13)*(AJ360-AN360))*$AH$7/1000000","v":188.89390869325746},4391.684782070668,9912.0325531334965,{"$f":"AU360/Sanierungsdesign!$E$11","v":1.5834407848323888},2039040,12.667526278659111,{"$error":"#DIV/0!"},{"$error":"#DIV/0!"},{"$error":"#DIV/0!"},{"$error":"#DIV/0!"},{"$f":"(AY360/(AH360*Sanierungsdesign!$E$10))*1000000","v":{"$error":"#DIV/0!"}},{"$f":"AZ360/Sanierungsdesign!$E$12","v":{"$error":"#DIV/0!"}},{"$f":"$D$5+((-(Sanierungsdesign!$E$12)*MIN($BA$7:$BA$932))/(4*PI()*$D$3))*(-LN((4*$D$4*AH360)/(Sanierungsdesign!$E$13)^2)-$D$19)","v":{"$error":"#DIV/0!"}},{"$f":"(BB360-273.15)/Heterogenität!$D$4","v":{"$error":"#DIV/0!"}},{"$f":"IF(AI360<Berechnung!$D$7,AI360,#N/A)","v":{"$error":"#N/A"}}]
[null,null,null,null,null,null,null,null,null,null,null,null,null,null,null,null,null,null,null,null,null,null,null,null,null,null,null,null,null,null,null,null,{"$f":"Sanierungsdesign!$E$12*AH361*Sanierungsdesign!$E$10/1000000","v":16614},2556000,29.583333333333332,{"$f":"$D$5+((-Sanierungsdesign!$E$12)/4*PI()*$D$3)*(-LN((4*$D$4*AH361)/(Sanierungsdesign!$E$13^2))-$D$19)","v":2477.3834883476475},2204.2334883476474,4384.9776067013418,{"$f":"$D$3*$T$7*$AH$7*(AK361-$D$5)*(1/Sanierungsdesign!$E$15)/1000000","v":268.28428458396087},{"$f":"$D$5+(-Sanierungsdesign!$E$12/(4*PI()*$D$3))*(-LN((4*$D$4*AH361)/(Sanierungsdesign!$E$13+Sanierungsdesign!$E$15)^2)-$D$19)","v":357.8735325274663},84.723532527466318,{"$f":"(2*PI()*Sanierungsdesign!$E$10*$D$3)*(LN((Sanierungsdesign!$E$13+Sanierungsdesign!$E$15)/Sanierungsdesign!$E$13)*(AJ361-AN361))*$AH$7/1000000","v":189.22771280877251},4404.0906712855567,9940.0326450915018,{"$f":"AU361/Sanierungsdesign!$E$11","v":1.5863001521683575},2044800,12.69040121734686,{"$error":"#DIV/0!"},{"$error":"#DIV/0!"},{"$error":"#DIV/0!"},{"$error":"#DIV/0!"},{"$f":"(AY361/(AH361*Sanierungsdesign!$E$10))*1000000","v":{"$error":"#DIV/0!"}},{"$f":"AZ361/Sanierungsdesign!$E$12","v":{"$error":"#DIV/0!"}},{"$f":"$D$5+((-(Sanierungsdesign!$E$12)*MIN($BA$7:$BA$932))/(4*PI()*$D$3))*(-LN((4*$D$4*AH361)/(Sanierungsdesign!$E$13)^2)-$D$19)","v":{"$error":"#DIV/0!"}},{"$f":"(BB361-273.15)/Heterogenität!$D$4","v":{"$error":"#DIV/0!"}},{"$f":"IF(AI361<Berechnung!$D$7,AI361,#N/A)","v":{"$error":"#N/A"}}]
[null,null,null,null,null,null,null,null,null,null,null,null,null,null,null,null,null,null,null,null,null,null,null,null,null,null,null,null,null,null,null,null,{"$f":"Sanierungsdesign!$E$12*AH362*Sanierungsdesign!$E$10/1000000","v":16660.8},2563200,29.666666666666668,{"$f":"$D$5+((-Sanierungsdesign!$E$12)/4*PI()*$D$3)*(-LN((4*$D$4*AH362)/(Sanierungsdesign!$E$13^2))-$D$19)","v":2481.3239583558848},2208.1739583558847,4392.8594645590201,{"$f":"$D$3*$T$7*$AH$7*(AK362-$D$5)*(1/Sanierungsdesign!$E$15)/1000000","v":268.83458142607981},{"$f":"$D$5+(-Sanierungsdesign!$E$12/(4*PI()*$D$3))*(-LN((4*$D$4*AH362)/(Sanierungsdesign!$E$13+Sanierungsdesign!$E$15)^2)-$D$19)","v":358.08563222940904},84.935632229409066,{"$f":"(2*PI()*Sanierungsdesign!$E$10*$D$3)*(LN((Sanierungsdesign!$E$13+Sanierungsdesign!$E$15)/Sanierungsdesign!$E$13)*(AJ362-AN362))*$AH$7/1000000","v":189.5605779522586},4416.4965605004454,9968.0327370495052,{"$f":"AU362/Sanierungsdesign!$E$11","v":1.5891514762663179},2050560,12.713211810130543,{"$error":"#DIV/0!"},{"$error":"#DIV/0!"},{"$error":"#DIV/0!"},{"$error":"#DIV/0!"},{"$f":"(AY362/(AH362*Sanierungsdesign!$E$10))*1000000","v":{"$error":"#DIV/0!"}},{"$f":"AZ362/Sanierungsdesign!$E$12","v":{"$error":"#DIV/0!"}},{"$f":"$D$5+((-(Sanierungsdesign!$E$12)*MIN($BA$7:$BA$932))/(4*PI()*$D$3))*(-LN((4*$D$4*AH362)/(Sanierungsdesign!$E$13)^2)-$D$19)","v":{"$error":"#DIV/0!"}},{"$f":"(BB362-273.15)/Heterogenität!$D$4","v":{"$error":"#DIV/0!"}},{"$f":"IF(AI362<Berechnung!$D$7,AI362,#N/A)","v":{"$error":"#N/A"}}]
[null,null,null,null,null,null,null,null,null,null,null,null,null,null,null,null,null,null,null,null,null,null,null,null,null,null,null,null,null,null,null,null,{"$f":"Sanierungsdesign!$E$12*AH363*Sanierungsdesign!$E$10/1000000","v":16707.599999999999},2570400,29.75,{"$f":"$D$5+((-Sanierungsdesign!$E$12)/4*PI()*$D$3)*(-LN((4*$D$4*AH363)/(Sanierungsdesign!$E$13^2))-$D$19)","v":2485.2533751378014},2212.1033751378013,4400.7192133894641,{"$f":"$D$3*$T$7*$AH$7*(AK363-$D$5)*(1/Sanierungsdesign!$E$15)/1000000","v":269.38333465651613},{"$f":"$D$5+(-Sanierungsdesign!$E$12/(4*PI()*$D$3))*(-LN((4*$D$4*AH363)/(Sanierungsdesign!$E$13+Sanierungsdesign!$E$15)^2)-$D$19)","v":358.29713698049483},85.147136980494849,{"$f":"(2*PI()*Sanierungsdesign!$E$10*$D$3)*(LN((Sanierungsdesign!$E$13+Sanierungsdesign!$E$15)/Sanierungsdesign!$E$13)*(AJ363-AN363))*$AH$7/1000000","v":189.89250939145114},4428.9024497153341,9996.0328290075086,{"$f":"AU363/Sanierungsdesign!$E$11","v":1.5919948022497128},2056320,12.735958417997702,{"$error":"#DIV/0!"},{"$error":"#DIV/0!"},{"$error":"#DIV/0!"},{"$error":"#DIV/0!"},{"$f":"(AY363/(AH363*Sanierungsdesign!$E$10))*1000000","v":{"$error":"#DIV/0!"}},{"$f":"AZ363/Sanierungsdesign!$E$12","v":{"$error":"#DIV/0!"}},{"$f":"$D$5+((-(Sanierungsdesign!$E$12)*MIN($BA$7:$BA$932))/(4*PI()*$D$3))*(-LN((4*$D$4*AH363)/(Sanierungsdesign!$E$13)^2)-$D$19)","v":{"$error":"#DIV/0!"}},{"$f":"(BB363-273.15)/Heterogenität!$D$4","v":{"$error":"#DIV/0!"}},{"$f":"IF(AI363<Berechnung!$D$7,AI363,#N/A)","v":{"$error":"#N/A"}}]
[null,null,null,null,null,null,null,null,null,null,null,null,null,null,null,null,null,null,null,null,null,null,null,null,null,null,null,null,null,null,null,null,{"$f":"Sanierungsdesign!$E$12*AH364*Sanierungsdesign!$E$10/1000000","v":16754.400000000001},2577600,29.833333333333332,{"$f":"$D$5+((-Sanierungsdesign!$E$12)/4*PI()*$D$3)*(-LN((4*$D$4*AH364)/(Sanierungsdesign!$E$13^2))-$D$19)","v":2489.1718005297516},2216.0218005297515,4408.5569768797868,{"$f":"$D$3*$T$7*$AH$7*(AK364-$D$5)*(1/Sanierungsdesign!$E$15)/1000000","v":269.930552910877},{"$f":"$D$5+(-Sanierungsdesign!$E$12/(4*PI()*$D$3))*(-LN((4*$D$4*AH364)/(Sanierungsdesign!$E$13+Sanierungsdesign!$E$15)^2)-$D$19)","v":358.50805010912666},85.35805010912668,{"$f":"(2*PI()*Sanierungsdesign!$E$10*$D$3)*(LN((Sanierungsdesign!$E$13+Sanierungsdesign!$E$15)/Sanierungsdesign!$E$13)*(AJ364-AN364))*$AH$7/1000000","v":190.2235123498811},4441.3083389302237,10024.032920965516,{"$f":"AU364/Sanierungsdesign!$E$11","v":1.594830174863328},2062080,12.758641398906624,{"$error":"#DIV/0!"},{"$error":"#DIV/0!"},{"$error":"#DIV/0!"},{"$error":"#DIV/0!"},{"$f":"(AY364/(AH364*Sanierungsdesign!$E$10))*1000000","v":{"$error":"#DIV/0!"}},{"$f":"AZ364/Sanierungsdesign!$E$12","v":{"$error":"#DIV/0!"}},{"$f":"$D$5+((-(Sanierungsdesign!$E$12)*MIN($BA$7:$BA$932))/(4*PI()*$D$3))*(-LN((4*$D$4*AH364)/(Sanierungsdesign!$E$13)^2)-$D$19)","v":{"$error":"#DIV/0!"}},{"$f":"(BB364-273.15)/Heterogenität!$D$4","v":{"$error":"#DIV/0!"}},{"$f":"IF(AI364<Berechnung!$D$7,AI364,#N/A)","v":{"$error":"#N/A"}}]
[null,null,null,null,null,null,null,null,null,null,null,null,null,null,null,null,null,null,null,null,null,null,null,null,null,null,null,null,null,null,null,null,{"$f":"Sanierungsdesign!$E$12*AH365*Sanierungsdesign!$E$10/1000000","v":16801.2},2584800,29.916666666666668,{"$f":"$D$5+((-Sanierungsdesign!$E$12)/4*PI()*$D$3)*(-LN((4*$D$4*AH365)/(Sanierungsdesign!$E$13^2))-$D$19)","v":2493.0792958506258},2219.9292958506257,4416.372877682049,{"$f":"$D$3*$T$7*$AH$7*(AK365-$D$5)*(1/Sanierungsdesign!$E$15)/1000000","v":270.4762447525041},{"$f":"$D$5+(-Sanierungsdesign!$E$12/(4*PI()*$D$3))*(-LN((4*$D$4*AH365)/(Sanierungsdesign!$E$13+Sanierungsdesign!$E$15)^2)-$D$19)","v":358.71837491585467},85.56837491585469,{"$f":"(2*PI()*Sanierungsdesign!$E$10*$D$3)*(LN((Sanierungsdesign!$E$13+Sanierungsdesign!$E$15)/Sanierungsdesign!$E$13)*(AJ365-AN365))*$AH$7/1000000","v":190.5535920073674},4453.7142281451124,10052.033012923519,{"$f":"AU365/Sanierungsdesign!$E$11","v":1.5976576384775127},2067840,12.781261107820102,{"$error":"#DIV/0!"},{"$error":"#DIV/0!"},{"$error":"#DIV/0!"},{"$error":"#DIV/0!"},{"$f":"(AY365/(AH365*Sanierungsdesign!$E$10))*1000000","v":{"$error":"#DIV/0!"}},{"$f":"AZ365/Sanierungsdesign!$E$12","v":{"$error":"#DIV/0!"}},{"$f":"$D$5+((-(Sanierungsdesign!$E$12)*MIN($BA$7:$BA$932))/(4*PI()*$D$3))*(-LN((4*$D$4*AH365)/(Sanierungsdesign!$E$13)^2)-$D$19)","v":{"$error":"#DIV/0!"}},{"$f":"(BB365-273.15)/Heterogenität!$D$4","v":{"$error":"#DIV/0!"}},{"$f":"IF(AI365<Berechnung!$D$7,AI365,#N/A)","v":{"$error":"#N/A"}}]
[null,null,null,null,null,null,null,null,null,null,null,null,null,null,null,null,null,null,null,null,null,null,null,null,null,null,null,null,null,null,null,null,{"$f":"Sanierungsdesign!$E$12*AH366*Sanierungsdesign!$E$10/1000000","v":16848},2592000,30,{"$f":"$D$5+((-Sanierungsdesign!$E$12)/4*PI()*$D$3)*(-LN((4*$D$4*AH366)/(Sanierungsdesign!$E$13^2))-$D$19)","v":2496.9759219076145},2223.8259219076144,4424.1670374247969,{"$f":"$D$3*$T$7*$AH$7*(AK366-$D$5)*(1/Sanierungsdesign!$E$15)/1000000","v":271.02041867327915},{"$f":"$D$5+(-Sanierungsdesign!$E$12/(4*PI()*$D$3))*(-LN((4*$D$4*AH366)/(Sanierungsdesign!$E$13+Sanierungsdesign!$E$15)^2)-$D$19)","v":358.92811467368608},85.778114673686105,{"$f":"(2*PI()*Sanierungsdesign!$E$10*$D$3)*(LN((Sanierungsdesign!$E$13+Sanierungsdesign!$E$15)/Sanierungsdesign!$E$13)*(AJ366-AN366))*$AH$7/1000000","v":190.88275350050395},4466.1201173600011,10080.033104881522,{"$f":"AU366/Sanierungsdesign!$E$11","v":1.6004772370923497},2073600,12.803817896738797,{"$error":"#DIV/0!"},{"$error":"#DIV/0!"},{"$error":"#DIV/0!"},{"$error":"#DIV/0!"},{"$f":"(AY366/(AH366*Sanierungsdesign!$E$10))*1000000","v":{"$error":"#DIV/0!"}},{"$f":"AZ366/Sanierungsdesign!$E$12","v":{"$error":"#DIV/0!"}},{"$f":"$D$5+((-(Sanierungsdesign!$E$12)*MIN($BA$7:$BA$932))/(4*PI()*$D$3))*(-LN((4*$D$4*AH366)/(Sanierungsdesign!$E$13)^2)-$D$19)","v":{"$error":"#DIV/0!"}},{"$f":"(BB366-273.15)/Heterogenität!$D$4","v":{"$error":"#DIV/0!"}},{"$f":"IF(AI366<Berechnung!$D$7,AI366,#N/A)","v":{"$error":"#N/A"}}]
[null,null,null,null,null,null,null,null,null,null,null,null,null,null,null,null,null,null,null,null,null,null,null,null,null,null,null,null,null,null,null,null,{"$f":"Sanierungsdesign!$E$12*AH367*Sanierungsdesign!$E$10/1000000","v":16894.8},2599200,30.083333333333332,{"$f":"$D$5+((-Sanierungsdesign!$E$12)/4*PI()*$D$3)*(-LN((4*$D$4*AH367)/(Sanierungsdesign!$E$13^2))-$D$19)","v":2500.8617390018817},2227.7117390018816,4431.939576724405,{"$f":"$D$3*$T$7*$AH$7*(AK367-$D$5)*(1/Sanierungsdesign!$E$15)/1000000","v":271.56308309441596},{"$f":"$D$5+(-Sanierungsdesign!$E$12/(4*PI()*$D$3))*(-LN((4*$D$4*AH367)/(Sanierungsdesign!$E$13+Sanierungsdesign!$E$15)^2)-$D$19)","v":359.13727262839075},85.98727262839077,{"$f":"(2*PI()*Sanierungsdesign!$E$10*$D$3)*(LN((Sanierungsdesign!$E$13+Sanierungsdesign!$E$15)/Sanierungsdesign!$E$13)*(AJ367-AN367))*$AH$7/1000000","v":191.21100192313884},4478.5260065748898,10108.033196839528,{"$f":"AU367/Sanierungsdesign!$E$11","v":1.6032890143417613},2079360,12.82631211473409,{"$error":"#DIV/0!"},{"$error":"#DIV/0!"},{"$error":"#DIV/0!"},{"$error":"#DIV/0!"},{"$f":"(AY367/(AH367*Sanierungsdesign!$E$10))*1000000","v":{"$error":"#DIV/0!"}},{"$f":"AZ367/Sanierungsdesign!$E$12","v":{"$error":"#DIV/0!"}},{"$f":"$D$5+((-(Sanierungsdesign!$E$12)*MIN($BA$7:$BA$932))/(4*PI()*$D$3))*(-LN((4*$D$4*AH367)/(Sanierungsdesign!$E$13)^2)-$D$19)","v":{"$error":"#DIV/0!"}},{"$f":"(BB367-273.15)/Heterogenität!$D$4","v":{"$error":"#DIV/0!"}},{"$f":"IF(AI367<Berechnung!$D$7,AI367,#N/A)","v":{"$error":"#N/A"}}]
[null,null,null,null,null,null,null,null,null,null,null,null,null,null,null,null,null,null,null,null,null,null,null,null,null,null,null,null,null,null,null,null,{"$f":"Sanierungsdesign!$E$12*AH368*Sanierungsdesign!$E$10/1000000","v":16941.599999999999},2606400,30.166666666666668,{"$f":"$D$5+((-Sanierungsdesign!$E$12)/4*PI()*$D$3)*(-LN((4*$D$4*AH368)/(Sanierungsdesign!$E$13^2))-$D$19)","v":2504.7368069341651},2231.586806934165,4439.6906151962776,{"$f":"$D$3*$T$7*$AH$7*(AK368-$D$5)*(1/Sanierungsdesign!$E$15)/1000000","v":272.10424636724235},{"$f":"$D$5+(-Sanierungsdesign!$E$12/(4*PI()*$D$3))*(-LN((4*$D$4*AH368)/(Sanierungsdesign!$E$13+Sanierungsdesign!$E$15)^2)-$D$19)","v":359.34585199880263},86.195851998802652,{"$f":"(2*PI()*Sanierungsdesign!$E$10*$D$3)*(LN((Sanierungsdesign!$E$13+Sanierungsdesign!$E$15)/Sanierungsdesign!$E$13)*(AJ368-AN368))*$AH$7/1000000","v":191.53834232684738},4490.9318957897785,10136.033288797529,{"$f":"AU368/Sanierungsdesign!$E$11","v":1.6060930134975617},2085120,12.848744107980494,{"$error":"#DIV/0!"},{"$error":"#DIV/0!"},{"$error":"#DIV/0!"},{"$error":"#DIV/0!"},{"$f":"(AY368/(AH368*Sanierungsdesign!$E$10))*1000000","v":{"$error":"#DIV/0!"}},{"$f":"AZ368/Sanierungsdesign!$E$12","v":{"$error":"#DIV/0!"}},{"$f":"$D$5+((-(Sanierungsdesign!$E$12)*MIN($BA$7:$BA$932))/(4*PI()*$D$3))*(-LN((4*$D$4*AH368)/(Sanierungsdesign!$E$13)^2)-$D$19)","v":{"$error":"#DIV/0!"}},{"$f":"(BB368-273.15)/Heterogenität!$D$4","v":{"$error":"#DIV/0!"}},{"$f":"IF(AI368<Berechnung!$D$7,AI368,#N/A)","v":{"$error":"#N/A"}}]
[null,null,null,null,null,null,null,null,null,null,null,null,null,null,null,null,null,null,null,null,null,null,null,null,null,null,null,null,null,null,null,null,{"$f":"Sanierungsdesign!$E$12*AH369*Sanierungsdesign!$E$10/1000000","v":16988.400000000001},2613600,30.25,{"$f":"$D$5+((-Sanierungsdesign!$E$12)/4*PI()*$D$3)*(-LN((4*$D$4*AH369)/(Sanierungsdesign!$E$13^2))-$D$19)","v":2508.6011850103005},2235.4511850103004,4447.4202714658995,{"$f":"$D$3*$T$7*$AH$7*(AK369-$D$5)*(1/Sanierungsdesign!$E$15)/1000000","v":272.64391677397185},{"$f":"$D$5+(-Sanierungsdesign!$E$12/(4*PI()*$D$3))*(-LN((4*$D$4*AH369)/(Sanierungsdesign!$E$13+Sanierungsdesign!$E$15)^2)-$D$19)","v":359.55385597711711},86.403855977117132,{"$f":"(2*PI()*Sanierungsdesign!$E$10*$D$3)*(LN((Sanierungsdesign!$E$13+Sanierungsdesign!$E$15)/Sanierungsdesign!$E$13)*(AJ369-AN369))*$AH$7/1000000","v":191.86477972139886},4503.3377850046681,10164.033380755534,{"$f":"AU369/Sanierungsdesign!$E$11","v":1.6088892774734531},2090880,12.871114219787625,{"$error":"#DIV/0!"},{"$error":"#DIV/0!"},{"$error":"#DIV/0!"},{"$error":"#DIV/0!"},{"$f":"(AY369/(AH369*Sanierungsdesign!$E$10))*1000000","v":{"$error":"#DIV/0!"}},{"$f":"AZ369/Sanierungsdesign!$E$12","v":{"$error":"#DIV/0!"}},{"$f":"$D$5+((-(Sanierungsdesign!$E$12)*MIN($BA$7:$BA$932))/(4*PI()*$D$3))*(-LN((4*$D$4*AH369)/(Sanierungsdesign!$E$13)^2)-$D$19)","v":{"$error":"#DIV/0!"}},{"$f":"(BB369-273.15)/Heterogenität!$D$4","v":{"$error":"#DIV/0!"}},{"$f":"IF(AI369<Berechnung!$D$7,AI369,#N/A)","v":{"$error":"#N/A"}}]
[null,null,null,null,null,null,null,null,null,null,null,null,null,null,null,null,null,null,null,null,null,null,null,null,null,null,null,null,null,null,null,null,{"$f":"Sanierungsdesign!$E$12*AH370*Sanierungsdesign!$E$10/1000000","v":17035.2},2620800,30.333333333333332,{"$f":"$D$5+((-Sanierungsdesign!$E$12)/4*PI()*$D$3)*(-LN((4*$D$4*AH370)/(Sanierungsdesign!$E$13^2))-$D$19)","v":2512.4549320466631},2239.304932046663,4455.1286631797211,{"$f":"$D$3*$T$7*$AH$7*(AK370-$D$5)*(1/Sanierungsdesign!$E$15)/1000000","v":273.18210252846364},{"$f":"$D$5+(-Sanierungsdesign!$E$12/(4*PI()*$D$3))*(-LN((4*$D$4*AH370)/(Sanierungsdesign!$E$13+Sanierungsdesign!$E$15)^2)-$D$19)","v":359.76128772918383},86.611287729183857,{"$f":"(2*PI()*Sanierungsdesign!$E$10*$D$3)*(LN((Sanierungsdesign!$E$13+Sanierungsdesign!$E$15)/Sanierungsdesign!$E$13)*(AJ370-AN370))*$AH$7/1000000","v":192.19031907521614},4515.7436742195569,10192.03347271354,{"$f":"AU370/Sanierungsdesign!$E$11","v":1.6116778488289651},2096640,12.893422790631721,{"$error":"#DIV/0!"},{"$error":"#DIV/0!"},{"$error":"#DIV/0!"},{"$error":"#DIV/0!"},{"$f":"(AY370/(AH370*Sanierungsdesign!$E$10))*1000000","v":{"$error":"#DIV/0!"}},{"$f":"AZ370/Sanierungsdesign!$E$12","v":{"$error":"#DIV/0!"}},{"$f":"$D$5+((-(Sanierungsdesign!$E$12)*MIN($BA$7:$BA$932))/(4*PI()*$D$3))*(-LN((4*$D$4*AH370)/(Sanierungsdesign!$E$13)^2)-$D$19)","v":{"$error":"#DIV/0!"}},{"$f":"(BB370-273.15)/Heterogenität!$D$4","v":{"$error":"#DIV/0!"}},{"$f":"IF(AI370<Berechnung!$D$7,AI370,#N/A)","v":{"$error":"#N/A"}}]
[null,null,null,null,null,null,null,null,null,null,null,null,null,null,null,null,null,null,null,null,null,null,null,null,null,null,null,null,null,null,null,null,{"$f":"Sanierungsdesign!$E$12*AH371*Sanierungsdesign!$E$10/1000000","v":17082},2628000,30.416666666666668,{"$f":"$D$5+((-Sanierungsdesign!$E$12)/4*PI()*$D$3)*(-LN((4*$D$4*AH371)/(Sanierungsdesign!$E$13^2))-$D$19)","v":2516.2981063755433},2243.1481063755432,4462.8159070159109,{"$f":"$D$3*$T$7*$AH$7*(AK371-$D$5)*(1/Sanierungsdesign!$E$15)/1000000","v":273.71881177697315},{"$f":"$D$5+(-Sanierungsdesign!$E$12/(4*PI()*$D$3))*(-LN((4*$D$4*AH371)/(Sanierungsdesign!$E$13+Sanierungsdesign!$E$15)^2)-$D$19)","v":359.96815039479617},86.818150394796191,{"$f":"(2*PI()*Sanierungsdesign!$E$10*$D$3)*(LN((Sanierungsdesign!$E$13+Sanierungsdesign!$E$15)/Sanierungsdesign!$E$13)*(AJ371-AN371))*$AH$7/1000000","v":192.5149653158297},4528.1495634344456,10220.033564671543,{"$f":"AU371/Sanierungsdesign!$E$11","v":1.6144587697733428},2102400,12.915670158186742,{"$error":"#DIV/0!"},{"$error":"#DIV/0!"},{"$error":"#DIV/0!"},{"$error":"#DIV/0!"},{"$f":"(AY371/(AH371*Sanierungsdesign!$E$10))*1000000","v":{"$error":"#DIV/0!"}},{"$f":"AZ371/Sanierungsdesign!$E$12","v":{"$error":"#DIV/0!"}},{"$f":"$D$5+((-(Sanierungsdesign!$E$12)*MIN($BA$7:$BA$932))/(4*PI()*$D$3))*(-LN((4*$D$4*AH371)/(Sanierungsdesign!$E$13)^2)-$D$19)","v":{"$error":"#DIV/0!"}},{"$f":"(BB371-273.15)/Heterogenität!$D$4","v":{"$error":"#DIV/0!"}},{"$f":"IF(AI371<Berechnung!$D$7,AI371,#N/A)","v":{"$error":"#N/A"}}]
[null,null,null,null,null,null,null,null,null,null,null,null,null,null,null,null,null,null,null,null,null,null,null,null,null,null,null,null,null,null,null,null,{"$f":"Sanierungsdesign!$E$12*AH372*Sanierungsdesign!$E$10/1000000","v":17128.8},2635200,30.5,{"$f":"$D$5+((-Sanierungsdesign!$E$12)/4*PI()*$D$3)*(-LN((4*$D$4*AH372)/(Sanierungsdesign!$E$13^2))-$D$19)","v":2520.130765850442},2246.9807658504419,4470.4821186949466,{"$f":"$D$3*$T$7*$AH$7*(AK372-$D$5)*(1/Sanierungsdesign!$E$15)/1000000","v":274.25405259889158},{"$f":"$D$5+(-Sanierungsdesign!$E$12/(4*PI()*$D$3))*(-LN((4*$D$4*AH372)/(Sanierungsdesign!$E$13+Sanierungsdesign!$E$15)^2)-$D$19)","v":360.17444708797609},87.024447087976114,{"$f":"(2*PI()*Sanierungsdesign!$E$10*$D$3)*(LN((Sanierungsdesign!$E$13+Sanierungsdesign!$E$15)/Sanierungsdesign!$E$13)*(AJ372-AN372))*$AH$7/1000000","v":192.83872333032502},4540.5554526493343,10248.033656629546,{"$f":"AU372/Sanierungsdesign!$E$11","v":1.6172320821693795},2108160,12.937856657355036,{"$error":"#DIV/0!"},{"$error":"#DIV/0!"},{"$error":"#DIV/0!"},{"$error":"#DIV/0!"},{"$f":"(AY372/(AH372*Sanierungsdesign!$E$10))*1000000","v":{"$error":"#DIV/0!"}},{"$f":"AZ372/Sanierungsdesign!$E$12","v":{"$error":"#DIV/0!"}},{"$f":"$D$5+((-(Sanierungsdesign!$E$12)*MIN($BA$7:$BA$932))/(4*PI()*$D$3))*(-LN((4*$D$4*AH372)/(Sanierungsdesign!$E$13)^2)-$D$19)","v":{"$error":"#DIV/0!"}},{"$f":"(BB372-273.15)/Heterogenität!$D$4","v":{"$error":"#DIV/0!"}},{"$f":"IF(AI372<Berechnung!$D$7,AI372,#N/A)","v":{"$error":"#N/A"}}]
[null,null,null,null,null,null,null,null,null,null,null,null,null,null,null,null,null,null,null,null,null,null,null,null,null,null,null,null,null,null,null,null,{"$f":"Sanierungsdesign!$E$12*AH373*Sanierungsdesign!$E$10/1000000","v":17175.599999999999},2642400,30.583333333333332,{"$f":"$D$5+((-Sanierungsdesign!$E$12)/4*PI()*$D$3)*(-LN((4*$D$4*AH373)/(Sanierungsdesign!$E$13^2))-$D$19)","v":2523.9529678512972},2250.8029678512971,4478.1274129900676,{"$f":"$D$3*$T$7*$AH$7*(AK373-$D$5)*(1/Sanierungsdesign!$E$15)/1000000","v":274.78783300747591},{"$f":"$D$5+(-Sanierungsdesign!$E$12/(4*PI()*$D$3))*(-LN((4*$D$4*AH373)/(Sanierungsdesign!$E$13+Sanierungsdesign!$E$15)^2)-$D$19)","v":360.38018089725557},87.230180897255593,{"$f":"(2*PI()*Sanierungsdesign!$E$10*$D$3)*(LN((Sanierungsdesign!$E$13+Sanierungsdesign!$E$15)/Sanierungsdesign!$E$13)*(AJ373-AN373))*$AH$7/1000000","v":193.16159796578424},4552.961341864223,10276.033748587552,{"$f":"AU373/Sanierungsdesign!$E$11","v":1.6199978275371982},2113920,12.959982620297586,{"$error":"#DIV/0!"},{"$error":"#DIV/0!"},{"$error":"#DIV/0!"},{"$error":"#DIV/0!"},{"$f":"(AY373/(AH373*Sanierungsdesign!$E$10))*1000000","v":{"$error":"#DIV/0!"}},{"$f":"AZ373/Sanierungsdesign!$E$12","v":{"$error":"#DIV/0!"}},{"$f":"$D$5+((-(Sanierungsdesign!$E$12)*MIN($BA$7:$BA$932))/(4*PI()*$D$3))*(-LN((4*$D$4*AH373)/(Sanierungsdesign!$E$13)^2)-$D$19)","v":{"$error":"#DIV/0!"}},{"$f":"(BB373-273.15)/Heterogenität!$D$4","v":{"$error":"#DIV/0!"}},{"$f":"IF(AI373<Berechnung!$D$7,AI373,#N/A)","v":{"$error":"#N/A"}}]
[null,null,null,null,null,null,null,null,null,null,null,null,null,null,null,null,null,null,null,null,null,null,null,null,null,null,null,null,null,null,null,null,{"$f":"Sanierungsdesign!$E$12*AH374*Sanierungsdesign!$E$10/1000000","v":17222.400000000001},2649600,30.666666666666668,{"$f":"$D$5+((-Sanierungsdesign!$E$12)/4*PI()*$D$3)*(-LN((4*$D$4*AH374)/(Sanierungsdesign!$E$13^2))-$D$19)","v":2527.7647692896376},2254.6147692896375,4485.7519037375896,{"$f":"$D$3*$T$7*$AH$7*(AK374-$D$5)*(1/Sanierungsdesign!$E$15)/1000000","v":275.32016095056849},{"$f":"$D$5+(-Sanierungsdesign!$E$12/(4*PI()*$D$3))*(-LN((4*$D$4*AH374)/(Sanierungsdesign!$E$13+Sanierungsdesign!$E$15)^2)-$D$19)","v":360.58535488595408},87.435354885954098,{"$f":"(2*PI()*Sanierungsdesign!$E$10*$D$3)*(LN((Sanierungsdesign!$E$13+Sanierungsdesign!$E$15)/Sanierungsdesign!$E$13)*(AJ374-AN374))*$AH$7/1000000","v":193.48359402972108},4565.3672310791126,10304.033840545557,{"$f":"AU374/Sanierungsdesign!$E$11","v":1.6227560470579814},2119680,12.982048376463851,{"$error":"#DIV/0!"},{"$error":"#DIV/0!"},{"$error":"#DIV/0!"},{"$error":"#DIV/0!"},{"$f":"(AY374/(AH374*Sanierungsdesign!$E$10))*1000000","v":{"$error":"#DIV/0!"}},{"$f":"AZ374/Sanierungsdesign!$E$12","v":{"$error":"#DIV/0!"}},{"$f":"$D$5+((-(Sanierungsdesign!$E$12)*MIN($BA$7:$BA$932))/(4*PI()*$D$3))*(-LN((4*$D$4*AH374)/(Sanierungsdesign!$E$13)^2)-$D$19)","v":{"$error":"#DIV/0!"}},{"$f":"(BB374-273.15)/Heterogenität!$D$4","v":{"$error":"#DIV/0!"}},{"$f":"IF(AI374<Berechnung!$D$7,AI374,#N/A)","v":{"$error":"#N/A"}}]
[null,null,null,null,null,null,null,null,null,null,null,null,null,null,null,null,null,null,null,null,null,null,null,null,null,null,null,null,null,null,null,null,{"$f":"Sanierungsdesign!$E$12*AH375*Sanierungsdesign!$E$10/1000000","v":17269.2},2656800,30.75,{"$f":"$D$5+((-Sanierungsdesign!$E$12)/4*PI()*$D$3)*(-LN((4*$D$4*AH375)/(Sanierungsdesign!$E$13^2))-$D$19)","v":2531.5662266136683},2258.4162266136682,4493.3557038470708,{"$f":"$D$3*$T$7*$AH$7*(AK375-$D$5)*(1/Sanierungsdesign!$E$15)/1000000","v":275.85104431130742},{"$f":"$D$5+(-Sanierungsdesign!$E$12/(4*PI()*$D$3))*(-LN((4*$D$4*AH375)/(Sanierungsdesign!$E$13+Sanierungsdesign!$E$15)^2)-$D$19)","v":360.7899720924521},87.639972092452126,{"$f":"(2*PI()*Sanierungsdesign!$E$10*$D$3)*(LN((Sanierungsdesign!$E$13+Sanierungsdesign!$E$15)/Sanierungsdesign!$E$13)*(AJ375-AN375))*$AH$7/1000000","v":193.80471629051095},4577.7731202940013,10332.03393250356,{"$f":"AU375/Sanierungsdesign!$E$11","v":1.6255067815776501},2125440,13.0040542526212,{"$error":"#DIV/0!"},{"$error":"#DIV/0!"},{"$error":"#DIV/0!"},{"$error":"#DIV/0!"},{"$f":"(AY375/(AH375*Sanierungsdesign!$E$10))*1000000","v":{"$error":"#DIV/0!"}},{"$f":"AZ375/Sanierungsdesign!$E$12","v":{"$error":"#DIV/0!"}},{"$f":"$D$5+((-(Sanierungsdesign!$E$12)*MIN($BA$7:$BA$932))/(4*PI()*$D$3))*(-LN((4*$D$4*AH375)/(Sanierungsdesign!$E$13)^2)-$D$19)","v":{"$error":"#DIV/0!"}},{"$f":"(BB375-273.15)/Heterogenität!$D$4","v":{"$error":"#DIV/0!"}},{"$f":"IF(AI375<Berechnung!$D$7,AI375,#N/A)","v":{"$error":"#N/A"}}]
[null,null,null,null,null,null,null,null,null,null,null,null,null,null,null,null,null,null,null,null,null,null,null,null,null,null,null,null,null,null,null,null,{"$f":"Sanierungsdesign!$E$12*AH376*Sanierungsdesign!$E$10/1000000","v":17316},2664000,30.833333333333332,{"$f":"$D$5+((-Sanierungsdesign!$E$12)/4*PI()*$D$3)*(-LN((4*$D$4*AH376)/(Sanierungsdesign!$E$13^2))-$D$19)","v":2535.3573958132856},2262.2073958132855,4500.9389253113441,{"$f":"$D$3*$T$7*$AH$7*(AK376-$D$5)*(1/Sanierungsdesign!$E$15)/1000000","v":276.38049090882663},{"$f":"$D$5+(-Sanierungsdesign!$E$12/(4*PI()*$D$3))*(-LN((4*$D$4*AH376)/(Sanierungsdesign!$E$13+Sanierungsdesign!$E$15)^2)-$D$19)","v":360.99403553046136},87.844035530461383,{"$f":"(2*PI()*Sanierungsdesign!$E$10*$D$3)*(LN((Sanierungsdesign!$E$13+Sanierungsdesign!$E$15)/Sanierungsdesign!$E$13)*(AJ376-AN376))*$AH$7/1000000","v":194.12496947781412},4590.17900950889,10360.034024461565,{"$f":"AU376/Sanierungsdesign!$E$11","v":1.6282500716104931},2131200,13.026000572883945,{"$error":"#DIV/0!"},{"$error":"#DIV/0!"},{"$error":"#DIV/0!"},{"$error":"#DIV/0!"},{"$f":"(AY376/(AH376*Sanierungsdesign!$E$10))*1000000","v":{"$error":"#DIV/0!"}},{"$f":"AZ376/Sanierungsdesign!$E$12","v":{"$error":"#DIV/0!"}},{"$f":"$D$5+((-(Sanierungsdesign!$E$12)*MIN($BA$7:$BA$932))/(4*PI()*$D$3))*(-LN((4*$D$4*AH376)/(Sanierungsdesign!$E$13)^2)-$D$19)","v":{"$error":"#DIV/0!"}},{"$f":"(BB376-273.15)/Heterogenität!$D$4","v":{"$error":"#DIV/0!"}},{"$f":"IF(AI376<Berechnung!$D$7,AI376,#N/A)","v":{"$error":"#N/A"}}]
[null,null,null,null,null,null,null,null,null,null,null,null,null,null,null,null,null,null,null,null,null,null,null,null,null,null,null,null,null,null,null,null,{"$f":"Sanierungsdesign!$E$12*AH377*Sanierungsdesign!$E$10/1000000","v":17362.8},2671200,30.916666666666668,{"$f":"$D$5+((-Sanierungsdesign!$E$12)/4*PI()*$D$3)*(-LN((4*$D$4*AH377)/(Sanierungsdesign!$E$13^2))-$D$19)","v":2539.1383324250241},2265.9883324250241,4508.5016792164161,{"$f":"$D$3*$T$7*$AH$7*(AK377-$D$5)*(1/Sanierungsdesign!$E$15)/1000000","v":276.90850849894713},{"$f":"$D$5+(-Sanierungsdesign!$E$12/(4*PI()*$D$3))*(-LN((4*$D$4*AH377)/(Sanierungsdesign!$E$13+Sanierungsdesign!$E$15)^2)-$D$19)","v":361.19754818929079},88.047548189290808,{"$f":"(2*PI()*Sanierungsdesign!$E$10*$D$3)*(LN((Sanierungsdesign!$E$13+Sanierungsdesign!$E$15)/Sanierungsdesign!$E$13)*(AJ377-AN377))*$AH$7/1000000","v":194.44435828299405},4602.5848987237787,10388.034116419569,{"$f":"AU377/Sanierungsdesign!$E$11","v":1.6309859573427472},2136960,13.047887658741978,{"$error":"#DIV/0!"},{"$error":"#DIV/0!"},{"$error":"#DIV/0!"},{"$error":"#DIV/0!"},{"$f":"(AY377/(AH377*Sanierungsdesign!$E$10))*1000000","v":{"$error":"#DIV/0!"}},{"$f":"AZ377/Sanierungsdesign!$E$12","v":{"$error":"#DIV/0!"}},{"$f":"$D$5+((-(Sanierungsdesign!$E$12)*MIN($BA$7:$BA$932))/(4*PI()*$D$3))*(-LN((4*$D$4*AH377)/(Sanierungsdesign!$E$13)^2)-$D$19)","v":{"$error":"#DIV/0!"}},{"$f":"(BB377-273.15)/Heterogenität!$D$4","v":{"$error":"#DIV/0!"}},{"$f":"IF(AI377<Berechnung!$D$7,AI377,#N/A)","v":{"$error":"#N/A"}}]
[null,null,null,null,null,null,null,null,null,null,null,null,null,null,null,null,null,null,null,null,null,null,null,null,null,null,null,null,null,null,null,null,{"$f":"Sanierungsdesign!$E$12*AH378*Sanierungsdesign!$E$10/1000000","v":17409.599999999999},2678400,31,{"$f":"$D$5+((-Sanierungsdesign!$E$12)/4*PI()*$D$3)*(-LN((4*$D$4*AH378)/(Sanierungsdesign!$E$13^2))-$D$19)","v":2542.9090915369411},2269.759091536941,4516.0440757512324,{"$f":"$D$3*$T$7*$AH$7*(AK378-$D$5)*(1/Sanierungsdesign!$E$15)/1000000","v":277.4351047748587},{"$f":"$D$5+(-Sanierungsdesign!$E$12/(4*PI()*$D$3))*(-LN((4*$D$4*AH378)/(Sanierungsdesign!$E$13+Sanierungsdesign!$E$15)^2)-$D$19)","v":361.40051303410968},88.250513034109701,{"$f":"(2*PI()*Sanierungsdesign!$E$10*$D$3)*(LN((Sanierungsdesign!$E$13+Sanierungsdesign!$E$15)/Sanierungsdesign!$E$13)*(AJ378-AN378))*$AH$7/1000000","v":194.76288735952954},4614.9907879386674,10416.034208377572,{"$f":"AU378/Sanierungsdesign!$E$11","v":1.6337144786361302},2142720,13.069715829089041,{"$error":"#DIV/0!"},{"$error":"#DIV/0!"},{"$error":"#DIV/0!"},{"$error":"#DIV/0!"},{"$f":"(AY378/(AH378*Sanierungsdesign!$E$10))*1000000","v":{"$error":"#DIV/0!"}},{"$f":"AZ378/Sanierungsdesign!$E$12","v":{"$error":"#DIV/0!"}},{"$f":"$D$5+((-(Sanierungsdesign!$E$12)*MIN($BA$7:$BA$932))/(4*PI()*$D$3))*(-LN((4*$D$4*AH378)/(Sanierungsdesign!$E$13)^2)-$D$19)","v":{"$error":"#DIV/0!"}},{"$f":"(BB378-273.15)/Heterogenität!$D$4","v":{"$error":"#DIV/0!"}},{"$f":"IF(AI378<Berechnung!$D$7,AI378,#N/A)","v":{"$error":"#N/A"}}]
[null,null,null,null,null,null,null,null,null,null,null,null,null,null,null,null,null,null,null,null,null,null,null,null,null,null,null,null,null,null,null,null,{"$f":"Sanierungsdesign!$E$12*AH379*Sanierungsdesign!$E$10/1000000","v":17456.400000000001},2685600,31.083333333333332,{"$f":"$D$5+((-Sanierungsdesign!$E$12)/4*PI()*$D$3)*(-LN((4*$D$4*AH379)/(Sanierungsdesign!$E$13^2))-$D$19)","v":2546.6697277934286},2273.5197277934285,4523.5662242173048,{"$f":"$D$3*$T$7*$AH$7*(AK379-$D$5)*(1/Sanierungsdesign!$E$15)/1000000","v":277.96028736779232},{"$f":"$D$5+(-Sanierungsdesign!$E$12/(4*PI()*$D$3))*(-LN((4*$D$4*AH379)/(Sanierungsdesign!$E$13+Sanierungsdesign!$E$15)^2)-$D$19)","v":361.60293300620657},88.452933006206592,{"$f":"(2*PI()*Sanierungsdesign!$E$10*$D$3)*(LN((Sanierungsdesign!$E$13+Sanierungsdesign!$E$15)/Sanierungsdesign!$E$13)*(AJ379-AN379))*$AH$7/1000000","v":195.08056132342165},4627.396677153557,10444.034300335579,{"$f":"AU379/Sanierungsdesign!$E$11","v":1.6364356750313247},2148480,13.091485400250598,{"$error":"#DIV/0!"},{"$error":"#DIV/0!"},{"$error":"#DIV/0!"},{"$error":"#DIV/0!"},{"$f":"(AY379/(AH379*Sanierungsdesign!$E$10))*1000000","v":{"$error":"#DIV/0!"}},{"$f":"AZ379/Sanierungsdesign!$E$12","v":{"$error":"#DIV/0!"}},{"$f":"$D$5+((-(Sanierungsdesign!$E$12)*MIN($BA$7:$BA$932))/(4*PI()*$D$3))*(-LN((4*$D$4*AH379)/(Sanierungsdesign!$E$13)^2)-$D$19)","v":{"$error":"#DIV/0!"}},{"$f":"(BB379-273.15)/Heterogenität!$D$4","v":{"$error":"#DIV/0!"}},{"$f":"IF(AI379<Berechnung!$D$7,AI379,#N/A)","v":{"$error":"#N/A"}}]
[null,null,null,null,null,null,null,null,null,null,null,null,null,null,null,null,null,null,null,null,null,null,null,null,null,null,null,null,null,null,null,null,{"$f":"Sanierungsdesign!$E$12*AH380*Sanierungsdesign!$E$10/1000000","v":17503.2},2692800,31.166666666666668,{"$f":"$D$5+((-Sanierungsdesign!$E$12)/4*PI()*$D$3)*(-LN((4*$D$4*AH380)/(Sanierungsdesign!$E$13^2))-$D$19)","v":2550.4202953999693},2277.2702953999692,4531.0682330382251,{"$f":"$D$3*$T$7*$AH$7*(AK380-$D$5)*(1/Sanierungsdesign!$E$15)/1000000","v":278.48406384768384},{"$f":"$D$5+(-Sanierungsdesign!$E$12/(4*PI()*$D$3))*(-LN((4*$D$4*AH380)/(Sanierungsdesign!$E$13+Sanierungsdesign!$E$15)^2)-$D$19)","v":361.80481102324524},88.654811023245259,{"$f":"(2*PI()*Sanierungsdesign!$E$10*$D$3)*(LN((Sanierungsdesign!$E$13+Sanierungsdesign!$E$15)/Sanierungsdesign!$E$13)*(AJ380-AN380))*$AH$7/1000000","v":195.39738475359508},4639.8025663684457,10472.034392293581,{"$f":"AU380/Sanierungsdesign!$E$11","v":1.6391495857514176},2154240,13.11319668601134,{"$error":"#DIV/0!"},{"$error":"#DIV/0!"},{"$error":"#DIV/0!"},{"$error":"#DIV/0!"},{"$f":"(AY380/(AH380*Sanierungsdesign!$E$10))*1000000","v":{"$error":"#DIV/0!"}},{"$f":"AZ380/Sanierungsdesign!$E$12","v":{"$error":"#DIV/0!"}},{"$f":"$D$5+((-(Sanierungsdesign!$E$12)*MIN($BA$7:$BA$932))/(4*PI()*$D$3))*(-LN((4*$D$4*AH380)/(Sanierungsdesign!$E$13)^2)-$D$19)","v":{"$error":"#DIV/0!"}},{"$f":"(BB380-273.15)/Heterogenität!$D$4","v":{"$error":"#DIV/0!"}},{"$f":"IF(AI380<Berechnung!$D$7,AI380,#N/A)","v":{"$error":"#N/A"}}]
[null,null,null,null,null,null,null,null,null,null,null,null,null,null,null,null,null,null,null,null,null,null,null,null,null,null,null,null,null,null,null,null,{"$f":"Sanierungsdesign!$E$12*AH381*Sanierungsdesign!$E$10/1000000","v":17550},2700000,31.25,{"$f":"$D$5+((-Sanierungsdesign!$E$12)/4*PI()*$D$3)*(-LN((4*$D$4*AH381)/(Sanierungsdesign!$E$13^2))-$D$19)","v":2554.1608481278195},2281.0108481278194,4538.5502097690296,{"$f":"$D$3*$T$7*$AH$7*(AK381-$D$5)*(1/Sanierungsdesign!$E$15)/1000000","v":279.00644172382869},{"$f":"$D$5+(-Sanierungsdesign!$E$12/(4*PI()*$D$3))*(-LN((4*$D$4*AH381)/(Sanierungsdesign!$E$13+Sanierungsdesign!$E$15)^2)-$D$19)","v":362.00614997951681},88.856149979516829,{"$f":"(2*PI()*Sanierungsdesign!$E$10*$D$3)*(LN((Sanierungsdesign!$E$13+Sanierungsdesign!$E$15)/Sanierungsdesign!$E$13)*(AJ381-AN381))*$AH$7/1000000","v":195.71336219229408},4652.2084555833344,10500.034484251584,{"$f":"AU381/Sanierungsdesign!$E$11","v":1.64185624970529},2160000,13.13484999764232,{"$error":"#DIV/0!"},{"$error":"#DIV/0!"},{"$error":"#DIV/0!"},{"$error":"#DIV/0!"},{"$f":"(AY381/(AH381*Sanierungsdesign!$E$10))*1000000","v":{"$error":"#DIV/0!"}},{"$f":"AZ381/Sanierungsdesign!$E$12","v":{"$error":"#DIV/0!"}},{"$f":"$D$5+((-(Sanierungsdesign!$E$12)*MIN($BA$7:$BA$932))/(4*PI()*$D$3))*(-LN((4*$D$4*AH381)/(Sanierungsdesign!$E$13)^2)-$D$19)","v":{"$error":"#DIV/0!"}},{"$f":"(BB381-273.15)/Heterogenität!$D$4","v":{"$error":"#DIV/0!"}},{"$f":"IF(AI381<Berechnung!$D$7,AI381,#N/A)","v":{"$error":"#N/A"}}]
[null,null,null,null,null,null,null,null,null,null,null,null,null,null,null,null,null,null,null,null,null,null,null,null,null,null,null,null,null,null,null,null,{"$f":"Sanierungsdesign!$E$12*AH382*Sanierungsdesign!$E$10/1000000","v":17596.8},2707200,31.333333333333332,{"$f":"$D$5+((-Sanierungsdesign!$E$12)/4*PI()*$D$3)*(-LN((4*$D$4*AH382)/(Sanierungsdesign!$E$13^2))-$D$19)","v":2557.8914393186378},2284.7414393186377,4546.0122611054621,{"$f":"$D$3*$T$7*$AH$7*(AK382-$D$5)*(1/Sanierungsdesign!$E$15)/1000000","v":279.52742844552745},{"$f":"$D$5+(-Sanierungsdesign!$E$12/(4*PI()*$D$3))*(-LN((4*$D$4*AH382)/(Sanierungsdesign!$E$13+Sanierungsdesign!$E$15)^2)-$D$19)","v":362.20695274618896},89.056952746188983,{"$f":"(2*PI()*Sanierungsdesign!$E$10*$D$3)*(LN((Sanierungsdesign!$E$13+Sanierungsdesign!$E$15)/Sanierungsdesign!$E$13)*(AJ382-AN382))*$AH$7/1000000","v":196.02849814547329},4664.6143447982231,10528.034576209589,{"$f":"AU382/Sanierungsdesign!$E$11","v":1.6445557054909661},2165760,13.156445643927729,{"$error":"#DIV/0!"},{"$error":"#DIV/0!"},{"$error":"#DIV/0!"},{"$error":"#DIV/0!"},{"$f":"(AY382/(AH382*Sanierungsdesign!$E$10))*1000000","v":{"$error":"#DIV/0!"}},{"$f":"AZ382/Sanierungsdesign!$E$12","v":{"$error":"#DIV/0!"}},{"$f":"$D$5+((-(Sanierungsdesign!$E$12)*MIN($BA$7:$BA$932))/(4*PI()*$D$3))*(-LN((4*$D$4*AH382)/(Sanierungsdesign!$E$13)^2)-$D$19)","v":{"$error":"#DIV/0!"}},{"$f":"(BB382-273.15)/Heterogenität!$D$4","v":{"$error":"#DIV/0!"}},{"$f":"IF(AI382<Berechnung!$D$7,AI382,#N/A)","v":{"$error":"#N/A"}}]
[null,null,null,null,null,null,null,null,null,null,null,null,null,null,null,null,null,null,null,null,null,null,null,null,null,null,null,null,null,null,null,null,{"$f":"Sanierungsdesign!$E$12*AH383*Sanierungsdesign!$E$10/1000000","v":17643.599999999999},2714400,31.416666666666668,{"$f":"$D$5+((-Sanierungsdesign!$E$12)/4*PI()*$D$3)*(-LN((4*$D$4*AH383)/(Sanierungsdesign!$E$13^2))-$D$19)","v":2561.6121218890503},2288.4621218890502,4553.4544928930991,{"$f":"$D$3*$T$7*$AH$7*(AK383-$D$5)*(1/Sanierungsdesign!$E$15)/1000000","v":280.04703140272409},{"$f":"$D$5+(-Sanierungsdesign!$E$12/(4*PI()*$D$3))*(-LN((4*$D$4*AH383)/(Sanierungsdesign!$E$13+Sanierungsdesign!$E$15)^2)-$D$19)","v":362.4072221715515},89.257222171551518,{"$f":"(2*PI()*Sanierungsdesign!$E$10*$D$3)*(LN((Sanierungsdesign!$E$13+Sanierungsdesign!$E$15)/Sanierungsdesign!$E$13)*(AJ383-AN383))*$AH$7/1000000","v":196.34279708318314},4677.0202340131118,10556.034668167593,{"$f":"AU383/Sanierungsdesign!$E$11","v":1.6472479913989166},2171520,13.177983931191333,{"$error":"#DIV/0!"},{"$error":"#DIV/0!"},{"$error":"#DIV/0!"},{"$error":"#DIV/0!"},{"$f":"(AY383/(AH383*Sanierungsdesign!$E$10))*1000000","v":{"$error":"#DIV/0!"}},{"$f":"AZ383/Sanierungsdesign!$E$12","v":{"$error":"#DIV/0!"}},{"$f":"$D$5+((-(Sanierungsdesign!$E$12)*MIN($BA$7:$BA$932))/(4*PI()*$D$3))*(-LN((4*$D$4*AH383)/(Sanierungsdesign!$E$13)^2)-$D$19)","v":{"$error":"#DIV/0!"}},{"$f":"(BB383-273.15)/Heterogenität!$D$4","v":{"$error":"#DIV/0!"}},{"$f":"IF(AI383<Berechnung!$D$7,AI383,#N/A)","v":{"$error":"#N/A"}}]
[null,null,null,null,null,null,null,null,null,null,null,null,null,null,null,null,null,null,null,null,null,null,null,null,null,null,null,null,null,null,null,null,{"$f":"Sanierungsdesign!$E$12*AH384*Sanierungsdesign!$E$10/1000000","v":17690.400000000001},2721600,31.5,{"$f":"$D$5+((-Sanierungsdesign!$E$12)/4*PI()*$D$3)*(-LN((4*$D$4*AH384)/(Sanierungsdesign!$E$13^2))-$D$19)","v":2565.3229483351511},2292.172948335151,4560.8770101363561,{"$f":"$D$3*$T$7*$AH$7*(AK384-$D$5)*(1/Sanierungsdesign!$E$15)/1000000","v":280.56525792663416},{"$f":"$D$5+(-Sanierungsdesign!$E$12/(4*PI()*$D$3))*(-LN((4*$D$4*AH384)/(Sanierungsdesign!$E$13+Sanierungsdesign!$E$15)^2)-$D$19)","v":362.60696108125865},89.456961081258669,{"$f":"(2*PI()*Sanierungsdesign!$E$10*$D$3)*(LN((Sanierungsdesign!$E$13+Sanierungsdesign!$E$15)/Sanierungsdesign!$E$13)*(AJ384-AN384))*$AH$7/1000000","v":196.65626343995049},4689.4261232280014,10584.034760125598,{"$f":"AU384/Sanierungsdesign!$E$11","v":1.649933145415315},2177280,13.19946516332252,{"$error":"#DIV/0!"},{"$error":"#DIV/0!"},{"$error":"#DIV/0!"},{"$error":"#DIV/0!"},{"$f":"(AY384/(AH384*Sanierungsdesign!$E$10))*1000000","v":{"$error":"#DIV/0!"}},{"$f":"AZ384/Sanierungsdesign!$E$12","v":{"$error":"#DIV/0!"}},{"$f":"$D$5+((-(Sanierungsdesign!$E$12)*MIN($BA$7:$BA$932))/(4*PI()*$D$3))*(-LN((4*$D$4*AH384)/(Sanierungsdesign!$E$13)^2)-$D$19)","v":{"$error":"#DIV/0!"}},{"$f":"(BB384-273.15)/Heterogenität!$D$4","v":{"$error":"#DIV/0!"}},{"$f":"IF(AI384<Berechnung!$D$7,AI384,#N/A)","v":{"$error":"#N/A"}}]
[null,null,null,null,null,null,null,null,null,null,null,null,null,null,null,null,null,null,null,null,null,null,null,null,null,null,null,null,null,null,null,null,{"$f":"Sanierungsdesign!$E$12*AH385*Sanierungsdesign!$E$10/1000000","v":17737.2},2728800,31.583333333333332,{"$f":"$D$5+((-Sanierungsdesign!$E$12)/4*PI()*$D$3)*(-LN((4*$D$4*AH385)/(Sanierungsdesign!$E$13^2))-$D$19)","v":2569.0239707369487},2295.8739707369486,4568.2799170073822,{"$f":"$D$3*$T$7*$AH$7*(AK385-$D$5)*(1/Sanierungsdesign!$E$15)/1000000","v":281.08211529036566},{"$f":"$D$5+(-Sanierungsdesign!$E$12/(4*PI()*$D$3))*(-LN((4*$D$4*AH385)/(Sanierungsdesign!$E$13+Sanierungsdesign!$E$15)^2)-$D$19)","v":362.80617227856851},89.656172278568533,{"$f":"(2*PI()*Sanierungsdesign!$E$10*$D$3)*(LN((Sanierungsdesign!$E$13+Sanierungsdesign!$E$15)/Sanierungsdesign!$E$13)*(AJ385-AN385))*$AH$7/1000000","v":196.96890161515407},4701.8320124428901,10612.034852083603,{"$f":"AU385/Sanierungsdesign!$E$11","v":1.6526112052252557},2183040,13.220889641802046,{"$error":"#DIV/0!"},{"$error":"#DIV/0!"},{"$error":"#DIV/0!"},{"$error":"#DIV/0!"},{"$f":"(AY385/(AH385*Sanierungsdesign!$E$10))*1000000","v":{"$error":"#DIV/0!"}},{"$f":"AZ385/Sanierungsdesign!$E$12","v":{"$error":"#DIV/0!"}},{"$f":"$D$5+((-(Sanierungsdesign!$E$12)*MIN($BA$7:$BA$932))/(4*PI()*$D$3))*(-LN((4*$D$4*AH385)/(Sanierungsdesign!$E$13)^2)-$D$19)","v":{"$error":"#DIV/0!"}},{"$f":"(BB385-273.15)/Heterogenität!$D$4","v":{"$error":"#DIV/0!"}},{"$f":"IF(AI385<Berechnung!$D$7,AI385,#N/A)","v":{"$error":"#N/A"}}]
[null,null,null,null,null,null,null,null,null,null,null,null,null,null,null,null,null,null,null,null,null,null,null,null,null,null,null,null,null,null,null,null,{"$f":"Sanierungsdesign!$E$12*AH386*Sanierungsdesign!$E$10/1000000","v":17784},2736000,31.666666666666668,{"$f":"$D$5+((-Sanierungsdesign!$E$12)/4*PI()*$D$3)*(-LN((4*$D$4*AH386)/(Sanierungsdesign!$E$13^2))-$D$19)","v":2572.71524076275},2299.5652407627499,4575.663316854826,{"$f":"$D$3*$T$7*$AH$7*(AK386-$D$5)*(1/Sanierungsdesign!$E$15)/1000000","v":281.59761070953147},{"$f":"$D$5+(-Sanierungsdesign!$E$12/(4*PI()*$D$3))*(-LN((4*$D$4*AH386)/(Sanierungsdesign!$E$13+Sanierungsdesign!$E$15)^2)-$D$19)","v":363.00485854457889},89.854858544578917,{"$f":"(2*PI()*Sanierungsdesign!$E$10*$D$3)*(LN((Sanierungsdesign!$E$13+Sanierungsdesign!$E$15)/Sanierungsdesign!$E$13)*(AJ386-AN386))*$AH$7/1000000","v":197.28071597339451},4714.2379016577788,10640.034944041607,{"$f":"AU386/Sanierungsdesign!$E$11","v":1.6552822082159255},2188800,13.242257665727404,{"$error":"#DIV/0!"},{"$error":"#DIV/0!"},{"$error":"#DIV/0!"},{"$error":"#DIV/0!"},{"$f":"(AY386/(AH386*Sanierungsdesign!$E$10))*1000000","v":{"$error":"#DIV/0!"}},{"$f":"AZ386/Sanierungsdesign!$E$12","v":{"$error":"#DIV/0!"}},{"$f":"$D$5+((-(Sanierungsdesign!$E$12)*MIN($BA$7:$BA$932))/(4*PI()*$D$3))*(-LN((4*$D$4*AH386)/(Sanierungsdesign!$E$13)^2)-$D$19)","v":{"$error":"#DIV/0!"}},{"$f":"(BB386-273.15)/Heterogenität!$D$4","v":{"$error":"#DIV/0!"}},{"$f":"IF(AI386<Berechnung!$D$7,AI386,#N/A)","v":{"$error":"#N/A"}}]
[null,null,null,null,null,null,null,null,null,null,null,null,null,null,null,null,null,null,null,null,null,null,null,null,null,null,null,null,null,null,null,null,{"$f":"Sanierungsdesign!$E$12*AH387*Sanierungsdesign!$E$10/1000000","v":17830.8},2743200,31.75,{"$f":"$D$5+((-Sanierungsdesign!$E$12)/4*PI()*$D$3)*(-LN((4*$D$4*AH387)/(Sanierungsdesign!$E$13^2))-$D$19)","v":2576.3968096734907},2303.2468096734906,4583.0273122124991,{"$f":"$D$3*$T$7*$AH$7*(AK387-$D$5)*(1/Sanierungsdesign!$E$15)/1000000","v":282.11175134285406},{"$f":"$D$5+(-Sanierungsdesign!$E$12/(4*PI()*$D$3))*(-LN((4*$D$4*AH387)/(Sanierungsdesign!$E$13+Sanierungsdesign!$E$15)^2)-$D$19)","v":363.20302263846042},90.053022638460448,{"$f":"(2*PI()*Sanierungsdesign!$E$10*$D$3)*(LN((Sanierungsdesign!$E$13+Sanierungsdesign!$E$15)/Sanierungsdesign!$E$13)*(AJ387-AN387))*$AH$7/1000000","v":197.59171084486056},4726.6437908726675,10668.03503599961,{"$f":"AU387/Sanierungsdesign!$E$11","v":1.6579461914797375},2194560,13.2635695318379,{"$error":"#DIV/0!"},{"$error":"#DIV/0!"},{"$error":"#DIV/0!"},{"$error":"#DIV/0!"},{"$f":"(AY387/(AH387*Sanierungsdesign!$E$10))*1000000","v":{"$error":"#DIV/0!"}},{"$f":"AZ387/Sanierungsdesign!$E$12","v":{"$error":"#DIV/0!"}},{"$f":"$D$5+((-(Sanierungsdesign!$E$12)*MIN($BA$7:$BA$932))/(4*PI()*$D$3))*(-LN((4*$D$4*AH387)/(Sanierungsdesign!$E$13)^2)-$D$19)","v":{"$error":"#DIV/0!"}},{"$f":"(BB387-273.15)/Heterogenität!$D$4","v":{"$error":"#DIV/0!"}},{"$f":"IF(AI387<Berechnung!$D$7,AI387,#N/A)","v":{"$error":"#N/A"}}]
[null,null,null,null,null,null,null,null,null,null,null,null,null,null,null,null,null,null,null,null,null,null,null,null,null,null,null,null,null,null,null,null,{"$f":"Sanierungsdesign!$E$12*AH388*Sanierungsdesign!$E$10/1000000","v":17877.599999999999},2750400,31.833333333333332,{"$f":"$D$5+((-Sanierungsdesign!$E$12)/4*PI()*$D$3)*(-LN((4*$D$4*AH388)/(Sanierungsdesign!$E$13^2))-$D$19)","v":2580.0687283270036},2306.9187283270035,4590.3720048079113,{"$f":"$D$3*$T$7*$AH$7*(AK388-$D$5)*(1/Sanierungsdesign!$E$15)/1000000","v":282.62454429276153},{"$f":"$D$5+(-Sanierungsdesign!$E$12/(4*PI()*$D$3))*(-LN((4*$D$4*AH388)/(Sanierungsdesign!$E$13+Sanierungsdesign!$E$15)^2)-$D$19)","v":363.40066729768637},90.250667297686391,{"$f":"(2*PI()*Sanierungsdesign!$E$10*$D$3)*(LN((Sanierungsdesign!$E$13+Sanierungsdesign!$E$15)/Sanierungsdesign!$E$13)*(AJ388-AN388))*$AH$7/1000000","v":197.9018905256894},4739.0496800875571,10696.035127957617,{"$f":"AU388/Sanierungsdesign!$E$11","v":1.6606031918174196},2200320,13.284825534539356,{"$error":"#DIV/0!"},{"$error":"#DIV/0!"},{"$error":"#DIV/0!"},{"$error":"#DIV/0!"},{"$f":"(AY388/(AH388*Sanierungsdesign!$E$10))*1000000","v":{"$error":"#DIV/0!"}},{"$f":"AZ388/Sanierungsdesign!$E$12","v":{"$error":"#DIV/0!"}},{"$f":"$D$5+((-(Sanierungsdesign!$E$12)*MIN($BA$7:$BA$932))/(4*PI()*$D$3))*(-LN((4*$D$4*AH388)/(Sanierungsdesign!$E$13)^2)-$D$19)","v":{"$error":"#DIV/0!"}},{"$f":"(BB388-273.15)/Heterogenität!$D$4","v":{"$error":"#DIV/0!"}},{"$f":"IF(AI388<Berechnung!$D$7,AI388,#N/A)","v":{"$error":"#N/A"}}]
[null,null,null,null,null,null,null,null,null,null,null,null,null,null,null,null,null,null,null,null,null,null,null,null,null,null,null,null,null,null,null,null,{"$f":"Sanierungsdesign!$E$12*AH389*Sanierungsdesign!$E$10/1000000","v":17924.400000000001},2757600,31.916666666666668,{"$f":"$D$5+((-Sanierungsdesign!$E$12)/4*PI()*$D$3)*(-LN((4*$D$4*AH389)/(Sanierungsdesign!$E$13^2))-$D$19)","v":2583.731047182237},2310.5810471822369,4597.6974955707146,{"$f":"$D$3*$T$7*$AH$7*(AK389-$D$5)*(1/Sanierungsdesign!$E$15)/1000000","v":283.13599660597652},{"$f":"$D$5+(-Sanierungsdesign!$E$12/(4*PI()*$D$3))*(-LN((4*$D$4*AH389)/(Sanierungsdesign!$E$13+Sanierungsdesign!$E$15)^2)-$D$19)","v":363.59779523825955},90.447795238259573,{"$f":"(2*PI()*Sanierungsdesign!$E$10*$D$3)*(LN((Sanierungsdesign!$E$13+Sanierungsdesign!$E$15)/Sanierungsdesign!$E$13)*(AJ389-AN389))*$AH$7/1000000","v":198.21125927832315},4751.4555693024458,10724.03521991562,{"$f":"AU389/Sanierungsdesign!$E$11","v":1.6632532457410665},2206080,13.306025965928532,{"$error":"#DIV/0!"},{"$error":"#DIV/0!"},{"$error":"#DIV/0!"},{"$error":"#DIV/0!"},{"$f":"(AY389/(AH389*Sanierungsdesign!$E$10))*1000000","v":{"$error":"#DIV/0!"}},{"$f":"AZ389/Sanierungsdesign!$E$12","v":{"$error":"#DIV/0!"}},{"$f":"$D$5+((-(Sanierungsdesign!$E$12)*MIN($BA$7:$BA$932))/(4*PI()*$D$3))*(-LN((4*$D$4*AH389)/(Sanierungsdesign!$E$13)^2)-$D$19)","v":{"$error":"#DIV/0!"}},{"$f":"(BB389-273.15)/Heterogenität!$D$4","v":{"$error":"#DIV/0!"}},{"$f":"IF(AI389<Berechnung!$D$7,AI389,#N/A)","v":{"$error":"#N/A"}}]
[null,null,null,null,null,null,null,null,null,null,null,null,null,null,null,null,null,null,null,null,null,null,null,null,null,null,null,null,null,null,null,null,{"$f":"Sanierungsdesign!$E$12*AH390*Sanierungsdesign!$E$10/1000000","v":17971.2},2764800,32,{"$f":"$D$5+((-Sanierungsdesign!$E$12)/4*PI()*$D$3)*(-LN((4*$D$4*AH390)/(Sanierungsdesign!$E$13^2))-$D$19)","v":2587.3838163034138},2314.2338163034137,4605.0038846410152,{"$f":"$D$3*$T$7*$AH$7*(AK390-$D$5)*(1/Sanierungsdesign!$E$15)/1000000","v":283.64611527409761},{"$f":"$D$5+(-Sanierungsdesign!$E$12/(4*PI()*$D$3))*(-LN((4*$D$4*AH390)/(Sanierungsdesign!$E$13+Sanierungsdesign!$E$15)^2)-$D$19)","v":363.79440915493637},90.644409154936397,{"$f":"(2*PI()*Sanierungsdesign!$E$10*$D$3)*(LN((Sanierungsdesign!$E$13+Sanierungsdesign!$E$15)/Sanierungsdesign!$E$13)*(AJ390-AN390))*$AH$7/1000000","v":198.51982133186002},4763.8614585173345,10752.035311873626,{"$f":"AU390/Sanierungsdesign!$E$11","v":1.6658963894771501},2211840,13.327171115817201,{"$error":"#DIV/0!"},{"$error":"#DIV/0!"},{"$error":"#DIV/0!"},{"$error":"#DIV/0!"},{"$f":"(AY390/(AH390*Sanierungsdesign!$E$10))*1000000","v":{"$error":"#DIV/0!"}},{"$f":"AZ390/Sanierungsdesign!$E$12","v":{"$error":"#DIV/0!"}},{"$f":"$D$5+((-(Sanierungsdesign!$E$12)*MIN($BA$7:$BA$932))/(4*PI()*$D$3))*(-LN((4*$D$4*AH390)/(Sanierungsdesign!$E$13)^2)-$D$19)","v":{"$error":"#DIV/0!"}},{"$f":"(BB390-273.15)/Heterogenität!$D$4","v":{"$error":"#DIV/0!"}},{"$f":"IF(AI390<Berechnung!$D$7,AI390,#N/A)","v":{"$error":"#N/A"}}]
[null,null,null,null,null,null,null,null,null,null,null,null,null,null,null,null,null,null,null,null,null,null,null,null,null,null,null,null,null,null,null,null,{"$f":"Sanierungsdesign!$E$12*AH391*Sanierungsdesign!$E$10/1000000","v":18018},2772000,{"$f":"AH391/86400","v":32.083333333333336},{"$f":"$D$5+((-Sanierungsdesign!$E$12)/4*PI()*$D$3)*(-LN((4*$D$4*AH391)/(Sanierungsdesign!$E$13^2))-$D$19)","v":2591.0270853641364},{"$f":"AJ391-273.15","v":2317.8770853641363},4612.2912713775886,{"$f":"$D$3*$T$7*$AH$7*(AK391-$D$5)*(1/Sanierungsdesign!$E$15)/1000000","v":284.1549072341719},{"$f":"$D$5+(-Sanierungsdesign!$E$12/(4*PI()*$D$3))*(-LN((4*$D$4*AH391)/(Sanierungsdesign!$E$13+Sanierungsdesign!$E$15)^2)-$D$19)","v":363.99051172144772},{"$f":"AN391-273.15","v":90.84051172144774},{"$f":"(2*PI()*Sanierungsdesign!$E$10*$D$3)*(LN((Sanierungsdesign!$E$13+Sanierungsdesign!$E$15)/Sanierungsdesign!$E$13)*(AJ391-AN391))*$AH$7/1000000","v":198.82758088240118},4776.2673477322232,10780.035403831629,{"$f":"AU391/Sanierungsdesign!$E$11","v":1.6685326589694889},2217600,13.348261271755911,{"$error":"#DIV/0!"},{"$error":"#DIV/0!"},{"$error":"#DIV/0!"},{"$f":"AG391-AX391","v":{"$error":"#DIV/0!"}},{"$f":"(AY391/(AH391*Sanierungsdesign!$E$10))*1000000","v":{"$error":"#DIV/0!"}},{"$f":"AZ391/Sanierungsdesign!$E$12","v":{"$error":"#DIV/0!"}},{"$f":"$D$5+((-(Sanierungsdesign!$E$12)*MIN($BA$7:$BA$932))/(4*PI()*$D$3))*(-LN((4*$D$4*AH391)/(Sanierungsdesign!$E$13)^2)-$D$19)","v":{"$error":"#DIV/0!"}},{"$f":"(BB391-273.15)/Heterogenität!$D$4","v":{"$error":"#DIV/0!"}},{"$f":"IF(AI391<Berechnung!$D$7,AI391,#N/A)","v":{"$error":"#N/A"}}]
[null,null,null,null,null,null,null,null,null,null,null,null,null,null,null,null,null,null,null,null,null,null,null,null,null,null,null,null,null,null,null,null,{"$f":"Sanierungsdesign!$E$12*AH392*Sanierungsdesign!$E$10/1000000","v":18064.8},2779200,32.166666666666664,{"$f":"$D$5+((-Sanierungsdesign!$E$12)/4*PI()*$D$3)*(-LN((4*$D$4*AH392)/(Sanierungsdesign!$E$13^2))-$D$19)","v":2594.6609036514428},2321.5109036514427,{"$f":"$T$4*$T$7*$AH$7*(AJ392-$D$2)/1000000","v":4619.5597543659906},{"$f":"$D$3*$T$7*$AH$7*(AK392-$D$5)*(1/Sanierungsdesign!$E$15)/1000000","v":284.66237936926206},{"$f":"$D$5+(-Sanierungsdesign!$E$12/(4*PI()*$D$3))*(-LN((4*$D$4*AH392)/(Sanierungsdesign!$E$13+Sanierungsdesign!$E$15)^2)-$D$19)","v":364.18610559071726},91.036105590717284,{"$f":"(2*PI()*Sanierungsdesign!$E$10*$D$3)*(LN((Sanierungsdesign!$E$13+Sanierungsdesign!$E$15)/Sanierungsdesign!$E$13)*(AJ392-AN392))*$AH$7/1000000","v":199.13454209339321},{"$f":"$T$20*AH392","v":4788.6732369471119},{"$f":"$D$12*AQ392/1000000","v":10808.035495789631},{"$f":"AU392/Sanierungsdesign!$E$11","v":1.6711620898821837},{"$f":"$T$18/$D$24*AH392","v":2223360},{"$f":"($D$10*$T$18)*(AJ392-$D$2)/1000000","v":13.36929671905747},{"$f":"($D$17*$L$10*$T$28+$L$2*$D$10*$T$28+$D$16*$L$4*$T$28+$D$18*$L$7*$T$28)*(AJ392-$D$5)/1000000","v":{"$error":"#DIV/0!"}},{"$f":"AV392*$D$28","v":{"$error":"#DIV/0!"}},{"$f":"AL392+AM392+AR392+(0.5*AP392)-(2*AW392)+AS392","v":{"$error":"#DIV/0!"}},{"$error":"#DIV/0!"},{"$f":"(AY392/(AH392*Sanierungsdesign!$E$10))*1000000","v":{"$error":"#DIV/0!"}},{"$f":"AZ392/Sanierungsdesign!$E$12","v":{"$error":"#DIV/0!"}},{"$f":"$D$5+((-(Sanierungsdesign!$E$12)*MIN($BA$7:$BA$932))/(4*PI()*$D$3))*(-LN((4*$D$4*AH392)/(Sanierungsdesign!$E$13)^2)-$D$19)","v":{"$error":"#DIV/0!"}},{"$f":"(BB392-273.15)/Heterogenität!$D$4","v":{"$error":"#DIV/0!"}},{"$f":"IF(AI392<Berechnung!$D$7,AI392,#N/A)","v":{"$error":"#N/A"}}]
[null,null,null,null,null,null,null,null,null,null,null,null,null,null,null,null,null,null,null,null,null,null,null,null,null,null,null,null,null,null,null,null,{"$f":"Sanierungsdesign!$E$12*AH393*Sanierungsdesign!$E$10/1000000","v":18111.599999999999},{"$f":"AH392+$D$24","v":2786400},32.25,{"$f":"$D$5+((-Sanierungsdesign!$E$12)/4*PI()*$D$3)*(-LN((4*$D$4*AH393)/(Sanierungsdesign!$E$13^2))-$D$19)","v":2598.285320069805},2325.1353200698049,4626.8094314265563,{"$f":"$D$3*$T$7*$AH$7*(AK393-$D$5)*(1/Sanierungsdesign!$E$15)/1000000","v":285.16853850900407},{"$f":"$D$5+(-Sanierungsdesign!$E$12/(4*PI()*$D$3))*(-LN((4*$D$4*AH393)/(Sanierungsdesign!$E$13+Sanierungsdesign!$E$15)^2)-$D$19)","v":364.38119339507665},91.231193395076673,{"$f":"(2*PI()*Sanierungsdesign!$E$10*$D$3)*(LN((Sanierungsdesign!$E$13+Sanierungsdesign!$E$15)/Sanierungsdesign!$E$13)*(AJ393-AN393))*$AH$7/1000000","v":199.44070909596641},4801.0791261620016,10836.035587747638,{"$f":"AU393/Sanierungsdesign!$E$11","v":1.6737847176025107},2229120,13.390277740820085,{"$error":"#DIV/0!"},{"$error":"#DIV/0!"},{"$error":"#DIV/0!"},{"$error":"#DIV/0!"},{"$f":"(AY393/(AH393*Sanierungsdesign!$E$10))*1000000","v":{"$error":"#DIV/0!"}},{"$f":"AZ393/Sanierungsdesign!$E$12","v":{"$error":"#DIV/0!"}},{"$f":"$D$5+((-(Sanierungsdesign!$E$12)*MIN($BA$7:$BA$932))/(4*PI()*$D$3))*(-LN((4*$D$4*AH393)/(Sanierungsdesign!$E$13)^2)-$D$19)","v":{"$error":"#DIV/0!"}},{"$f":"(BB393-273.15)/Heterogenität!$D$4","v":{"$error":"#DIV/0!"}},{"$f":"IF(AI393<Berechnung!$D$7,AI393,#N/A)","v":{"$error":"#N/A"}}]
[null,null,null,null,null,null,null,null,null,null,null,null,null,null,null,null,null,null,null,null,null,null,null,null,null,null,null,null,null,null,null,null,{"$f":"Sanierungsdesign!$E$12*AH394*Sanierungsdesign!$E$10/1000000","v":18158.400000000001},2793600,32.333333333333336,{"$f":"$D$5+((-Sanierungsdesign!$E$12)/4*PI()*$D$3)*(-LN((4*$D$4*AH394)/(Sanierungsdesign!$E$13^2))-$D$19)","v":2601.90038314508},2328.7503831450799,4634.040399622304,{"$f":"$D$3*$T$7*$AH$7*(AK394-$D$5)*(1/Sanierungsdesign!$E$15)/1000000","v":285.67339143015965},{"$f":"$D$5+(-Sanierungsdesign!$E$12/(4*PI()*$D$3))*(-LN((4*$D$4*AH394)/(Sanierungsdesign!$E$13+Sanierungsdesign!$E$15)^2)-$D$19)","v":364.57577774647814},91.425777746478161,{"$f":"(2*PI()*Sanierungsdesign!$E$10*$D$3)*(LN((Sanierungsdesign!$E$13+Sanierungsdesign!$E$15)/Sanierungsdesign!$E$13)*(AJ394-AN394))*$AH$7/1000000","v":199.74608598926773},4813.4850153768903,10864.035679705641,{"$f":"AU394/Sanierungsdesign!$E$11","v":1.6764005772437796},2234880,13.411204617950236,{"$error":"#DIV/0!"},{"$error":"#DIV/0!"},{"$error":"#DIV/0!"},{"$error":"#DIV/0!"},{"$f":"(AY394/(AH394*Sanierungsdesign!$E$10))*1000000","v":{"$error":"#DIV/0!"}},{"$f":"AZ394/Sanierungsdesign!$E$12","v":{"$error":"#DIV/0!"}},{"$f":"$D$5+((-(Sanierungsdesign!$E$12)*MIN($BA$7:$BA$932))/(4*PI()*$D$3))*(-LN((4*$D$4*AH394)/(Sanierungsdesign!$E$13)^2)-$D$19)","v":{"$error":"#DIV/0!"}},{"$f":"(BB394-273.15)/Heterogenität!$D$4","v":{"$error":"#DIV/0!"}},{"$f":"IF(AI394<Berechnung!$D$7,AI394,#N/A)","v":{"$error":"#N/A"}}]
[null,null,null,null,null,null,null,null,null,null,null,null,null,null,null,null,null,null,null,null,null,null,null,null,null,null,null,null,null,null,null,null,{"$f":"Sanierungsdesign!$E$12*AH395*Sanierungsdesign!$E$10/1000000","v":18205.2},2800800,32.416666666666664,{"$f":"$D$5+((-Sanierungsdesign!$E$12)/4*PI()*$D$3)*(-LN((4*$D$4*AH395)/(Sanierungsdesign!$E$13^2))-$D$19)","v":2605.5061410284056},2332.3561410284055,4641.2527552667234,{"$f":"$D$3*$T$7*$AH$7*(AK395-$D$5)*(1/Sanierungsdesign!$E$15)/1000000","v":286.17694485715987},{"$f":"$D$5+(-Sanierungsdesign!$E$12/(4*PI()*$D$3))*(-LN((4*$D$4*AH395)/(Sanierungsdesign!$E$13+Sanierungsdesign!$E$15)^2)-$D$19)","v":364.76986123670446},91.61986123670448,{"$f":"(2*PI()*Sanierungsdesign!$E$10*$D$3)*(LN((Sanierungsdesign!$E$13+Sanierungsdesign!$E$15)/Sanierungsdesign!$E$13)*(AJ395-AN395))*$AH$7/1000000","v":200.0506768407906},4825.890904591779,10892.035771663644,{"$f":"AU395/Sanierungsdesign!$E$11","v":1.6790097036481542},2240640,13.432077629185233,{"$error":"#DIV/0!"},{"$error":"#DIV/0!"},{"$error":"#DIV/0!"},{"$error":"#DIV/0!"},{"$f":"(AY395/(AH395*Sanierungsdesign!$E$10))*1000000","v":{"$error":"#DIV/0!"}},{"$f":"AZ395/Sanierungsdesign!$E$12","v":{"$error":"#DIV/0!"}},{"$f":"$D$5+((-(Sanierungsdesign!$E$12)*MIN($BA$7:$BA$932))/(4*PI()*$D$3))*(-LN((4*$D$4*AH395)/(Sanierungsdesign!$E$13)^2)-$D$19)","v":{"$error":"#DIV/0!"}},{"$f":"(BB395-273.15)/Heterogenität!$D$4","v":{"$error":"#DIV/0!"}},{"$f":"IF(AI395<Berechnung!$D$7,AI395,#N/A)","v":{"$error":"#N/A"}}]
[null,null,null,null,null,null,null,null,null,null,null,null,null,null,null,null,null,null,null,null,null,null,null,null,null,null,null,null,null,null,null,null,{"$f":"Sanierungsdesign!$E$12*AH396*Sanierungsdesign!$E$10/1000000","v":18252},2808000,32.5,{"$f":"$D$5+((-Sanierungsdesign!$E$12)/4*PI()*$D$3)*(-LN((4*$D$4*AH396)/(Sanierungsdesign!$E$13^2))-$D$19)","v":2609.1026415000497},2335.9526415000496,4648.4465939314805,{"$f":"$D$3*$T$7*$AH$7*(AK396-$D$5)*(1/Sanierungsdesign!$E$15)/1000000","v":286.67920546264293},{"$f":"$D$5+(-Sanierungsdesign!$E$12/(4*PI()*$D$3))*(-LN((4*$D$4*AH396)/(Sanierungsdesign!$E$13+Sanierungsdesign!$E$15)^2)-$D$19)","v":364.96344643757595},91.813446437575976,{"$f":"(2*PI()*Sanierungsdesign!$E$10*$D$3)*(LN((Sanierungsdesign!$E$13+Sanierungsdesign!$E$15)/Sanierungsdesign!$E$13)*(AJ396-AN396))*$AH$7/1000000","v":200.3544856866996},4838.2967938066677,10920.03586362165,{"$f":"AU396/Sanierungsdesign!$E$11","v":1.6816121313894357},2246400,13.452897051115485,{"$error":"#DIV/0!"},{"$error":"#DIV/0!"},{"$error":"#DIV/0!"},{"$error":"#DIV/0!"},{"$f":"(AY396/(AH396*Sanierungsdesign!$E$10))*1000000","v":{"$error":"#DIV/0!"}},{"$f":"AZ396/Sanierungsdesign!$E$12","v":{"$error":"#DIV/0!"}},{"$f":"$D$5+((-(Sanierungsdesign!$E$12)*MIN($BA$7:$BA$932))/(4*PI()*$D$3))*(-LN((4*$D$4*AH396)/(Sanierungsdesign!$E$13)^2)-$D$19)","v":{"$error":"#DIV/0!"}},{"$f":"(BB396-273.15)/Heterogenität!$D$4","v":{"$error":"#DIV/0!"}},{"$f":"IF(AI396<Berechnung!$D$7,AI396,#N/A)","v":{"$error":"#N/A"}}]
[null,null,null,null,null,null,null,null,null,null,null,null,null,null,null,null,null,null,null,null,null,null,null,null,null,null,null,null,null,null,null,null,{"$f":"Sanierungsdesign!$E$12*AH397*Sanierungsdesign!$E$10/1000000","v":18298.8},2815200,32.583333333333336,{"$f":"$D$5+((-Sanierungsdesign!$E$12)/4*PI()*$D$3)*(-LN((4*$D$4*AH397)/(Sanierungsdesign!$E$13^2))-$D$19)","v":2612.6899319732115},2339.5399319732114,4655.6220104540171,{"$f":"$D$3*$T$7*$AH$7*(AK397-$D$5)*(1/Sanierungsdesign!$E$15)/1000000","v":287.18017986798475},{"$f":"$D$5+(-Sanierungsdesign!$E$12/(4*PI()*$D$3))*(-LN((4*$D$4*AH397)/(Sanierungsdesign!$E$13+Sanierungsdesign!$E$15)^2)-$D$19)","v":365.15653590115488},92.006535901154905,{"$f":"(2*PI()*Sanierungsdesign!$E$10*$D$3)*(LN((Sanierungsdesign!$E$13+Sanierungsdesign!$E$15)/Sanierungsdesign!$E$13)*(AJ397-AN397))*$AH$7/1000000","v":200.65751653215182},4850.7026830215564,10948.035955579653,{"$f":"AU397/Sanierungsdesign!$E$11","v":1.6842078947758155},2252160,13.473663158206524,{"$error":"#DIV/0!"},{"$error":"#DIV/0!"},{"$error":"#DIV/0!"},{"$error":"#DIV/0!"},{"$f":"(AY397/(AH397*Sanierungsdesign!$E$10))*1000000","v":{"$error":"#DIV/0!"}},{"$f":"AZ397/Sanierungsdesign!$E$12","v":{"$error":"#DIV/0!"}},{"$f":"$D$5+((-(Sanierungsdesign!$E$12)*MIN($BA$7:$BA$932))/(4*PI()*$D$3))*(-LN((4*$D$4*AH397)/(Sanierungsdesign!$E$13)^2)-$D$19)","v":{"$error":"#DIV/0!"}},{"$f":"(BB397-273.15)/Heterogenität!$D$4","v":{"$error":"#DIV/0!"}},{"$f":"IF(AI397<Berechnung!$D$7,AI397,#N/A)","v":{"$error":"#N/A"}}]
[null,null,null,null,null,null,null,null,null,null,null,null,null,null,null,null,null,null,null,null,null,null,null,null,null,null,null,null,null,null,null,null,{"$f":"Sanierungsdesign!$E$12*AH398*Sanierungsdesign!$E$10/1000000","v":18345.599999999999},2822400,32.666666666666664,{"$f":"$D$5+((-Sanierungsdesign!$E$12)/4*PI()*$D$3)*(-LN((4*$D$4*AH398)/(Sanierungsdesign!$E$13^2))-$D$19)","v":2616.2680594977683},2343.1180594977682,4662.7790989450468,{"$f":"$D$3*$T$7*$AH$7*(AK398-$D$5)*(1/Sanierungsdesign!$E$15)/1000000","v":287.67987464382276},{"$f":"$D$5+(-Sanierungsdesign!$E$12/(4*PI()*$D$3))*(-LN((4*$D$4*AH398)/(Sanierungsdesign!$E$13+Sanierungsdesign!$E$15)^2)-$D$19)","v":365.3491321599476},92.199132159947624,{"$f":"(2*PI()*Sanierungsdesign!$E$10*$D$3)*(LN((Sanierungsdesign!$E$13+Sanierungsdesign!$E$15)/Sanierungsdesign!$E$13)*(AJ398-AN398))*$AH$7/1000000","v":200.95977335161325},4863.108572236446,10976.036047537658,{"$f":"AU398/Sanierungsdesign!$E$11","v":1.6867970278525848},2257920,13.494376222820678,{"$error":"#DIV/0!"},{"$error":"#DIV/0!"},{"$error":"#DIV/0!"},{"$error":"#DIV/0!"},{"$f":"(AY398/(AH398*Sanierungsdesign!$E$10))*1000000","v":{"$error":"#DIV/0!"}},{"$f":"AZ398/Sanierungsdesign!$E$12","v":{"$error":"#DIV/0!"}},{"$f":"$D$5+((-(Sanierungsdesign!$E$12)*MIN($BA$7:$BA$932))/(4*PI()*$D$3))*(-LN((4*$D$4*AH398)/(Sanierungsdesign!$E$13)^2)-$D$19)","v":{"$error":"#DIV/0!"}},{"$f":"(BB398-273.15)/Heterogenität!$D$4","v":{"$error":"#DIV/0!"}},{"$f":"IF(AI398<Berechnung!$D$7,AI398,#N/A)","v":{"$error":"#N/A"}}]
[null,null,null,null,null,null,null,null,null,null,null,null,null,null,null,null,null,null,null,null,null,null,null,null,null,null,null,null,null,null,null,null,{"$f":"Sanierungsdesign!$E$12*AH399*Sanierungsdesign!$E$10/1000000","v":18392.400000000001},2829600,32.75,{"$f":"$D$5+((-Sanierungsdesign!$E$12)/4*PI()*$D$3)*(-LN((4*$D$4*AH399)/(Sanierungsdesign!$E$13^2))-$D$19)","v":2619.8370707639792},2346.6870707639791,4669.9179527959632,{"$f":"$D$3*$T$7*$AH$7*(AK399-$D$5)*(1/Sanierungsdesign!$E$15)/1000000","v":288.17829631057236},{"$f":"$D$5+(-Sanierungsdesign!$E$12/(4*PI()*$D$3))*(-LN((4*$D$4*AH399)/(Sanierungsdesign!$E$13+Sanierungsdesign!$E$15)^2)-$D$19)","v":365.54123772710358},92.391237727103601,{"$f":"(2*PI()*Sanierungsdesign!$E$10*$D$3)*(LN((Sanierungsdesign!$E$13+Sanierungsdesign!$E$15)/Sanierungsdesign!$E$13)*(AJ399-AN399))*$AH$7/1000000","v":201.2612600891718},4875.5144614513347,11004.036139495664,{"$f":"AU399/Sanierungsdesign!$E$11","v":1.6893795644048153},2263680,13.515036515238522,{"$error":"#DIV/0!"},{"$error":"#DIV/0!"},{"$error":"#DIV/0!"},{"$error":"#DIV/0!"},{"$f":"(AY399/(AH399*Sanierungsdesign!$E$10))*1000000","v":{"$error":"#DIV/0!"}},{"$f":"AZ399/Sanierungsdesign!$E$12","v":{"$error":"#DIV/0!"}},{"$f":"$D$5+((-(Sanierungsdesign!$E$12)*MIN($BA$7:$BA$932))/(4*PI()*$D$3))*(-LN((4*$D$4*AH399)/(Sanierungsdesign!$E$13)^2)-$D$19)","v":{"$error":"#DIV/0!"}},{"$f":"(BB399-273.15)/Heterogenität!$D$4","v":{"$error":"#DIV/0!"}},{"$f":"IF(AI399<Berechnung!$D$7,AI399,#N/A)","v":{"$error":"#N/A"}}]
[null,null,null,null,null,null,null,null,null,null,null,null,null,null,null,null,null,null,null,null,null,null,null,null,null,null,null,null,null,null,null,null,{"$f":"Sanierungsdesign!$E$12*AH400*Sanierungsdesign!$E$10/1000000","v":18439.2},2836800,32.833333333333336,{"$f":"$D$5+((-Sanierungsdesign!$E$12)/4*PI()*$D$3)*(-LN((4*$D$4*AH400)/(Sanierungsdesign!$E$13^2))-$D$19)","v":2623.3970121061429},2350.2470121061428,4677.0386646861571,{"$f":"$D$3*$T$7*$AH$7*(AK400-$D$5)*(1/Sanierungsdesign!$E$15)/1000000","v":288.67545133893861},{"$f":"$D$5+(-Sanierungsdesign!$E$12/(4*PI()*$D$3))*(-LN((4*$D$4*AH400)/(Sanierungsdesign!$E$13+Sanierungsdesign!$E$15)^2)-$D$19)","v":365.7328550966123},92.58285509661232,{"$f":"(2*PI()*Sanierungsdesign!$E$10*$D$3)*(LN((Sanierungsdesign!$E$13+Sanierungsdesign!$E$15)/Sanierungsdesign!$E$13)*(AJ400-AN400))*$AH$7/1000000","v":201.56198065884604},4887.9203506662234,11032.036231453667,{"$f":"AU400/Sanierungsdesign!$E$11","v":1.6919555379600049},2269440,13.535644303680039,{"$error":"#DIV/0!"},{"$error":"#DIV/0!"},{"$error":"#DIV/0!"},{"$error":"#DIV/0!"},{"$f":"(AY400/(AH400*Sanierungsdesign!$E$10))*1000000","v":{"$error":"#DIV/0!"}},{"$f":"AZ400/Sanierungsdesign!$E$12","v":{"$error":"#DIV/0!"}},{"$f":"$D$5+((-(Sanierungsdesign!$E$12)*MIN($BA$7:$BA$932))/(4*PI()*$D$3))*(-LN((4*$D$4*AH400)/(Sanierungsdesign!$E$13)^2)-$D$19)","v":{"$error":"#DIV/0!"}},{"$f":"(BB400-273.15)/Heterogenität!$D$4","v":{"$error":"#DIV/0!"}},{"$f":"IF(AI400<Berechnung!$D$7,AI400,#N/A)","v":{"$error":"#N/A"}}]
[null,null,null,null,null,null,null,null,null,null,null,null,null,null,null,null,null,null,null,null,null,null,null,null,null,null,null,null,null,null,null,null,{"$f":"Sanierungsdesign!$E$12*AH401*Sanierungsdesign!$E$10/1000000","v":18486},2844000,32.916666666666664,{"$f":"$D$5+((-Sanierungsdesign!$E$12)/4*PI()*$D$3)*(-LN((4*$D$4*AH401)/(Sanierungsdesign!$E$13^2))-$D$19)","v":2626.9479295062042},2353.7979295062041,4684.1413265902283,{"$f":"$D$3*$T$7*$AH$7*(AK401-$D$5)*(1/Sanierungsdesign!$E$15)/1000000","v":289.17134615041891},{"$f":"$D$5+(-Sanierungsdesign!$E$12/(4*PI()*$D$3))*(-LN((4*$D$4*AH401)/(Sanierungsdesign!$E$13+Sanierungsdesign!$E$15)^2)-$D$19)","v":365.92398674349755},92.773986743497574,{"$f":"(2*PI()*Sanierungsdesign!$E$10*$D$3)*(LN((Sanierungsdesign!$E$13+Sanierungsdesign!$E$15)/Sanierungsdesign!$E$13)*(AJ401-AN401))*$AH$7/1000000","v":201.86193894489003},4900.3262398811121,11060.03632341167,{"$f":"AU401/Sanierungsdesign!$E$11","v":1.6945249817906891},2275200,13.556199854325513,{"$error":"#DIV/0!"},{"$error":"#DIV/0!"},{"$error":"#DIV/0!"},{"$error":"#DIV/0!"},{"$f":"(AY401/(AH401*Sanierungsdesign!$E$10))*1000000","v":{"$error":"#DIV/0!"}},{"$f":"AZ401/Sanierungsdesign!$E$12","v":{"$error":"#DIV/0!"}},{"$f":"$D$5+((-(Sanierungsdesign!$E$12)*MIN($BA$7:$BA$932))/(4*PI()*$D$3))*(-LN((4*$D$4*AH401)/(Sanierungsdesign!$E$13)^2)-$D$19)","v":{"$error":"#DIV/0!"}},{"$f":"(BB401-273.15)/Heterogenität!$D$4","v":{"$error":"#DIV/0!"}},{"$f":"IF(AI401<Berechnung!$D$7,AI401,#N/A)","v":{"$error":"#N/A"}}]
[null,null,null,null,null,null,null,null,null,null,null,null,null,null,null,null,null,null,null,null,null,null,null,null,null,null,null,null,null,null,null,null,{"$f":"Sanierungsdesign!$E$12*AH402*Sanierungsdesign!$E$10/1000000","v":18532.8},2851200,33,{"$f":"$D$5+((-Sanierungsdesign!$E$12)/4*PI()*$D$3)*(-LN((4*$D$4*AH402)/(Sanierungsdesign!$E$13^2))-$D$19)","v":2630.4898685973189},2357.3398685973189,4691.2260297851171,{"$f":"$D$3*$T$7*$AH$7*(AK402-$D$5)*(1/Sanierungsdesign!$E$15)/1000000","v":289.66598711780182},{"$f":"$D$5+(-Sanierungsdesign!$E$12/(4*PI()*$D$3))*(-LN((4*$D$4*AH402)/(Sanierungsdesign!$E$13+Sanierungsdesign!$E$15)^2)-$D$19)","v":366.11463512400906},92.964635124009078,{"$f":"(2*PI()*Sanierungsdesign!$E$10*$D$3)*(LN((Sanierungsdesign!$E$13+Sanierungsdesign!$E$15)/Sanierungsdesign!$E$13)*(AJ402-AN402))*$AH$7/1000000","v":202.16113880209446},4912.7321290960008,11088.036415369676,{"$f":"AU402/Sanierungsdesign!$E$11","v":1.6970879289170195},2280960,13.576703431336156,{"$error":"#DIV/0!"},{"$error":"#DIV/0!"},{"$error":"#DIV/0!"},{"$error":"#DIV/0!"},{"$f":"(AY402/(AH402*Sanierungsdesign!$E$10))*1000000","v":{"$error":"#DIV/0!"}},{"$f":"AZ402/Sanierungsdesign!$E$12","v":{"$error":"#DIV/0!"}},{"$f":"$D$5+((-(Sanierungsdesign!$E$12)*MIN($BA$7:$BA$932))/(4*PI()*$D$3))*(-LN((4*$D$4*AH402)/(Sanierungsdesign!$E$13)^2)-$D$19)","v":{"$error":"#DIV/0!"}},{"$f":"(BB402-273.15)/Heterogenität!$D$4","v":{"$error":"#DIV/0!"}},{"$f":"IF(AI402<Berechnung!$D$7,AI402,#N/A)","v":{"$error":"#N/A"}}]
[null,null,null,null,null,null,null,null,null,null,null,null,null,null,null,null,null,null,null,null,null,null,null,null,null,null,null,null,null,null,null,null,{"$f":"Sanierungsdesign!$E$12*AH403*Sanierungsdesign!$E$10/1000000","v":18579.599999999999},2858400,33.083333333333336,{"$f":"$D$5+((-Sanierungsdesign!$E$12)/4*PI()*$D$3)*(-LN((4*$D$4*AH403)/(Sanierungsdesign!$E$13^2))-$D$19)","v":2634.022874667372},2360.8728746673719,4698.2928648571415,{"$f":"$D$3*$T$7*$AH$7*(AK403-$D$5)*(1/Sanierungsdesign!$E$15)/1000000","v":290.15938056565778},{"$f":"$D$5+(-Sanierungsdesign!$E$12/(4*PI()*$D$3))*(-LN((4*$D$4*AH403)/(Sanierungsdesign!$E$13+Sanierungsdesign!$E$15)^2)-$D$19)","v":366.3048026758122},93.154802675812221,{"$f":"(2*PI()*Sanierungsdesign!$E$10*$D$3)*(LN((Sanierungsdesign!$E$13+Sanierungsdesign!$E$15)/Sanierungsdesign!$E$13)*(AJ403-AN403))*$AH$7/1000000","v":202.45958405608371},4925.1380183108904,11116.036507327681,{"$f":"AU403/Sanierungsdesign!$E$11","v":1.6996444121093099},2286720,13.59715529687448,{"$error":"#DIV/0!"},{"$error":"#DIV/0!"},{"$error":"#DIV/0!"},{"$error":"#DIV/0!"},{"$f":"(AY403/(AH403*Sanierungsdesign!$E$10))*1000000","v":{"$error":"#DIV/0!"}},{"$f":"AZ403/Sanierungsdesign!$E$12","v":{"$error":"#DIV/0!"}},{"$f":"$D$5+((-(Sanierungsdesign!$E$12)*MIN($BA$7:$BA$932))/(4*PI()*$D$3))*(-LN((4*$D$4*AH403)/(Sanierungsdesign!$E$13)^2)-$D$19)","v":{"$error":"#DIV/0!"}},{"$f":"(BB403-273.15)/Heterogenität!$D$4","v":{"$error":"#DIV/0!"}},{"$f":"IF(AI403<Berechnung!$D$7,AI403,#N/A)","v":{"$error":"#N/A"}}]
[null,null,null,null,null,null,null,null,null,null,null,null,null,null,null,null,null,null,null,null,null,null,null,null,null,null,null,null,null,null,null,null,{"$f":"Sanierungsdesign!$E$12*AH404*Sanierungsdesign!$E$10/1000000","v":18626.400000000001},2865600,33.166666666666664,{"$f":"$D$5+((-Sanierungsdesign!$E$12)/4*PI()*$D$3)*(-LN((4*$D$4*AH404)/(Sanierungsdesign!$E$13^2))-$D$19)","v":2637.5469926624532},2364.3969926624532,4705.3419217089522,{"$f":"$D$3*$T$7*$AH$7*(AK404-$D$5)*(1/Sanierungsdesign!$E$15)/1000000","v":290.65153277082459},{"$f":"$D$5+(-Sanierungsdesign!$E$12/(4*PI()*$D$3))*(-LN((4*$D$4*AH404)/(Sanierungsdesign!$E$13+Sanierungsdesign!$E$15)^2)-$D$19)","v":366.49449181817471},93.344491818174731,{"$f":"(2*PI()*Sanierungsdesign!$E$10*$D$3)*(LN((Sanierungsdesign!$E$13+Sanierungsdesign!$E$15)/Sanierungsdesign!$E$13)*(AJ404-AN404))*$AH$7/1000000","v":202.75727850360963},4937.5439075257791,11144.036599285682,{"$f":"AU404/Sanierungsdesign!$E$11","v":1.7021944638905508},2292480,13.617555711124407,{"$error":"#DIV/0!"},{"$error":"#DIV/0!"},{"$error":"#DIV/0!"},{"$error":"#DIV/0!"},{"$f":"(AY404/(AH404*Sanierungsdesign!$E$10))*1000000","v":{"$error":"#DIV/0!"}},{"$f":"AZ404/Sanierungsdesign!$E$12","v":{"$error":"#DIV/0!"}},{"$f":"$D$5+((-(Sanierungsdesign!$E$12)*MIN($BA$7:$BA$932))/(4*PI()*$D$3))*(-LN((4*$D$4*AH404)/(Sanierungsdesign!$E$13)^2)-$D$19)","v":{"$error":"#DIV/0!"}},{"$f":"(BB404-273.15)/Heterogenität!$D$4","v":{"$error":"#DIV/0!"}},{"$f":"IF(AI404<Berechnung!$D$7,AI404,#N/A)","v":{"$error":"#N/A"}}]
[null,null,null,null,null,null,null,null,null,null,null,null,null,null,null,null,null,null,null,null,null,null,null,null,null,null,null,null,null,null,null,null,{"$f":"Sanierungsdesign!$E$12*AH405*Sanierungsdesign!$E$10/1000000","v":18673.2},2872800,33.25,{"$f":"$D$5+((-Sanierungsdesign!$E$12)/4*PI()*$D$3)*(-LN((4*$D$4*AH405)/(Sanierungsdesign!$E$13^2))-$D$19)","v":2641.0622671902865},2367.9122671902865,4712.3732895663852,{"$f":"$D$3*$T$7*$AH$7*(AK405-$D$5)*(1/Sanierungsdesign!$E$15)/1000000","v":291.14244996288647},{"$f":"$D$5+(-Sanierungsdesign!$E$12/(4*PI()*$D$3))*(-LN((4*$D$4*AH405)/(Sanierungsdesign!$E$13+Sanierungsdesign!$E$15)^2)-$D$19)","v":366.68370495215152},93.533704952151538,{"$f":"(2*PI()*Sanierungsdesign!$E$10*$D$3)*(LN((Sanierungsdesign!$E$13+Sanierungsdesign!$E$15)/Sanierungsdesign!$E$13)*(AJ405-AN405))*$AH$7/1000000","v":203.05422591284105},4949.9497967406678,11172.036691243688,{"$f":"AU405/Sanierungsdesign!$E$11","v":1.7047381165388911},2298240,13.637904932311129,{"$error":"#DIV/0!"},{"$error":"#DIV/0!"},{"$error":"#DIV/0!"},{"$error":"#DIV/0!"},{"$f":"(AY405/(AH405*Sanierungsdesign!$E$10))*1000000","v":{"$error":"#DIV/0!"}},{"$f":"AZ405/Sanierungsdesign!$E$12","v":{"$error":"#DIV/0!"}},{"$f":"$D$5+((-(Sanierungsdesign!$E$12)*MIN($BA$7:$BA$932))/(4*PI()*$D$3))*(-LN((4*$D$4*AH405)/(Sanierungsdesign!$E$13)^2)-$D$19)","v":{"$error":"#DIV/0!"}},{"$f":"(BB405-273.15)/Heterogenität!$D$4","v":{"$error":"#DIV/0!"}},{"$f":"IF(AI405<Berechnung!$D$7,AI405,#N/A)","v":{"$error":"#N/A"}}]
[null,null,null,null,null,null,null,null,null,null,null,null,null,null,null,null,null,null,null,null,null,null,null,null,null,null,null,null,null,null,null,null,{"$f":"Sanierungsdesign!$E$12*AH406*Sanierungsdesign!$E$10/1000000","v":18720},2880000,33.333333333333336,{"$f":"$D$5+((-Sanierungsdesign!$E$12)/4*PI()*$D$3)*(-LN((4*$D$4*AH406)/(Sanierungsdesign!$E$13^2))-$D$19)","v":2644.5687425236183},2371.4187425236182,4719.387056985247,{"$f":"$D$3*$T$7*$AH$7*(AK406-$D$5)*(1/Sanierungsdesign!$E$15)/1000000","v":291.63213832464703},{"$f":"$D$5+(-Sanierungsdesign!$E$12/(4*PI()*$D$3))*(-LN((4*$D$4*AH406)/(Sanierungsdesign!$E$13+Sanierungsdesign!$E$15)^2)-$D$19)","v":366.8724444607671},93.722444460767122,{"$f":"(2*PI()*Sanierungsdesign!$E$10*$D$3)*(LN((Sanierungsdesign!$E$13+Sanierungsdesign!$E$15)/Sanierungsdesign!$E$13)*(AJ406-AN406))*$AH$7/1000000","v":203.35043002365015},4962.3556859555565,11200.036783201691,{"$f":"AU406/Sanierungsdesign!$E$11","v":1.7072754020900898},2304000,13.658203216720718,{"$error":"#DIV/0!"},{"$error":"#DIV/0!"},{"$error":"#DIV/0!"},{"$error":"#DIV/0!"},{"$f":"(AY406/(AH406*Sanierungsdesign!$E$10))*1000000","v":{"$error":"#DIV/0!"}},{"$f":"AZ406/Sanierungsdesign!$E$12","v":{"$error":"#DIV/0!"}},{"$f":"$D$5+((-(Sanierungsdesign!$E$12)*MIN($BA$7:$BA$932))/(4*PI()*$D$3))*(-LN((4*$D$4*AH406)/(Sanierungsdesign!$E$13)^2)-$D$19)","v":{"$error":"#DIV/0!"}},{"$f":"(BB406-273.15)/Heterogenität!$D$4","v":{"$error":"#DIV/0!"}},{"$f":"IF(AI406<Berechnung!$D$7,AI406,#N/A)","v":{"$error":"#N/A"}}]
[null,null,null,null,null,null,null,null,null,null,null,null,null,null,null,null,null,null,null,null,null,null,null,null,null,null,null,null,null,null,null,null,{"$f":"Sanierungsdesign!$E$12*AH407*Sanierungsdesign!$E$10/1000000","v":18766.8},2887200,33.416666666666664,{"$f":"$D$5+((-Sanierungsdesign!$E$12)/4*PI()*$D$3)*(-LN((4*$D$4*AH407)/(Sanierungsdesign!$E$13^2))-$D$19)","v":2648.0664626035632},2374.9164626035631,4726.3833118580014,{"$f":"$D$3*$T$7*$AH$7*(AK407-$D$5)*(1/Sanierungsdesign!$E$15)/1000000","v":292.12060399259673},{"$f":"$D$5+(-Sanierungsdesign!$E$12/(4*PI()*$D$3))*(-LN((4*$D$4*AH407)/(Sanierungsdesign!$E$13+Sanierungsdesign!$E$15)^2)-$D$19)","v":367.06071270919546},93.910712709195479,{"$f":"(2*PI()*Sanierungsdesign!$E$10*$D$3)*(LN((Sanierungsdesign!$E$13+Sanierungsdesign!$E$15)/Sanierungsdesign!$E$13)*(AJ407-AN407))*$AH$7/1000000","v":203.64589454789501},4974.7615751704452,11228.036875159694,{"$f":"AU407/Sanierungsdesign!$E$11","v":1.7098063523399381},2309760,13.678450818719504,{"$error":"#DIV/0!"},{"$error":"#DIV/0!"},{"$error":"#DIV/0!"},{"$error":"#DIV/0!"},{"$f":"(AY407/(AH407*Sanierungsdesign!$E$10))*1000000","v":{"$error":"#DIV/0!"}},{"$f":"AZ407/Sanierungsdesign!$E$12","v":{"$error":"#DIV/0!"}},{"$f":"$D$5+((-(Sanierungsdesign!$E$12)*MIN($BA$7:$BA$932))/(4*PI()*$D$3))*(-LN((4*$D$4*AH407)/(Sanierungsdesign!$E$13)^2)-$D$19)","v":{"$error":"#DIV/0!"}},{"$f":"(BB407-273.15)/Heterogenität!$D$4","v":{"$error":"#DIV/0!"}},{"$f":"IF(AI407<Berechnung!$D$7,AI407,#N/A)","v":{"$error":"#N/A"}}]
[null,null,null,null,null,null,null,null,null,null,null,null,null,null,null,null,null,null,null,null,null,null,null,null,null,null,null,null,null,null,null,null,{"$f":"Sanierungsdesign!$E$12*AH408*Sanierungsdesign!$E$10/1000000","v":18813.599999999999},2894400,33.5,{"$f":"$D$5+((-Sanierungsdesign!$E$12)/4*PI()*$D$3)*(-LN((4*$D$4*AH408)/(Sanierungsdesign!$E$13^2))-$D$19)","v":2651.5554710429083},2378.4054710429082,4733.3621414203817,{"$f":"$D$3*$T$7*$AH$7*(AK408-$D$5)*(1/Sanierungsdesign!$E$15)/1000000","v":292.60785305737437},{"$f":"$D$5+(-Sanierungsdesign!$E$12/(4*PI()*$D$3))*(-LN((4*$D$4*AH408)/(Sanierungsdesign!$E$13+Sanierungsdesign!$E$15)^2)-$D$19)","v":367.24851204493808},94.098512044938104,{"$f":"(2*PI()*Sanierungsdesign!$E$10*$D$3)*(LN((Sanierungsdesign!$E$13+Sanierungsdesign!$E$15)/Sanierungsdesign!$E$13)*(AJ408-AN408))*$AH$7/1000000","v":203.94062316969871},4987.1674643853348,11256.036967117701,{"$f":"AU408/Sanierungsdesign!$E$11","v":1.712330998846648},2315520,13.698647990773184,{"$error":"#DIV/0!"},{"$error":"#DIV/0!"},{"$error":"#DIV/0!"},{"$error":"#DIV/0!"},{"$f":"(AY408/(AH408*Sanierungsdesign!$E$10))*1000000","v":{"$error":"#DIV/0!"}},{"$f":"AZ408/Sanierungsdesign!$E$12","v":{"$error":"#DIV/0!"}},{"$f":"$D$5+((-(Sanierungsdesign!$E$12)*MIN($BA$7:$BA$932))/(4*PI()*$D$3))*(-LN((4*$D$4*AH408)/(Sanierungsdesign!$E$13)^2)-$D$19)","v":{"$error":"#DIV/0!"}},{"$f":"(BB408-273.15)/Heterogenität!$D$4","v":{"$error":"#DIV/0!"}},{"$f":"IF(AI408<Berechnung!$D$7,AI408,#N/A)","v":{"$error":"#N/A"}}]
[null,null,null,null,null,null,null,null,null,null,null,null,null,null,null,null,null,null,null,null,null,null,null,null,null,null,null,null,null,null,null,null,{"$f":"Sanierungsdesign!$E$12*AH409*Sanierungsdesign!$E$10/1000000","v":18860.400000000001},2901600,33.583333333333336,{"$f":"$D$5+((-Sanierungsdesign!$E$12)/4*PI()*$D$3)*(-LN((4*$D$4*AH409)/(Sanierungsdesign!$E$13^2))-$D$19)","v":2655.0358111293763},2381.8858111293762,4740.3236322579151,{"$f":"$D$3*$T$7*$AH$7*(AK409-$D$5)*(1/Sanierungsdesign!$E$15)/1000000","v":293.09389156422242},{"$f":"$D$5+(-Sanierungsdesign!$E$12/(4*PI()*$D$3))*(-LN((4*$D$4*AH409)/(Sanierungsdesign!$E$13+Sanierungsdesign!$E$15)^2)-$D$19)","v":367.43584479799955},94.285844797999573,{"$f":"(2*PI()*Sanierungsdesign!$E$10*$D$3)*(LN((Sanierungsdesign!$E$13+Sanierungsdesign!$E$15)/Sanierungsdesign!$E$13)*(AJ409-AN409))*$AH$7/1000000","v":204.2346195457252},4999.5733536002235,11284.037059075705,{"$f":"AU409/Sanierungsdesign!$E$11","v":1.7148493729332164},2321280,13.718794983465731,{"$error":"#DIV/0!"},{"$error":"#DIV/0!"},{"$error":"#DIV/0!"},{"$error":"#DIV/0!"},{"$f":"(AY409/(AH409*Sanierungsdesign!$E$10))*1000000","v":{"$error":"#DIV/0!"}},{"$f":"AZ409/Sanierungsdesign!$E$12","v":{"$error":"#DIV/0!"}},{"$f":"$D$5+((-(Sanierungsdesign!$E$12)*MIN($BA$7:$BA$932))/(4*PI()*$D$3))*(-LN((4*$D$4*AH409)/(Sanierungsdesign!$E$13)^2)-$D$19)","v":{"$error":"#DIV/0!"}},{"$f":"(BB409-273.15)/Heterogenität!$D$4","v":{"$error":"#DIV/0!"}},{"$f":"IF(AI409<Berechnung!$D$7,AI409,#N/A)","v":{"$error":"#N/A"}}]
[null,null,null,null,null,null,null,null,null,null,null,null,null,null,null,null,null,null,null,null,null,null,null,null,null,null,null,null,null,null,null,null,{"$f":"Sanierungsdesign!$E$12*AH410*Sanierungsdesign!$E$10/1000000","v":18907.2},2908800,33.666666666666664,{"$f":"$D$5+((-Sanierungsdesign!$E$12)/4*PI()*$D$3)*(-LN((4*$D$4*AH410)/(Sanierungsdesign!$E$13^2))-$D$19)","v":2658.5075258288462},2385.3575258288461,4747.2678703123693,{"$f":"$D$3*$T$7*$AH$7*(AK410-$D$5)*(1/Sanierungsdesign!$E$15)/1000000","v":293.57872551343723},{"$f":"$D$5+(-Sanierungsdesign!$E$12/(4*PI()*$D$3))*(-LN((4*$D$4*AH410)/(Sanierungsdesign!$E$13+Sanierungsdesign!$E$15)^2)-$D$19)","v":367.62271328106078},94.472713281060805,{"$f":"(2*PI()*Sanierungsdesign!$E$10*$D$3)*(LN((Sanierungsdesign!$E$13+Sanierungsdesign!$E$15)/Sanierungsdesign!$E$13)*(AJ410-AN410))*$AH$7/1000000","v":204.5278873054508},5011.9792428151122,11312.037151033708,{"$f":"AU410/Sanierungsdesign!$E$11","v":1.7173615056897527},2327040,13.738892045518021,{"$error":"#DIV/0!"},{"$error":"#DIV/0!"},{"$error":"#DIV/0!"},{"$error":"#DIV/0!"},{"$f":"(AY410/(AH410*Sanierungsdesign!$E$10))*1000000","v":{"$error":"#DIV/0!"}},{"$f":"AZ410/Sanierungsdesign!$E$12","v":{"$error":"#DIV/0!"}},{"$f":"$D$5+((-(Sanierungsdesign!$E$12)*MIN($BA$7:$BA$932))/(4*PI()*$D$3))*(-LN((4*$D$4*AH410)/(Sanierungsdesign!$E$13)^2)-$D$19)","v":{"$error":"#DIV/0!"}},{"$f":"(BB410-273.15)/Heterogenität!$D$4","v":{"$error":"#DIV/0!"}},{"$f":"IF(AI410<Berechnung!$D$7,AI410,#N/A)","v":{"$error":"#N/A"}}]
[null,null,null,null,null,null,null,null,null,null,null,null,null,null,null,null,null,null,null,null,null,null,null,null,null,null,null,null,null,null,null,null,{"$f":"Sanierungsdesign!$E$12*AH411*Sanierungsdesign!$E$10/1000000","v":18954},2916000,33.75,{"$f":"$D$5+((-Sanierungsdesign!$E$12)/4*PI()*$D$3)*(-LN((4*$D$4*AH411)/(Sanierungsdesign!$E$13^2))-$D$19)","v":2661.9706577885381},2388.820657788538,4754.1949408881164,{"$f":"$D$3*$T$7*$AH$7*(AK411-$D$5)*(1/Sanierungsdesign!$E$15)/1000000","v":294.06236086081344},{"$f":"$D$5+(-Sanierungsdesign!$E$12/(4*PI()*$D$3))*(-LN((4*$D$4*AH411)/(Sanierungsdesign!$E$13+Sanierungsdesign!$E$15)^2)-$D$19)","v":367.80911978965077},94.659119789650788,{"$f":"(2*PI()*Sanierungsdesign!$E$10*$D$3)*(LN((Sanierungsdesign!$E$13+Sanierungsdesign!$E$15)/Sanierungsdesign!$E$13)*(AJ411-AN411))*$AH$7/1000000","v":204.82043005143399},5024.3851320300009,11340.037242991713,{"$f":"AU411/Sanierungsdesign!$E$11","v":1.719867427975786},2332800,13.758939423806288,{"$error":"#DIV/0!"},{"$error":"#DIV/0!"},{"$error":"#DIV/0!"},{"$error":"#DIV/0!"},{"$f":"(AY411/(AH411*Sanierungsdesign!$E$10))*1000000","v":{"$error":"#DIV/0!"}},{"$f":"AZ411/Sanierungsdesign!$E$12","v":{"$error":"#DIV/0!"}},{"$f":"$D$5+((-(Sanierungsdesign!$E$12)*MIN($BA$7:$BA$932))/(4*PI()*$D$3))*(-LN((4*$D$4*AH411)/(Sanierungsdesign!$E$13)^2)-$D$19)","v":{"$error":"#DIV/0!"}},{"$f":"(BB411-273.15)/Heterogenität!$D$4","v":{"$error":"#DIV/0!"}},{"$f":"IF(AI411<Berechnung!$D$7,AI411,#N/A)","v":{"$error":"#N/A"}}]
[null,null,null,null,null,null,null,null,null,null,null,null,null,null,null,null,null,null,null,null,null,null,null,null,null,null,null,null,null,null,null,null,{"$f":"Sanierungsdesign!$E$12*AH412*Sanierungsdesign!$E$10/1000000","v":19000.8},2923200,33.833333333333336,{"$f":"$D$5+((-Sanierungsdesign!$E$12)/4*PI()*$D$3)*(-LN((4*$D$4*AH412)/(Sanierungsdesign!$E$13^2))-$D$19)","v":2665.4252493401555},2392.2752493401554,4761.1049286584248,{"$f":"$D$3*$T$7*$AH$7*(AK412-$D$5)*(1/Sanierungsdesign!$E$15)/1000000","v":294.5448035180832},{"$f":"$D$5+(-Sanierungsdesign!$E$12/(4*PI()*$D$3))*(-LN((4*$D$4*AH412)/(Sanierungsdesign!$E$13+Sanierungsdesign!$E$15)^2)-$D$19)","v":367.99506660231526},94.845066602315285,{"$f":"(2*PI()*Sanierungsdesign!$E$10*$D$3)*(LN((Sanierungsdesign!$E$13+Sanierungsdesign!$E$15)/Sanierungsdesign!$E$13)*(AJ412-AN412))*$AH$7/1000000","v":205.11225135958026},5036.7910212448905,11368.037334949719,{"$f":"AU412/Sanierungsdesign!$E$11","v":1.7223671704225363},2338560,13.77893736338029,{"$error":"#DIV/0!"},{"$error":"#DIV/0!"},{"$error":"#DIV/0!"},{"$error":"#DIV/0!"},{"$f":"(AY412/(AH412*Sanierungsdesign!$E$10))*1000000","v":{"$error":"#DIV/0!"}},{"$f":"AZ412/Sanierungsdesign!$E$12","v":{"$error":"#DIV/0!"}},{"$f":"$D$5+((-(Sanierungsdesign!$E$12)*MIN($BA$7:$BA$932))/(4*PI()*$D$3))*(-LN((4*$D$4*AH412)/(Sanierungsdesign!$E$13)^2)-$D$19)","v":{"$error":"#DIV/0!"}},{"$f":"(BB412-273.15)/Heterogenität!$D$4","v":{"$error":"#DIV/0!"}},{"$f":"IF(AI412<Berechnung!$D$7,AI412,#N/A)","v":{"$error":"#N/A"}}]
[null,null,null,null,null,null,null,null,null,null,null,null,null,null,null,null,null,null,null,null,null,null,null,null,null,null,null,null,null,null,null,null,{"$f":"Sanierungsdesign!$E$12*AH413*Sanierungsdesign!$E$10/1000000","v":19047.599999999999},2930400,33.916666666666664,{"$f":"$D$5+((-Sanierungsdesign!$E$12)/4*PI()*$D$3)*(-LN((4*$D$4*AH413)/(Sanierungsdesign!$E$13^2))-$D$19)","v":2668.8713425029896},2395.7213425029895,4767.9979176716633,{"$f":"$D$3*$T$7*$AH$7*(AK413-$D$5)*(1/Sanierungsdesign!$E$15)/1000000","v":295.0260593533493},{"$f":"$D$5+(-Sanierungsdesign!$E$12/(4*PI()*$D$3))*(-LN((4*$D$4*AH413)/(Sanierungsdesign!$E$13+Sanierungsdesign!$E$15)^2)-$D$19)","v":368.18055598078433},95.030555980784357,{"$f":"(2*PI()*Sanierungsdesign!$E$10*$D$3)*(LN((Sanierungsdesign!$E$13+Sanierungsdesign!$E$15)/Sanierungsdesign!$E$13)*(AJ413-AN413))*$AH$7/1000000","v":205.40335477940462},5049.1969104597792,11396.037426907722,{"$f":"AU413/Sanierungsdesign!$E$11","v":1.7248607634351631},2344320,13.798886107481305,{"$error":"#DIV/0!"},{"$error":"#DIV/0!"},{"$error":"#DIV/0!"},{"$error":"#DIV/0!"},{"$f":"(AY413/(AH413*Sanierungsdesign!$E$10))*1000000","v":{"$error":"#DIV/0!"}},{"$f":"AZ413/Sanierungsdesign!$E$12","v":{"$error":"#DIV/0!"}},{"$f":"$D$5+((-(Sanierungsdesign!$E$12)*MIN($BA$7:$BA$932))/(4*PI()*$D$3))*(-LN((4*$D$4*AH413)/(Sanierungsdesign!$E$13)^2)-$D$19)","v":{"$error":"#DIV/0!"}},{"$f":"(BB413-273.15)/Heterogenität!$D$4","v":{"$error":"#DIV/0!"}},{"$f":"IF(AI413<Berechnung!$D$7,AI413,#N/A)","v":{"$error":"#N/A"}}]
[null,null,null,null,null,null,null,null,null,null,null,null,null,null,null,null,null,null,null,null,null,null,null,null,null,null,null,null,null,null,null,null,{"$f":"Sanierungsdesign!$E$12*AH414*Sanierungsdesign!$E$10/1000000","v":19094.400000000001},2937600,34,{"$f":"$D$5+((-Sanierungsdesign!$E$12)/4*PI()*$D$3)*(-LN((4*$D$4*AH414)/(Sanierungsdesign!$E$13^2))-$D$19)","v":2672.3089789869873},2399.1589789869872,4774.8739913574418,{"$f":"$D$3*$T$7*$AH$7*(AK414-$D$5)*(1/Sanierungsdesign!$E$15)/1000000","v":295.50613419151381},{"$f":"$D$5+(-Sanierungsdesign!$E$12/(4*PI()*$D$3))*(-LN((4*$D$4*AH414)/(Sanierungsdesign!$E$13+Sanierungsdesign!$E$15)^2)-$D$19)","v":368.36559017013718},95.215590170137204,{"$f":"(2*PI()*Sanierungsdesign!$E$10*$D$3)*(LN((Sanierungsdesign!$E$13+Sanierungsdesign!$E$15)/Sanierungsdesign!$E$13)*(AJ414-AN414))*$AH$7/1000000","v":205.69374383429064},5061.6027996746679,11424.037518865727,{"$f":"AU414/Sanierungsdesign!$E$11","v":1.7273482371949838},2350080,13.81878589755987,{"$error":"#DIV/0!"},{"$error":"#DIV/0!"},{"$error":"#DIV/0!"},{"$error":"#DIV/0!"},{"$f":"(AY414/(AH414*Sanierungsdesign!$E$10))*1000000","v":{"$error":"#DIV/0!"}},{"$f":"AZ414/Sanierungsdesign!$E$12","v":{"$error":"#DIV/0!"}},{"$f":"$D$5+((-(Sanierungsdesign!$E$12)*MIN($BA$7:$BA$932))/(4*PI()*$D$3))*(-LN((4*$D$4*AH414)/(Sanierungsdesign!$E$13)^2)-$D$19)","v":{"$error":"#DIV/0!"}},{"$f":"(BB414-273.15)/Heterogenität!$D$4","v":{"$error":"#DIV/0!"}},{"$f":"IF(AI414<Berechnung!$D$7,AI414,#N/A)","v":{"$error":"#N/A"}}]
[null,null,null,null,null,null,null,null,null,null,null,null,null,null,null,null,null,null,null,null,null,null,null,null,null,null,null,null,null,null,null,null,{"$f":"Sanierungsdesign!$E$12*AH415*Sanierungsdesign!$E$10/1000000","v":19141.2},2944800,34.083333333333336,{"$f":"$D$5+((-Sanierungsdesign!$E$12)/4*PI()*$D$3)*(-LN((4*$D$4*AH415)/(Sanierungsdesign!$E$13^2))-$D$19)","v":2675.7382001957794},2402.5882001957793,4781.7332325326652,{"$f":"$D$3*$T$7*$AH$7*(AK415-$D$5)*(1/Sanierungsdesign!$E$15)/1000000","v":295.98503381470107},{"$f":"$D$5+(-Sanierungsdesign!$E$12/(4*PI()*$D$3))*(-LN((4*$D$4*AH415)/(Sanierungsdesign!$E$13+Sanierungsdesign!$E$15)^2)-$D$19)","v":368.55017139896518},95.400171398965199,{"$f":"(2*PI()*Sanierungsdesign!$E$10*$D$3)*(LN((Sanierungsdesign!$E$13+Sanierungsdesign!$E$15)/Sanierungsdesign!$E$13)*(AJ415-AN415))*$AH$7/1000000","v":205.98342202174646},5074.0086888895567,11452.037610823729,{"$f":"AU415/Sanierungsdesign!$E$11","v":1.7298296216616655},2355840,13.838636973293324,{"$error":"#DIV/0!"},{"$error":"#DIV/0!"},{"$error":"#DIV/0!"},{"$error":"#DIV/0!"},{"$f":"(AY415/(AH415*Sanierungsdesign!$E$10))*1000000","v":{"$error":"#DIV/0!"}},{"$f":"AZ415/Sanierungsdesign!$E$12","v":{"$error":"#DIV/0!"}},{"$f":"$D$5+((-(Sanierungsdesign!$E$12)*MIN($BA$7:$BA$932))/(4*PI()*$D$3))*(-LN((4*$D$4*AH415)/(Sanierungsdesign!$E$13)^2)-$D$19)","v":{"$error":"#DIV/0!"}},{"$f":"(BB415-273.15)/Heterogenität!$D$4","v":{"$error":"#DIV/0!"}},{"$f":"IF(AI415<Berechnung!$D$7,AI415,#N/A)","v":{"$error":"#N/A"}}]
[null,null,null,null,null,null,null,null,null,null,null,null,null,null,null,null,null,null,null,null,null,null,null,null,null,null,null,null,null,null,null,null,{"$f":"Sanierungsdesign!$E$12*AH416*Sanierungsdesign!$E$10/1000000","v":19188},2952000,34.166666666666664,{"$f":"$D$5+((-Sanierungsdesign!$E$12)/4*PI()*$D$3)*(-LN((4*$D$4*AH416)/(Sanierungsdesign!$E$13^2))-$D$19)","v":2679.1590472296721},2406.009047229672,4788.5757234075199,{"$f":"$D$3*$T$7*$AH$7*(AK416-$D$5)*(1/Sanierungsdesign!$E$15)/1000000","v":296.46276396267524},{"$f":"$D$5+(-Sanierungsdesign!$E$12/(4*PI()*$D$3))*(-LN((4*$D$4*AH416)/(Sanierungsdesign!$E$13+Sanierungsdesign!$E$15)^2)-$D$19)","v":368.73430187953318},95.5843018795332,{"$f":"(2*PI()*Sanierungsdesign!$E$10*$D$3)*(LN((Sanierungsdesign!$E$13+Sanierungsdesign!$E$15)/Sanierungsdesign!$E$13)*(AJ416-AN416))*$AH$7/1000000","v":206.27239281365709},5086.4145781044454,11480.037702781732,{"$f":"AU416/Sanierungsdesign!$E$11","v":1.7323049465753904},2361600,13.858439572603123,{"$error":"#DIV/0!"},{"$error":"#DIV/0!"},{"$error":"#DIV/0!"},{"$error":"#DIV/0!"},{"$f":"(AY416/(AH416*Sanierungsdesign!$E$10))*1000000","v":{"$error":"#DIV/0!"}},{"$f":"AZ416/Sanierungsdesign!$E$12","v":{"$error":"#DIV/0!"}},{"$f":"$D$5+((-(Sanierungsdesign!$E$12)*MIN($BA$7:$BA$932))/(4*PI()*$D$3))*(-LN((4*$D$4*AH416)/(Sanierungsdesign!$E$13)^2)-$D$19)","v":{"$error":"#DIV/0!"}},{"$f":"(BB416-273.15)/Heterogenität!$D$4","v":{"$error":"#DIV/0!"}},{"$f":"IF(AI416<Berechnung!$D$7,AI416,#N/A)","v":{"$error":"#N/A"}}]
[null,null,null,null,null,null,null,null,null,null,null,null,null,null,null,null,null,null,null,null,null,null,null,null,null,null,null,null,null,null,null,null,{"$f":"Sanierungsdesign!$E$12*AH417*Sanierungsdesign!$E$10/1000000","v":19234.8},2959200,34.25,{"$f":"$D$5+((-Sanierungsdesign!$E$12)/4*PI()*$D$3)*(-LN((4*$D$4*AH417)/(Sanierungsdesign!$E$13^2))-$D$19)","v":2682.5715608886039},2409.4215608886038,4795.4015455913868,{"$f":"$D$3*$T$7*$AH$7*(AK417-$D$5)*(1/Sanierungsdesign!$E$15)/1000000","v":296.93933033325345},{"$f":"$D$5+(-Sanierungsdesign!$E$12/(4*PI()*$D$3))*(-LN((4*$D$4*AH417)/(Sanierungsdesign!$E$13+Sanierungsdesign!$E$15)^2)-$D$19)","v":368.91798380793807},95.767983807938094,{"$f":"(2*PI()*Sanierungsdesign!$E$10*$D$3)*(LN((Sanierungsdesign!$E$13+Sanierungsdesign!$E$15)/Sanierungsdesign!$E$13)*(AJ417-AN417))*$AH$7/1000000","v":206.56065965653477},5098.820467319335,11508.037794739739,{"$f":"AU417/Sanierungsdesign!$E$11","v":1.7347742414589935},2367360,13.878193931671948,{"$error":"#DIV/0!"},{"$error":"#DIV/0!"},{"$error":"#DIV/0!"},{"$error":"#DIV/0!"},{"$f":"(AY417/(AH417*Sanierungsdesign!$E$10))*1000000","v":{"$error":"#DIV/0!"}},{"$f":"AZ417/Sanierungsdesign!$E$12","v":{"$error":"#DIV/0!"}},{"$f":"$D$5+((-(Sanierungsdesign!$E$12)*MIN($BA$7:$BA$932))/(4*PI()*$D$3))*(-LN((4*$D$4*AH417)/(Sanierungsdesign!$E$13)^2)-$D$19)","v":{"$error":"#DIV/0!"}},{"$f":"(BB417-273.15)/Heterogenität!$D$4","v":{"$error":"#DIV/0!"}},{"$f":"IF(AI417<Berechnung!$D$7,AI417,#N/A)","v":{"$error":"#N/A"}}]
[null,null,null,null,null,null,null,null,null,null,null,null,null,null,null,null,null,null,null,null,null,null,null,null,null,null,null,null,null,null,null,null,{"$f":"Sanierungsdesign!$E$12*AH418*Sanierungsdesign!$E$10/1000000","v":19281.599999999999},2966400,34.333333333333336,{"$f":"$D$5+((-Sanierungsdesign!$E$12)/4*PI()*$D$3)*(-LN((4*$D$4*AH418)/(Sanierungsdesign!$E$13^2))-$D$19)","v":2685.9757816750644},2412.8257816750643,4802.2107800986778,{"$f":"$D$3*$T$7*$AH$7*(AK418-$D$5)*(1/Sanierungsdesign!$E$15)/1000000","v":297.4147385827132},{"$f":"$D$5+(-Sanierungsdesign!$E$12/(4*PI()*$D$3))*(-LN((4*$D$4*AH418)/(Sanierungsdesign!$E$13+Sanierungsdesign!$E$15)^2)-$D$19)","v":369.10121936426668},95.951219364266706,{"$f":"(2*PI()*Sanierungsdesign!$E$10*$D$3)*(LN((Sanierungsdesign!$E$13+Sanierungsdesign!$E$15)/Sanierungsdesign!$E$13)*(AJ418-AN418))*$AH$7/1000000","v":206.84822597176486},5111.2263565342237,11536.037886697743,{"$f":"AU418/Sanierungsdesign!$E$11","v":1.7372375356200764},2373120,13.897900284960611,{"$error":"#DIV/0!"},{"$error":"#DIV/0!"},{"$error":"#DIV/0!"},{"$error":"#DIV/0!"},{"$f":"(AY418/(AH418*Sanierungsdesign!$E$10))*1000000","v":{"$error":"#DIV/0!"}},{"$f":"AZ418/Sanierungsdesign!$E$12","v":{"$error":"#DIV/0!"}},{"$f":"$D$5+((-(Sanierungsdesign!$E$12)*MIN($BA$7:$BA$932))/(4*PI()*$D$3))*(-LN((4*$D$4*AH418)/(Sanierungsdesign!$E$13)^2)-$D$19)","v":{"$error":"#DIV/0!"}},{"$f":"(BB418-273.15)/Heterogenität!$D$4","v":{"$error":"#DIV/0!"}},{"$f":"IF(AI418<Berechnung!$D$7,AI418,#N/A)","v":{"$error":"#N/A"}}]
[null,null,null,null,null,null,null,null,null,null,null,null,null,null,null,null,null,null,null,null,null,null,null,null,null,null,null,null,null,null,null,null,{"$f":"Sanierungsdesign!$E$12*AH419*Sanierungsdesign!$E$10/1000000","v":19328.400000000001},2973600,34.416666666666664,{"$f":"$D$5+((-Sanierungsdesign!$E$12)/4*PI()*$D$3)*(-LN((4*$D$4*AH419)/(Sanierungsdesign!$E$13^2))-$D$19)","v":2689.3717497969797},2416.2217497969796,4809.0035073546114,{"$f":"$D$3*$T$7*$AH$7*(AK419-$D$5)*(1/Sanierungsdesign!$E$15)/1000000","v":297.88899432619553},{"$f":"$D$5+(-Sanierungsdesign!$E$12/(4*PI()*$D$3))*(-LN((4*$D$4*AH419)/(Sanierungsdesign!$E$13+Sanierungsdesign!$E$15)^2)-$D$19)","v":369.28401071275039},96.13401071275041,{"$f":"(2*PI()*Sanierungsdesign!$E$10*$D$3)*(LN((Sanierungsdesign!$E$13+Sanierungsdesign!$E$15)/Sanierungsdesign!$E$13)*(AJ419-AN419))*$AH$7/1000000","v":207.13509515585014},5123.6322457491124,11564.037978655746,{"$f":"AU419/Sanierungsdesign!$E$11","v":1.7396948581530942},2378880,13.917558865224754,{"$error":"#DIV/0!"},{"$error":"#DIV/0!"},{"$error":"#DIV/0!"},{"$error":"#DIV/0!"},{"$f":"(AY419/(AH419*Sanierungsdesign!$E$10))*1000000","v":{"$error":"#DIV/0!"}},{"$f":"AZ419/Sanierungsdesign!$E$12","v":{"$error":"#DIV/0!"}},{"$f":"$D$5+((-(Sanierungsdesign!$E$12)*MIN($BA$7:$BA$932))/(4*PI()*$D$3))*(-LN((4*$D$4*AH419)/(Sanierungsdesign!$E$13)^2)-$D$19)","v":{"$error":"#DIV/0!"}},{"$f":"(BB419-273.15)/Heterogenität!$D$4","v":{"$error":"#DIV/0!"}},{"$f":"IF(AI419<Berechnung!$D$7,AI419,#N/A)","v":{"$error":"#N/A"}}]
[null,null,null,null,null,null,null,null,null,null,null,null,null,null,null,null,null,null,null,null,null,null,null,null,null,null,null,null,null,null,null,null,{"$f":"Sanierungsdesign!$E$12*AH420*Sanierungsdesign!$E$10/1000000","v":19375.2},2980800,34.5,{"$f":"$D$5+((-Sanierungsdesign!$E$12)/4*PI()*$D$3)*(-LN((4*$D$4*AH420)/(Sanierungsdesign!$E$13^2))-$D$19)","v":2692.7595051705612},2419.6095051705611,4815.7798072009091,{"$f":"$D$3*$T$7*$AH$7*(AK420-$D$5)*(1/Sanierungsdesign!$E$15)/1000000","v":298.36210313810278},{"$f":"$D$5+(-Sanierungsdesign!$E$12/(4*PI()*$D$3))*(-LN((4*$D$4*AH420)/(Sanierungsdesign!$E$13+Sanierungsdesign!$E$15)^2)-$D$19)","v":369.46636000191876},96.316360001918781,{"$f":"(2*PI()*Sanierungsdesign!$E$10*$D$3)*(LN((Sanierungsdesign!$E$13+Sanierungsdesign!$E$15)/Sanierungsdesign!$E$13)*(AJ420-AN420))*$AH$7/1000000","v":207.42127058065114},5136.0381349640011,11592.038070613751,{"$f":"AU420/Sanierungsdesign!$E$11","v":1.7421462379414179},2384640,13.937169903531343,{"$error":"#DIV/0!"},{"$error":"#DIV/0!"},{"$error":"#DIV/0!"},{"$error":"#DIV/0!"},{"$f":"(AY420/(AH420*Sanierungsdesign!$E$10))*1000000","v":{"$error":"#DIV/0!"}},{"$f":"AZ420/Sanierungsdesign!$E$12","v":{"$error":"#DIV/0!"}},{"$f":"$D$5+((-(Sanierungsdesign!$E$12)*MIN($BA$7:$BA$932))/(4*PI()*$D$3))*(-LN((4*$D$4*AH420)/(Sanierungsdesign!$E$13)^2)-$D$19)","v":{"$error":"#DIV/0!"}},{"$f":"(BB420-273.15)/Heterogenität!$D$4","v":{"$error":"#DIV/0!"}},{"$f":"IF(AI420<Berechnung!$D$7,AI420,#N/A)","v":{"$error":"#N/A"}}]
[null,null,null,null,null,null,null,null,null,null,null,null,null,null,null,null,null,null,null,null,null,null,null,null,null,null,null,null,null,null,null,null,{"$f":"Sanierungsdesign!$E$12*AH421*Sanierungsdesign!$E$10/1000000","v":19422},2988000,34.583333333333336,{"$f":"$D$5+((-Sanierungsdesign!$E$12)/4*PI()*$D$3)*(-LN((4*$D$4*AH421)/(Sanierungsdesign!$E$13^2))-$D$19)","v":2696.1390874231197},2422.9890874231196,4822.539758901421,{"$f":"$D$3*$T$7*$AH$7*(AK421-$D$5)*(1/Sanierungsdesign!$E$15)/1000000","v":298.83407055249148},{"$f":"$D$5+(-Sanierungsdesign!$E$12/(4*PI()*$D$3))*(-LN((4*$D$4*AH421)/(Sanierungsdesign!$E$13+Sanierungsdesign!$E$15)^2)-$D$19)","v":369.64826936475112},96.498269364751138,{"$f":"(2*PI()*Sanierungsdesign!$E$10*$D$3)*(LN((Sanierungsdesign!$E$13+Sanierungsdesign!$E$15)/Sanierungsdesign!$E$13)*(AJ421-AN421))*$AH$7/1000000","v":207.70675559362402},5148.4440241788898,11620.038162571755,{"$f":"AU421/Sanierungsdesign!$E$11","v":1.7445917036593692},2390400,13.956733629274954,{"$error":"#DIV/0!"},{"$error":"#DIV/0!"},{"$error":"#DIV/0!"},{"$error":"#DIV/0!"},{"$f":"(AY421/(AH421*Sanierungsdesign!$E$10))*1000000","v":{"$error":"#DIV/0!"}},{"$f":"AZ421/Sanierungsdesign!$E$12","v":{"$error":"#DIV/0!"}},{"$f":"$D$5+((-(Sanierungsdesign!$E$12)*MIN($BA$7:$BA$932))/(4*PI()*$D$3))*(-LN((4*$D$4*AH421)/(Sanierungsdesign!$E$13)^2)-$D$19)","v":{"$error":"#DIV/0!"}},{"$f":"(BB421-273.15)/Heterogenität!$D$4","v":{"$error":"#DIV/0!"}},{"$f":"IF(AI421<Berechnung!$D$7,AI421,#N/A)","v":{"$error":"#N/A"}}]
[null,null,null,null,null,null,null,null,null,null,null,null,null,null,null,null,null,null,null,null,null,null,null,null,null,null,null,null,null,null,null,null,{"$f":"Sanierungsdesign!$E$12*AH422*Sanierungsdesign!$E$10/1000000","v":19468.8},2995200,34.666666666666664,{"$f":"$D$5+((-Sanierungsdesign!$E$12)/4*PI()*$D$3)*(-LN((4*$D$4*AH422)/(Sanierungsdesign!$E$13^2))-$D$19)","v":2699.510535895849},2426.3605358958489,4829.2834411476988,{"$f":"$D$3*$T$7*$AH$7*(AK422-$D$5)*(1/Sanierungsdesign!$E$15)/1000000","v":299.30490206346133},{"$f":"$D$5+(-Sanierungsdesign!$E$12/(4*PI()*$D$3))*(-LN((4*$D$4*AH422)/(Sanierungsdesign!$E$13+Sanierungsdesign!$E$15)^2)-$D$19)","v":369.82974091882625},96.679740918826269,{"$f":"(2*PI()*Sanierungsdesign!$E$10*$D$3)*(LN((Sanierungsdesign!$E$13+Sanierungsdesign!$E$15)/Sanierungsdesign!$E$13)*(AJ422-AN422))*$AH$7/1000000","v":207.99155351805564},5160.8499133937794,11648.03825452976,{"$f":"AU422/Sanierungsdesign!$E$11","v":1.7470312837742359},2396160,13.976250270193887,{"$error":"#DIV/0!"},{"$error":"#DIV/0!"},{"$error":"#DIV/0!"},{"$error":"#DIV/0!"},{"$f":"(AY422/(AH422*Sanierungsdesign!$E$10))*1000000","v":{"$error":"#DIV/0!"}},{"$f":"AZ422/Sanierungsdesign!$E$12","v":{"$error":"#DIV/0!"}},{"$f":"$D$5+((-(Sanierungsdesign!$E$12)*MIN($BA$7:$BA$932))/(4*PI()*$D$3))*(-LN((4*$D$4*AH422)/(Sanierungsdesign!$E$13)^2)-$D$19)","v":{"$error":"#DIV/0!"}},{"$f":"(BB422-273.15)/Heterogenität!$D$4","v":{"$error":"#DIV/0!"}},{"$f":"IF(AI422<Berechnung!$D$7,AI422,#N/A)","v":{"$error":"#N/A"}}]
[null,null,null,null,null,null,null,null,null,null,null,null,null,null,null,null,null,null,null,null,null,null,null,null,null,null,null,null,null,null,null,null,{"$f":"Sanierungsdesign!$E$12*AH423*Sanierungsdesign!$E$10/1000000","v":19515.599999999999},3002400,34.75,{"$f":"$D$5+((-Sanierungsdesign!$E$12)/4*PI()*$D$3)*(-LN((4*$D$4*AH423)/(Sanierungsdesign!$E$13^2))-$D$19)","v":2702.8738896465711},2429.723889646571,4836.0109320644833,{"$f":"$D$3*$T$7*$AH$7*(AK423-$D$5)*(1/Sanierungsdesign!$E$15)/1000000","v":299.77460312553819},{"$f":"$D$5+(-Sanierungsdesign!$E$12/(4*PI()*$D$3))*(-LN((4*$D$4*AH423)/(Sanierungsdesign!$E$13+Sanierungsdesign!$E$15)^2)-$D$19)","v":370.01077676647003},96.860776766470053,{"$f":"(2*PI()*Sanierungsdesign!$E$10*$D$3)*(LN((Sanierungsdesign!$E$13+Sanierungsdesign!$E$15)/Sanierungsdesign!$E$13)*(AJ423-AN423))*$AH$7/1000000","v":208.27566765329541},5173.2558026086681,11676.038346487765,{"$f":"AU423/Sanierungsdesign!$E$11","v":1.7494650065482584},2401920,13.995720052386067,{"$error":"#DIV/0!"},{"$error":"#DIV/0!"},{"$error":"#DIV/0!"},{"$error":"#DIV/0!"},{"$f":"(AY423/(AH423*Sanierungsdesign!$E$10))*1000000","v":{"$error":"#DIV/0!"}},{"$f":"AZ423/Sanierungsdesign!$E$12","v":{"$error":"#DIV/0!"}},{"$f":"$D$5+((-(Sanierungsdesign!$E$12)*MIN($BA$7:$BA$932))/(4*PI()*$D$3))*(-LN((4*$D$4*AH423)/(Sanierungsdesign!$E$13)^2)-$D$19)","v":{"$error":"#DIV/0!"}},{"$f":"(BB423-273.15)/Heterogenität!$D$4","v":{"$error":"#DIV/0!"}},{"$f":"IF(AI423<Berechnung!$D$7,AI423,#N/A)","v":{"$error":"#N/A"}}]
[null,null,null,null,null,null,null,null,null,null,null,null,null,null,null,null,null,null,null,null,null,null,null,null,null,null,null,null,null,null,null,null,{"$f":"Sanierungsdesign!$E$12*AH424*Sanierungsdesign!$E$10/1000000","v":19562.400000000001},3009600,34.833333333333336,{"$f":"$D$5+((-Sanierungsdesign!$E$12)/4*PI()*$D$3)*(-LN((4*$D$4*AH424)/(Sanierungsdesign!$E$13^2))-$D$19)","v":2706.229187452454},2433.0791874524539,4842.7223092151444,{"$f":"$D$3*$T$7*$AH$7*(AK424-$D$5)*(1/Sanierungsdesign!$E$15)/1000000","v":300.24317915405413},{"$f":"$D$5+(-Sanierungsdesign!$E$12/(4*PI()*$D$3))*(-LN((4*$D$4*AH424)/(Sanierungsdesign!$E$13+Sanierungsdesign!$E$15)^2)-$D$19)","v":370.19137899490192},97.041378994901947,{"$f":"(2*PI()*Sanierungsdesign!$E$10*$D$3)*(LN((Sanierungsdesign!$E$13+Sanierungsdesign!$E$15)/Sanierungsdesign!$E$13)*(AJ424-AN424))*$AH$7/1000000","v":208.55910127498498},5185.6616918235568,11704.038438445768,{"$f":"AU424/Sanierungsdesign!$E$11","v":1.7518929000405954},2407680,14.015143200324763,{"$error":"#DIV/0!"},{"$error":"#DIV/0!"},{"$error":"#DIV/0!"},{"$error":"#DIV/0!"},{"$f":"(AY424/(AH424*Sanierungsdesign!$E$10))*1000000","v":{"$error":"#DIV/0!"}},{"$f":"AZ424/Sanierungsdesign!$E$12","v":{"$error":"#DIV/0!"}},{"$f":"$D$5+((-(Sanierungsdesign!$E$12)*MIN($BA$7:$BA$932))/(4*PI()*$D$3))*(-LN((4*$D$4*AH424)/(Sanierungsdesign!$E$13)^2)-$D$19)","v":{"$error":"#DIV/0!"}},{"$f":"(BB424-273.15)/Heterogenität!$D$4","v":{"$error":"#DIV/0!"}},{"$f":"IF(AI424<Berechnung!$D$7,AI424,#N/A)","v":{"$error":"#N/A"}}]
[null,null,null,null,null,null,null,null,null,null,null,null,null,null,null,null,null,null,null,null,null,null,null,null,null,null,null,null,null,null,null,null,{"$f":"Sanierungsdesign!$E$12*AH425*Sanierungsdesign!$E$10/1000000","v":19609.2},3016800,34.916666666666664,{"$f":"$D$5+((-Sanierungsdesign!$E$12)/4*PI()*$D$3)*(-LN((4*$D$4*AH425)/(Sanierungsdesign!$E$13^2))-$D$19)","v":2709.5764678126916},2436.4264678126915,4849.4176496070368,{"$f":"$D$3*$T$7*$AH$7*(AK425-$D$5)*(1/Sanierungsdesign!$E$15)/1000000","v":300.71063552552118},{"$f":"$D$5+(-Sanierungsdesign!$E$12/(4*PI()*$D$3))*(-LN((4*$D$4*AH425)/(Sanierungsdesign!$E$13+Sanierungsdesign!$E$15)^2)-$D$19)","v":370.37154967637923},97.221549676379254,{"$f":"(2*PI()*Sanierungsdesign!$E$10*$D$3)*(LN((Sanierungsdesign!$E$13+Sanierungsdesign!$E$15)/Sanierungsdesign!$E$13)*(AJ425-AN425))*$AH$7/1000000","v":208.84185763528447},5198.0675810384455,11732.038530403772,{"$f":"AU425/Sanierungsdesign!$E$11","v":1.7543149921092633},2413440,14.034519936874107,{"$error":"#DIV/0!"},{"$error":"#DIV/0!"},{"$error":"#DIV/0!"},{"$error":"#DIV/0!"},{"$f":"(AY425/(AH425*Sanierungsdesign!$E$10))*1000000","v":{"$error":"#DIV/0!"}},{"$f":"AZ425/Sanierungsdesign!$E$12","v":{"$error":"#DIV/0!"}},{"$f":"$D$5+((-(Sanierungsdesign!$E$12)*MIN($BA$7:$BA$932))/(4*PI()*$D$3))*(-LN((4*$D$4*AH425)/(Sanierungsdesign!$E$13)^2)-$D$19)","v":{"$error":"#DIV/0!"}},{"$f":"(BB425-273.15)/Heterogenität!$D$4","v":{"$error":"#DIV/0!"}},{"$f":"IF(AI425<Berechnung!$D$7,AI425,#N/A)","v":{"$error":"#N/A"}}]
[null,null,null,null,null,null,null,null,null,null,null,null,null,null,null,null,null,null,null,null,null,null,null,null,null,null,null,null,null,null,null,null,{"$f":"Sanierungsdesign!$E$12*AH426*Sanierungsdesign!$E$10/1000000","v":19656},3024000,35,{"$f":"$D$5+((-Sanierungsdesign!$E$12)/4*PI()*$D$3)*(-LN((4*$D$4*AH426)/(Sanierungsdesign!$E$13^2))-$D$19)","v":2712.9157689511549},2439.7657689511548,4856.0970296968062,{"$f":"$D$3*$T$7*$AH$7*(AK426-$D$5)*(1/Sanierungsdesign!$E$15)/1000000","v":301.17697757800198},{"$f":"$D$5+(-Sanierungsdesign!$E$12/(4*PI()*$D$3))*(-LN((4*$D$4*AH426)/(Sanierungsdesign!$E$13+Sanierungsdesign!$E$15)^2)-$D$19)","v":370.55129086833972},97.401290868339743,{"$f":"(2*PI()*Sanierungsdesign!$E$10*$D$3)*(LN((Sanierungsdesign!$E$13+Sanierungsdesign!$E$15)/Sanierungsdesign!$E$13)*(AJ426-AN426))*$AH$7/1000000","v":209.12393996309672},5210.4734702533342,11760.038622361775,{"$f":"AU426/Sanierungsdesign!$E$11","v":1.7567313104130553},2419200,14.053850483304442,{"$error":"#DIV/0!"},{"$error":"#DIV/0!"},{"$error":"#DIV/0!"},{"$error":"#DIV/0!"},{"$f":"(AY426/(AH426*Sanierungsdesign!$E$10))*1000000","v":{"$error":"#DIV/0!"}},{"$f":"AZ426/Sanierungsdesign!$E$12","v":{"$error":"#DIV/0!"}},{"$f":"$D$5+((-(Sanierungsdesign!$E$12)*MIN($BA$7:$BA$932))/(4*PI()*$D$3))*(-LN((4*$D$4*AH426)/(Sanierungsdesign!$E$13)^2)-$D$19)","v":{"$error":"#DIV/0!"}},{"$f":"(BB426-273.15)/Heterogenität!$D$4","v":{"$error":"#DIV/0!"}},{"$f":"IF(AI426<Berechnung!$D$7,AI426,#N/A)","v":{"$error":"#N/A"}}]
[null,null,null,null,null,null,null,null,null,null,null,null,null,null,null,null,null,null,null,null,null,null,null,null,null,null,null,null,null,null,null,null,{"$f":"Sanierungsdesign!$E$12*AH427*Sanierungsdesign!$E$10/1000000","v":19702.8},3031200,35.083333333333336,{"$f":"$D$5+((-Sanierungsdesign!$E$12)/4*PI()*$D$3)*(-LN((4*$D$4*AH427)/(Sanierungsdesign!$E$13^2))-$D$19)","v":2716.2471288190122},2443.0971288190121,4862.7605253956281,{"$f":"$D$3*$T$7*$AH$7*(AK427-$D$5)*(1/Sanierungsdesign!$E$15)/1000000","v":301.64221061147549},{"$f":"$D$5+(-Sanierungsdesign!$E$12/(4*PI()*$D$3))*(-LN((4*$D$4*AH427)/(Sanierungsdesign!$E$13+Sanierungsdesign!$E$15)^2)-$D$19)","v":370.73060461354254},97.580604613542562,{"$f":"(2*PI()*Sanierungsdesign!$E$10*$D$3)*(LN((Sanierungsdesign!$E$13+Sanierungsdesign!$E$15)/Sanierungsdesign!$E$13)*(AJ427-AN427))*$AH$7/1000000","v":209.40535146428817},5222.8793594682238,11788.03871431978,{"$f":"AU427/Sanierungsdesign!$E$11","v":1.7591418824134368},2424960,14.073135059307495,{"$error":"#DIV/0!"},{"$error":"#DIV/0!"},{"$error":"#DIV/0!"},{"$error":"#DIV/0!"},{"$f":"(AY427/(AH427*Sanierungsdesign!$E$10))*1000000","v":{"$error":"#DIV/0!"}},{"$f":"AZ427/Sanierungsdesign!$E$12","v":{"$error":"#DIV/0!"}},{"$f":"$D$5+((-(Sanierungsdesign!$E$12)*MIN($BA$7:$BA$932))/(4*PI()*$D$3))*(-LN((4*$D$4*AH427)/(Sanierungsdesign!$E$13)^2)-$D$19)","v":{"$error":"#DIV/0!"}},{"$f":"(BB427-273.15)/Heterogenität!$D$4","v":{"$error":"#DIV/0!"}},{"$f":"IF(AI427<Berechnung!$D$7,AI427,#N/A)","v":{"$error":"#N/A"}}]
[null,null,null,null,null,null,null,null,null,null,null,null,null,null,null,null,null,null,null,null,null,null,null,null,null,null,null,null,null,null,null,null,{"$f":"Sanierungsdesign!$E$12*AH428*Sanierungsdesign!$E$10/1000000","v":19749.599999999999},3038400,35.166666666666664,{"$f":"$D$5+((-Sanierungsdesign!$E$12)/4*PI()*$D$3)*(-LN((4*$D$4*AH428)/(Sanierungsdesign!$E$13^2))-$D$19)","v":2719.5705850973163},2446.4205850973162,4869.408212074386,{"$f":"$D$3*$T$7*$AH$7*(AK428-$D$5)*(1/Sanierungsdesign!$E$15)/1000000","v":302.10633988819825},{"$f":"$D$5+(-Sanierungsdesign!$E$12/(4*PI()*$D$3))*(-LN((4*$D$4*AH428)/(Sanierungsdesign!$E$13+Sanierungsdesign!$E$15)^2)-$D$19)","v":370.90949294020771},97.759492940207736,{"$f":"(2*PI()*Sanierungsdesign!$E$10*$D$3)*(LN((Sanierungsdesign!$E$13+Sanierungsdesign!$E$15)/Sanierungsdesign!$E$13)*(AJ428-AN428))*$AH$7/1000000","v":209.68609532190794},5235.2852486831125,11816.038806277784,{"$f":"AU428/Sanierungsdesign!$E$11","v":1.7615467353764178},2430720,14.092373883011343,{"$error":"#DIV/0!"},{"$error":"#DIV/0!"},{"$error":"#DIV/0!"},{"$error":"#DIV/0!"},{"$f":"(AY428/(AH428*Sanierungsdesign!$E$10))*1000000","v":{"$error":"#DIV/0!"}},{"$f":"AZ428/Sanierungsdesign!$E$12","v":{"$error":"#DIV/0!"}},{"$f":"$D$5+((-(Sanierungsdesign!$E$12)*MIN($BA$7:$BA$932))/(4*PI()*$D$3))*(-LN((4*$D$4*AH428)/(Sanierungsdesign!$E$13)^2)-$D$19)","v":{"$error":"#DIV/0!"}},{"$f":"(BB428-273.15)/Heterogenität!$D$4","v":{"$error":"#DIV/0!"}},{"$f":"IF(AI428<Berechnung!$D$7,AI428,#N/A)","v":{"$error":"#N/A"}}]
[null,null,null,null,null,null,null,null,null,null,null,null,null,null,null,null,null,null,null,null,null,null,null,null,null,null,null,null,null,null,null,null,{"$f":"Sanierungsdesign!$E$12*AH429*Sanierungsdesign!$E$10/1000000","v":19796.400000000001},3045600,35.25,{"$f":"$D$5+((-Sanierungsdesign!$E$12)/4*PI()*$D$3)*(-LN((4*$D$4*AH429)/(Sanierungsdesign!$E$13^2))-$D$19)","v":2722.8861751995614},2449.7361751995613,4876.0401645687807,{"$f":"$D$3*$T$7*$AH$7*(AK429-$D$5)*(1/Sanierungsdesign!$E$15)/1000000","v":302.56937063306168},{"$f":"$D$5+(-Sanierungsdesign!$E$12/(4*PI()*$D$3))*(-LN((4*$D$4*AH429)/(Sanierungsdesign!$E$13+Sanierungsdesign!$E$15)^2)-$D$19)","v":371.08795786215364},97.937957862153667,{"$f":"(2*PI()*Sanierungsdesign!$E$10*$D$3)*(LN((Sanierungsdesign!$E$13+Sanierungsdesign!$E$15)/Sanierungsdesign!$E$13)*(AJ429-AN429))*$AH$7/1000000","v":209.96617469640327},5247.6911378980012,11844.038898235789,{"$f":"AU429/Sanierungsdesign!$E$11","v":1.7639458963744024},2436480,14.111567170995219,{"$error":"#DIV/0!"},{"$error":"#DIV/0!"},{"$error":"#DIV/0!"},{"$error":"#DIV/0!"},{"$f":"(AY429/(AH429*Sanierungsdesign!$E$10))*1000000","v":{"$error":"#DIV/0!"}},{"$f":"AZ429/Sanierungsdesign!$E$12","v":{"$error":"#DIV/0!"}},{"$f":"$D$5+((-(Sanierungsdesign!$E$12)*MIN($BA$7:$BA$932))/(4*PI()*$D$3))*(-LN((4*$D$4*AH429)/(Sanierungsdesign!$E$13)^2)-$D$19)","v":{"$error":"#DIV/0!"}},{"$f":"(BB429-273.15)/Heterogenität!$D$4","v":{"$error":"#DIV/0!"}},{"$f":"IF(AI429<Berechnung!$D$7,AI429,#N/A)","v":{"$error":"#N/A"}}]
[null,null,null,null,null,null,null,null,null,null,null,null,null,null,null,null,null,null,null,null,null,null,null,null,null,null,null,null,null,null,null,null,{"$f":"Sanierungsdesign!$E$12*AH430*Sanierungsdesign!$E$10/1000000","v":19843.2},3052800,35.333333333333336,{"$f":"$D$5+((-Sanierungsdesign!$E$12)/4*PI()*$D$3)*(-LN((4*$D$4*AH430)/(Sanierungsdesign!$E$13^2))-$D$19)","v":2726.1939362742105},2453.0439362742104,4882.6564571843937,{"$f":"$D$3*$T$7*$AH$7*(AK430-$D$5)*(1/Sanierungsdesign!$E$15)/1000000","v":303.03130803394492},{"$f":"$D$5+(-Sanierungsdesign!$E$12/(4*PI()*$D$3))*(-LN((4*$D$4*AH430)/(Sanierungsdesign!$E$13+Sanierungsdesign!$E$15)^2)-$D$19)","v":371.26600137893314},98.116001378933163,{"$f":"(2*PI()*Sanierungsdesign!$E$10*$D$3)*(LN((Sanierungsdesign!$E$13+Sanierungsdesign!$E$15)/Sanierungsdesign!$E$13)*(AJ430-AN430))*$AH$7/1000000","v":210.24559272583357},5260.0970271128899,11872.038990193792,{"$f":"AU430/Sanierungsdesign!$E$11","v":1.7663393922880184},2442240,14.130715138304147,{"$error":"#DIV/0!"},{"$error":"#DIV/0!"},{"$error":"#DIV/0!"},{"$error":"#DIV/0!"},{"$f":"(AY430/(AH430*Sanierungsdesign!$E$10))*1000000","v":{"$error":"#DIV/0!"}},{"$f":"AZ430/Sanierungsdesign!$E$12","v":{"$error":"#DIV/0!"}},{"$f":"$D$5+((-(Sanierungsdesign!$E$12)*MIN($BA$7:$BA$932))/(4*PI()*$D$3))*(-LN((4*$D$4*AH430)/(Sanierungsdesign!$E$13)^2)-$D$19)","v":{"$error":"#DIV/0!"}},{"$f":"(BB430-273.15)/Heterogenität!$D$4","v":{"$error":"#DIV/0!"}},{"$f":"IF(AI430<Berechnung!$D$7,AI430,#N/A)","v":{"$error":"#N/A"}}]
[null,null,null,null,null,null,null,null,null,null,null,null,null,null,null,null,null,null,null,null,null,null,null,null,null,null,null,null,null,null,null,null,{"$f":"Sanierungsdesign!$E$12*AH431*Sanierungsdesign!$E$10/1000000","v":19890},3060000,35.416666666666664,{"$f":"$D$5+((-Sanierungsdesign!$E$12)/4*PI()*$D$3)*(-LN((4*$D$4*AH431)/(Sanierungsdesign!$E$13^2))-$D$19)","v":2729.4939052071923},2456.3439052071922,4889.2571637016736,{"$f":"$D$3*$T$7*$AH$7*(AK431-$D$5)*(1/Sanierungsdesign!$E$15)/1000000","v":303.49215724206329},{"$f":"$D$5+(-Sanierungsdesign!$E$12/(4*PI()*$D$3))*(-LN((4*$D$4*AH431)/(Sanierungsdesign!$E$13+Sanierungsdesign!$E$15)^2)-$D$19)","v":371.44362547596791},98.293625475967929,{"$f":"(2*PI()*Sanierungsdesign!$E$10*$D$3)*(LN((Sanierungsdesign!$E$13+Sanierungsdesign!$E$15)/Sanierungsdesign!$E$13)*(AJ431-AN431))*$AH$7/1000000","v":210.52435252608083},5272.5029163277786,11900.039082151796,{"$f":"AU431/Sanierungsdesign!$E$11","v":1.7687272498079241},2448000,14.149817998463392,{"$error":"#DIV/0!"},{"$error":"#DIV/0!"},{"$error":"#DIV/0!"},{"$error":"#DIV/0!"},{"$f":"(AY431/(AH431*Sanierungsdesign!$E$10))*1000000","v":{"$error":"#DIV/0!"}},{"$f":"AZ431/Sanierungsdesign!$E$12","v":{"$error":"#DIV/0!"}},{"$f":"$D$5+((-(Sanierungsdesign!$E$12)*MIN($BA$7:$BA$932))/(4*PI()*$D$3))*(-LN((4*$D$4*AH431)/(Sanierungsdesign!$E$13)^2)-$D$19)","v":{"$error":"#DIV/0!"}},{"$f":"(BB431-273.15)/Heterogenität!$D$4","v":{"$error":"#DIV/0!"}},{"$f":"IF(AI431<Berechnung!$D$7,AI431,#N/A)","v":{"$error":"#N/A"}}]
[null,null,null,null,null,null,null,null,null,null,null,null,null,null,null,null,null,null,null,null,null,null,null,null,null,null,null,null,null,null,null,null,{"$f":"Sanierungsdesign!$E$12*AH432*Sanierungsdesign!$E$10/1000000","v":19936.8},3067200,35.5,{"$f":"$D$5+((-Sanierungsdesign!$E$12)/4*PI()*$D$3)*(-LN((4*$D$4*AH432)/(Sanierungsdesign!$E$13^2))-$D$19)","v":2732.7861186243704},2459.6361186243703,4895.8423573808786,{"$f":"$D$3*$T$7*$AH$7*(AK432-$D$5)*(1/Sanierungsdesign!$E$15)/1000000","v":303.95192337231356},{"$f":"$D$5+(-Sanierungsdesign!$E$12/(4*PI()*$D$3))*(-LN((4*$D$4*AH432)/(Sanierungsdesign!$E$13+Sanierungsdesign!$E$15)^2)-$D$19)","v":371.62083212468133},98.470832124681351,{"$f":"(2*PI()*Sanierungsdesign!$E$10*$D$3)*(LN((Sanierungsdesign!$E$13+Sanierungsdesign!$E$15)/Sanierungsdesign!$E$13)*(AJ432-AN432))*$AH$7/1000000","v":210.80245719105864},5284.9088055426682,11928.039174109803,{"$f":"AU432/Sanierungsdesign!$E$11","v":1.771109495436594},2453760,14.168875963492752,{"$error":"#DIV/0!"},{"$error":"#DIV/0!"},{"$error":"#DIV/0!"},{"$error":"#DIV/0!"},{"$f":"(AY432/(AH432*Sanierungsdesign!$E$10))*1000000","v":{"$error":"#DIV/0!"}},{"$f":"AZ432/Sanierungsdesign!$E$12","v":{"$error":"#DIV/0!"}},{"$f":"$D$5+((-(Sanierungsdesign!$E$12)*MIN($BA$7:$BA$932))/(4*PI()*$D$3))*(-LN((4*$D$4*AH432)/(Sanierungsdesign!$E$13)^2)-$D$19)","v":{"$error":"#DIV/0!"}},{"$f":"(BB432-273.15)/Heterogenität!$D$4","v":{"$error":"#DIV/0!"}},{"$f":"IF(AI432<Berechnung!$D$7,AI432,#N/A)","v":{"$error":"#N/A"}}]
[null,null,null,null,null,null,null,null,null,null,null,null,null,null,null,null,null,null,null,null,null,null,null,null,null,null,null,null,null,null,null,null,{"$f":"Sanierungsdesign!$E$12*AH433*Sanierungsdesign!$E$10/1000000","v":19983.599999999999},3074400,35.583333333333336,{"$f":"$D$5+((-Sanierungsdesign!$E$12)/4*PI()*$D$3)*(-LN((4*$D$4*AH433)/(Sanierungsdesign!$E$13^2))-$D$19)","v":2736.0706128939819},2462.9206128939818,4902.4121109669532,{"$f":"$D$3*$T$7*$AH$7*(AK433-$D$5)*(1/Sanierungsdesign!$E$15)/1000000","v":304.41061150361429},{"$f":"$D$5+(-Sanierungsdesign!$E$12/(4*PI()*$D$3))*(-LN((4*$D$4*AH433)/(Sanierungsdesign!$E$13+Sanierungsdesign!$E$15)^2)-$D$19)","v":371.79762328262973},98.647623282629752,{"$f":"(2*PI()*Sanierungsdesign!$E$10*$D$3)*(LN((Sanierungsdesign!$E$13+Sanierungsdesign!$E$15)/Sanierungsdesign!$E$13)*(AJ433-AN433))*$AH$7/1000000","v":211.07990979291782},5297.3146947575569,11956.039266067806,{"$f":"AU433/Sanierungsdesign!$E$11","v":1.7734861554900849},2459520,14.187889243920679,{"$error":"#DIV/0!"},{"$error":"#DIV/0!"},{"$error":"#DIV/0!"},{"$error":"#DIV/0!"},{"$f":"(AY433/(AH433*Sanierungsdesign!$E$10))*1000000","v":{"$error":"#DIV/0!"}},{"$f":"AZ433/Sanierungsdesign!$E$12","v":{"$error":"#DIV/0!"}},{"$f":"$D$5+((-(Sanierungsdesign!$E$12)*MIN($BA$7:$BA$932))/(4*PI()*$D$3))*(-LN((4*$D$4*AH433)/(Sanierungsdesign!$E$13)^2)-$D$19)","v":{"$error":"#DIV/0!"}},{"$f":"(BB433-273.15)/Heterogenität!$D$4","v":{"$error":"#DIV/0!"}},{"$f":"IF(AI433<Berechnung!$D$7,AI433,#N/A)","v":{"$error":"#N/A"}}]
[null,null,null,null,null,null,null,null,null,null,null,null,null,null,null,null,null,null,null,null,null,null,null,null,null,null,null,null,null,null,null,null,{"$f":"Sanierungsdesign!$E$12*AH434*Sanierungsdesign!$E$10/1000000","v":20030.400000000001},3081600,35.666666666666664,{"$f":"$D$5+((-Sanierungsdesign!$E$12)/4*PI()*$D$3)*(-LN((4*$D$4*AH434)/(Sanierungsdesign!$E$13^2))-$D$19)","v":2739.3474241290478},2466.1974241290477,4908.9664966943519,{"$f":"$D$3*$T$7*$AH$7*(AK434-$D$5)*(1/Sanierungsdesign!$E$15)/1000000","v":304.8682266792423},{"$f":"$D$5+(-Sanierungsdesign!$E$12/(4*PI()*$D$3))*(-LN((4*$D$4*AH434)/(Sanierungsdesign!$E$13+Sanierungsdesign!$E$15)^2)-$D$19)","v":371.97400089363225},98.824000893632274,{"$f":"(2*PI()*Sanierungsdesign!$E$10*$D$3)*(LN((Sanierungsdesign!$E$13+Sanierungsdesign!$E$15)/Sanierungsdesign!$E$13)*(AJ434-AN434))*$AH$7/1000000","v":211.35671338225021},5309.7205839724456,11984.03935802581,{"$f":"AU434/Sanierungsdesign!$E$11","v":1.7758572560997787},2465280,14.20685804879823,{"$error":"#DIV/0!"},{"$error":"#DIV/0!"},{"$error":"#DIV/0!"},{"$error":"#DIV/0!"},{"$f":"(AY434/(AH434*Sanierungsdesign!$E$10))*1000000","v":{"$error":"#DIV/0!"}},{"$f":"AZ434/Sanierungsdesign!$E$12","v":{"$error":"#DIV/0!"}},{"$f":"$D$5+((-(Sanierungsdesign!$E$12)*MIN($BA$7:$BA$932))/(4*PI()*$D$3))*(-LN((4*$D$4*AH434)/(Sanierungsdesign!$E$13)^2)-$D$19)","v":{"$error":"#DIV/0!"}},{"$f":"(BB434-273.15)/Heterogenität!$D$4","v":{"$error":"#DIV/0!"}},{"$f":"IF(AI434<Berechnung!$D$7,AI434,#N/A)","v":{"$error":"#N/A"}}]
[null,null,null,null,null,null,null,null,null,null,null,null,null,null,null,null,null,null,null,null,null,null,null,null,null,null,null,null,null,null,null,null,{"$f":"Sanierungsdesign!$E$12*AH435*Sanierungsdesign!$E$10/1000000","v":20077.2},3088800,35.75,{"$f":"$D$5+((-Sanierungsdesign!$E$12)/4*PI()*$D$3)*(-LN((4*$D$4*AH435)/(Sanierungsdesign!$E$13^2))-$D$19)","v":2742.6165881897541},2469.466588189754,4915.5055862917998,{"$f":"$D$3*$T$7*$AH$7*(AK435-$D$5)*(1/Sanierungsdesign!$E$15)/1000000","v":305.32477390716559},{"$f":"$D$5+(-Sanierungsdesign!$E$12/(4*PI()*$D$3))*(-LN((4*$D$4*AH435)/(Sanierungsdesign!$E$13+Sanierungsdesign!$E$15)^2)-$D$19)","v":372.14996688789893},98.99996688789895,{"$f":"(2*PI()*Sanierungsdesign!$E$10*$D$3)*(LN((Sanierungsdesign!$E$13+Sanierungsdesign!$E$15)/Sanierungsdesign!$E$13)*(AJ435-AN435))*$AH$7/1000000","v":211.63287098829011},5322.1264731873343,12012.039449983815,{"$f":"AU435/Sanierungsdesign!$E$11","v":1.7782228232141057},2471040,14.225782585712846,{"$error":"#DIV/0!"},{"$error":"#DIV/0!"},{"$error":"#DIV/0!"},{"$error":"#DIV/0!"},{"$f":"(AY435/(AH435*Sanierungsdesign!$E$10))*1000000","v":{"$error":"#DIV/0!"}},{"$f":"AZ435/Sanierungsdesign!$E$12","v":{"$error":"#DIV/0!"}},{"$f":"$D$5+((-(Sanierungsdesign!$E$12)*MIN($BA$7:$BA$932))/(4*PI()*$D$3))*(-LN((4*$D$4*AH435)/(Sanierungsdesign!$E$13)^2)-$D$19)","v":{"$error":"#DIV/0!"}},{"$f":"(BB435-273.15)/Heterogenität!$D$4","v":{"$error":"#DIV/0!"}},{"$f":"IF(AI435<Berechnung!$D$7,AI435,#N/A)","v":{"$error":"#N/A"}}]
[null,null,null,null,null,null,null,null,null,null,null,null,null,null,null,null,null,null,null,null,null,null,null,null,null,null,null,null,null,null,null,null,{"$f":"Sanierungsdesign!$E$12*AH436*Sanierungsdesign!$E$10/1000000","v":20124},3096000,35.833333333333336,{"$f":"$D$5+((-Sanierungsdesign!$E$12)/4*PI()*$D$3)*(-LN((4*$D$4*AH436)/(Sanierungsdesign!$E$13^2))-$D$19)","v":2745.8781406858093},2472.7281406858092,4922.0294509870073,{"$f":"$D$3*$T$7*$AH$7*(AK436-$D$5)*(1/Sanierungsdesign!$E$15)/1000000","v":305.78025816037194},{"$f":"$D$5+(-Sanierungsdesign!$E$12/(4*PI()*$D$3))*(-LN((4*$D$4*AH436)/(Sanierungsdesign!$E$13+Sanierungsdesign!$E$15)^2)-$D$19)","v":372.32552318215767},99.17552318215769,{"$f":"(2*PI()*Sanierungsdesign!$E$10*$D$3)*(LN((Sanierungsdesign!$E$13+Sanierungsdesign!$E$15)/Sanierungsdesign!$E$13)*(AJ436-AN436))*$AH$7/1000000","v":211.90838561911261},5334.532362402224,12040.03954194182,{"$f":"AU436/Sanierungsdesign!$E$11","v":1.7805828826002514},2476800,14.244663060802012,{"$error":"#DIV/0!"},{"$error":"#DIV/0!"},{"$error":"#DIV/0!"},{"$error":"#DIV/0!"},{"$f":"(AY436/(AH436*Sanierungsdesign!$E$10))*1000000","v":{"$error":"#DIV/0!"}},{"$f":"AZ436/Sanierungsdesign!$E$12","v":{"$error":"#DIV/0!"}},{"$f":"$D$5+((-(Sanierungsdesign!$E$12)*MIN($BA$7:$BA$932))/(4*PI()*$D$3))*(-LN((4*$D$4*AH436)/(Sanierungsdesign!$E$13)^2)-$D$19)","v":{"$error":"#DIV/0!"}},{"$f":"(BB436-273.15)/Heterogenität!$D$4","v":{"$error":"#DIV/0!"}},{"$f":"IF(AI436<Berechnung!$D$7,AI436,#N/A)","v":{"$error":"#N/A"}}]
[null,null,null,null,null,null,null,null,null,null,null,null,null,null,null,null,null,null,null,null,null,null,null,null,null,null,null,null,null,null,null,null,{"$f":"Sanierungsdesign!$E$12*AH437*Sanierungsdesign!$E$10/1000000","v":20170.8},3103200,35.916666666666664,{"$f":"$D$5+((-Sanierungsdesign!$E$12)/4*PI()*$D$3)*(-LN((4*$D$4*AH437)/(Sanierungsdesign!$E$13^2))-$D$19)","v":2749.1321169787684},2475.9821169787683,4928.538161511322,{"$f":"$D$3*$T$7*$AH$7*(AK437-$D$5)*(1/Sanierungsdesign!$E$15)/1000000","v":306.23468437719436},{"$f":"$D$5+(-Sanierungsdesign!$E$12/(4*PI()*$D$3))*(-LN((4*$D$4*AH437)/(Sanierungsdesign!$E$13+Sanierungsdesign!$E$15)^2)-$D$19)","v":372.50067167977915},99.350671679779168,{"$f":"(2*PI()*Sanierungsdesign!$E$10*$D$3)*(LN((Sanierungsdesign!$E$13+Sanierungsdesign!$E$15)/Sanierungsdesign!$E$13)*(AJ437-AN437))*$AH$7/1000000","v":212.18326026183084},5346.9382516171127,12068.039633899823,{"$f":"AU437/Sanierungsdesign!$E$11","v":1.7829374598458365},2482560,14.263499678766692,{"$error":"#DIV/0!"},{"$error":"#DIV/0!"},{"$error":"#DIV/0!"},{"$error":"#DIV/0!"},{"$f":"(AY437/(AH437*Sanierungsdesign!$E$10))*1000000","v":{"$error":"#DIV/0!"}},{"$f":"AZ437/Sanierungsdesign!$E$12","v":{"$error":"#DIV/0!"}},{"$f":"$D$5+((-(Sanierungsdesign!$E$12)*MIN($BA$7:$BA$932))/(4*PI()*$D$3))*(-LN((4*$D$4*AH437)/(Sanierungsdesign!$E$13)^2)-$D$19)","v":{"$error":"#DIV/0!"}},{"$f":"(BB437-273.15)/Heterogenität!$D$4","v":{"$error":"#DIV/0!"}},{"$f":"IF(AI437<Berechnung!$D$7,AI437,#N/A)","v":{"$error":"#N/A"}}]
[null,null,null,null,null,null,null,null,null,null,null,null,null,null,null,null,null,null,null,null,null,null,null,null,null,null,null,null,null,null,null,null,{"$f":"Sanierungsdesign!$E$12*AH438*Sanierungsdesign!$E$10/1000000","v":20217.599999999999},3110400,36,{"$f":"$D$5+((-Sanierungsdesign!$E$12)/4*PI()*$D$3)*(-LN((4*$D$4*AH438)/(Sanierungsdesign!$E$13^2))-$D$19)","v":2752.3785521843374},2479.2285521843373,4935.0317881043338,{"$f":"$D$3*$T$7*$AH$7*(AK438-$D$5)*(1/Sanierungsdesign!$E$15)/1000000","v":306.6880574616319},{"$f":"$D$5+(-Sanierungsdesign!$E$12/(4*PI()*$D$3))*(-LN((4*$D$4*AH438)/(Sanierungsdesign!$E$13+Sanierungsdesign!$E$15)^2)-$D$19)","v":372.67541427090106},99.525414270901081,{"$f":"(2*PI()*Sanierungsdesign!$E$10*$D$3)*(LN((Sanierungsdesign!$E$13+Sanierungsdesign!$E$15)/Sanierungsdesign!$E$13)*(AJ438-AN438))*$AH$7/1000000","v":212.45749788279005},5359.3441408320014,12096.039725857827,{"$f":"AU438/Sanierungsdesign!$E$11","v":1.7852865803605862},2488320,14.282292642884689,{"$error":"#DIV/0!"},{"$error":"#DIV/0!"},{"$error":"#DIV/0!"},{"$error":"#DIV/0!"},{"$f":"(AY438/(AH438*Sanierungsdesign!$E$10))*1000000","v":{"$error":"#DIV/0!"}},{"$f":"AZ438/Sanierungsdesign!$E$12","v":{"$error":"#DIV/0!"}},{"$f":"$D$5+((-(Sanierungsdesign!$E$12)*MIN($BA$7:$BA$932))/(4*PI()*$D$3))*(-LN((4*$D$4*AH438)/(Sanierungsdesign!$E$13)^2)-$D$19)","v":{"$error":"#DIV/0!"}},{"$f":"(BB438-273.15)/Heterogenität!$D$4","v":{"$error":"#DIV/0!"}},{"$f":"IF(AI438<Berechnung!$D$7,AI438,#N/A)","v":{"$error":"#N/A"}}]
[null,null,null,null,null,null,null,null,null,null,null,null,null,null,null,null,null,null,null,null,null,null,null,null,null,null,null,null,null,null,null,null,{"$f":"Sanierungsdesign!$E$12*AH439*Sanierungsdesign!$E$10/1000000","v":20264.400000000001},3117600,36.083333333333336,{"$f":"$D$5+((-Sanierungsdesign!$E$12)/4*PI()*$D$3)*(-LN((4*$D$4*AH439)/(Sanierungsdesign!$E$13^2))-$D$19)","v":2755.6174811746423},2482.4674811746422,4941.5104005184194,{"$f":"$D$3*$T$7*$AH$7*(AK439-$D$5)*(1/Sanierungsdesign!$E$15)/1000000","v":307.14038228366741},{"$f":"$D$5+(-Sanierungsdesign!$E$12/(4*PI()*$D$3))*(-LN((4*$D$4*AH439)/(Sanierungsdesign!$E$13+Sanierungsdesign!$E$15)^2)-$D$19)","v":372.84975283255011},99.699752832550132,{"$f":"(2*PI()*Sanierungsdesign!$E$10*$D$3)*(LN((Sanierungsdesign!$E$13+Sanierungsdesign!$E$15)/Sanierungsdesign!$E$13)*(AJ439-AN439))*$AH$7/1000000","v":212.73110142775937},5371.7500300468901,12124.03981781583,{"$f":"AU439/Sanierungsdesign!$E$11","v":1.7876302693779709},2494080,14.301042155023767,{"$error":"#DIV/0!"},{"$error":"#DIV/0!"},{"$error":"#DIV/0!"},{"$error":"#DIV/0!"},{"$f":"(AY439/(AH439*Sanierungsdesign!$E$10))*1000000","v":{"$error":"#DIV/0!"}},{"$f":"AZ439/Sanierungsdesign!$E$12","v":{"$error":"#DIV/0!"}},{"$f":"$D$5+((-(Sanierungsdesign!$E$12)*MIN($BA$7:$BA$932))/(4*PI()*$D$3))*(-LN((4*$D$4*AH439)/(Sanierungsdesign!$E$13)^2)-$D$19)","v":{"$error":"#DIV/0!"}},{"$f":"(BB439-273.15)/Heterogenität!$D$4","v":{"$error":"#DIV/0!"}},{"$f":"IF(AI439<Berechnung!$D$7,AI439,#N/A)","v":{"$error":"#N/A"}}]
[null,null,null,null,null,null,null,null,null,null,null,null,null,null,null,null,null,null,null,null,null,null,null,null,null,null,null,null,null,null,null,null,{"$f":"Sanierungsdesign!$E$12*AH440*Sanierungsdesign!$E$10/1000000","v":20311.2},3124800,36.166666666666664,{"$f":"$D$5+((-Sanierungsdesign!$E$12)/4*PI()*$D$3)*(-LN((4*$D$4*AH440)/(Sanierungsdesign!$E$13^2))-$D$19)","v":2758.8489385804814},2485.6989385804814,4947.9740680232408,{"$f":"$D$3*$T$7*$AH$7*(AK440-$D$5)*(1/Sanierungsdesign!$E$15)/1000000","v":307.59166367958153},{"$f":"$D$5+(-Sanierungsdesign!$E$12/(4*PI()*$D$3))*(-LN((4*$D$4*AH440)/(Sanierungsdesign!$E$13+Sanierungsdesign!$E$15)^2)-$D$19)","v":373.02368922876332},99.87368922876334,{"$f":"(2*PI()*Sanierungsdesign!$E$10*$D$3)*(LN((Sanierungsdesign!$E$13+Sanierungsdesign!$E$15)/Sanierungsdesign!$E$13)*(AJ440-AN440))*$AH$7/1000000","v":213.00407382212228},5384.1559192617788,12152.039909773834,{"$f":"AU440/Sanierungsdesign!$E$11","v":1.7899685519568362},2499840,14.31974841565469,{"$error":"#DIV/0!"},{"$error":"#DIV/0!"},{"$error":"#DIV/0!"},{"$error":"#DIV/0!"},{"$f":"(AY440/(AH440*Sanierungsdesign!$E$10))*1000000","v":{"$error":"#DIV/0!"}},{"$f":"AZ440/Sanierungsdesign!$E$12","v":{"$error":"#DIV/0!"}},{"$f":"$D$5+((-(Sanierungsdesign!$E$12)*MIN($BA$7:$BA$932))/(4*PI()*$D$3))*(-LN((4*$D$4*AH440)/(Sanierungsdesign!$E$13)^2)-$D$19)","v":{"$error":"#DIV/0!"}},{"$f":"(BB440-273.15)/Heterogenität!$D$4","v":{"$error":"#DIV/0!"}},{"$f":"IF(AI440<Berechnung!$D$7,AI440,#N/A)","v":{"$error":"#N/A"}}]
[null,null,null,null,null,null,null,null,null,null,null,null,null,null,null,null,null,null,null,null,null,null,null,null,null,null,null,null,null,null,null,null,{"$f":"Sanierungsdesign!$E$12*AH441*Sanierungsdesign!$E$10/1000000","v":20358},3132000,36.25,{"$f":"$D$5+((-Sanierungsdesign!$E$12)/4*PI()*$D$3)*(-LN((4*$D$4*AH441)/(Sanierungsdesign!$E$13^2))-$D$19)","v":2762.0729587935425},2488.9229587935424,4954.4228594101842,{"$f":"$D$3*$T$7*$AH$7*(AK441-$D$5)*(1/Sanierungsdesign!$E$15)/1000000","v":308.04190645226254},{"$f":"$D$5+(-Sanierungsdesign!$E$12/(4*PI()*$D$3))*(-LN((4*$D$4*AH441)/(Sanierungsdesign!$E$13+Sanierungsdesign!$E$15)^2)-$D$19)","v":373.19722531070738},100.0472253107074,{"$f":"(2*PI()*Sanierungsdesign!$E$10*$D$3)*(LN((Sanierungsdesign!$E$13+Sanierungsdesign!$E$15)/Sanierungsdesign!$E$13)*(AJ441-AN441))*$AH$7/1000000","v":213.27641797106369},5396.5618084766684,12180.040001731841,{"$f":"AU441/Sanierungsdesign!$E$11","v":1.792301452983007},2505600,14.338411623864056,{"$error":"#DIV/0!"},{"$error":"#DIV/0!"},{"$error":"#DIV/0!"},{"$error":"#DIV/0!"},{"$f":"(AY441/(AH441*Sanierungsdesign!$E$10))*1000000","v":{"$error":"#DIV/0!"}},{"$f":"AZ441/Sanierungsdesign!$E$12","v":{"$error":"#DIV/0!"}},{"$f":"$D$5+((-(Sanierungsdesign!$E$12)*MIN($BA$7:$BA$932))/(4*PI()*$D$3))*(-LN((4*$D$4*AH441)/(Sanierungsdesign!$E$13)^2)-$D$19)","v":{"$error":"#DIV/0!"}},{"$f":"(BB441-273.15)/Heterogenität!$D$4","v":{"$error":"#DIV/0!"}},{"$f":"IF(AI441<Berechnung!$D$7,AI441,#N/A)","v":{"$error":"#N/A"}}]
[null,null,null,null,null,null,null,null,null,null,null,null,null,null,null,null,null,null,null,null,null,null,null,null,null,null,null,null,null,null,null,null,{"$f":"Sanierungsdesign!$E$12*AH442*Sanierungsdesign!$E$10/1000000","v":20404.8},3139200,36.333333333333336,{"$f":"$D$5+((-Sanierungsdesign!$E$12)/4*PI()*$D$3)*(-LN((4*$D$4*AH442)/(Sanierungsdesign!$E$13^2))-$D$19)","v":2765.2895759686025},2492.1395759686025,4960.856842996759,{"$f":"$D$3*$T$7*$AH$7*(AK442-$D$5)*(1/Sanierungsdesign!$E$15)/1000000","v":308.49111537151344},{"$f":"$D$5+(-Sanierungsdesign!$E$12/(4*PI()*$D$3))*(-LN((4*$D$4*AH442)/(Sanierungsdesign!$E$13+Sanierungsdesign!$E$15)^2)-$D$19)","v":373.37036291679692},100.22036291679694,{"$f":"(2*PI()*Sanierungsdesign!$E$10*$D$3)*(LN((Sanierungsdesign!$E$13+Sanierungsdesign!$E$15)/Sanierungsdesign!$E$13)*(AJ442-AN442))*$AH$7/1000000","v":213.54813675975595},5408.9676976915571,12208.040093689844,{"$f":"AU442/Sanierungsdesign!$E$11","v":1.7946289971708804},2511360,14.357031977367043,{"$error":"#DIV/0!"},{"$error":"#DIV/0!"},{"$error":"#DIV/0!"},{"$error":"#DIV/0!"},{"$f":"(AY442/(AH442*Sanierungsdesign!$E$10))*1000000","v":{"$error":"#DIV/0!"}},{"$f":"AZ442/Sanierungsdesign!$E$12","v":{"$error":"#DIV/0!"}},{"$f":"$D$5+((-(Sanierungsdesign!$E$12)*MIN($BA$7:$BA$932))/(4*PI()*$D$3))*(-LN((4*$D$4*AH442)/(Sanierungsdesign!$E$13)^2)-$D$19)","v":{"$error":"#DIV/0!"}},{"$f":"(BB442-273.15)/Heterogenität!$D$4","v":{"$error":"#DIV/0!"}},{"$f":"IF(AI442<Berechnung!$D$7,AI442,#N/A)","v":{"$error":"#N/A"}}]
[null,null,null,null,null,null,null,null,null,null,null,null,null,null,null,null,null,null,null,null,null,null,null,null,null,null,null,null,null,null,null,null,{"$f":"Sanierungsdesign!$E$12*AH443*Sanierungsdesign!$E$10/1000000","v":20451.599999999999},3146400,36.416666666666664,{"$f":"$D$5+((-Sanierungsdesign!$E$12)/4*PI()*$D$3)*(-LN((4*$D$4*AH443)/(Sanierungsdesign!$E$13^2))-$D$19)","v":2768.4988240256966},2495.3488240256966,4967.2760866309372,{"$f":"$D$3*$T$7*$AH$7*(AK443-$D$5)*(1/Sanierungsdesign!$E$15)/1000000","v":308.9392951743551},{"$f":"$D$5+(-Sanierungsdesign!$E$12/(4*PI()*$D$3))*(-LN((4*$D$4*AH443)/(Sanierungsdesign!$E$13+Sanierungsdesign!$E$15)^2)-$D$19)","v":373.54310387281157},100.39310387281159,{"$f":"(2*PI()*Sanierungsdesign!$E$10*$D$3)*(LN((Sanierungsdesign!$E$13+Sanierungsdesign!$E$15)/Sanierungsdesign!$E$13)*(AJ443-AN443))*$AH$7/1000000","v":213.81923305354169},5421.3735869064458,12236.040185647847,{"$f":"AU443/Sanierungsdesign!$E$11","v":1.7969512090649937},2517120,14.37560967251995,{"$error":"#DIV/0!"},{"$error":"#DIV/0!"},{"$error":"#DIV/0!"},{"$error":"#DIV/0!"},{"$f":"(AY443/(AH443*Sanierungsdesign!$E$10))*1000000","v":{"$error":"#DIV/0!"}},{"$f":"AZ443/Sanierungsdesign!$E$12","v":{"$error":"#DIV/0!"}},{"$f":"$D$5+((-(Sanierungsdesign!$E$12)*MIN($BA$7:$BA$932))/(4*PI()*$D$3))*(-LN((4*$D$4*AH443)/(Sanierungsdesign!$E$13)^2)-$D$19)","v":{"$error":"#DIV/0!"}},{"$f":"(BB443-273.15)/Heterogenität!$D$4","v":{"$error":"#DIV/0!"}},{"$f":"IF(AI443<Berechnung!$D$7,AI443,#N/A)","v":{"$error":"#N/A"}}]
[null,null,null,null,null,null,null,null,null,null,null,null,null,null,null,null,null,null,null,null,null,null,null,null,null,null,null,null,null,null,null,null,{"$f":"Sanierungsdesign!$E$12*AH444*Sanierungsdesign!$E$10/1000000","v":20498.400000000001},3153600,36.5,{"$f":"$D$5+((-Sanierungsdesign!$E$12)/4*PI()*$D$3)*(-LN((4*$D$4*AH444)/(Sanierungsdesign!$E$13^2))-$D$19)","v":2771.7007366522657},2498.5507366522656,4973.6806576954468,{"$f":"$D$3*$T$7*$AH$7*(AK444-$D$5)*(1/Sanierungsdesign!$E$15)/1000000","v":309.38645056532579},{"$f":"$D$5+(-Sanierungsdesign!$E$12/(4*PI()*$D$3))*(-LN((4*$D$4*AH444)/(Sanierungsdesign!$E$13+Sanierungsdesign!$E$15)^2)-$D$19)","v":373.71544999201114},100.56544999201117,{"$f":"(2*PI()*Sanierungsdesign!$E$10*$D$3)*(LN((Sanierungsdesign!$E$13+Sanierungsdesign!$E$15)/Sanierungsdesign!$E$13)*(AJ444-AN444))*$AH$7/1000000","v":214.08970969811577},5433.7794761213345,12264.040277605853,{"$f":"AU444/Sanierungsdesign!$E$11","v":1.7992681130415793},2522880,14.394144904332634,{"$error":"#DIV/0!"},{"$error":"#DIV/0!"},{"$error":"#DIV/0!"},{"$error":"#DIV/0!"},{"$f":"(AY444/(AH444*Sanierungsdesign!$E$10))*1000000","v":{"$error":"#DIV/0!"}},{"$f":"AZ444/Sanierungsdesign!$E$12","v":{"$error":"#DIV/0!"}},{"$f":"$D$5+((-(Sanierungsdesign!$E$12)*MIN($BA$7:$BA$932))/(4*PI()*$D$3))*(-LN((4*$D$4*AH444)/(Sanierungsdesign!$E$13)^2)-$D$19)","v":{"$error":"#DIV/0!"}},{"$f":"(BB444-273.15)/Heterogenität!$D$4","v":{"$error":"#DIV/0!"}},{"$f":"IF(AI444<Berechnung!$D$7,AI444,#N/A)","v":{"$error":"#N/A"}}]
[null,null,null,null,null,null,null,null,null,null,null,null,null,null,null,null,null,null,null,null,null,null,null,null,null,null,null,null,null,null,null,null,{"$f":"Sanierungsdesign!$E$12*AH445*Sanierungsdesign!$E$10/1000000","v":20545.2},3160800,36.583333333333336,{"$f":"$D$5+((-Sanierungsdesign!$E$12)/4*PI()*$D$3)*(-LN((4*$D$4*AH445)/(Sanierungsdesign!$E$13^2))-$D$19)","v":2774.895347305277},2501.7453473052769,4980.0706231120148,{"$f":"$D$3*$T$7*$AH$7*(AK445-$D$5)*(1/Sanierungsdesign!$E$15)/1000000","v":309.83258621677766},{"$f":"$D$5+(-Sanierungsdesign!$E$12/(4*PI()*$D$3))*(-LN((4*$D$4*AH445)/(Sanierungsdesign!$E$13+Sanierungsdesign!$E$15)^2)-$D$19)","v":373.88740307525006},100.73740307525009,{"$f":"(2*PI()*Sanierungsdesign!$E$10*$D$3)*(LN((Sanierungsdesign!$E$13+Sanierungsdesign!$E$15)/Sanierungsdesign!$E$13)*(AJ445-AN445))*$AH$7/1000000","v":214.35956951970402},5446.1853653362232,12292.040369563856,{"$f":"AU445/Sanierungsdesign!$E$11","v":1.801579733310098},2528640,14.412637866480784,{"$error":"#DIV/0!"},{"$error":"#DIV/0!"},{"$error":"#DIV/0!"},{"$error":"#DIV/0!"},{"$f":"(AY445/(AH445*Sanierungsdesign!$E$10))*1000000","v":{"$error":"#DIV/0!"}},{"$f":"AZ445/Sanierungsdesign!$E$12","v":{"$error":"#DIV/0!"}},{"$f":"$D$5+((-(Sanierungsdesign!$E$12)*MIN($BA$7:$BA$932))/(4*PI()*$D$3))*(-LN((4*$D$4*AH445)/(Sanierungsdesign!$E$13)^2)-$D$19)","v":{"$error":"#DIV/0!"}},{"$f":"(BB445-273.15)/Heterogenität!$D$4","v":{"$error":"#DIV/0!"}},{"$f":"IF(AI445<Berechnung!$D$7,AI445,#N/A)","v":{"$error":"#N/A"}}]
[null,null,null,null,null,null,null,null,null,null,null,null,null,null,null,null,null,null,null,null,null,null,null,null,null,null,null,null,null,null,null,null,{"$f":"Sanierungsdesign!$E$12*AH446*Sanierungsdesign!$E$10/1000000","v":20592},3168000,36.666666666666664,{"$f":"$D$5+((-Sanierungsdesign!$E$12)/4*PI()*$D$3)*(-LN((4*$D$4*AH446)/(Sanierungsdesign!$E$13^2))-$D$19)","v":2778.0826892133223},2504.9326892133222,4986.4460493455645,{"$f":"$D$3*$T$7*$AH$7*(AK446-$D$5)*(1/Sanierungsdesign!$E$15)/1000000","v":310.27770676916964},{"$f":"$D$5+(-Sanierungsdesign!$E$12/(4*PI()*$D$3))*(-LN((4*$D$4*AH446)/(Sanierungsdesign!$E$13+Sanierungsdesign!$E$15)^2)-$D$19)","v":374.05896491109013},100.90896491109015,{"$f":"(2*PI()*Sanierungsdesign!$E$10*$D$3)*(LN((Sanierungsdesign!$E$13+Sanierungsdesign!$E$15)/Sanierungsdesign!$E$13)*(AJ446-AN446))*$AH$7/1000000","v":214.62881532524059},5458.5912545511128,12320.040461521861,{"$f":"AU446/Sanierungsdesign!$E$11","v":1.8038860939147598},2534400,14.431088751318079,{"$error":"#DIV/0!"},{"$error":"#DIV/0!"},{"$error":"#DIV/0!"},{"$error":"#DIV/0!"},{"$f":"(AY446/(AH446*Sanierungsdesign!$E$10))*1000000","v":{"$error":"#DIV/0!"}},{"$f":"AZ446/Sanierungsdesign!$E$12","v":{"$error":"#DIV/0!"}},{"$f":"$D$5+((-(Sanierungsdesign!$E$12)*MIN($BA$7:$BA$932))/(4*PI()*$D$3))*(-LN((4*$D$4*AH446)/(Sanierungsdesign!$E$13)^2)-$D$19)","v":{"$error":"#DIV/0!"}},{"$f":"(BB446-273.15)/Heterogenität!$D$4","v":{"$error":"#DIV/0!"}},{"$f":"IF(AI446<Berechnung!$D$7,AI446,#N/A)","v":{"$error":"#N/A"}}]
[null,null,null,null,null,null,null,null,null,null,null,null,null,null,null,null,null,null,null,null,null,null,null,null,null,null,null,null,null,null,null,null,{"$f":"Sanierungsdesign!$E$12*AH447*Sanierungsdesign!$E$10/1000000","v":20638.8},3175200,36.75,{"$f":"$D$5+((-Sanierungsdesign!$E$12)/4*PI()*$D$3)*(-LN((4*$D$4*AH447)/(Sanierungsdesign!$E$13^2))-$D$19)","v":2781.2627953786919},2508.1127953786918,4992.8070024083654,{"$f":"$D$3*$T$7*$AH$7*(AK447-$D$5)*(1/Sanierungsdesign!$E$15)/1000000","v":310.72181683135699},{"$f":"$D$5+(-Sanierungsdesign!$E$12/(4*PI()*$D$3))*(-LN((4*$D$4*AH447)/(Sanierungsdesign!$E$13+Sanierungsdesign!$E$15)^2)-$D$19)","v":374.23013727591228},101.08013727591231,{"$f":"(2*PI()*Sanierungsdesign!$E$10*$D$3)*(LN((Sanierungsdesign!$E$13+Sanierungsdesign!$E$15)/Sanierungsdesign!$E$13)*(AJ447-AN447))*$AH$7/1000000","v":214.89744990254329},5470.9971437660015,12348.040553479867,{"$f":"AU447/Sanierungsdesign!$E$11","v":1.8061872187360211},2540160,14.449497749888168,{"$error":"#DIV/0!"},{"$error":"#DIV/0!"},{"$error":"#DIV/0!"},{"$error":"#DIV/0!"},{"$f":"(AY447/(AH447*Sanierungsdesign!$E$10))*1000000","v":{"$error":"#DIV/0!"}},{"$f":"AZ447/Sanierungsdesign!$E$12","v":{"$error":"#DIV/0!"}},{"$f":"$D$5+((-(Sanierungsdesign!$E$12)*MIN($BA$7:$BA$932))/(4*PI()*$D$3))*(-LN((4*$D$4*AH447)/(Sanierungsdesign!$E$13)^2)-$D$19)","v":{"$error":"#DIV/0!"}},{"$f":"(BB447-273.15)/Heterogenität!$D$4","v":{"$error":"#DIV/0!"}},{"$f":"IF(AI447<Berechnung!$D$7,AI447,#N/A)","v":{"$error":"#N/A"}}]
[null,null,null,null,null,null,null,null,null,null,null,null,null,null,null,null,null,null,null,null,null,null,null,null,null,null,null,null,null,null,null,null,{"$f":"Sanierungsdesign!$E$12*AH448*Sanierungsdesign!$E$10/1000000","v":20685.599999999999},3182400,36.833333333333336,{"$f":"$D$5+((-Sanierungsdesign!$E$12)/4*PI()*$D$3)*(-LN((4*$D$4*AH448)/(Sanierungsdesign!$E$13^2))-$D$19)","v":2784.4356985794229},2511.2856985794228,4999.1535478641254,{"$f":"$D$3*$T$7*$AH$7*(AK448-$D$5)*(1/Sanierungsdesign!$E$15)/1000000","v":311.16492098087758},{"$f":"$D$5+(-Sanierungsdesign!$E$12/(4*PI()*$D$3))*(-LN((4*$D$4*AH448)/(Sanierungsdesign!$E$13+Sanierungsdesign!$E$15)^2)-$D$19)","v":374.40092193402705},101.25092193402708,{"$f":"(2*PI()*Sanierungsdesign!$E$10*$D$3)*(LN((Sanierungsdesign!$E$13+Sanierungsdesign!$E$15)/Sanierungsdesign!$E$13)*(AJ448-AN448))*$AH$7/1000000","v":215.16547602048632},5483.4030329808902,12376.04064543787,{"$f":"AU448/Sanierungsdesign!$E$11","v":1.8084831314920702},2545920,14.467865051936561,{"$error":"#DIV/0!"},{"$error":"#DIV/0!"},{"$error":"#DIV/0!"},{"$error":"#DIV/0!"},{"$f":"(AY448/(AH448*Sanierungsdesign!$E$10))*1000000","v":{"$error":"#DIV/0!"}},{"$f":"AZ448/Sanierungsdesign!$E$12","v":{"$error":"#DIV/0!"}},{"$f":"$D$5+((-(Sanierungsdesign!$E$12)*MIN($BA$7:$BA$932))/(4*PI()*$D$3))*(-LN((4*$D$4*AH448)/(Sanierungsdesign!$E$13)^2)-$D$19)","v":{"$error":"#DIV/0!"}},{"$f":"(BB448-273.15)/Heterogenität!$D$4","v":{"$error":"#DIV/0!"}},{"$f":"IF(AI448<Berechnung!$D$7,AI448,#N/A)","v":{"$error":"#N/A"}}]
[null,null,null,null,null,null,null,null,null,null,null,null,null,null,null,null,null,null,null,null,null,null,null,null,null,null,null,null,null,null,null,null,{"$f":"Sanierungsdesign!$E$12*AH449*Sanierungsdesign!$E$10/1000000","v":20732.400000000001},3189600,36.916666666666664,{"$f":"$D$5+((-Sanierungsdesign!$E$12)/4*PI()*$D$3)*(-LN((4*$D$4*AH449)/(Sanierungsdesign!$E$13^2))-$D$19)","v":2787.6014313713304},2514.4514313713303,5005.4857508320574,{"$f":"$D$3*$T$7*$AH$7*(AK449-$D$5)*(1/Sanierungsdesign!$E$15)/1000000","v":311.60702376423518},{"$f":"$D$5+(-Sanierungsdesign!$E$12/(4*PI()*$D$3))*(-LN((4*$D$4*AH449)/(Sanierungsdesign!$E$13+Sanierungsdesign!$E$15)^2)-$D$19)","v":374.57132063778329},101.42132063778331,{"$f":"(2*PI()*Sanierungsdesign!$E$10*$D$3)*(LN((Sanierungsdesign!$E$13+Sanierungsdesign!$E$15)/Sanierungsdesign!$E$13)*(AJ449-AN449))*$AH$7/1000000","v":215.43289642917213},5495.8089221957789,12404.040737395871,{"$f":"AU449/Sanierungsdesign!$E$11","v":1.8107738557402944},2551680,14.486190845922355,{"$error":"#DIV/0!"},{"$error":"#DIV/0!"},{"$error":"#DIV/0!"},{"$error":"#DIV/0!"},{"$f":"(AY449/(AH449*Sanierungsdesign!$E$10))*1000000","v":{"$error":"#DIV/0!"}},{"$f":"AZ449/Sanierungsdesign!$E$12","v":{"$error":"#DIV/0!"}},{"$f":"$D$5+((-(Sanierungsdesign!$E$12)*MIN($BA$7:$BA$932))/(4*PI()*$D$3))*(-LN((4*$D$4*AH449)/(Sanierungsdesign!$E$13)^2)-$D$19)","v":{"$error":"#DIV/0!"}},{"$f":"(BB449-273.15)/Heterogenität!$D$4","v":{"$error":"#DIV/0!"}},{"$f":"IF(AI449<Berechnung!$D$7,AI449,#N/A)","v":{"$error":"#N/A"}}]
[null,null,null,null,null,null,null,null,null,null,null,null,null,null,null,null,null,null,null,null,null,null,null,null,null,null,null,null,null,null,null,null,{"$f":"Sanierungsdesign!$E$12*AH450*Sanierungsdesign!$E$10/1000000","v":20779.2},3196800,37,{"$f":"$D$5+((-Sanierungsdesign!$E$12)/4*PI()*$D$3)*(-LN((4*$D$4*AH450)/(Sanierungsdesign!$E$13^2))-$D$19)","v":2790.7600260900081},2517.610026090008,5011.80367599088,{"$f":"$D$3*$T$7*$AH$7*(AK450-$D$5)*(1/Sanierungsdesign!$E$15)/1000000","v":312.04812969717932},{"$f":"$D$5+(-Sanierungsdesign!$E$12/(4*PI()*$D$3))*(-LN((4*$D$4*AH450)/(Sanierungsdesign!$E$13+Sanierungsdesign!$E$15)^2)-$D$19)","v":374.74133512767634},101.59133512767636,{"$f":"(2*PI()*Sanierungsdesign!$E$10*$D$3)*(LN((Sanierungsdesign!$E$13+Sanierungsdesign!$E$15)/Sanierungsdesign!$E$13)*(AJ450-AN450))*$AH$7/1000000","v":215.69971386010022},5508.2148114106676,12432.040829353877,{"$f":"AU450/Sanierungsdesign!$E$11","v":1.8130594148787296},2557440,14.504475319029837,{"$error":"#DIV/0!"},{"$error":"#DIV/0!"},{"$error":"#DIV/0!"},{"$error":"#DIV/0!"},{"$f":"(AY450/(AH450*Sanierungsdesign!$E$10))*1000000","v":{"$error":"#DIV/0!"}},{"$f":"AZ450/Sanierungsdesign!$E$12","v":{"$error":"#DIV/0!"}},{"$f":"$D$5+((-(Sanierungsdesign!$E$12)*MIN($BA$7:$BA$932))/(4*PI()*$D$3))*(-LN((4*$D$4*AH450)/(Sanierungsdesign!$E$13)^2)-$D$19)","v":{"$error":"#DIV/0!"}},{"$f":"(BB450-273.15)/Heterogenität!$D$4","v":{"$error":"#DIV/0!"}},{"$f":"IF(AI450<Berechnung!$D$7,AI450,#N/A)","v":{"$error":"#N/A"}}]
[null,null,null,null,null,null,null,null,null,null,null,null,null,null,null,null,null,null,null,null,null,null,null,null,null,null,null,null,null,null,null,null,{"$f":"Sanierungsdesign!$E$12*AH451*Sanierungsdesign!$E$10/1000000","v":20826},3204000,37.083333333333336,{"$f":"$D$5+((-Sanierungsdesign!$E$12)/4*PI()*$D$3)*(-LN((4*$D$4*AH451)/(Sanierungsdesign!$E$13^2))-$D$19)","v":2793.9115148528117},2520.7615148528116,5018.1073875827879,{"$f":"$D$3*$T$7*$AH$7*(AK451-$D$5)*(1/Sanierungsdesign!$E$15)/1000000","v":312.4882432649818},{"$f":"$D$5+(-Sanierungsdesign!$E$12/(4*PI()*$D$3))*(-LN((4*$D$4*AH451)/(Sanierungsdesign!$E$13+Sanierungsdesign!$E$15)^2)-$D$19)","v":374.91096713245474},101.76096713245477,{"$f":"(2*PI()*Sanierungsdesign!$E$10*$D$3)*(LN((Sanierungsdesign!$E$13+Sanierungsdesign!$E$15)/Sanierungsdesign!$E$13)*(AJ451-AN451))*$AH$7/1000000","v":215.96593102633477},5520.6207006255572,12460.040921311882,{"$f":"AU451/Sanierungsdesign!$E$11","v":1.8153398321474943},2563200,14.522718657179954,{"$error":"#DIV/0!"},{"$error":"#DIV/0!"},{"$error":"#DIV/0!"},{"$error":"#DIV/0!"},{"$f":"(AY451/(AH451*Sanierungsdesign!$E$10))*1000000","v":{"$error":"#DIV/0!"}},{"$f":"AZ451/Sanierungsdesign!$E$12","v":{"$error":"#DIV/0!"}},{"$f":"$D$5+((-(Sanierungsdesign!$E$12)*MIN($BA$7:$BA$932))/(4*PI()*$D$3))*(-LN((4*$D$4*AH451)/(Sanierungsdesign!$E$13)^2)-$D$19)","v":{"$error":"#DIV/0!"}},{"$f":"(BB451-273.15)/Heterogenität!$D$4","v":{"$error":"#DIV/0!"}},{"$f":"IF(AI451<Berechnung!$D$7,AI451,#N/A)","v":{"$error":"#N/A"}}]
[null,null,null,null,null,null,null,null,null,null,null,null,null,null,null,null,null,null,null,null,null,null,null,null,null,null,null,null,null,null,null,null,{"$f":"Sanierungsdesign!$E$12*AH452*Sanierungsdesign!$E$10/1000000","v":20872.8},3211200,37.166666666666664,{"$f":"$D$5+((-Sanierungsdesign!$E$12)/4*PI()*$D$3)*(-LN((4*$D$4*AH452)/(Sanierungsdesign!$E$13^2))-$D$19)","v":2797.0559295608177},2523.9059295608176,5024.3969494173634,{"$f":"$D$3*$T$7*$AH$7*(AK452-$D$5)*(1/Sanierungsdesign!$E$15)/1000000","v":312.92736892271068},{"$f":"$D$5+(-Sanierungsdesign!$E$12/(4*PI()*$D$3))*(-LN((4*$D$4*AH452)/(Sanierungsdesign!$E$13+Sanierungsdesign!$E$15)^2)-$D$19)","v":375.08021836922552},101.93021836922554,{"$f":"(2*PI()*Sanierungsdesign!$E$10*$D$3)*(LN((Sanierungsdesign!$E$13+Sanierungsdesign!$E$15)/Sanierungsdesign!$E$13)*(AJ452-AN452))*$AH$7/1000000","v":216.23155062267031},5533.0265898404459,12488.041013269885,{"$f":"AU452/Sanierungsdesign!$E$11","v":1.8176151306302075},2568960,14.54092104504166,{"$error":"#DIV/0!"},{"$error":"#DIV/0!"},{"$error":"#DIV/0!"},{"$error":"#DIV/0!"},{"$f":"(AY452/(AH452*Sanierungsdesign!$E$10))*1000000","v":{"$error":"#DIV/0!"}},{"$f":"AZ452/Sanierungsdesign!$E$12","v":{"$error":"#DIV/0!"}},{"$f":"$D$5+((-(Sanierungsdesign!$E$12)*MIN($BA$7:$BA$932))/(4*PI()*$D$3))*(-LN((4*$D$4*AH452)/(Sanierungsdesign!$E$13)^2)-$D$19)","v":{"$error":"#DIV/0!"}},{"$f":"(BB452-273.15)/Heterogenität!$D$4","v":{"$error":"#DIV/0!"}},{"$f":"IF(AI452<Berechnung!$D$7,AI452,#N/A)","v":{"$error":"#N/A"}}]
[null,null,null,null,null,null,null,null,null,null,null,null,null,null,null,null,null,null,null,null,null,null,null,null,null,null,null,null,null,null,null,null,{"$f":"Sanierungsdesign!$E$12*AH453*Sanierungsdesign!$E$10/1000000","v":20919.599999999999},3218400,37.25,{"$f":"$D$5+((-Sanierungsdesign!$E$12)/4*PI()*$D$3)*(-LN((4*$D$4*AH453)/(Sanierungsdesign!$E$13^2))-$D$19)","v":2800.193301900762},2527.0433019007619,5030.6724248754581,{"$f":"$D$3*$T$7*$AH$7*(AK453-$D$5)*(1/Sanierungsdesign!$E$15)/1000000","v":313.36551109550061},{"$f":"$D$5+(-Sanierungsdesign!$E$12/(4*PI()*$D$3))*(-LN((4*$D$4*AH453)/(Sanierungsdesign!$E$13+Sanierungsdesign!$E$15)^2)-$D$19)","v":375.24909054355862},102.09909054355865,{"$f":"(2*PI()*Sanierungsdesign!$E$10*$D$3)*(LN((Sanierungsdesign!$E$13+Sanierungsdesign!$E$15)/Sanierungsdesign!$E$13)*(AJ453-AN453))*$AH$7/1000000","v":216.49657532579499},5545.4324790553346,12516.041105227891,{"$f":"AU453/Sanierungsdesign!$E$11","v":1.819885333255391},2574720,14.559082666043128,{"$error":"#DIV/0!"},{"$error":"#DIV/0!"},{"$error":"#DIV/0!"},{"$error":"#DIV/0!"},{"$f":"(AY453/(AH453*Sanierungsdesign!$E$10))*1000000","v":{"$error":"#DIV/0!"}},{"$f":"AZ453/Sanierungsdesign!$E$12","v":{"$error":"#DIV/0!"}},{"$f":"$D$5+((-(Sanierungsdesign!$E$12)*MIN($BA$7:$BA$932))/(4*PI()*$D$3))*(-LN((4*$D$4*AH453)/(Sanierungsdesign!$E$13)^2)-$D$19)","v":{"$error":"#DIV/0!"}},{"$f":"(BB453-273.15)/Heterogenität!$D$4","v":{"$error":"#DIV/0!"}},{"$f":"IF(AI453<Berechnung!$D$7,AI453,#N/A)","v":{"$error":"#N/A"}}]
[null,null,null,null,null,null,null,null,null,null,null,null,null,null,null,null,null,null,null,null,null,null,null,null,null,null,null,null,null,null,null,null,{"$f":"Sanierungsdesign!$E$12*AH454*Sanierungsdesign!$E$10/1000000","v":20966.400000000001},3225600,37.333333333333336,{"$f":"$D$5+((-Sanierungsdesign!$E$12)/4*PI()*$D$3)*(-LN((4*$D$4*AH454)/(Sanierungsdesign!$E$13^2))-$D$19)","v":2803.3236633469542},2530.1736633469541,5036.9338769130236,{"$f":"$D$3*$T$7*$AH$7*(AK454-$D$5)*(1/Sanierungsdesign!$E$15)/1000000","v":313.80267417882044},{"$f":"$D$5+(-Sanierungsdesign!$E$12/(4*PI()*$D$3))*(-LN((4*$D$4*AH454)/(Sanierungsdesign!$E$13+Sanierungsdesign!$E$15)^2)-$D$19)","v":375.41758534959001},102.26758534959004,{"$f":"(2*PI()*Sanierungsdesign!$E$10*$D$3)*(LN((Sanierungsdesign!$E$13+Sanierungsdesign!$E$15)/Sanierungsdesign!$E$13)*(AJ454-AN454))*$AH$7/1000000","v":216.76100779445278},5557.8383682702233,12544.041197185894,{"$f":"AU454/Sanierungsdesign!$E$11","v":1.8221504627978558},2580480,14.577203702382846,{"$error":"#DIV/0!"},{"$error":"#DIV/0!"},{"$error":"#DIV/0!"},{"$error":"#DIV/0!"},{"$f":"(AY454/(AH454*Sanierungsdesign!$E$10))*1000000","v":{"$error":"#DIV/0!"}},{"$f":"AZ454/Sanierungsdesign!$E$12","v":{"$error":"#DIV/0!"}},{"$f":"$D$5+((-(Sanierungsdesign!$E$12)*MIN($BA$7:$BA$932))/(4*PI()*$D$3))*(-LN((4*$D$4*AH454)/(Sanierungsdesign!$E$13)^2)-$D$19)","v":{"$error":"#DIV/0!"}},{"$f":"(BB454-273.15)/Heterogenität!$D$4","v":{"$error":"#DIV/0!"}},{"$f":"IF(AI454<Berechnung!$D$7,AI454,#N/A)","v":{"$error":"#N/A"}}]
[null,null,null,null,null,null,null,null,null,null,null,null,null,null,null,null,null,null,null,null,null,null,null,null,null,null,null,null,null,null,null,null,{"$f":"Sanierungsdesign!$E$12*AH455*Sanierungsdesign!$E$10/1000000","v":21013.200000000001},3232800,{"$f":"AH455/86400","v":37.416666666666664},{"$f":"$D$5+((-Sanierungsdesign!$E$12)/4*PI()*$D$3)*(-LN((4*$D$4*AH455)/(Sanierungsdesign!$E$13^2))-$D$19)","v":2806.4470451631732},{"$f":"AJ455-273.15","v":2533.2970451631732},5043.1813680648993,{"$f":"$D$3*$T$7*$AH$7*(AK455-$D$5)*(1/Sanierungsdesign!$E$15)/1000000","v":314.23886253873792},{"$f":"$D$5+(-Sanierungsdesign!$E$12/(4*PI()*$D$3))*(-LN((4*$D$4*AH455)/(Sanierungsdesign!$E$13+Sanierungsdesign!$E$15)^2)-$D$19)","v":375.58570447012346},{"$f":"AN455-273.15","v":102.43570447012348},{"$f":"(2*PI()*Sanierungsdesign!$E$10*$D$3)*(LN((Sanierungsdesign!$E$13+Sanierungsdesign!$E$15)/Sanierungsdesign!$E$13)*(AJ455-AN455))*$AH$7/1000000","v":217.02485066960324},5570.244257485112,12572.041289143897,{"$f":"AU455/Sanierungsdesign!$E$11","v":1.8244105418800718},2586240,14.595284335040574,{"$error":"#DIV/0!"},{"$error":"#DIV/0!"},{"$error":"#DIV/0!"},{"$f":"AG455-AX455","v":{"$error":"#DIV/0!"}},{"$f":"(AY455/(AH455*Sanierungsdesign!$E$10))*1000000","v":{"$error":"#DIV/0!"}},{"$f":"AZ455/Sanierungsdesign!$E$12","v":{"$error":"#DIV/0!"}},{"$f":"$D$5+((-(Sanierungsdesign!$E$12)*MIN($BA$7:$BA$932))/(4*PI()*$D$3))*(-LN((4*$D$4*AH455)/(Sanierungsdesign!$E$13)^2)-$D$19)","v":{"$error":"#DIV/0!"}},{"$f":"(BB455-273.15)/Heterogenität!$D$4","v":{"$error":"#DIV/0!"}},{"$f":"IF(AI455<Berechnung!$D$7,AI455,#N/A)","v":{"$error":"#N/A"}}]
[null,null,null,null,null,null,null,null,null,null,null,null,null,null,null,null,null,null,null,null,null,null,null,null,null,null,null,null,null,null,null,null,{"$f":"Sanierungsdesign!$E$12*AH456*Sanierungsdesign!$E$10/1000000","v":21060},3240000,37.5,{"$f":"$D$5+((-Sanierungsdesign!$E$12)/4*PI()*$D$3)*(-LN((4*$D$4*AH456)/(Sanierungsdesign!$E$13^2))-$D$19)","v":2809.5634784045419},2536.4134784045418,{"$f":"$T$4*$T$7*$AH$7*(AJ456-$D$2)/1000000","v":5049.4149604485656},{"$f":"$D$3*$T$7*$AH$7*(AK456-$D$5)*(1/Sanierungsdesign!$E$15)/1000000","v":314.67408051218126},{"$f":"$D$5+(-Sanierungsdesign!$E$12/(4*PI()*$D$3))*(-LN((4*$D$4*AH456)/(Sanierungsdesign!$E$13+Sanierungsdesign!$E$15)^2)-$D$19)","v":375.75344957673178},102.6034495767318,{"$f":"(2*PI()*Sanierungsdesign!$E$10*$D$3)*(LN((Sanierungsdesign!$E$13+Sanierungsdesign!$E$15)/Sanierungsdesign!$E$13)*(AJ456-AN456))*$AH$7/1000000","v":217.28810657458018},{"$f":"$T$20*AH456","v":5582.6501467000016},{"$f":"$D$12*AQ456/1000000","v":12600.041381101904},{"$f":"AU456/Sanierungsdesign!$E$11","v":1.8266655929735263},{"$f":"$T$18/$D$24*AH456","v":2592000},{"$f":"($D$10*$T$18)*(AJ456-$D$2)/1000000","v":14.61332474378821},{"$f":"($D$17*$L$10*$T$28+$L$2*$D$10*$T$28+$D$16*$L$4*$T$28+$D$18*$L$7*$T$28)*(AJ456-$D$5)/1000000","v":{"$error":"#DIV/0!"}},{"$f":"AV456*$D$28","v":{"$error":"#DIV/0!"}},{"$f":"AL456+AM456+AR456+(0.5*AP456)-(2*AW456)+AS456","v":{"$error":"#DIV/0!"}},{"$error":"#DIV/0!"},{"$f":"(AY456/(AH456*Sanierungsdesign!$E$10))*1000000","v":{"$error":"#DIV/0!"}},{"$f":"AZ456/Sanierungsdesign!$E$12","v":{"$error":"#DIV/0!"}},{"$f":"$D$5+((-(Sanierungsdesign!$E$12)*MIN($BA$7:$BA$932))/(4*PI()*$D$3))*(-LN((4*$D$4*AH456)/(Sanierungsdesign!$E$13)^2)-$D$19)","v":{"$error":"#DIV/0!"}},{"$f":"(BB456-273.15)/Heterogenität!$D$4","v":{"$error":"#DIV/0!"}},{"$f":"IF(AI456<Berechnung!$D$7,AI456,#N/A)","v":{"$error":"#N/A"}}]
[null,null,null,null,null,null,null,null,null,null,null,null,null,null,null,null,null,null,null,null,null,null,null,null,null,null,null,null,null,null,null,null,{"$f":"Sanierungsdesign!$E$12*AH457*Sanierungsdesign!$E$10/1000000","v":21106.799999999999},{"$f":"AH456+$D$24","v":3247200},37.583333333333336,{"$f":"$D$5+((-Sanierungsdesign!$E$12)/4*PI()*$D$3)*(-LN((4*$D$4*AH457)/(Sanierungsdesign!$E$13^2))-$D$19)","v":2812.672993919376},2539.5229939193759,5055.6347157678383,{"$f":"$D$3*$T$7*$AH$7*(AK457-$D$5)*(1/Sanierungsdesign!$E$15)/1000000","v":315.10833240719785},{"$f":"$D$5+(-Sanierungsdesign!$E$12/(4*PI()*$D$3))*(-LN((4*$D$4*AH457)/(Sanierungsdesign!$E$13+Sanierungsdesign!$E$15)^2)-$D$19)","v":375.92082232985615},102.77082232985617,{"$f":"(2*PI()*Sanierungsdesign!$E$10*$D$3)*(LN((Sanierungsdesign!$E$13+Sanierungsdesign!$E$15)/Sanierungsdesign!$E$13)*(AJ457-AN457))*$AH$7/1000000","v":217.55077811524762},5595.0560359148903,12628.041473059908,{"$f":"AU457/Sanierungsdesign!$E$11","v":1.8289156384000602},2597760,14.631325107200482,{"$error":"#DIV/0!"},{"$error":"#DIV/0!"},{"$error":"#DIV/0!"},{"$error":"#DIV/0!"},{"$f":"(AY457/(AH457*Sanierungsdesign!$E$10))*1000000","v":{"$error":"#DIV/0!"}},{"$f":"AZ457/Sanierungsdesign!$E$12","v":{"$error":"#DIV/0!"}},{"$f":"$D$5+((-(Sanierungsdesign!$E$12)*MIN($BA$7:$BA$932))/(4*PI()*$D$3))*(-LN((4*$D$4*AH457)/(Sanierungsdesign!$E$13)^2)-$D$19)","v":{"$error":"#DIV/0!"}},{"$f":"(BB457-273.15)/Heterogenität!$D$4","v":{"$error":"#DIV/0!"}},{"$f":"IF(AI457<Berechnung!$D$7,AI457,#N/A)","v":{"$error":"#N/A"}}]
[null,null,null,null,null,null,null,null,null,null,null,null,null,null,null,null,null,null,null,null,null,null,null,null,null,null,null,null,null,null,null,null,{"$f":"Sanierungsdesign!$E$12*AH458*Sanierungsdesign!$E$10/1000000","v":21153.599999999999},3254400,37.666666666666664,{"$f":"$D$5+((-Sanierungsdesign!$E$12)/4*PI()*$D$3)*(-LN((4*$D$4*AH458)/(Sanierungsdesign!$E$13^2))-$D$19)","v":2815.7756223510219},2542.6256223510218,5061.8406953165486,{"$f":"$D$3*$T$7*$AH$7*(AK458-$D$5)*(1/Sanierungsdesign!$E$15)/1000000","v":315.54162250321025},{"$f":"$D$5+(-Sanierungsdesign!$E$12/(4*PI()*$D$3))*(-LN((4*$D$4*AH458)/(Sanierungsdesign!$E$13+Sanierungsdesign!$E$15)^2)-$D$19)","v":376.08782437890494},102.93782437890496,{"$f":"(2*PI()*Sanierungsdesign!$E$10*$D$3)*(LN((Sanierungsdesign!$E$13+Sanierungsdesign!$E$15)/Sanierungsdesign!$E$13)*(AJ458-AN458))*$AH$7/1000000","v":217.8128678801551},5607.461925129779,12656.041565017911,{"$f":"AU458/Sanierungsdesign!$E$11","v":1.8311607003331993},2603520,14.649285602665595,{"$error":"#DIV/0!"},{"$error":"#DIV/0!"},{"$error":"#DIV/0!"},{"$error":"#DIV/0!"},{"$f":"(AY458/(AH458*Sanierungsdesign!$E$10))*1000000","v":{"$error":"#DIV/0!"}},{"$f":"AZ458/Sanierungsdesign!$E$12","v":{"$error":"#DIV/0!"}},{"$f":"$D$5+((-(Sanierungsdesign!$E$12)*MIN($BA$7:$BA$932))/(4*PI()*$D$3))*(-LN((4*$D$4*AH458)/(Sanierungsdesign!$E$13)^2)-$D$19)","v":{"$error":"#DIV/0!"}},{"$f":"(BB458-273.15)/Heterogenität!$D$4","v":{"$error":"#DIV/0!"}},{"$f":"IF(AI458<Berechnung!$D$7,AI458,#N/A)","v":{"$error":"#N/A"}}]
[null,null,null,null,null,null,null,null,null,null,null,null,null,null,null,null,null,null,null,null,null,null,null,null,null,null,null,null,null,null,null,null,{"$f":"Sanierungsdesign!$E$12*AH459*Sanierungsdesign!$E$10/1000000","v":21200.400000000001},3261600,37.75,{"$f":"$D$5+((-Sanierungsdesign!$E$12)/4*PI()*$D$3)*(-LN((4*$D$4*AH459)/(Sanierungsdesign!$E$13^2))-$D$19)","v":2818.8713941396613},2545.7213941396612,5068.0329599821489,{"$f":"$D$3*$T$7*$AH$7*(AK459-$D$5)*(1/Sanierungsdesign!$E$15)/1000000","v":315.97395505126872},{"$f":"$D$5+(-Sanierungsdesign!$E$12/(4*PI()*$D$3))*(-LN((4*$D$4*AH459)/(Sanierungsdesign!$E$13+Sanierungsdesign!$E$15)^2)-$D$19)","v":376.25445736235122},103.10445736235124,{"$f":"(2*PI()*Sanierungsdesign!$E$10*$D$3)*(LN((Sanierungsdesign!$E$13+Sanierungsdesign!$E$15)/Sanierungsdesign!$E$13)*(AJ459-AN459))*$AH$7/1000000","v":218.07437844069011},5619.8678143446677,12684.041656975916,{"$f":"AU459/Sanierungsdesign!$E$11","v":1.8334008007994587},2609280,14.667206406395669,{"$error":"#DIV/0!"},{"$error":"#DIV/0!"},{"$error":"#DIV/0!"},{"$error":"#DIV/0!"},{"$f":"(AY459/(AH459*Sanierungsdesign!$E$10))*1000000","v":{"$error":"#DIV/0!"}},{"$f":"AZ459/Sanierungsdesign!$E$12","v":{"$error":"#DIV/0!"}},{"$f":"$D$5+((-(Sanierungsdesign!$E$12)*MIN($BA$7:$BA$932))/(4*PI()*$D$3))*(-LN((4*$D$4*AH459)/(Sanierungsdesign!$E$13)^2)-$D$19)","v":{"$error":"#DIV/0!"}},{"$f":"(BB459-273.15)/Heterogenität!$D$4","v":{"$error":"#DIV/0!"}},{"$f":"IF(AI459<Berechnung!$D$7,AI459,#N/A)","v":{"$error":"#N/A"}}]
[null,null,null,null,null,null,null,null,null,null,null,null,null,null,null,null,null,null,null,null,null,null,null,null,null,null,null,null,null,null,null,null,{"$f":"Sanierungsdesign!$E$12*AH460*Sanierungsdesign!$E$10/1000000","v":21247.200000000001},3268800,37.833333333333336,{"$f":"$D$5+((-Sanierungsdesign!$E$12)/4*PI()*$D$3)*(-LN((4*$D$4*AH460)/(Sanierungsdesign!$E$13^2))-$D$19)","v":2821.9603395241111},2548.810339524111,5074.2115702493174,{"$f":"$D$3*$T$7*$AH$7*(AK460-$D$5)*(1/Sanierungsdesign!$E$15)/1000000","v":316.40533427430222},{"$f":"$D$5+(-Sanierungsdesign!$E$12/(4*PI()*$D$3))*(-LN((4*$D$4*AH460)/(Sanierungsdesign!$E$13+Sanierungsdesign!$E$15)^2)-$D$19)","v":376.4207229078292},103.27072290782922,{"$f":"(2*PI()*Sanierungsdesign!$E$10*$D$3)*(LN((Sanierungsdesign!$E$13+Sanierungsdesign!$E$15)/Sanierungsdesign!$E$13)*(AJ460-AN460))*$AH$7/1000000","v":218.33531235123024},5632.2737035595574,12712.041748933922,{"$f":"AU460/Sanierungsdesign!$E$11","v":1.8356359616796465},2615040,14.685087693437172,{"$error":"#DIV/0!"},{"$error":"#DIV/0!"},{"$error":"#DIV/0!"},{"$error":"#DIV/0!"},{"$f":"(AY460/(AH460*Sanierungsdesign!$E$10))*1000000","v":{"$error":"#DIV/0!"}},{"$f":"AZ460/Sanierungsdesign!$E$12","v":{"$error":"#DIV/0!"}},{"$f":"$D$5+((-(Sanierungsdesign!$E$12)*MIN($BA$7:$BA$932))/(4*PI()*$D$3))*(-LN((4*$D$4*AH460)/(Sanierungsdesign!$E$13)^2)-$D$19)","v":{"$error":"#DIV/0!"}},{"$f":"(BB460-273.15)/Heterogenität!$D$4","v":{"$error":"#DIV/0!"}},{"$f":"IF(AI460<Berechnung!$D$7,AI460,#N/A)","v":{"$error":"#N/A"}}]
[null,null,null,null,null,null,null,null,null,null,null,null,null,null,null,null,null,null,null,null,null,null,null,null,null,null,null,null,null,null,null,null,{"$f":"Sanierungsdesign!$E$12*AH461*Sanierungsdesign!$E$10/1000000","v":21294},3276000,37.916666666666664,{"$f":"$D$5+((-Sanierungsdesign!$E$12)/4*PI()*$D$3)*(-LN((4*$D$4*AH461)/(Sanierungsdesign!$E$13^2))-$D$19)","v":2825.04248854359},2551.8924885435899,5080.3765862034879,{"$f":"$D$3*$T$7*$AH$7*(AK461-$D$5)*(1/Sanierungsdesign!$E$15)/1000000","v":316.83576436736564},{"$f":"$D$5+(-Sanierungsdesign!$E$12/(4*PI()*$D$3))*(-LN((4*$D$4*AH461)/(Sanierungsdesign!$E$13+Sanierungsdesign!$E$15)^2)-$D$19)","v":376.58662263222959},103.43662263222961,{"$f":"(2*PI()*Sanierungsdesign!$E$10*$D$3)*(LN((Sanierungsdesign!$E$13+Sanierungsdesign!$E$15)/Sanierungsdesign!$E$13)*(AJ461-AN461))*$AH$7/1000000","v":218.59567214929234},5644.6795927744461,12740.041840891923,{"$f":"AU461/Sanierungsdesign!$E$11","v":1.8378662047101415},2620800,14.702929637681132,{"$error":"#DIV/0!"},{"$error":"#DIV/0!"},{"$error":"#DIV/0!"},{"$error":"#DIV/0!"},{"$f":"(AY461/(AH461*Sanierungsdesign!$E$10))*1000000","v":{"$error":"#DIV/0!"}},{"$f":"AZ461/Sanierungsdesign!$E$12","v":{"$error":"#DIV/0!"}},{"$f":"$D$5+((-(Sanierungsdesign!$E$12)*MIN($BA$7:$BA$932))/(4*PI()*$D$3))*(-LN((4*$D$4*AH461)/(Sanierungsdesign!$E$13)^2)-$D$19)","v":{"$error":"#DIV/0!"}},{"$f":"(BB461-273.15)/Heterogenität!$D$4","v":{"$error":"#DIV/0!"}},{"$f":"IF(AI461<Berechnung!$D$7,AI461,#N/A)","v":{"$error":"#N/A"}}]
[null,null,null,null,null,null,null,null,null,null,null,null,null,null,null,null,null,null,null,null,null,null,null,null,null,null,null,null,null,null,null,null,{"$f":"Sanierungsdesign!$E$12*AH462*Sanierungsdesign!$E$10/1000000","v":21340.799999999999},3283200,38,{"$f":"$D$5+((-Sanierungsdesign!$E$12)/4*PI()*$D$3)*(-LN((4*$D$4*AH462)/(Sanierungsdesign!$E$13^2))-$D$19)","v":2828.1178710394724},2554.9678710394724,5086.528067534362,{"$f":"$D$3*$T$7*$AH$7*(AK462-$D$5)*(1/Sanierungsdesign!$E$15)/1000000","v":317.26524949788416},{"$f":"$D$5+(-Sanierungsdesign!$E$12/(4*PI()*$D$3))*(-LN((4*$D$4*AH462)/(Sanierungsdesign!$E$13+Sanierungsdesign!$E$15)^2)-$D$19)","v":376.75215814179387},103.60215814179389,{"$f":"(2*PI()*Sanierungsdesign!$E$10*$D$3)*(LN((Sanierungsdesign!$E$13+Sanierungsdesign!$E$15)/Sanierungsdesign!$E$13)*(AJ462-AN462))*$AH$7/1000000","v":218.85546035568052},5657.0854819893348,12768.041932849928,{"$f":"AU462/Sanierungsdesign!$E$11","v":1.840091551484162},2626560,14.720732411873296,{"$error":"#DIV/0!"},{"$error":"#DIV/0!"},{"$error":"#DIV/0!"},{"$error":"#DIV/0!"},{"$f":"(AY462/(AH462*Sanierungsdesign!$E$10))*1000000","v":{"$error":"#DIV/0!"}},{"$f":"AZ462/Sanierungsdesign!$E$12","v":{"$error":"#DIV/0!"}},{"$f":"$D$5+((-(Sanierungsdesign!$E$12)*MIN($BA$7:$BA$932))/(4*PI()*$D$3))*(-LN((4*$D$4*AH462)/(Sanierungsdesign!$E$13)^2)-$D$19)","v":{"$error":"#DIV/0!"}},{"$f":"(BB462-273.15)/Heterogenität!$D$4","v":{"$error":"#DIV/0!"}},{"$f":"IF(AI462<Berechnung!$D$7,AI462,#N/A)","v":{"$error":"#N/A"}}]
[null,null,null,null,null,null,null,null,null,null,null,null,null,null,null,null,null,null,null,null,null,null,null,null,null,null,null,null,null,null,null,null,{"$f":"Sanierungsdesign!$E$12*AH463*Sanierungsdesign!$E$10/1000000","v":21387.599999999999},3290400,38.083333333333336,{"$f":"$D$5+((-Sanierungsdesign!$E$12)/4*PI()*$D$3)*(-LN((4*$D$4*AH463)/(Sanierungsdesign!$E$13^2))-$D$19)","v":2831.1865166570237},2558.0365166570236,5092.6660735393734,{"$f":"$D$3*$T$7*$AH$7*(AK463-$D$5)*(1/Sanierungsdesign!$E$15)/1000000","v":317.69379380589572},{"$f":"$D$5+(-Sanierungsdesign!$E$12/(4*PI()*$D$3))*(-LN((4*$D$4*AH463)/(Sanierungsdesign!$E$13+Sanierungsdesign!$E$15)^2)-$D$19)","v":376.91733103220793},103.76733103220795,{"$f":"(2*PI()*Sanierungsdesign!$E$10*$D$3)*(LN((Sanierungsdesign!$E$13+Sanierungsdesign!$E$15)/Sanierungsdesign!$E$13)*(AJ463-AN463))*$AH$7/1000000","v":219.11467947463305},5669.4913712042235,12796.042024807932,{"$f":"AU463/Sanierungsdesign!$E$11","v":1.8423120234530221},2632320,14.738496187624177,{"$error":"#DIV/0!"},{"$error":"#DIV/0!"},{"$error":"#DIV/0!"},{"$error":"#DIV/0!"},{"$f":"(AY463/(AH463*Sanierungsdesign!$E$10))*1000000","v":{"$error":"#DIV/0!"}},{"$f":"AZ463/Sanierungsdesign!$E$12","v":{"$error":"#DIV/0!"}},{"$f":"$D$5+((-(Sanierungsdesign!$E$12)*MIN($BA$7:$BA$932))/(4*PI()*$D$3))*(-LN((4*$D$4*AH463)/(Sanierungsdesign!$E$13)^2)-$D$19)","v":{"$error":"#DIV/0!"}},{"$f":"(BB463-273.15)/Heterogenität!$D$4","v":{"$error":"#DIV/0!"}},{"$f":"IF(AI463<Berechnung!$D$7,AI463,#N/A)","v":{"$error":"#N/A"}}]
[null,null,null,null,null,null,null,null,null,null,null,null,null,null,null,null,null,null,null,null,null,null,null,null,null,null,null,null,null,null,null,null,{"$f":"Sanierungsdesign!$E$12*AH464*Sanierungsdesign!$E$10/1000000","v":21434.400000000001},3297600,38.166666666666664,{"$f":"$D$5+((-Sanierungsdesign!$E$12)/4*PI()*$D$3)*(-LN((4*$D$4*AH464)/(Sanierungsdesign!$E$13^2))-$D$19)","v":2834.2484548471134},2561.0984548471133,5098.7906631271208,{"$f":"$D$3*$T$7*$AH$7*(AK464-$D$5)*(1/Sanierungsdesign!$E$15)/1000000","v":318.12140140429068},{"$f":"$D$5+(-Sanierungsdesign!$E$12/(4*PI()*$D$3))*(-LN((4*$D$4*AH464)/(Sanierungsdesign!$E$13+Sanierungsdesign!$E$15)^2)-$D$19)","v":377.08214288869397},103.93214288869399,{"$f":"(2*PI()*Sanierungsdesign!$E$10*$D$3)*(LN((Sanierungsdesign!$E$13+Sanierungsdesign!$E$15)/Sanierungsdesign!$E$13)*(AJ464-AN464))*$AH$7/1000000","v":219.37333199396684},5681.8972604191122,12824.042116765935,{"$f":"AU464/Sanierungsdesign!$E$11","v":1.8445276419273711},2638080,14.756221135418969,{"$error":"#DIV/0!"},{"$error":"#DIV/0!"},{"$error":"#DIV/0!"},{"$error":"#DIV/0!"},{"$f":"(AY464/(AH464*Sanierungsdesign!$E$10))*1000000","v":{"$error":"#DIV/0!"}},{"$f":"AZ464/Sanierungsdesign!$E$12","v":{"$error":"#DIV/0!"}},{"$f":"$D$5+((-(Sanierungsdesign!$E$12)*MIN($BA$7:$BA$932))/(4*PI()*$D$3))*(-LN((4*$D$4*AH464)/(Sanierungsdesign!$E$13)^2)-$D$19)","v":{"$error":"#DIV/0!"}},{"$f":"(BB464-273.15)/Heterogenität!$D$4","v":{"$error":"#DIV/0!"}},{"$f":"IF(AI464<Berechnung!$D$7,AI464,#N/A)","v":{"$error":"#N/A"}}]
[null,null,null,null,null,null,null,null,null,null,null,null,null,null,null,null,null,null,null,null,null,null,null,null,null,null,null,null,null,null,null,null,{"$f":"Sanierungsdesign!$E$12*AH465*Sanierungsdesign!$E$10/1000000","v":21481.200000000001},3304800,38.25,{"$f":"$D$5+((-Sanierungsdesign!$E$12)/4*PI()*$D$3)*(-LN((4*$D$4*AH465)/(Sanierungsdesign!$E$13^2))-$D$19)","v":2837.3037148679109},2564.1537148679108,5104.9018948207604,{"$f":"$D$3*$T$7*$AH$7*(AK465-$D$5)*(1/Sanierungsdesign!$E$15)/1000000","v":318.5480763790481},{"$f":"$D$5+(-Sanierungsdesign!$E$12/(4*PI()*$D$3))*(-LN((4*$D$4*AH465)/(Sanierungsdesign!$E$13+Sanierungsdesign!$E$15)^2)-$D$19)","v":377.24659528610186},104.09659528610189,{"$f":"(2*PI()*Sanierungsdesign!$E$10*$D$3)*(LN((Sanierungsdesign!$E$13+Sanierungsdesign!$E$15)/Sanierungsdesign!$E$13)*(AJ465-AN465))*$AH$7/1000000","v":219.63142038522071},5694.3031496340018,12852.042208723942,{"$f":"AU465/Sanierungsdesign!$E$11","v":1.84673842807842},2643840,14.77390742462736,{"$error":"#DIV/0!"},{"$error":"#DIV/0!"},{"$error":"#DIV/0!"},{"$error":"#DIV/0!"},{"$f":"(AY465/(AH465*Sanierungsdesign!$E$10))*1000000","v":{"$error":"#DIV/0!"}},{"$f":"AZ465/Sanierungsdesign!$E$12","v":{"$error":"#DIV/0!"}},{"$f":"$D$5+((-(Sanierungsdesign!$E$12)*MIN($BA$7:$BA$932))/(4*PI()*$D$3))*(-LN((4*$D$4*AH465)/(Sanierungsdesign!$E$13)^2)-$D$19)","v":{"$error":"#DIV/0!"}},{"$f":"(BB465-273.15)/Heterogenität!$D$4","v":{"$error":"#DIV/0!"}},{"$f":"IF(AI465<Berechnung!$D$7,AI465,#N/A)","v":{"$error":"#N/A"}}]
[null,null,null,null,null,null,null,null,null,null,null,null,null,null,null,null,null,null,null,null,null,null,null,null,null,null,null,null,null,null,null,null,{"$f":"Sanierungsdesign!$E$12*AH466*Sanierungsdesign!$E$10/1000000","v":21528},3312000,38.333333333333336,{"$f":"$D$5+((-Sanierungsdesign!$E$12)/4*PI()*$D$3)*(-LN((4*$D$4*AH466)/(Sanierungsdesign!$E$13^2))-$D$19)","v":2840.352325786565},2567.2023257865649,5110.9998267613582,{"$f":"$D$3*$T$7*$AH$7*(AK466-$D$5)*(1/Sanierungsdesign!$E$15)/1000000","v":318.9738227894706},{"$f":"$D$5+(-Sanierungsdesign!$E$12/(4*PI()*$D$3))*(-LN((4*$D$4*AH466)/(Sanierungsdesign!$E$13+Sanierungsdesign!$E$15)^2)-$D$19)","v":377.41068978899978},104.2606897889998,{"$f":"(2*PI()*Sanierungsdesign!$E$10*$D$3)*(LN((Sanierungsdesign!$E$13+Sanierungsdesign!$E$15)/Sanierungsdesign!$E$13)*(AJ466-AN466))*$AH$7/1000000","v":219.88894710379734},5706.7090388488905,12880.042300681946,{"$f":"AU466/Sanierungsdesign!$E$11","v":1.848944402939158},2649600,14.791555223513264,{"$error":"#DIV/0!"},{"$error":"#DIV/0!"},{"$error":"#DIV/0!"},{"$error":"#DIV/0!"},{"$f":"(AY466/(AH466*Sanierungsdesign!$E$10))*1000000","v":{"$error":"#DIV/0!"}},{"$f":"AZ466/Sanierungsdesign!$E$12","v":{"$error":"#DIV/0!"}},{"$f":"$D$5+((-(Sanierungsdesign!$E$12)*MIN($BA$7:$BA$932))/(4*PI()*$D$3))*(-LN((4*$D$4*AH466)/(Sanierungsdesign!$E$13)^2)-$D$19)","v":{"$error":"#DIV/0!"}},{"$f":"(BB466-273.15)/Heterogenität!$D$4","v":{"$error":"#DIV/0!"}},{"$f":"IF(AI466<Berechnung!$D$7,AI466,#N/A)","v":{"$error":"#N/A"}}]
[null,null,null,null,null,null,null,null,null,null,null,null,null,null,null,null,null,null,null,null,null,null,null,null,null,null,null,null,null,null,null,null,{"$f":"Sanierungsdesign!$E$12*AH467*Sanierungsdesign!$E$10/1000000","v":21574.799999999999},3319200,38.416666666666664,{"$f":"$D$5+((-Sanierungsdesign!$E$12)/4*PI()*$D$3)*(-LN((4*$D$4*AH467)/(Sanierungsdesign!$E$13^2))-$D$19)","v":2843.3943164808597},2570.2443164808597,5117.0845167112093,{"$f":"$D$3*$T$7*$AH$7*(AK467-$D$5)*(1/Sanierungsdesign!$E$15)/1000000","v":319.39864466841556},{"$f":"$D$5+(-Sanierungsdesign!$E$12/(4*PI()*$D$3))*(-LN((4*$D$4*AH467)/(Sanierungsdesign!$E$13+Sanierungsdesign!$E$15)^2)-$D$19)","v":377.57442795176303},104.42442795176305,{"$f":"(2*PI()*Sanierungsdesign!$E$10*$D$3)*(LN((Sanierungsdesign!$E$13+Sanierungsdesign!$E$15)/Sanierungsdesign!$E$13)*(AJ467-AN467))*$AH$7/1000000","v":220.14591458910314},5719.1149280637792,12908.042392639949,{"$f":"AU467/Sanierungsdesign!$E$11","v":1.8511455874055498},2655360,14.809164699244398,{"$error":"#DIV/0!"},{"$error":"#DIV/0!"},{"$error":"#DIV/0!"},{"$error":"#DIV/0!"},{"$f":"(AY467/(AH467*Sanierungsdesign!$E$10))*1000000","v":{"$error":"#DIV/0!"}},{"$f":"AZ467/Sanierungsdesign!$E$12","v":{"$error":"#DIV/0!"}},{"$f":"$D$5+((-(Sanierungsdesign!$E$12)*MIN($BA$7:$BA$932))/(4*PI()*$D$3))*(-LN((4*$D$4*AH467)/(Sanierungsdesign!$E$13)^2)-$D$19)","v":{"$error":"#DIV/0!"}},{"$f":"(BB467-273.15)/Heterogenität!$D$4","v":{"$error":"#DIV/0!"}},{"$f":"IF(AI467<Berechnung!$D$7,AI467,#N/A)","v":{"$error":"#N/A"}}]
[null,null,null,null,null,null,null,null,null,null,null,null,null,null,null,null,null,null,null,null,null,null,null,null,null,null,null,null,null,null,null,null,{"$f":"Sanierungsdesign!$E$12*AH468*Sanierungsdesign!$E$10/1000000","v":21621.599999999999},3326400,38.5,{"$f":"$D$5+((-Sanierungsdesign!$E$12)/4*PI()*$D$3)*(-LN((4*$D$4*AH468)/(Sanierungsdesign!$E$13^2))-$D$19)","v":2846.4297156408593},2573.2797156408592,5123.1560220571255,{"$f":"$D$3*$T$7*$AH$7*(AK468-$D$5)*(1/Sanierungsdesign!$E$15)/1000000","v":319.82254602252465},{"$f":"$D$5+(-Sanierungsdesign!$E$12/(4*PI()*$D$3))*(-LN((4*$D$4*AH468)/(Sanierungsdesign!$E$13+Sanierungsdesign!$E$15)^2)-$D$19)","v":377.73781131866269},104.58781131866272,{"$f":"(2*PI()*Sanierungsdesign!$E$10*$D$3)*(LN((Sanierungsdesign!$E$13+Sanierungsdesign!$E$15)/Sanierungsdesign!$E$13)*(AJ468-AN468))*$AH$7/1000000","v":220.40232526468719},5731.5208172786679,12936.042484597954,{"$f":"AU468/Sanierungsdesign!$E$11","v":1.8533420022377256},2661120,14.826736017901805,{"$error":"#DIV/0!"},{"$error":"#DIV/0!"},{"$error":"#DIV/0!"},{"$error":"#DIV/0!"},{"$f":"(AY468/(AH468*Sanierungsdesign!$E$10))*1000000","v":{"$error":"#DIV/0!"}},{"$f":"AZ468/Sanierungsdesign!$E$12","v":{"$error":"#DIV/0!"}},{"$f":"$D$5+((-(Sanierungsdesign!$E$12)*MIN($BA$7:$BA$932))/(4*PI()*$D$3))*(-LN((4*$D$4*AH468)/(Sanierungsdesign!$E$13)^2)-$D$19)","v":{"$error":"#DIV/0!"}},{"$f":"(BB468-273.15)/Heterogenität!$D$4","v":{"$error":"#DIV/0!"}},{"$f":"IF(AI468<Berechnung!$D$7,AI468,#N/A)","v":{"$error":"#N/A"}}]
[null,null,null,null,null,null,null,null,null,null,null,null,null,null,null,null,null,null,null,null,null,null,null,null,null,null,null,null,null,null,null,null,{"$f":"Sanierungsdesign!$E$12*AH469*Sanierungsdesign!$E$10/1000000","v":21668.400000000001},3333600,38.583333333333336,{"$f":"$D$5+((-Sanierungsdesign!$E$12)/4*PI()*$D$3)*(-LN((4*$D$4*AH469)/(Sanierungsdesign!$E$13^2))-$D$19)","v":2849.4585517705282},2576.3085517705281,5129.2143998136744,{"$f":"$D$3*$T$7*$AH$7*(AK469-$D$5)*(1/Sanierungsdesign!$E$15)/1000000","v":320.24553083245047},{"$f":"$D$5+(-Sanierungsdesign!$E$12/(4*PI()*$D$3))*(-LN((4*$D$4*AH469)/(Sanierungsdesign!$E$13+Sanierungsdesign!$E$15)^2)-$D$19)","v":377.90084142395301},104.75084142395303,{"$f":"(2*PI()*Sanierungsdesign!$E$10*$D$3)*(LN((Sanierungsdesign!$E$13+Sanierungsdesign!$E$15)/Sanierungsdesign!$E$13)*(AJ469-AN469))*$AH$7/1000000","v":220.65818153837802},5743.9267064935566,12964.042576555958,{"$f":"AU469/Sanierungsdesign!$E$11","v":1.8555336680611541},2666880,14.844269344489232,{"$error":"#DIV/0!"},{"$error":"#DIV/0!"},{"$error":"#DIV/0!"},{"$error":"#DIV/0!"},{"$f":"(AY469/(AH469*Sanierungsdesign!$E$10))*1000000","v":{"$error":"#DIV/0!"}},{"$f":"AZ469/Sanierungsdesign!$E$12","v":{"$error":"#DIV/0!"}},{"$f":"$D$5+((-(Sanierungsdesign!$E$12)*MIN($BA$7:$BA$932))/(4*PI()*$D$3))*(-LN((4*$D$4*AH469)/(Sanierungsdesign!$E$13)^2)-$D$19)","v":{"$error":"#DIV/0!"}},{"$f":"(BB469-273.15)/Heterogenität!$D$4","v":{"$error":"#DIV/0!"}},{"$f":"IF(AI469<Berechnung!$D$7,AI469,#N/A)","v":{"$error":"#N/A"}}]
[null,null,null,null,null,null,null,null,null,null,null,null,null,null,null,null,null,null,null,null,null,null,null,null,null,null,null,null,null,null,null,null,{"$f":"Sanierungsdesign!$E$12*AH470*Sanierungsdesign!$E$10/1000000","v":21715.200000000001},3340800,38.666666666666664,{"$f":"$D$5+((-Sanierungsdesign!$E$12)/4*PI()*$D$3)*(-LN((4*$D$4*AH470)/(Sanierungsdesign!$E$13^2))-$D$19)","v":2852.4808531893418},2579.3308531893417,5135.2597066264016,{"$f":"$D$3*$T$7*$AH$7*(AK470-$D$5)*(1/Sanierungsdesign!$E$15)/1000000","v":320.66760305308094},{"$f":"$D$5+(-Sanierungsdesign!$E$12/(4*PI()*$D$3))*(-LN((4*$D$4*AH470)/(Sanierungsdesign!$E$13+Sanierungsdesign!$E$15)^2)-$D$19)","v":378.06351979195767},104.9135197919577,{"$f":"(2*PI()*Sanierungsdesign!$E$10*$D$3)*(LN((Sanierungsdesign!$E$13+Sanierungsdesign!$E$15)/Sanierungsdesign!$E$13)*(AJ470-AN470))*$AH$7/1000000","v":220.91348580241976},5756.3325957084462,12992.042668513965,{"$f":"AU470/Sanierungsdesign!$E$11","v":1.8577206053678075},2672640,14.86176484294246,{"$error":"#DIV/0!"},{"$error":"#DIV/0!"},{"$error":"#DIV/0!"},{"$error":"#DIV/0!"},{"$f":"(AY470/(AH470*Sanierungsdesign!$E$10))*1000000","v":{"$error":"#DIV/0!"}},{"$f":"AZ470/Sanierungsdesign!$E$12","v":{"$error":"#DIV/0!"}},{"$f":"$D$5+((-(Sanierungsdesign!$E$12)*MIN($BA$7:$BA$932))/(4*PI()*$D$3))*(-LN((4*$D$4*AH470)/(Sanierungsdesign!$E$13)^2)-$D$19)","v":{"$error":"#DIV/0!"}},{"$f":"(BB470-273.15)/Heterogenität!$D$4","v":{"$error":"#DIV/0!"}},{"$f":"IF(AI470<Berechnung!$D$7,AI470,#N/A)","v":{"$error":"#N/A"}}]
[null,null,null,null,null,null,null,null,null,null,null,null,null,null,null,null,null,null,null,null,null,null,null,null,null,null,null,null,null,null,null,null,{"$f":"Sanierungsdesign!$E$12*AH471*Sanierungsdesign!$E$10/1000000","v":21762},3348000,38.75,{"$f":"$D$5+((-Sanierungsdesign!$E$12)/4*PI()*$D$3)*(-LN((4*$D$4*AH471)/(Sanierungsdesign!$E$13^2))-$D$19)","v":2855.496648033868},2582.346648033868,5141.2919987749992,{"$f":"$D$3*$T$7*$AH$7*(AK471-$D$5)*(1/Sanierungsdesign!$E$15)/1000000","v":321.08876661376075},{"$f":"$D$5+(-Sanierungsdesign!$E$12/(4*PI()*$D$3))*(-LN((4*$D$4*AH471)/(Sanierungsdesign!$E$13+Sanierungsdesign!$E$15)^2)-$D$19)","v":378.22584793715538},105.0758479371554,{"$f":"(2*PI()*Sanierungsdesign!$E$10*$D$3)*(LN((Sanierungsdesign!$E$13+Sanierungsdesign!$E$15)/Sanierungsdesign!$E$13)*(AJ471-AN471))*$AH$7/1000000","v":221.16824043360577},5768.7384849233349,13020.042760471968,{"$f":"AU471/Sanierungsdesign!$E$11","v":1.8599028345173068},2678400,14.879222676138454,{"$error":"#DIV/0!"},{"$error":"#DIV/0!"},{"$error":"#DIV/0!"},{"$error":"#DIV/0!"},{"$f":"(AY471/(AH471*Sanierungsdesign!$E$10))*1000000","v":{"$error":"#DIV/0!"}},{"$f":"AZ471/Sanierungsdesign!$E$12","v":{"$error":"#DIV/0!"}},{"$f":"$D$5+((-(Sanierungsdesign!$E$12)*MIN($BA$7:$BA$932))/(4*PI()*$D$3))*(-LN((4*$D$4*AH471)/(Sanierungsdesign!$E$13)^2)-$D$19)","v":{"$error":"#DIV/0!"}},{"$f":"(BB471-273.15)/Heterogenität!$D$4","v":{"$error":"#DIV/0!"}},{"$f":"IF(AI471<Berechnung!$D$7,AI471,#N/A)","v":{"$error":"#N/A"}}]
[null,null,null,null,null,null,null,null,null,null,null,null,null,null,null,null,null,null,null,null,null,null,null,null,null,null,null,null,null,null,null,null,{"$f":"Sanierungsdesign!$E$12*AH472*Sanierungsdesign!$E$10/1000000","v":21808.799999999999},3355200,38.833333333333336,{"$f":"$D$5+((-Sanierungsdesign!$E$12)/4*PI()*$D$3)*(-LN((4*$D$4*AH472)/(Sanierungsdesign!$E$13^2))-$D$19)","v":2858.5059642593474},2585.3559642593473,5147.3113321764604,{"$f":"$D$3*$T$7*$AH$7*(AK472-$D$5)*(1/Sanierungsdesign!$E$15)/1000000","v":321.50902541851161},{"$f":"$D$5+(-Sanierungsdesign!$E$12/(4*PI()*$D$3))*(-LN((4*$D$4*AH472)/(Sanierungsdesign!$E$13+Sanierungsdesign!$E$15)^2)-$D$19)","v":378.38782736426464},105.23782736426466,{"$f":"(2*PI()*Sanierungsdesign!$E$10*$D$3)*(LN((Sanierungsdesign!$E$13+Sanierungsdesign!$E$15)/Sanierungsdesign!$E$13)*(AJ472-AN472))*$AH$7/1000000","v":221.42244779341186},5781.1443741382236,13048.04285242997,{"$f":"AU472/Sanierungsdesign!$E$11","v":1.8620803757380633},2684160,14.896643005904506,{"$error":"#DIV/0!"},{"$error":"#DIV/0!"},{"$error":"#DIV/0!"},{"$error":"#DIV/0!"},{"$f":"(AY472/(AH472*Sanierungsdesign!$E$10))*1000000","v":{"$error":"#DIV/0!"}},{"$f":"AZ472/Sanierungsdesign!$E$12","v":{"$error":"#DIV/0!"}},{"$f":"$D$5+((-(Sanierungsdesign!$E$12)*MIN($BA$7:$BA$932))/(4*PI()*$D$3))*(-LN((4*$D$4*AH472)/(Sanierungsdesign!$E$13)^2)-$D$19)","v":{"$error":"#DIV/0!"}},{"$f":"(BB472-273.15)/Heterogenität!$D$4","v":{"$error":"#DIV/0!"}},{"$f":"IF(AI472<Berechnung!$D$7,AI472,#N/A)","v":{"$error":"#N/A"}}]
[null,null,null,null,null,null,null,null,null,null,null,null,null,null,null,null,null,null,null,null,null,null,null,null,null,null,null,null,null,null,null,null,{"$f":"Sanierungsdesign!$E$12*AH473*Sanierungsdesign!$E$10/1000000","v":21855.599999999999},3362400,38.916666666666664,{"$f":"$D$5+((-Sanierungsdesign!$E$12)/4*PI()*$D$3)*(-LN((4*$D$4*AH473)/(Sanierungsdesign!$E$13^2))-$D$19)","v":2861.5088296412409},2588.3588296412408,5153.3177623881738,{"$f":"$D$3*$T$7*$AH$7*(AK473-$D$5)*(1/Sanierungsdesign!$E$15)/1000000","v":321.92838334624861},{"$f":"$D$5+(-Sanierungsdesign!$E$12/(4*PI()*$D$3))*(-LN((4*$D$4*AH473)/(Sanierungsdesign!$E$13+Sanierungsdesign!$E$15)^2)-$D$19)","v":378.54945956832717},105.39945956832719,{"$f":"(2*PI()*Sanierungsdesign!$E$10*$D$3)*(LN((Sanierungsdesign!$E$13+Sanierungsdesign!$E$15)/Sanierungsdesign!$E$13)*(AJ473-AN473))*$AH$7/1000000","v":221.67611022812747},5793.5502633531123,13076.042944387973,{"$f":"AU473/Sanierungsdesign!$E$11","v":1.8642532491284018},2689920,14.914025993027215,{"$error":"#DIV/0!"},{"$error":"#DIV/0!"},{"$error":"#DIV/0!"},{"$error":"#DIV/0!"},{"$f":"(AY473/(AH473*Sanierungsdesign!$E$10))*1000000","v":{"$error":"#DIV/0!"}},{"$f":"AZ473/Sanierungsdesign!$E$12","v":{"$error":"#DIV/0!"}},{"$f":"$D$5+((-(Sanierungsdesign!$E$12)*MIN($BA$7:$BA$932))/(4*PI()*$D$3))*(-LN((4*$D$4*AH473)/(Sanierungsdesign!$E$13)^2)-$D$19)","v":{"$error":"#DIV/0!"}},{"$f":"(BB473-273.15)/Heterogenität!$D$4","v":{"$error":"#DIV/0!"}},{"$f":"IF(AI473<Berechnung!$D$7,AI473,#N/A)","v":{"$error":"#N/A"}}]
[null,null,null,null,null,null,null,null,null,null,null,null,null,null,null,null,null,null,null,null,null,null,null,null,null,null,null,null,null,null,null,null,{"$f":"Sanierungsdesign!$E$12*AH474*Sanierungsdesign!$E$10/1000000","v":21902.400000000001},3369600,39,{"$f":"$D$5+((-Sanierungsdesign!$E$12)/4*PI()*$D$3)*(-LN((4*$D$4*AH474)/(Sanierungsdesign!$E$13^2))-$D$19)","v":2864.5052717767726},2591.3552717767725,5159.3113446110174,{"$f":"$D$3*$T$7*$AH$7*(AK474-$D$5)*(1/Sanierungsdesign!$E$15)/1000000","v":322.34684425099556},{"$f":"$D$5+(-Sanierungsdesign!$E$12/(4*PI()*$D$3))*(-LN((4*$D$4*AH474)/(Sanierungsdesign!$E$13+Sanierungsdesign!$E$15)^2)-$D$19)","v":378.71074603479093},105.56074603479095,{"$f":"(2*PI()*Sanierungsdesign!$E$10*$D$3)*(LN((Sanierungsdesign!$E$13+Sanierungsdesign!$E$15)/Sanierungsdesign!$E$13)*(AJ474-AN474))*$AH$7/1000000","v":221.92923006898565},5805.956152568001,13104.043036345978,{"$f":"AU474/Sanierungsdesign!$E$11","v":1.8664214746576724},2695680,14.931371797261379,{"$error":"#DIV/0!"},{"$error":"#DIV/0!"},{"$error":"#DIV/0!"},{"$error":"#DIV/0!"},{"$f":"(AY474/(AH474*Sanierungsdesign!$E$10))*1000000","v":{"$error":"#DIV/0!"}},{"$f":"AZ474/Sanierungsdesign!$E$12","v":{"$error":"#DIV/0!"}},{"$f":"$D$5+((-(Sanierungsdesign!$E$12)*MIN($BA$7:$BA$932))/(4*PI()*$D$3))*(-LN((4*$D$4*AH474)/(Sanierungsdesign!$E$13)^2)-$D$19)","v":{"$error":"#DIV/0!"}},{"$f":"(BB474-273.15)/Heterogenität!$D$4","v":{"$error":"#DIV/0!"}},{"$f":"IF(AI474<Berechnung!$D$7,AI474,#N/A)","v":{"$error":"#N/A"}}]
[null,null,null,null,null,null,null,null,null,null,null,null,null,null,null,null,null,null,null,null,null,null,null,null,null,null,null,null,null,null,null,null,{"$f":"Sanierungsdesign!$E$12*AH475*Sanierungsdesign!$E$10/1000000","v":21949.200000000001},3376800,39.083333333333336,{"$f":"$D$5+((-Sanierungsdesign!$E$12)/4*PI()*$D$3)*(-LN((4*$D$4*AH475)/(Sanierungsdesign!$E$13^2))-$D$19)","v":2867.4953180864486},2594.3453180864485,5165.2921336923891,{"$f":"$D$3*$T$7*$AH$7*(AK475-$D$5)*(1/Sanierungsdesign!$E$15)/1000000","v":322.76441196209714},{"$f":"$D$5+(-Sanierungsdesign!$E$12/(4*PI()*$D$3))*(-LN((4*$D$4*AH475)/(Sanierungsdesign!$E$13+Sanierungsdesign!$E$15)^2)-$D$19)","v":378.87168823959172},105.72168823959174,{"$f":"(2*PI()*Sanierungsdesign!$E$10*$D$3)*(LN((Sanierungsdesign!$E$13+Sanierungsdesign!$E$15)/Sanierungsdesign!$E$13)*(AJ475-AN475))*$AH$7/1000000","v":222.18180963229153},5818.3620417828906,13132.043128303983,{"$f":"AU475/Sanierungsdesign!$E$11","v":1.868585072167354},2701440,14.948680577338832,{"$error":"#DIV/0!"},{"$error":"#DIV/0!"},{"$error":"#DIV/0!"},{"$error":"#DIV/0!"},{"$f":"(AY475/(AH475*Sanierungsdesign!$E$10))*1000000","v":{"$error":"#DIV/0!"}},{"$f":"AZ475/Sanierungsdesign!$E$12","v":{"$error":"#DIV/0!"}},{"$f":"$D$5+((-(Sanierungsdesign!$E$12)*MIN($BA$7:$BA$932))/(4*PI()*$D$3))*(-LN((4*$D$4*AH475)/(Sanierungsdesign!$E$13)^2)-$D$19)","v":{"$error":"#DIV/0!"}},{"$f":"(BB475-273.15)/Heterogenität!$D$4","v":{"$error":"#DIV/0!"}},{"$f":"IF(AI475<Berechnung!$D$7,AI475,#N/A)","v":{"$error":"#N/A"}}]
[null,null,null,null,null,null,null,null,null,null,null,null,null,null,null,null,null,null,null,null,null,null,null,null,null,null,null,null,null,null,null,null,{"$f":"Sanierungsdesign!$E$12*AH476*Sanierungsdesign!$E$10/1000000","v":21996},3384000,39.166666666666664,{"$f":"$D$5+((-Sanierungsdesign!$E$12)/4*PI()*$D$3)*(-LN((4*$D$4*AH476)/(Sanierungsdesign!$E$13^2))-$D$19)","v":2870.4789958155648},2597.3289958155647,5171.2601841292299,{"$f":"$D$3*$T$7*$AH$7*(AK476-$D$5)*(1/Sanierungsdesign!$E$15)/1000000","v":323.1810902844295},{"$f":"$D$5+(-Sanierungsdesign!$E$12/(4*PI()*$D$3))*(-LN((4*$D$4*AH476)/(Sanierungsdesign!$E$13+Sanierungsdesign!$E$15)^2)-$D$19)","v":379.03228764923472},105.88228764923474,{"$f":"(2*PI()*Sanierungsdesign!$E$10*$D$3)*(LN((Sanierungsdesign!$E$13+Sanierungsdesign!$E$15)/Sanierungsdesign!$E$13)*(AJ476-AN476))*$AH$7/1000000","v":222.43385121954944},5830.7679309977793,13160.043220261987,{"$f":"AU476/Sanierungsdesign!$E$11","v":1.8707440613721422},2707200,14.965952490977138,{"$error":"#DIV/0!"},{"$error":"#DIV/0!"},{"$error":"#DIV/0!"},{"$error":"#DIV/0!"},{"$f":"(AY476/(AH476*Sanierungsdesign!$E$10))*1000000","v":{"$error":"#DIV/0!"}},{"$f":"AZ476/Sanierungsdesign!$E$12","v":{"$error":"#DIV/0!"}},{"$f":"$D$5+((-(Sanierungsdesign!$E$12)*MIN($BA$7:$BA$932))/(4*PI()*$D$3))*(-LN((4*$D$4*AH476)/(Sanierungsdesign!$E$13)^2)-$D$19)","v":{"$error":"#DIV/0!"}},{"$f":"(BB476-273.15)/Heterogenität!$D$4","v":{"$error":"#DIV/0!"}},{"$f":"IF(AI476<Berechnung!$D$7,AI476,#N/A)","v":{"$error":"#N/A"}}]
[null,null,null,null,null,null,null,null,null,null,null,null,null,null,null,null,null,null,null,null,null,null,null,null,null,null,null,null,null,null,null,null,{"$f":"Sanierungsdesign!$E$12*AH477*Sanierungsdesign!$E$10/1000000","v":22042.799999999999},3391200,39.25,{"$f":"$D$5+((-Sanierungsdesign!$E$12)/4*PI()*$D$3)*(-LN((4*$D$4*AH477)/(Sanierungsdesign!$E$13^2))-$D$19)","v":2873.4563320356956},2600.3063320356955,5177.2155500709914,{"$f":"$D$3*$T$7*$AH$7*(AK477-$D$5)*(1/Sanierungsdesign!$E$15)/1000000","v":323.59688299860807},{"$f":"$D$5+(-Sanierungsdesign!$E$12/(4*PI()*$D$3))*(-LN((4*$D$4*AH477)/(Sanierungsdesign!$E$13+Sanierungsdesign!$E$15)^2)-$D$19)","v":379.19254572087408},106.0425457208741,{"$f":"(2*PI()*Sanierungsdesign!$E$10*$D$3)*(LN((Sanierungsdesign!$E$13+Sanierungsdesign!$E$15)/Sanierungsdesign!$E$13)*(AJ477-AN477))*$AH$7/1000000","v":222.68535711758918},5843.173820212668,13188.043312219992,{"$f":"AU477/Sanierungsdesign!$E$11","v":1.8728984618610289},2712960,14.983187694888231,{"$error":"#DIV/0!"},{"$error":"#DIV/0!"},{"$error":"#DIV/0!"},{"$error":"#DIV/0!"},{"$f":"(AY477/(AH477*Sanierungsdesign!$E$10))*1000000","v":{"$error":"#DIV/0!"}},{"$f":"AZ477/Sanierungsdesign!$E$12","v":{"$error":"#DIV/0!"}},{"$f":"$D$5+((-(Sanierungsdesign!$E$12)*MIN($BA$7:$BA$932))/(4*PI()*$D$3))*(-LN((4*$D$4*AH477)/(Sanierungsdesign!$E$13)^2)-$D$19)","v":{"$error":"#DIV/0!"}},{"$f":"(BB477-273.15)/Heterogenität!$D$4","v":{"$error":"#DIV/0!"}},{"$f":"IF(AI477<Berechnung!$D$7,AI477,#N/A)","v":{"$error":"#N/A"}}]
[null,null,null,null,null,null,null,null,null,null,null,null,null,null,null,null,null,null,null,null,null,null,null,null,null,null,null,null,null,null,null,null,{"$f":"Sanierungsdesign!$E$12*AH478*Sanierungsdesign!$E$10/1000000","v":22089.599999999999},3398400,39.333333333333336,{"$f":"$D$5+((-Sanierungsdesign!$E$12)/4*PI()*$D$3)*(-LN((4*$D$4*AH478)/(Sanierungsdesign!$E$13^2))-$D$19)","v":2876.427353646166},2603.2773536461659,5183.15828532259,{"$f":"$D$3*$T$7*$AH$7*(AK478-$D$5)*(1/Sanierungsdesign!$E$15)/1000000","v":324.01179386119333},{"$f":"$D$5+(-Sanierungsdesign!$E$12/(4*PI()*$D$3))*(-LN((4*$D$4*AH478)/(Sanierungsdesign!$E$13+Sanierungsdesign!$E$15)^2)-$D$19)","v":379.35246390239274},106.20246390239276,{"$f":"(2*PI()*Sanierungsdesign!$E$10*$D$3)*(LN((Sanierungsdesign!$E$13+Sanierungsdesign!$E$15)/Sanierungsdesign!$E$13)*(AJ478-AN478))*$AH$7/1000000","v":222.93632959868967},5855.5797094275567,13216.043404177995,{"$f":"AU478/Sanierungsdesign!$E$11","v":1.8750482930983654},2718720,15.000386344786923,{"$error":"#DIV/0!"},{"$error":"#DIV/0!"},{"$error":"#DIV/0!"},{"$error":"#DIV/0!"},{"$f":"(AY478/(AH478*Sanierungsdesign!$E$10))*1000000","v":{"$error":"#DIV/0!"}},{"$f":"AZ478/Sanierungsdesign!$E$12","v":{"$error":"#DIV/0!"}},{"$f":"$D$5+((-(Sanierungsdesign!$E$12)*MIN($BA$7:$BA$932))/(4*PI()*$D$3))*(-LN((4*$D$4*AH478)/(Sanierungsdesign!$E$13)^2)-$D$19)","v":{"$error":"#DIV/0!"}},{"$f":"(BB478-273.15)/Heterogenität!$D$4","v":{"$error":"#DIV/0!"}},{"$f":"IF(AI478<Berechnung!$D$7,AI478,#N/A)","v":{"$error":"#N/A"}}]
[null,null,null,null,null,null,null,null,null,null,null,null,null,null,null,null,null,null,null,null,null,null,null,null,null,null,null,null,null,null,null,null,{"$f":"Sanierungsdesign!$E$12*AH479*Sanierungsdesign!$E$10/1000000","v":22136.400000000001},3405600,39.416666666666664,{"$f":"$D$5+((-Sanierungsdesign!$E$12)/4*PI()*$D$3)*(-LN((4*$D$4*AH479)/(Sanierungsdesign!$E$13^2))-$D$19)","v":2879.3920873755133},2606.2420873755132,5189.0884433473257,{"$f":"$D$3*$T$7*$AH$7*(AK479-$D$5)*(1/Sanierungsdesign!$E$15)/1000000","v":324.42582660489455},{"$f":"$D$5+(-Sanierungsdesign!$E$12/(4*PI()*$D$3))*(-LN((4*$D$4*AH479)/(Sanierungsdesign!$E$13+Sanierungsdesign!$E$15)^2)-$D$19)","v":379.51204363248064},106.36204363248066,{"$f":"(2*PI()*Sanierungsdesign!$E$10*$D$3)*(LN((Sanierungsdesign!$E$13+Sanierungsdesign!$E$15)/Sanierungsdesign!$E$13)*(AJ479-AN479))*$AH$7/1000000","v":223.18677092070308},5867.9855986424454,13244.043496135999,{"$f":"AU479/Sanierungsdesign!$E$11","v":1.8771935744249211},2724480,15.017548595399369,{"$error":"#DIV/0!"},{"$error":"#DIV/0!"},{"$error":"#DIV/0!"},{"$error":"#DIV/0!"},{"$f":"(AY479/(AH479*Sanierungsdesign!$E$10))*1000000","v":{"$error":"#DIV/0!"}},{"$f":"AZ479/Sanierungsdesign!$E$12","v":{"$error":"#DIV/0!"}},{"$f":"$D$5+((-(Sanierungsdesign!$E$12)*MIN($BA$7:$BA$932))/(4*PI()*$D$3))*(-LN((4*$D$4*AH479)/(Sanierungsdesign!$E$13)^2)-$D$19)","v":{"$error":"#DIV/0!"}},{"$f":"(BB479-273.15)/Heterogenität!$D$4","v":{"$error":"#DIV/0!"}},{"$f":"IF(AI479<Berechnung!$D$7,AI479,#N/A)","v":{"$error":"#N/A"}}]
[null,null,null,null,null,null,null,null,null,null,null,null,null,null,null,null,null,null,null,null,null,null,null,null,null,null,null,null,null,null,null,null,{"$f":"Sanierungsdesign!$E$12*AH480*Sanierungsdesign!$E$10/1000000","v":22183.200000000001},3412800,39.5,{"$f":"$D$5+((-Sanierungsdesign!$E$12)/4*PI()*$D$3)*(-LN((4*$D$4*AH480)/(Sanierungsdesign!$E$13^2))-$D$19)","v":2882.3505597829271},2609.200559782927,5195.0060772697652,{"$f":"$D$3*$T$7*$AH$7*(AK480-$D$5)*(1/Sanierungsdesign!$E$15)/1000000","v":324.8389849387716},{"$f":"$D$5+(-Sanierungsdesign!$E$12/(4*PI()*$D$3))*(-LN((4*$D$4*AH480)/(Sanierungsdesign!$E$13+Sanierungsdesign!$E$15)^2)-$D$19)","v":379.67128634071253},106.52128634071255,{"$f":"(2*PI()*Sanierungsdesign!$E$10*$D$3)*(LN((Sanierungsdesign!$E$13+Sanierungsdesign!$E$15)/Sanierungsdesign!$E$13)*(AJ480-AN480))*$AH$7/1000000","v":223.43668332717615},5880.3914878573351,13272.043588094006,{"$f":"AU480/Sanierungsdesign!$E$11","v":1.8793343250589256},2730240,15.034674600471405,{"$error":"#DIV/0!"},{"$error":"#DIV/0!"},{"$error":"#DIV/0!"},{"$error":"#DIV/0!"},{"$f":"(AY480/(AH480*Sanierungsdesign!$E$10))*1000000","v":{"$error":"#DIV/0!"}},{"$f":"AZ480/Sanierungsdesign!$E$12","v":{"$error":"#DIV/0!"}},{"$f":"$D$5+((-(Sanierungsdesign!$E$12)*MIN($BA$7:$BA$932))/(4*PI()*$D$3))*(-LN((4*$D$4*AH480)/(Sanierungsdesign!$E$13)^2)-$D$19)","v":{"$error":"#DIV/0!"}},{"$f":"(BB480-273.15)/Heterogenität!$D$4","v":{"$error":"#DIV/0!"}},{"$f":"IF(AI480<Berechnung!$D$7,AI480,#N/A)","v":{"$error":"#N/A"}}]
[null,null,null,null,null,null,null,null,null,null,null,null,null,null,null,null,null,null,null,null,null,null,null,null,null,null,null,null,null,null,null,null,{"$f":"Sanierungsdesign!$E$12*AH481*Sanierungsdesign!$E$10/1000000","v":22230},3420000,39.583333333333336,{"$f":"$D$5+((-Sanierungsdesign!$E$12)/4*PI()*$D$3)*(-LN((4*$D$4*AH481)/(Sanierungsdesign!$E$13^2))-$D$19)","v":2885.3027972596769},2612.1527972596768,5200.9112398785937,{"$f":"$D$3*$T$7*$AH$7*(AK481-$D$5)*(1/Sanierungsdesign!$E$15)/1000000","v":325.25127254843352},{"$f":"$D$5+(-Sanierungsdesign!$E$12/(4*PI()*$D$3))*(-LN((4*$D$4*AH481)/(Sanierungsdesign!$E$13+Sanierungsdesign!$E$15)^2)-$D$19)","v":379.83019344762465},106.68019344762467,{"$f":"(2*PI()*Sanierungsdesign!$E$10*$D$3)*(LN((Sanierungsdesign!$E$13+Sanierungsdesign!$E$15)/Sanierungsdesign!$E$13)*(AJ481-AN481))*$AH$7/1000000","v":223.68606904747071},5892.7973770722238,13300.043680052009,{"$f":"AU481/Sanierungsdesign!$E$11","v":1.8814705640971021},2736000,15.051764512776817,{"$error":"#DIV/0!"},{"$error":"#DIV/0!"},{"$error":"#DIV/0!"},{"$error":"#DIV/0!"},{"$f":"(AY481/(AH481*Sanierungsdesign!$E$10))*1000000","v":{"$error":"#DIV/0!"}},{"$f":"AZ481/Sanierungsdesign!$E$12","v":{"$error":"#DIV/0!"}},{"$f":"$D$5+((-(Sanierungsdesign!$E$12)*MIN($BA$7:$BA$932))/(4*PI()*$D$3))*(-LN((4*$D$4*AH481)/(Sanierungsdesign!$E$13)^2)-$D$19)","v":{"$error":"#DIV/0!"}},{"$f":"(BB481-273.15)/Heterogenität!$D$4","v":{"$error":"#DIV/0!"}},{"$f":"IF(AI481<Berechnung!$D$7,AI481,#N/A)","v":{"$error":"#N/A"}}]
[null,null,null,null,null,null,null,null,null,null,null,null,null,null,null,null,null,null,null,null,null,null,null,null,null,null,null,null,null,null,null,null,{"$f":"Sanierungsdesign!$E$12*AH482*Sanierungsdesign!$E$10/1000000","v":22276.799999999999},3427200,39.666666666666664,{"$f":"$D$5+((-Sanierungsdesign!$E$12)/4*PI()*$D$3)*(-LN((4*$D$4*AH482)/(Sanierungsdesign!$E$13^2))-$D$19)","v":2888.2488260305281},2615.098826030528,5206.8039836294511,{"$f":"$D$3*$T$7*$AH$7*(AK482-$D$5)*(1/Sanierungsdesign!$E$15)/1000000","v":325.66269309623664},{"$f":"$D$5+(-Sanierungsdesign!$E$12/(4*PI()*$D$3))*(-LN((4*$D$4*AH482)/(Sanierungsdesign!$E$13+Sanierungsdesign!$E$15)^2)-$D$19)","v":379.98876636479082},106.83876636479084,{"$f":"(2*PI()*Sanierungsdesign!$E$10*$D$3)*(LN((Sanierungsdesign!$E$13+Sanierungsdesign!$E$15)/Sanierungsdesign!$E$13)*(AJ482-AN482))*$AH$7/1000000","v":223.93493029688344},5905.2032662871125,13328.043772010014,{"$f":"AU482/Sanierungsdesign!$E$11","v":1.8836023105156898},2741760,15.068818484125519,{"$error":"#DIV/0!"},{"$error":"#DIV/0!"},{"$error":"#DIV/0!"},{"$error":"#DIV/0!"},{"$f":"(AY482/(AH482*Sanierungsdesign!$E$10))*1000000","v":{"$error":"#DIV/0!"}},{"$f":"AZ482/Sanierungsdesign!$E$12","v":{"$error":"#DIV/0!"}},{"$f":"$D$5+((-(Sanierungsdesign!$E$12)*MIN($BA$7:$BA$932))/(4*PI()*$D$3))*(-LN((4*$D$4*AH482)/(Sanierungsdesign!$E$13)^2)-$D$19)","v":{"$error":"#DIV/0!"}},{"$f":"(BB482-273.15)/Heterogenität!$D$4","v":{"$error":"#DIV/0!"}},{"$f":"IF(AI482<Berechnung!$D$7,AI482,#N/A)","v":{"$error":"#N/A"}}]
[null,null,null,null,null,null,null,null,null,null,null,null,null,null,null,null,null,null,null,null,null,null,null,null,null,null,null,null,null,null,null,null,{"$f":"Sanierungsdesign!$E$12*AH483*Sanierungsdesign!$E$10/1000000","v":22323.599999999999},3434400,39.75,{"$f":"$D$5+((-Sanierungsdesign!$E$12)/4*PI()*$D$3)*(-LN((4*$D$4*AH483)/(Sanierungsdesign!$E$13^2))-$D$19)","v":2891.1886721551336},2618.0386721551336,5212.6843606477123,{"$f":"$D$3*$T$7*$AH$7*(AK483-$D$5)*(1/Sanierungsdesign!$E$15)/1000000","v":326.0732502214791},{"$f":"$D$5+(-Sanierungsdesign!$E$12/(4*PI()*$D$3))*(-LN((4*$D$4*AH483)/(Sanierungsdesign!$E$13+Sanierungsdesign!$E$15)^2)-$D$19)","v":380.14700649489782},106.99700649489785,{"$f":"(2*PI()*Sanierungsdesign!$E$10*$D$3)*(LN((Sanierungsdesign!$E$13+Sanierungsdesign!$E$15)/Sanierungsdesign!$E$13)*(AJ483-AN483))*$AH$7/1000000","v":224.18326927676353},5917.6091555020012,13356.043863968016,{"$f":"AU483/Sanierungsdesign!$E$11","v":1.8857295831714544},2747520,15.085836665371636,{"$error":"#DIV/0!"},{"$error":"#DIV/0!"},{"$error":"#DIV/0!"},{"$error":"#DIV/0!"},{"$f":"(AY483/(AH483*Sanierungsdesign!$E$10))*1000000","v":{"$error":"#DIV/0!"}},{"$f":"AZ483/Sanierungsdesign!$E$12","v":{"$error":"#DIV/0!"}},{"$f":"$D$5+((-(Sanierungsdesign!$E$12)*MIN($BA$7:$BA$932))/(4*PI()*$D$3))*(-LN((4*$D$4*AH483)/(Sanierungsdesign!$E$13)^2)-$D$19)","v":{"$error":"#DIV/0!"}},{"$f":"(BB483-273.15)/Heterogenität!$D$4","v":{"$error":"#DIV/0!"}},{"$f":"IF(AI483<Berechnung!$D$7,AI483,#N/A)","v":{"$error":"#N/A"}}]
[null,null,null,null,null,null,null,null,null,null,null,null,null,null,null,null,null,null,null,null,null,null,null,null,null,null,null,null,null,null,null,null,{"$f":"Sanierungsdesign!$E$12*AH484*Sanierungsdesign!$E$10/1000000","v":22370.400000000001},3441600,39.833333333333336,{"$f":"$D$5+((-Sanierungsdesign!$E$12)/4*PI()*$D$3)*(-LN((4*$D$4*AH484)/(Sanierungsdesign!$E$13^2))-$D$19)","v":2894.1223615294234},2620.9723615294233,5218.5524227312699,{"$f":"$D$3*$T$7*$AH$7*(AK484-$D$5)*(1/Sanierungsdesign!$E$15)/1000000","v":326.48294754059452},{"$f":"$D$5+(-Sanierungsdesign!$E$12/(4*PI()*$D$3))*(-LN((4*$D$4*AH484)/(Sanierungsdesign!$E$13+Sanierungsdesign!$E$15)^2)-$D$19)","v":380.30491523181979},107.15491523181981,{"$f":"(2*PI()*Sanierungsdesign!$E$10*$D$3)*(LN((Sanierungsdesign!$E$13+Sanierungsdesign!$E$15)/Sanierungsdesign!$E$13)*(AJ484-AN484))*$AH$7/1000000","v":224.43108817462988},5930.0150447168908,13384.043955926021,{"$f":"AU484/Sanierungsdesign!$E$11","v":1.8878524008026905},2753280,15.102819206421524,{"$error":"#DIV/0!"},{"$error":"#DIV/0!"},{"$error":"#DIV/0!"},{"$error":"#DIV/0!"},{"$f":"(AY484/(AH484*Sanierungsdesign!$E$10))*1000000","v":{"$error":"#DIV/0!"}},{"$f":"AZ484/Sanierungsdesign!$E$12","v":{"$error":"#DIV/0!"}},{"$f":"$D$5+((-(Sanierungsdesign!$E$12)*MIN($BA$7:$BA$932))/(4*PI()*$D$3))*(-LN((4*$D$4*AH484)/(Sanierungsdesign!$E$13)^2)-$D$19)","v":{"$error":"#DIV/0!"}},{"$f":"(BB484-273.15)/Heterogenität!$D$4","v":{"$error":"#DIV/0!"}},{"$f":"IF(AI484<Berechnung!$D$7,AI484,#N/A)","v":{"$error":"#N/A"}}]
[null,null,null,null,null,null,null,null,null,null,null,null,null,null,null,null,null,null,null,null,null,null,null,null,null,null,null,null,null,null,null,null,{"$f":"Sanierungsdesign!$E$12*AH485*Sanierungsdesign!$E$10/1000000","v":22417.200000000001},3448800,39.916666666666664,{"$f":"$D$5+((-Sanierungsdesign!$E$12)/4*PI()*$D$3)*(-LN((4*$D$4*AH485)/(Sanierungsdesign!$E$13^2))-$D$19)","v":2897.0499198869697},2623.8999198869697,5224.4082213532629,{"$f":"$D$3*$T$7*$AH$7*(AK485-$D$5)*(1/Sanierungsdesign!$E$15)/1000000","v":326.89178864734293},{"$f":"$D$5+(-Sanierungsdesign!$E$12/(4*PI()*$D$3))*(-LN((4*$D$4*AH485)/(Sanierungsdesign!$E$13+Sanierungsdesign!$E$15)^2)-$D$19)","v":380.46249396069157},107.3124939606916,{"$f":"(2*PI()*Sanierungsdesign!$E$10*$D$3)*(LN((Sanierungsdesign!$E$13+Sanierungsdesign!$E$15)/Sanierungsdesign!$E$13)*(AJ485-AN485))*$AH$7/1000000","v":224.67838916428627},5942.4209339317795,13412.044047884026,{"$f":"AU485/Sanierungsdesign!$E$11","v":1.889970782030211},2759040,15.119766256241688,{"$error":"#DIV/0!"},{"$error":"#DIV/0!"},{"$error":"#DIV/0!"},{"$error":"#DIV/0!"},{"$f":"(AY485/(AH485*Sanierungsdesign!$E$10))*1000000","v":{"$error":"#DIV/0!"}},{"$f":"AZ485/Sanierungsdesign!$E$12","v":{"$error":"#DIV/0!"}},{"$f":"$D$5+((-(Sanierungsdesign!$E$12)*MIN($BA$7:$BA$932))/(4*PI()*$D$3))*(-LN((4*$D$4*AH485)/(Sanierungsdesign!$E$13)^2)-$D$19)","v":{"$error":"#DIV/0!"}},{"$f":"(BB485-273.15)/Heterogenität!$D$4","v":{"$error":"#DIV/0!"}},{"$f":"IF(AI485<Berechnung!$D$7,AI485,#N/A)","v":{"$error":"#N/A"}}]
[null,null,null,null,null,null,null,null,null,null,null,null,null,null,null,null,null,null,null,null,null,null,null,null,null,null,null,null,null,null,null,null,{"$f":"Sanierungsdesign!$E$12*AH486*Sanierungsdesign!$E$10/1000000","v":22464},3456000,40,{"$f":"$D$5+((-Sanierungsdesign!$E$12)/4*PI()*$D$3)*(-LN((4*$D$4*AH486)/(Sanierungsdesign!$E$13^2))-$D$19)","v":2899.9713728003412},2626.8213728003411,5230.2518076647839,{"$f":"$D$3*$T$7*$AH$7*(AK486-$D$5)*(1/Sanierungsdesign!$E$15)/1000000","v":327.29977711299972},{"$f":"$D$5+(-Sanierungsdesign!$E$12/(4*PI()*$D$3))*(-LN((4*$D$4*AH486)/(Sanierungsdesign!$E$13+Sanierungsdesign!$E$15)^2)-$D$19)","v":380.61974405798207},107.4697440579821,{"$f":"(2*PI()*Sanierungsdesign!$E$10*$D$3)*(LN((Sanierungsdesign!$E$13+Sanierungsdesign!$E$15)/Sanierungsdesign!$E$13)*(AJ486-AN486))*$AH$7/1000000","v":224.92517440593625},5954.8268231466682,13440.04413984203,{"$f":"AU486/Sanierungsdesign!$E$11","v":1.8920847453583267},2764800,15.136677962866614,{"$error":"#DIV/0!"},{"$error":"#DIV/0!"},{"$error":"#DIV/0!"},{"$error":"#DIV/0!"},{"$f":"(AY486/(AH486*Sanierungsdesign!$E$10))*1000000","v":{"$error":"#DIV/0!"}},{"$f":"AZ486/Sanierungsdesign!$E$12","v":{"$error":"#DIV/0!"}},{"$f":"$D$5+((-(Sanierungsdesign!$E$12)*MIN($BA$7:$BA$932))/(4*PI()*$D$3))*(-LN((4*$D$4*AH486)/(Sanierungsdesign!$E$13)^2)-$D$19)","v":{"$error":"#DIV/0!"}},{"$f":"(BB486-273.15)/Heterogenität!$D$4","v":{"$error":"#DIV/0!"}},{"$f":"IF(AI486<Berechnung!$D$7,AI486,#N/A)","v":{"$error":"#N/A"}}]
[null,null,null,null,null,null,null,null,null,null,null,null,null,null,null,null,null,null,null,null,null,null,null,null,null,null,null,null,null,null,null,null,{"$f":"Sanierungsdesign!$E$12*AH487*Sanierungsdesign!$E$10/1000000","v":22510.799999999999},3463200,40.083333333333336,{"$f":"$D$5+((-Sanierungsdesign!$E$12)/4*PI()*$D$3)*(-LN((4*$D$4*AH487)/(Sanierungsdesign!$E$13^2))-$D$19)","v":2902.8867456824432},2629.7367456824431,5236.0832324975636,{"$f":"$D$3*$T$7*$AH$7*(AK487-$D$5)*(1/Sanierungsdesign!$E$15)/1000000","v":327.70691648654298},{"$f":"$D$5+(-Sanierungsdesign!$E$12/(4*PI()*$D$3))*(-LN((4*$D$4*AH487)/(Sanierungsdesign!$E$13+Sanierungsdesign!$E$15)^2)-$D$19)","v":380.77666689156621},107.62666689156623,{"$f":"(2*PI()*Sanierungsdesign!$E$10*$D$3)*(LN((Sanierungsdesign!$E$13+Sanierungsdesign!$E$15)/Sanierungsdesign!$E$13)*(AJ487-AN487))*$AH$7/1000000","v":225.17144604629581},5967.2327123615569,13468.044231800033,{"$f":"AU487/Sanierungsdesign!$E$11","v":1.8941943091758158},2770560,15.153554473406526,{"$error":"#DIV/0!"},{"$error":"#DIV/0!"},{"$error":"#DIV/0!"},{"$error":"#DIV/0!"},{"$f":"(AY487/(AH487*Sanierungsdesign!$E$10))*1000000","v":{"$error":"#DIV/0!"}},{"$f":"AZ487/Sanierungsdesign!$E$12","v":{"$error":"#DIV/0!"}},{"$f":"$D$5+((-(Sanierungsdesign!$E$12)*MIN($BA$7:$BA$932))/(4*PI()*$D$3))*(-LN((4*$D$4*AH487)/(Sanierungsdesign!$E$13)^2)-$D$19)","v":{"$error":"#DIV/0!"}},{"$f":"(BB487-273.15)/Heterogenität!$D$4","v":{"$error":"#DIV/0!"}},{"$f":"IF(AI487<Berechnung!$D$7,AI487,#N/A)","v":{"$error":"#N/A"}}]
[null,null,null,null,null,null,null,null,null,null,null,null,null,null,null,null,null,null,null,null,null,null,null,null,null,null,null,null,null,null,null,null,{"$f":"Sanierungsdesign!$E$12*AH488*Sanierungsdesign!$E$10/1000000","v":22557.599999999999},3470400,40.166666666666664,{"$f":"$D$5+((-Sanierungsdesign!$E$12)/4*PI()*$D$3)*(-LN((4*$D$4*AH488)/(Sanierungsdesign!$E$13^2))-$D$19)","v":2905.7960637878477},2632.6460637878477,5241.9025463666276,{"$f":"$D$3*$T$7*$AH$7*(AK488-$D$5)*(1/Sanierungsdesign!$E$15)/1000000","v":328.11321029483912},{"$f":"$D$5+(-Sanierungsdesign!$E$12/(4*PI()*$D$3))*(-LN((4*$D$4*AH488)/(Sanierungsdesign!$E$13+Sanierungsdesign!$E$15)^2)-$D$19)","v":380.93326382079618},107.78326382079621,{"$f":"(2*PI()*Sanierungsdesign!$E$10*$D$3)*(LN((Sanierungsdesign!$E$13+Sanierungsdesign!$E$15)/Sanierungsdesign!$E$13)*(AJ488-AN488))*$AH$7/1000000","v":225.41720621870616},5979.6386015764456,13496.044323758038,{"$f":"AU488/Sanierungsdesign!$E$11","v":1.8962994917568863},2776320,15.17039593405509,{"$error":"#DIV/0!"},{"$error":"#DIV/0!"},{"$error":"#DIV/0!"},{"$error":"#DIV/0!"},{"$f":"(AY488/(AH488*Sanierungsdesign!$E$10))*1000000","v":{"$error":"#DIV/0!"}},{"$f":"AZ488/Sanierungsdesign!$E$12","v":{"$error":"#DIV/0!"}},{"$f":"$D$5+((-(Sanierungsdesign!$E$12)*MIN($BA$7:$BA$932))/(4*PI()*$D$3))*(-LN((4*$D$4*AH488)/(Sanierungsdesign!$E$13)^2)-$D$19)","v":{"$error":"#DIV/0!"}},{"$f":"(BB488-273.15)/Heterogenität!$D$4","v":{"$error":"#DIV/0!"}},{"$f":"IF(AI488<Berechnung!$D$7,AI488,#N/A)","v":{"$error":"#N/A"}}]
[null,null,null,null,null,null,null,null,null,null,null,null,null,null,null,null,null,null,null,null,null,null,null,null,null,null,null,null,null,null,null,null,{"$f":"Sanierungsdesign!$E$12*AH489*Sanierungsdesign!$E$10/1000000","v":22604.400000000001},3477600,40.25,{"$f":"$D$5+((-Sanierungsdesign!$E$12)/4*PI()*$D$3)*(-LN((4*$D$4*AH489)/(Sanierungsdesign!$E$13^2))-$D$19)","v":2908.6993522141015},2635.5493522141014,5247.7097994729174,{"$f":"$D$3*$T$7*$AH$7*(AK489-$D$5)*(1/Sanierungsdesign!$E$15)/1000000","v":328.51866204282555},{"$f":"$D$5+(-Sanierungsdesign!$E$12/(4*PI()*$D$3))*(-LN((4*$D$4*AH489)/(Sanierungsdesign!$E$13+Sanierungsdesign!$E$15)^2)-$D$19)","v":381.0895361965724},107.93953619657242,{"$f":"(2*PI()*Sanierungsdesign!$E$10*$D$3)*(LN((Sanierungsdesign!$E$13+Sanierungsdesign!$E$15)/Sanierungsdesign!$E$13)*(AJ489-AN489))*$AH$7/1000000","v":225.6624570432439},5992.0444907913352,13524.044415716044,{"$f":"AU489/Sanierungsdesign!$E$11","v":1.8984003112621235},2782080,15.187202490096988,{"$error":"#DIV/0!"},{"$error":"#DIV/0!"},{"$error":"#DIV/0!"},{"$error":"#DIV/0!"},{"$f":"(AY489/(AH489*Sanierungsdesign!$E$10))*1000000","v":{"$error":"#DIV/0!"}},{"$f":"AZ489/Sanierungsdesign!$E$12","v":{"$error":"#DIV/0!"}},{"$f":"$D$5+((-(Sanierungsdesign!$E$12)*MIN($BA$7:$BA$932))/(4*PI()*$D$3))*(-LN((4*$D$4*AH489)/(Sanierungsdesign!$E$13)^2)-$D$19)","v":{"$error":"#DIV/0!"}},{"$f":"(BB489-273.15)/Heterogenität!$D$4","v":{"$error":"#DIV/0!"}},{"$f":"IF(AI489<Berechnung!$D$7,AI489,#N/A)","v":{"$error":"#N/A"}}]
[null,null,null,null,null,null,null,null,null,null,null,null,null,null,null,null,null,null,null,null,null,null,null,null,null,null,null,null,null,null,null,null,{"$f":"Sanierungsdesign!$E$12*AH490*Sanierungsdesign!$E$10/1000000","v":22651.200000000001},3484800,40.333333333333336,{"$f":"$D$5+((-Sanierungsdesign!$E$12)/4*PI()*$D$3)*(-LN((4*$D$4*AH490)/(Sanierungsdesign!$E$13^2))-$D$19)","v":2911.5966359030267},2638.4466359030266,5253.5050417058847,{"$f":"$D$3*$T$7*$AH$7*(AK490-$D$5)*(1/Sanierungsdesign!$E$15)/1000000","v":328.92327521369231},{"$f":"$D$5+(-Sanierungsdesign!$E$12/(4*PI()*$D$3))*(-LN((4*$D$4*AH490)/(Sanierungsdesign!$E$13+Sanierungsdesign!$E$15)^2)-$D$19)","v":381.2454853614131},108.09548536141313,{"$f":"(2*PI()*Sanierungsdesign!$E$10*$D$3)*(LN((Sanierungsdesign!$E$13+Sanierungsdesign!$E$15)/Sanierungsdesign!$E$13)*(AJ490-AN490))*$AH$7/1000000","v":225.90720062683113},6004.4503800062239,13552.044507674047,{"$f":"AU490/Sanierungsdesign!$E$11","v":1.9004967857394297},2787840,15.203974285915438,{"$error":"#DIV/0!"},{"$error":"#DIV/0!"},{"$error":"#DIV/0!"},{"$error":"#DIV/0!"},{"$f":"(AY490/(AH490*Sanierungsdesign!$E$10))*1000000","v":{"$error":"#DIV/0!"}},{"$f":"AZ490/Sanierungsdesign!$E$12","v":{"$error":"#DIV/0!"}},{"$f":"$D$5+((-(Sanierungsdesign!$E$12)*MIN($BA$7:$BA$932))/(4*PI()*$D$3))*(-LN((4*$D$4*AH490)/(Sanierungsdesign!$E$13)^2)-$D$19)","v":{"$error":"#DIV/0!"}},{"$f":"(BB490-273.15)/Heterogenität!$D$4","v":{"$error":"#DIV/0!"}},{"$f":"IF(AI490<Berechnung!$D$7,AI490,#N/A)","v":{"$error":"#N/A"}}]
[null,null,null,null,null,null,null,null,null,null,null,null,null,null,null,null,null,null,null,null,null,null,null,null,null,null,null,null,null,null,null,null,{"$f":"Sanierungsdesign!$E$12*AH491*Sanierungsdesign!$E$10/1000000","v":22698},3492000,40.416666666666664,{"$f":"$D$5+((-Sanierungsdesign!$E$12)/4*PI()*$D$3)*(-LN((4*$D$4*AH491)/(Sanierungsdesign!$E$13^2))-$D$19)","v":2914.4879396420074},2641.3379396420073,5259.2883226460726,{"$f":"$D$3*$T$7*$AH$7*(AK491-$D$5)*(1/Sanierungsdesign!$E$15)/1000000","v":329.32705326906176},{"$f":"$D$5+(-Sanierungsdesign!$E$12/(4*PI()*$D$3))*(-LN((4*$D$4*AH491)/(Sanierungsdesign!$E$13+Sanierungsdesign!$E$15)^2)-$D$19)","v":381.40111264952384},108.25111264952386,{"$f":"(2*PI()*Sanierungsdesign!$E$10*$D$3)*(LN((Sanierungsdesign!$E$13+Sanierungsdesign!$E$15)/Sanierungsdesign!$E$13)*(AJ491-AN491))*$AH$7/1000000","v":226.15143906334399},6016.8562692211126,13580.044599632052,{"$f":"AU491/Sanierungsdesign!$E$11","v":1.9025889331249561},2793600,15.220711464999649,{"$error":"#DIV/0!"},{"$error":"#DIV/0!"},{"$error":"#DIV/0!"},{"$error":"#DIV/0!"},{"$f":"(AY491/(AH491*Sanierungsdesign!$E$10))*1000000","v":{"$error":"#DIV/0!"}},{"$f":"AZ491/Sanierungsdesign!$E$12","v":{"$error":"#DIV/0!"}},{"$f":"$D$5+((-(Sanierungsdesign!$E$12)*MIN($BA$7:$BA$932))/(4*PI()*$D$3))*(-LN((4*$D$4*AH491)/(Sanierungsdesign!$E$13)^2)-$D$19)","v":{"$error":"#DIV/0!"}},{"$f":"(BB491-273.15)/Heterogenität!$D$4","v":{"$error":"#DIV/0!"}},{"$f":"IF(AI491<Berechnung!$D$7,AI491,#N/A)","v":{"$error":"#N/A"}}]
[null,null,null,null,null,null,null,null,null,null,null,null,null,null,null,null,null,null,null,null,null,null,null,null,null,null,null,null,null,null,null,null,{"$f":"Sanierungsdesign!$E$12*AH492*Sanierungsdesign!$E$10/1000000","v":22744.799999999999},3499200,40.5,{"$f":"$D$5+((-Sanierungsdesign!$E$12)/4*PI()*$D$3)*(-LN((4*$D$4*AH492)/(Sanierungsdesign!$E$13^2))-$D$19)","v":2917.3732880652606},2644.2232880652605,5265.0596915676524,{"$f":"$D$3*$T$7*$AH$7*(AK492-$D$5)*(1/Sanierungsdesign!$E$15)/1000000","v":329.72999964916613},{"$f":"$D$5+(-Sanierungsdesign!$E$12/(4*PI()*$D$3))*(-LN((4*$D$4*AH492)/(Sanierungsdesign!$E$13+Sanierungsdesign!$E$15)^2)-$D$19)","v":381.55641938686574},108.40641938686576,{"$f":"(2*PI()*Sanierungsdesign!$E$10*$D$3)*(LN((Sanierungsdesign!$E$13+Sanierungsdesign!$E$15)/Sanierungsdesign!$E$13)*(AJ492-AN492))*$AH$7/1000000","v":226.39517443372},6029.2621584360013,13608.044691590056,{"$f":"AU492/Sanierungsdesign!$E$11","v":1.9046767712440222},2799360,15.237414169952178,{"$error":"#DIV/0!"},{"$error":"#DIV/0!"},{"$error":"#DIV/0!"},{"$error":"#DIV/0!"},{"$f":"(AY492/(AH492*Sanierungsdesign!$E$10))*1000000","v":{"$error":"#DIV/0!"}},{"$f":"AZ492/Sanierungsdesign!$E$12","v":{"$error":"#DIV/0!"}},{"$f":"$D$5+((-(Sanierungsdesign!$E$12)*MIN($BA$7:$BA$932))/(4*PI()*$D$3))*(-LN((4*$D$4*AH492)/(Sanierungsdesign!$E$13)^2)-$D$19)","v":{"$error":"#DIV/0!"}},{"$f":"(BB492-273.15)/Heterogenität!$D$4","v":{"$error":"#DIV/0!"}},{"$f":"IF(AI492<Berechnung!$D$7,AI492,#N/A)","v":{"$error":"#N/A"}}]
[null,null,null,null,null,null,null,null,null,null,null,null,null,null,null,null,null,null,null,null,null,null,null,null,null,null,null,null,null,null,null,null,{"$f":"Sanierungsdesign!$E$12*AH493*Sanierungsdesign!$E$10/1000000","v":22791.599999999999},3506400,40.583333333333336,{"$f":"$D$5+((-Sanierungsdesign!$E$12)/4*PI()*$D$3)*(-LN((4*$D$4*AH493)/(Sanierungsdesign!$E$13^2))-$D$19)","v":2920.2527056550975},2647.1027056550975,5270.8191974409492,{"$f":"$D$3*$T$7*$AH$7*(AK493-$D$5)*(1/Sanierungsdesign!$E$15)/1000000","v":330.13211777302354},{"$f":"$D$5+(-Sanierungsdesign!$E$12/(4*PI()*$D$3))*(-LN((4*$D$4*AH493)/(Sanierungsdesign!$E$13+Sanierungsdesign!$E$15)^2)-$D$19)","v":381.71140689122342},108.56140689122344,{"$f":"(2*PI()*Sanierungsdesign!$E$10*$D$3)*(LN((Sanierungsdesign!$E$13+Sanierungsdesign!$E$15)/Sanierungsdesign!$E$13)*(AJ493-AN493))*$AH$7/1000000","v":226.63840880606494},6041.66804765089,13636.044783548059,{"$f":"AU493/Sanierungsdesign!$E$11","v":1.9067603178120283},2805120,15.254082542496226,{"$error":"#DIV/0!"},{"$error":"#DIV/0!"},{"$error":"#DIV/0!"},{"$error":"#DIV/0!"},{"$f":"(AY493/(AH493*Sanierungsdesign!$E$10))*1000000","v":{"$error":"#DIV/0!"}},{"$f":"AZ493/Sanierungsdesign!$E$12","v":{"$error":"#DIV/0!"}},{"$f":"$D$5+((-(Sanierungsdesign!$E$12)*MIN($BA$7:$BA$932))/(4*PI()*$D$3))*(-LN((4*$D$4*AH493)/(Sanierungsdesign!$E$13)^2)-$D$19)","v":{"$error":"#DIV/0!"}},{"$f":"(BB493-273.15)/Heterogenität!$D$4","v":{"$error":"#DIV/0!"}},{"$f":"IF(AI493<Berechnung!$D$7,AI493,#N/A)","v":{"$error":"#N/A"}}]
[null,null,null,null,null,null,null,null,null,null,null,null,null,null,null,null,null,null,null,null,null,null,null,null,null,null,null,null,null,null,null,null,{"$f":"Sanierungsdesign!$E$12*AH494*Sanierungsdesign!$E$10/1000000","v":22838.400000000001},3513600,40.666666666666664,{"$f":"$D$5+((-Sanierungsdesign!$E$12)/4*PI()*$D$3)*(-LN((4*$D$4*AH494)/(Sanierungsdesign!$E$13^2))-$D$19)","v":2923.1262167431682},2649.9762167431682,5276.5668889349317,{"$f":"$D$3*$T$7*$AH$7*(AK494-$D$5)*(1/Sanierungsdesign!$E$15)/1000000","v":330.53341103861203},{"$f":"$D$5+(-Sanierungsdesign!$E$12/(4*PI()*$D$3))*(-LN((4*$D$4*AH494)/(Sanierungsdesign!$E$13+Sanierungsdesign!$E$15)^2)-$D$19)","v":381.86607647227208},108.71607647227211,{"$f":"(2*PI()*Sanierungsdesign!$E$10*$D$3)*(LN((Sanierungsdesign!$E$13+Sanierungsdesign!$E$15)/Sanierungsdesign!$E$13)*(AJ494-AN494))*$AH$7/1000000","v":226.88114423575729},6054.0739368657796,13664.044875506066,{"$f":"AU494/Sanierungsdesign!$E$11","v":1.9088395904353561},2810880,15.270716723482849,{"$error":"#DIV/0!"},{"$error":"#DIV/0!"},{"$error":"#DIV/0!"},{"$error":"#DIV/0!"},{"$f":"(AY494/(AH494*Sanierungsdesign!$E$10))*1000000","v":{"$error":"#DIV/0!"}},{"$f":"AZ494/Sanierungsdesign!$E$12","v":{"$error":"#DIV/0!"}},{"$f":"$D$5+((-(Sanierungsdesign!$E$12)*MIN($BA$7:$BA$932))/(4*PI()*$D$3))*(-LN((4*$D$4*AH494)/(Sanierungsdesign!$E$13)^2)-$D$19)","v":{"$error":"#DIV/0!"}},{"$f":"(BB494-273.15)/Heterogenität!$D$4","v":{"$error":"#DIV/0!"}},{"$f":"IF(AI494<Berechnung!$D$7,AI494,#N/A)","v":{"$error":"#N/A"}}]
[null,null,null,null,null,null,null,null,null,null,null,null,null,null,null,null,null,null,null,null,null,null,null,null,null,null,null,null,null,null,null,null,{"$f":"Sanierungsdesign!$E$12*AH495*Sanierungsdesign!$E$10/1000000","v":22885.200000000001},3520800,40.75,{"$f":"$D$5+((-Sanierungsdesign!$E$12)/4*PI()*$D$3)*(-LN((4*$D$4*AH495)/(Sanierungsdesign!$E$13^2))-$D$19)","v":2925.9938455116953},2652.8438455116952,5282.302814419676,{"$f":"$D$3*$T$7*$AH$7*(AK495-$D$5)*(1/Sanierungsdesign!$E$15)/1000000","v":330.93388282304159},{"$f":"$D$5+(-Sanierungsdesign!$E$12/(4*PI()*$D$3))*(-LN((4*$D$4*AH495)/(Sanierungsdesign!$E$13+Sanierungsdesign!$E$15)^2)-$D$19)","v":382.02042943164378},108.8704294316438,{"$f":"(2*PI()*Sanierungsdesign!$E$10*$D$3)*(LN((Sanierungsdesign!$E$13+Sanierungsdesign!$E$15)/Sanierungsdesign!$E$13)*(AJ495-AN495))*$AH$7/1000000","v":227.12338276555332},6066.4798260806683,13692.044967464068,{"$f":"AU495/Sanierungsdesign!$E$11","v":1.9109146066122624},2816640,15.287316852898099,{"$error":"#DIV/0!"},{"$error":"#DIV/0!"},{"$error":"#DIV/0!"},{"$error":"#DIV/0!"},{"$f":"(AY495/(AH495*Sanierungsdesign!$E$10))*1000000","v":{"$error":"#DIV/0!"}},{"$f":"AZ495/Sanierungsdesign!$E$12","v":{"$error":"#DIV/0!"}},{"$f":"$D$5+((-(Sanierungsdesign!$E$12)*MIN($BA$7:$BA$932))/(4*PI()*$D$3))*(-LN((4*$D$4*AH495)/(Sanierungsdesign!$E$13)^2)-$D$19)","v":{"$error":"#DIV/0!"}},{"$f":"(BB495-273.15)/Heterogenität!$D$4","v":{"$error":"#DIV/0!"}},{"$f":"IF(AI495<Berechnung!$D$7,AI495,#N/A)","v":{"$error":"#N/A"}}]
[null,null,null,null,null,null,null,null,null,null,null,null,null,null,null,null,null,null,null,null,null,null,null,null,null,null,null,null,null,null,null,null,{"$f":"Sanierungsdesign!$E$12*AH496*Sanierungsdesign!$E$10/1000000","v":22932},3528000,40.833333333333336,{"$f":"$D$5+((-Sanierungsdesign!$E$12)/4*PI()*$D$3)*(-LN((4*$D$4*AH496)/(Sanierungsdesign!$E$13^2))-$D$19)","v":2928.8556159946952},2655.7056159946951,5288.0270219688136,{"$f":"$D$3*$T$7*$AH$7*(AK496-$D$5)*(1/Sanierungsdesign!$E$15)/1000000","v":331.33353648272481},{"$f":"$D$5+(-Sanierungsdesign!$E$12/(4*PI()*$D$3))*(-LN((4*$D$4*AH496)/(Sanierungsdesign!$E$13+Sanierungsdesign!$E$15)^2)-$D$19)","v":382.17446706299336},109.02446706299338,{"$f":"(2*PI()*Sanierungsdesign!$E$10*$D$3)*(LN((Sanierungsdesign!$E$13+Sanierungsdesign!$E$15)/Sanierungsdesign!$E$13)*(AJ496-AN496))*$AH$7/1000000","v":227.36512642568948},6078.885715295557,13720.045059422071,{"$f":"AU496/Sanierungsdesign!$E$11","v":1.9129853837337609},2822400,15.303883069870087,{"$error":"#DIV/0!"},{"$error":"#DIV/0!"},{"$error":"#DIV/0!"},{"$error":"#DIV/0!"},{"$f":"(AY496/(AH496*Sanierungsdesign!$E$10))*1000000","v":{"$error":"#DIV/0!"}},{"$f":"AZ496/Sanierungsdesign!$E$12","v":{"$error":"#DIV/0!"}},{"$f":"$D$5+((-(Sanierungsdesign!$E$12)*MIN($BA$7:$BA$932))/(4*PI()*$D$3))*(-LN((4*$D$4*AH496)/(Sanierungsdesign!$E$13)^2)-$D$19)","v":{"$error":"#DIV/0!"}},{"$f":"(BB496-273.15)/Heterogenität!$D$4","v":{"$error":"#DIV/0!"}},{"$f":"IF(AI496<Berechnung!$D$7,AI496,#N/A)","v":{"$error":"#N/A"}}]
[null,null,null,null,null,null,null,null,null,null,null,null,null,null,null,null,null,null,null,null,null,null,null,null,null,null,null,null,null,null,null,null,{"$f":"Sanierungsdesign!$E$12*AH497*Sanierungsdesign!$E$10/1000000","v":22978.799999999999},3535200,40.916666666666664,{"$f":"$D$5+((-Sanierungsdesign!$E$12)/4*PI()*$D$3)*(-LN((4*$D$4*AH497)/(Sanierungsdesign!$E$13^2))-$D$19)","v":2931.711552079189},2658.5615520791889,5293.7395593619531,{"$f":"$D$3*$T$7*$AH$7*(AK497-$D$5)*(1/Sanierungsdesign!$E$15)/1000000","v":331.73237535354605},{"$f":"$D$5+(-Sanierungsdesign!$E$12/(4*PI()*$D$3))*(-LN((4*$D$4*AH497)/(Sanierungsdesign!$E$13+Sanierungsdesign!$E$15)^2)-$D$19)","v":382.32819065206326},109.17819065206328,{"$f":"(2*PI()*Sanierungsdesign!$E$10*$D$3)*(LN((Sanierungsdesign!$E$13+Sanierungsdesign!$E$15)/Sanierungsdesign!$E$13)*(AJ497-AN497))*$AH$7/1000000","v":227.60637723398511},6091.2916045104457,13748.045151380076,{"$f":"AU497/Sanierungsdesign!$E$11","v":1.9150519390845007},2828160,15.320415512676005,{"$error":"#DIV/0!"},{"$error":"#DIV/0!"},{"$error":"#DIV/0!"},{"$error":"#DIV/0!"},{"$f":"(AY497/(AH497*Sanierungsdesign!$E$10))*1000000","v":{"$error":"#DIV/0!"}},{"$f":"AZ497/Sanierungsdesign!$E$12","v":{"$error":"#DIV/0!"}},{"$f":"$D$5+((-(Sanierungsdesign!$E$12)*MIN($BA$7:$BA$932))/(4*PI()*$D$3))*(-LN((4*$D$4*AH497)/(Sanierungsdesign!$E$13)^2)-$D$19)","v":{"$error":"#DIV/0!"}},{"$f":"(BB497-273.15)/Heterogenität!$D$4","v":{"$error":"#DIV/0!"}},{"$f":"IF(AI497<Berechnung!$D$7,AI497,#N/A)","v":{"$error":"#N/A"}}]
[null,null,null,null,null,null,null,null,null,null,null,null,null,null,null,null,null,null,null,null,null,null,null,null,null,null,null,null,null,null,null,null,{"$f":"Sanierungsdesign!$E$12*AH498*Sanierungsdesign!$E$10/1000000","v":23025.599999999999},3542400,41,{"$f":"$D$5+((-Sanierungsdesign!$E$12)/4*PI()*$D$3)*(-LN((4*$D$4*AH498)/(Sanierungsdesign!$E$13^2))-$D$19)","v":2934.561677506395},2661.4116775063949,5299.4404740870568,{"$f":"$D$3*$T$7*$AH$7*(AK498-$D$5)*(1/Sanierungsdesign!$E$15)/1000000","v":332.13040275102793},{"$f":"$D$5+(-Sanierungsdesign!$E$12/(4*PI()*$D$3))*(-LN((4*$D$4*AH498)/(Sanierungsdesign!$E$13+Sanierungsdesign!$E$15)^2)-$D$19)","v":382.4816014767481},109.33160147674812,{"$f":"(2*PI()*Sanierungsdesign!$E$10*$D$3)*(LN((Sanierungsdesign!$E$13+Sanierungsdesign!$E$15)/Sanierungsdesign!$E$13)*(AJ498-AN498))*$AH$7/1000000","v":227.84713719594328},6103.6974937253344,13776.04524333808,{"$f":"AU498/Sanierungsdesign!$E$11","v":1.9171142898436271},2833920,15.336914318749017,{"$error":"#DIV/0!"},{"$error":"#DIV/0!"},{"$error":"#DIV/0!"},{"$error":"#DIV/0!"},{"$f":"(AY498/(AH498*Sanierungsdesign!$E$10))*1000000","v":{"$error":"#DIV/0!"}},{"$f":"AZ498/Sanierungsdesign!$E$12","v":{"$error":"#DIV/0!"}},{"$f":"$D$5+((-(Sanierungsdesign!$E$12)*MIN($BA$7:$BA$932))/(4*PI()*$D$3))*(-LN((4*$D$4*AH498)/(Sanierungsdesign!$E$13)^2)-$D$19)","v":{"$error":"#DIV/0!"}},{"$f":"(BB498-273.15)/Heterogenität!$D$4","v":{"$error":"#DIV/0!"}},{"$f":"IF(AI498<Berechnung!$D$7,AI498,#N/A)","v":{"$error":"#N/A"}}]
[null,null,null,null,null,null,null,null,null,null,null,null,null,null,null,null,null,null,null,null,null,null,null,null,null,null,null,null,null,null,null,null,{"$f":"Sanierungsdesign!$E$12*AH499*Sanierungsdesign!$E$10/1000000","v":23072.400000000001},3549600,41.083333333333336,{"$f":"$D$5+((-Sanierungsdesign!$E$12)/4*PI()*$D$3)*(-LN((4*$D$4*AH499)/(Sanierungsdesign!$E$13^2))-$D$19)","v":2937.4060158729148},2664.2560158729148,5305.1298133428281,{"$f":"$D$3*$T$7*$AH$7*(AK499-$D$5)*(1/Sanierungsdesign!$E$15)/1000000","v":332.52762197049708},{"$f":"$D$5+(-Sanierungsdesign!$E$12/(4*PI()*$D$3))*(-LN((4*$D$4*AH499)/(Sanierungsdesign!$E$13+Sanierungsdesign!$E$15)^2)-$D$19)","v":382.63470080715848},109.4847008071585,{"$f":"(2*PI()*Sanierungsdesign!$E$10*$D$3)*(LN((Sanierungsdesign!$E$13+Sanierungsdesign!$E$15)/Sanierungsdesign!$E$13)*(AJ499-AN499))*$AH$7/1000000","v":228.08740830485041},6116.103382940224,13804.045335296085,{"$f":"AU499/Sanierungsdesign!$E$11","v":1.9191724530856409},2839680,15.353379624685127,{"$error":"#DIV/0!"},{"$error":"#DIV/0!"},{"$error":"#DIV/0!"},{"$error":"#DIV/0!"},{"$f":"(AY499/(AH499*Sanierungsdesign!$E$10))*1000000","v":{"$error":"#DIV/0!"}},{"$f":"AZ499/Sanierungsdesign!$E$12","v":{"$error":"#DIV/0!"}},{"$f":"$D$5+((-(Sanierungsdesign!$E$12)*MIN($BA$7:$BA$932))/(4*PI()*$D$3))*(-LN((4*$D$4*AH499)/(Sanierungsdesign!$E$13)^2)-$D$19)","v":{"$error":"#DIV/0!"}},{"$f":"(BB499-273.15)/Heterogenität!$D$4","v":{"$error":"#DIV/0!"}},{"$f":"IF(AI499<Berechnung!$D$7,AI499,#N/A)","v":{"$error":"#N/A"}}]
[null,null,null,null,null,null,null,null,null,null,null,null,null,null,null,null,null,null,null,null,null,null,null,null,null,null,null,null,null,null,null,null,{"$f":"Sanierungsdesign!$E$12*AH500*Sanierungsdesign!$E$10/1000000","v":23119.200000000001},3556800,41.166666666666664,{"$f":"$D$5+((-Sanierungsdesign!$E$12)/4*PI()*$D$3)*(-LN((4*$D$4*AH500)/(Sanierungsdesign!$E$13^2))-$D$19)","v":2940.2445906319081},2667.094590631908,5310.8076240410464,{"$f":"$D$3*$T$7*$AH$7*(AK500-$D$5)*(1/Sanierungsdesign!$E$15)/1000000","v":332.92403628724787},{"$f":"$D$5+(-Sanierungsdesign!$E$12/(4*PI()*$D$3))*(-LN((4*$D$4*AH500)/(Sanierungsdesign!$E$13+Sanierungsdesign!$E$15)^2)-$D$19)","v":382.78748990568374},109.63748990568376,{"$f":"(2*PI()*Sanierungsdesign!$E$10*$D$3)*(LN((Sanierungsdesign!$E$13+Sanierungsdesign!$E$15)/Sanierungsdesign!$E$13)*(AJ500-AN500))*$AH$7/1000000","v":228.32719254187623},6128.5092721551127,13832.04542725409,{"$f":"AU500/Sanierungsdesign!$E$11","v":1.9212264457812485},2845440,15.369811566249988,{"$error":"#DIV/0!"},{"$error":"#DIV/0!"},{"$error":"#DIV/0!"},{"$error":"#DIV/0!"},{"$f":"(AY500/(AH500*Sanierungsdesign!$E$10))*1000000","v":{"$error":"#DIV/0!"}},{"$f":"AZ500/Sanierungsdesign!$E$12","v":{"$error":"#DIV/0!"}},{"$f":"$D$5+((-(Sanierungsdesign!$E$12)*MIN($BA$7:$BA$932))/(4*PI()*$D$3))*(-LN((4*$D$4*AH500)/(Sanierungsdesign!$E$13)^2)-$D$19)","v":{"$error":"#DIV/0!"}},{"$f":"(BB500-273.15)/Heterogenität!$D$4","v":{"$error":"#DIV/0!"}},{"$f":"IF(AI500<Berechnung!$D$7,AI500,#N/A)","v":{"$error":"#N/A"}}]
[null,null,null,null,null,null,null,null,null,null,null,null,null,null,null,null,null,null,null,null,null,null,null,null,null,null,null,null,null,null,null,null,{"$f":"Sanierungsdesign!$E$12*AH501*Sanierungsdesign!$E$10/1000000","v":23166},3564000,41.25,{"$f":"$D$5+((-Sanierungsdesign!$E$12)/4*PI()*$D$3)*(-LN((4*$D$4*AH501)/(Sanierungsdesign!$E$13^2))-$D$19)","v":2943.0774250942459},2669.9274250942458,5316.4739528088849,{"$f":"$D$3*$T$7*$AH$7*(AK501-$D$5)*(1/Sanierungsdesign!$E$15)/1000000","v":333.31964895670393},{"$f":"$D$5+(-Sanierungsdesign!$E$12/(4*PI()*$D$3))*(-LN((4*$D$4*AH501)/(Sanierungsdesign!$E$13+Sanierungsdesign!$E$15)^2)-$D$19)","v":382.93997002705476},109.78997002705478,{"$f":"(2*PI()*Sanierungsdesign!$E$10*$D$3)*(LN((Sanierungsdesign!$E$13+Sanierungsdesign!$E$15)/Sanierungsdesign!$E$13)*(AJ501-AN501))*$AH$7/1000000","v":228.56649187617066},6140.9151613700014,13860.045519212093,{"$f":"AU501/Sanierungsdesign!$E$11","v":1.9232762847981961},2851200,15.386210278385569,{"$error":"#DIV/0!"},{"$error":"#DIV/0!"},{"$error":"#DIV/0!"},{"$error":"#DIV/0!"},{"$f":"(AY501/(AH501*Sanierungsdesign!$E$10))*1000000","v":{"$error":"#DIV/0!"}},{"$f":"AZ501/Sanierungsdesign!$E$12","v":{"$error":"#DIV/0!"}},{"$f":"$D$5+((-(Sanierungsdesign!$E$12)*MIN($BA$7:$BA$932))/(4*PI()*$D$3))*(-LN((4*$D$4*AH501)/(Sanierungsdesign!$E$13)^2)-$D$19)","v":{"$error":"#DIV/0!"}},{"$f":"(BB501-273.15)/Heterogenität!$D$4","v":{"$error":"#DIV/0!"}},{"$f":"IF(AI501<Berechnung!$D$7,AI501,#N/A)","v":{"$error":"#N/A"}}]
[null,null,null,null,null,null,null,null,null,null,null,null,null,null,null,null,null,null,null,null,null,null,null,null,null,null,null,null,null,null,null,null,{"$f":"Sanierungsdesign!$E$12*AH502*Sanierungsdesign!$E$10/1000000","v":23212.799999999999},3571200,41.333333333333336,{"$f":"$D$5+((-Sanierungsdesign!$E$12)/4*PI()*$D$3)*(-LN((4*$D$4*AH502)/(Sanierungsdesign!$E$13^2))-$D$19)","v":2945.9045424296669},2672.7545424296668,5322.1288459912166,{"$f":"$D$3*$T$7*$AH$7*(AK502-$D$5)*(1/Sanierungsdesign!$E$15)/1000000","v":333.7144632145791},{"$f":"$D$5+(-Sanierungsdesign!$E$12/(4*PI()*$D$3))*(-LN((4*$D$4*AH502)/(Sanierungsdesign!$E$13+Sanierungsdesign!$E$15)^2)-$D$19)","v":383.09214241840567},109.94214241840569,{"$f":"(2*PI()*Sanierungsdesign!$E$10*$D$3)*(LN((Sanierungsdesign!$E$13+Sanierungsdesign!$E$15)/Sanierungsdesign!$E$13)*(AJ502-AN502))*$AH$7/1000000","v":228.80530826496175},6153.3210505848901,13888.045611170097,{"$f":"AU502/Sanierungsdesign!$E$11","v":1.9253219869021065},2856960,15.402575895216852,{"$error":"#DIV/0!"},{"$error":"#DIV/0!"},{"$error":"#DIV/0!"},{"$error":"#DIV/0!"},{"$f":"(AY502/(AH502*Sanierungsdesign!$E$10))*1000000","v":{"$error":"#DIV/0!"}},{"$f":"AZ502/Sanierungsdesign!$E$12","v":{"$error":"#DIV/0!"}},{"$f":"$D$5+((-(Sanierungsdesign!$E$12)*MIN($BA$7:$BA$932))/(4*PI()*$D$3))*(-LN((4*$D$4*AH502)/(Sanierungsdesign!$E$13)^2)-$D$19)","v":{"$error":"#DIV/0!"}},{"$f":"(BB502-273.15)/Heterogenität!$D$4","v":{"$error":"#DIV/0!"}},{"$f":"IF(AI502<Berechnung!$D$7,AI502,#N/A)","v":{"$error":"#N/A"}}]
[null,null,null,null,null,null,null,null,null,null,null,null,null,null,null,null,null,null,null,null,null,null,null,null,null,null,null,null,null,null,null,null,{"$f":"Sanierungsdesign!$E$12*AH503*Sanierungsdesign!$E$10/1000000","v":23259.599999999999},3578400,41.416666666666664,{"$f":"$D$5+((-Sanierungsdesign!$E$12)/4*PI()*$D$3)*(-LN((4*$D$4*AH503)/(Sanierungsdesign!$E$13^2))-$D$19)","v":2948.7259656679107},2675.5759656679106,5327.772349652887,{"$f":"$D$3*$T$7*$AH$7*(AK503-$D$5)*(1/Sanierungsdesign!$E$15)/1000000","v":334.10848227703639},{"$f":"$D$5+(-Sanierungsdesign!$E$12/(4*PI()*$D$3))*(-LN((4*$D$4*AH503)/(Sanierungsdesign!$E$13+Sanierungsdesign!$E$15)^2)-$D$19)","v":383.24400831933497},110.09400831933499,{"$f":"(2*PI()*Sanierungsdesign!$E$10*$D$3)*(LN((Sanierungsdesign!$E$13+Sanierungsdesign!$E$15)/Sanierungsdesign!$E$13)*(AJ503-AN503))*$AH$7/1000000","v":229.04364365365134},6165.7269397997788,13916.045703128102,{"$f":"AU503/Sanierungsdesign!$E$11","v":1.9273635687572999},2862720,15.418908550058399,{"$error":"#DIV/0!"},{"$error":"#DIV/0!"},{"$error":"#DIV/0!"},{"$error":"#DIV/0!"},{"$f":"(AY503/(AH503*Sanierungsdesign!$E$10))*1000000","v":{"$error":"#DIV/0!"}},{"$f":"AZ503/Sanierungsdesign!$E$12","v":{"$error":"#DIV/0!"}},{"$f":"$D$5+((-(Sanierungsdesign!$E$12)*MIN($BA$7:$BA$932))/(4*PI()*$D$3))*(-LN((4*$D$4*AH503)/(Sanierungsdesign!$E$13)^2)-$D$19)","v":{"$error":"#DIV/0!"}},{"$f":"(BB503-273.15)/Heterogenität!$D$4","v":{"$error":"#DIV/0!"}},{"$f":"IF(AI503<Berechnung!$D$7,AI503,#N/A)","v":{"$error":"#N/A"}}]
[null,null,null,null,null,null,null,null,null,null,null,null,null,null,null,null,null,null,null,null,null,null,null,null,null,null,null,null,null,null,null,null,{"$f":"Sanierungsdesign!$E$12*AH504*Sanierungsdesign!$E$10/1000000","v":23306.400000000001},3585600,41.5,{"$f":"$D$5+((-Sanierungsdesign!$E$12)/4*PI()*$D$3)*(-LN((4*$D$4*AH504)/(Sanierungsdesign!$E$13^2))-$D$19)","v":2951.5417176998426},2678.3917176998425,5333.404509580957,{"$f":"$D$3*$T$7*$AH$7*(AK504-$D$5)*(1/Sanierungsdesign!$E$15)/1000000","v":334.50170934084423},{"$f":"$D$5+(-Sanierungsdesign!$E$12/(4*PI()*$D$3))*(-LN((4*$D$4*AH504)/(Sanierungsdesign!$E$13+Sanierungsdesign!$E$15)^2)-$D$19)","v":383.39556896196615},110.24556896196617,{"$f":"(2*PI()*Sanierungsdesign!$E$10*$D$3)*(LN((Sanierungsdesign!$E$13+Sanierungsdesign!$E$15)/Sanierungsdesign!$E$13)*(AJ504-AN504))*$AH$7/1000000","v":229.28149997591012},6178.1328290146685,13944.045795086107,{"$f":"AU504/Sanierungsdesign!$E$11","v":1.9294010469276057},2868480,15.435208375420846,{"$error":"#DIV/0!"},{"$error":"#DIV/0!"},{"$error":"#DIV/0!"},{"$error":"#DIV/0!"},{"$f":"(AY504/(AH504*Sanierungsdesign!$E$10))*1000000","v":{"$error":"#DIV/0!"}},{"$f":"AZ504/Sanierungsdesign!$E$12","v":{"$error":"#DIV/0!"}},{"$f":"$D$5+((-(Sanierungsdesign!$E$12)*MIN($BA$7:$BA$932))/(4*PI()*$D$3))*(-LN((4*$D$4*AH504)/(Sanierungsdesign!$E$13)^2)-$D$19)","v":{"$error":"#DIV/0!"}},{"$f":"(BB504-273.15)/Heterogenität!$D$4","v":{"$error":"#DIV/0!"}},{"$f":"IF(AI504<Berechnung!$D$7,AI504,#N/A)","v":{"$error":"#N/A"}}]
[null,null,null,null,null,null,null,null,null,null,null,null,null,null,null,null,null,null,null,null,null,null,null,null,null,null,null,null,null,null,null,null,{"$f":"Sanierungsdesign!$E$12*AH505*Sanierungsdesign!$E$10/1000000","v":23353.200000000001},3592800,41.583333333333336,{"$f":"$D$5+((-Sanierungsdesign!$E$12)/4*PI()*$D$3)*(-LN((4*$D$4*AH505)/(Sanierungsdesign!$E$13^2))-$D$19)","v":2954.3518212785702},2681.2018212785702,5339.0253712869426,{"$f":"$D$3*$T$7*$AH$7*(AK505-$D$5)*(1/Sanierungsdesign!$E$15)/1000000","v":334.89414758353308},{"$f":"$D$5+(-Sanierungsdesign!$E$12/(4*PI()*$D$3))*(-LN((4*$D$4*AH505)/(Sanierungsdesign!$E$13+Sanierungsdesign!$E$15)^2)-$D$19)","v":383.54682557100773},110.39682557100775,{"$f":"(2*PI()*Sanierungsdesign!$E$10*$D$3)*(LN((Sanierungsdesign!$E$13+Sanierungsdesign!$E$15)/Sanierungsdesign!$E$13)*(AJ505-AN505))*$AH$7/1000000","v":229.51887915377182},6190.5387182295572,13972.045887044111,{"$f":"AU505/Sanierungsdesign!$E$11","v":1.9314344378771731},2874240,15.451475503017384,{"$error":"#DIV/0!"},{"$error":"#DIV/0!"},{"$error":"#DIV/0!"},{"$error":"#DIV/0!"},{"$f":"(AY505/(AH505*Sanierungsdesign!$E$10))*1000000","v":{"$error":"#DIV/0!"}},{"$f":"AZ505/Sanierungsdesign!$E$12","v":{"$error":"#DIV/0!"}},{"$f":"$D$5+((-(Sanierungsdesign!$E$12)*MIN($BA$7:$BA$932))/(4*PI()*$D$3))*(-LN((4*$D$4*AH505)/(Sanierungsdesign!$E$13)^2)-$D$19)","v":{"$error":"#DIV/0!"}},{"$f":"(BB505-273.15)/Heterogenität!$D$4","v":{"$error":"#DIV/0!"}},{"$f":"IF(AI505<Berechnung!$D$7,AI505,#N/A)","v":{"$error":"#N/A"}}]
[null,null,null,null,null,null,null,null,null,null,null,null,null,null,null,null,null,null,null,null,null,null,null,null,null,null,null,null,null,null,null,null,{"$f":"Sanierungsdesign!$E$12*AH506*Sanierungsdesign!$E$10/1000000","v":23400},3600000,41.666666666666664,{"$f":"$D$5+((-Sanierungsdesign!$E$12)/4*PI()*$D$3)*(-LN((4*$D$4*AH506)/(Sanierungsdesign!$E$13^2))-$D$19)","v":2957.1562990205452},2684.0062990205452,5344.6349800090138,{"$f":"$D$3*$T$7*$AH$7*(AK506-$D$5)*(1/Sanierungsdesign!$E$15)/1000000","v":335.28580016354908},{"$f":"$D$5+(-Sanierungsdesign!$E$12/(4*PI()*$D$3))*(-LN((4*$D$4*AH506)/(Sanierungsdesign!$E$13+Sanierungsdesign!$E$15)^2)-$D$19)","v":383.6977793638128},110.54777936381282,{"$f":"(2*PI()*Sanierungsdesign!$E$10*$D$3)*(LN((Sanierungsdesign!$E$13+Sanierungsdesign!$E$15)/Sanierungsdesign!$E$13)*(AJ506-AN506))*$AH$7/1000000","v":229.75578309772632},6202.9446074444459,14000.045979002116,{"$f":"AU506/Sanierungsdesign!$E$11","v":1.9334637579712664},2880000,15.467710063770131,{"$error":"#DIV/0!"},{"$error":"#DIV/0!"},{"$error":"#DIV/0!"},{"$error":"#DIV/0!"},{"$f":"(AY506/(AH506*Sanierungsdesign!$E$10))*1000000","v":{"$error":"#DIV/0!"}},{"$f":"AZ506/Sanierungsdesign!$E$12","v":{"$error":"#DIV/0!"}},{"$f":"$D$5+((-(Sanierungsdesign!$E$12)*MIN($BA$7:$BA$932))/(4*PI()*$D$3))*(-LN((4*$D$4*AH506)/(Sanierungsdesign!$E$13)^2)-$D$19)","v":{"$error":"#DIV/0!"}},{"$f":"(BB506-273.15)/Heterogenität!$D$4","v":{"$error":"#DIV/0!"}},{"$f":"IF(AI506<Berechnung!$D$7,AI506,#N/A)","v":{"$error":"#N/A"}}]
[null,null,null,null,null,null,null,null,null,null,null,null,null,null,null,null,null,null,null,null,null,null,null,null,null,null,null,null,null,null,null,null,{"$f":"Sanierungsdesign!$E$12*AH507*Sanierungsdesign!$E$10/1000000","v":23446.799999999999},3607200,41.75,{"$f":"$D$5+((-Sanierungsdesign!$E$12)/4*PI()*$D$3)*(-LN((4*$D$4*AH507)/(Sanierungsdesign!$E$13^2))-$D$19)","v":2959.9551734066572},2686.8051734066571,5350.2333807141877,{"$f":"$D$3*$T$7*$AH$7*(AK507-$D$5)*(1/Sanierungsdesign!$E$15)/1000000","v":335.67667022040655},{"$f":"$D$5+(-Sanierungsdesign!$E$12/(4*PI()*$D$3))*(-LN((4*$D$4*AH507)/(Sanierungsdesign!$E$13+Sanierungsdesign!$E$15)^2)-$D$19)","v":383.84843155043734},110.69843155043736,{"$f":"(2*PI()*Sanierungsdesign!$E$10*$D$3)*(LN((Sanierungsdesign!$E$13+Sanierungsdesign!$E$15)/Sanierungsdesign!$E$13)*(AJ507-AN507))*$AH$7/1000000","v":229.99221370681232},6215.3504966593346,14028.046070960118,{"$f":"AU507/Sanierungsdesign!$E$11","v":1.9354890234770568},2885760,15.483912187816454,{"$error":"#DIV/0!"},{"$error":"#DIV/0!"},{"$error":"#DIV/0!"},{"$error":"#DIV/0!"},{"$f":"(AY507/(AH507*Sanierungsdesign!$E$10))*1000000","v":{"$error":"#DIV/0!"}},{"$f":"AZ507/Sanierungsdesign!$E$12","v":{"$error":"#DIV/0!"}},{"$f":"$D$5+((-(Sanierungsdesign!$E$12)*MIN($BA$7:$BA$932))/(4*PI()*$D$3))*(-LN((4*$D$4*AH507)/(Sanierungsdesign!$E$13)^2)-$D$19)","v":{"$error":"#DIV/0!"}},{"$f":"(BB507-273.15)/Heterogenität!$D$4","v":{"$error":"#DIV/0!"}},{"$f":"IF(AI507<Berechnung!$D$7,AI507,#N/A)","v":{"$error":"#N/A"}}]
[null,null,null,null,null,null,null,null,null,null,null,null,null,null,null,null,null,null,null,null,null,null,null,null,null,null,null,null,null,null,null,null,{"$f":"Sanierungsdesign!$E$12*AH508*Sanierungsdesign!$E$10/1000000","v":23493.599999999999},3614400,41.833333333333336,{"$f":"$D$5+((-Sanierungsdesign!$E$12)/4*PI()*$D$3)*(-LN((4*$D$4*AH508)/(Sanierungsdesign!$E$13^2))-$D$19)","v":2962.7484667833114},2689.5984667833113,5355.8206181004789,{"$f":"$D$3*$T$7*$AH$7*(AK508-$D$5)*(1/Sanierungsdesign!$E$15)/1000000","v":336.06676087483896},{"$f":"$D$5+(-Sanierungsdesign!$E$12/(4*PI()*$D$3))*(-LN((4*$D$4*AH508)/(Sanierungsdesign!$E$13+Sanierungsdesign!$E$15)^2)-$D$19)","v":383.99878333369884},110.84878333369886,{"$f":"(2*PI()*Sanierungsdesign!$E$10*$D$3)*(LN((Sanierungsdesign!$E$13+Sanierungsdesign!$E$15)/Sanierungsdesign!$E$13)*(AJ508-AN508))*$AH$7/1000000","v":230.22817286870801},6227.7563858742242,14056.046162918123,{"$f":"AU508/Sanierungsdesign!$E$11","v":1.9375102505644037},2891520,15.50008200451523,{"$error":"#DIV/0!"},{"$error":"#DIV/0!"},{"$error":"#DIV/0!"},{"$error":"#DIV/0!"},{"$f":"(AY508/(AH508*Sanierungsdesign!$E$10))*1000000","v":{"$error":"#DIV/0!"}},{"$f":"AZ508/Sanierungsdesign!$E$12","v":{"$error":"#DIV/0!"}},{"$f":"$D$5+((-(Sanierungsdesign!$E$12)*MIN($BA$7:$BA$932))/(4*PI()*$D$3))*(-LN((4*$D$4*AH508)/(Sanierungsdesign!$E$13)^2)-$D$19)","v":{"$error":"#DIV/0!"}},{"$f":"(BB508-273.15)/Heterogenität!$D$4","v":{"$error":"#DIV/0!"}},{"$f":"IF(AI508<Berechnung!$D$7,AI508,#N/A)","v":{"$error":"#N/A"}}]
[null,null,null,null,null,null,null,null,null,null,null,null,null,null,null,null,null,null,null,null,null,null,null,null,null,null,null,null,null,null,null,null,{"$f":"Sanierungsdesign!$E$12*AH509*Sanierungsdesign!$E$10/1000000","v":23540.400000000001},3621600,41.916666666666664,{"$f":"$D$5+((-Sanierungsdesign!$E$12)/4*PI()*$D$3)*(-LN((4*$D$4*AH509)/(Sanierungsdesign!$E$13^2))-$D$19)","v":2965.536201363504},2692.3862013635039,5361.3967365990547,{"$f":"$D$3*$T$7*$AH$7*(AK509-$D$5)*(1/Sanierungsdesign!$E$15)/1000000","v":336.45607522894863},{"$f":"$D$5+(-Sanierungsdesign!$E$12/(4*PI()*$D$3))*(-LN((4*$D$4*AH509)/(Sanierungsdesign!$E$13+Sanierungsdesign!$E$15)^2)-$D$19)","v":384.14883590923381},110.99883590923383,{"$f":"(2*PI()*Sanierungsdesign!$E$10*$D$3)*(LN((Sanierungsdesign!$E$13+Sanierungsdesign!$E$15)/Sanierungsdesign!$E$13)*(AJ509-AN509))*$AH$7/1000000","v":230.46366245982205},6240.1622750891129,14084.046254876128,{"$f":"AU509/Sanierungsdesign!$E$11","v":1.9395274553066313},2897280,15.51621964245305,{"$error":"#DIV/0!"},{"$error":"#DIV/0!"},{"$error":"#DIV/0!"},{"$error":"#DIV/0!"},{"$f":"(AY509/(AH509*Sanierungsdesign!$E$10))*1000000","v":{"$error":"#DIV/0!"}},{"$f":"AZ509/Sanierungsdesign!$E$12","v":{"$error":"#DIV/0!"}},{"$f":"$D$5+((-(Sanierungsdesign!$E$12)*MIN($BA$7:$BA$932))/(4*PI()*$D$3))*(-LN((4*$D$4*AH509)/(Sanierungsdesign!$E$13)^2)-$D$19)","v":{"$error":"#DIV/0!"}},{"$f":"(BB509-273.15)/Heterogenität!$D$4","v":{"$error":"#DIV/0!"}},{"$f":"IF(AI509<Berechnung!$D$7,AI509,#N/A)","v":{"$error":"#N/A"}}]
[null,null,null,null,null,null,null,null,null,null,null,null,null,null,null,null,null,null,null,null,null,null,null,null,null,null,null,null,null,null,null,null,{"$f":"Sanierungsdesign!$E$12*AH510*Sanierungsdesign!$E$10/1000000","v":23587.200000000001},3628800,42,{"$f":"$D$5+((-Sanierungsdesign!$E$12)/4*PI()*$D$3)*(-LN((4*$D$4*AH510)/(Sanierungsdesign!$E$13^2))-$D$19)","v":2968.3183992278778},2695.1683992278777,5366.9617803763431,{"$f":"$D$3*$T$7*$AH$7*(AK510-$D$5)*(1/Sanierungsdesign!$E$15)/1000000","v":336.84461636635473},{"$f":"$D$5+(-Sanierungsdesign!$E$12/(4*PI()*$D$3))*(-LN((4*$D$4*AH510)/(Sanierungsdesign!$E$13+Sanierungsdesign!$E$15)^2)-$D$19)","v":384.2985904655547},111.14859046555472,{"$f":"(2*PI()*Sanierungsdesign!$E$10*$D$3)*(LN((Sanierungsdesign!$E$13+Sanierungsdesign!$E$15)/Sanierungsdesign!$E$13)*(AJ510-AN510))*$AH$7/1000000","v":230.69868434538279},6252.5681643040016,14112.046346834131,{"$f":"AU510/Sanierungsdesign!$E$11","v":1.941540653681292},2903040,15.532325229450336,{"$error":"#DIV/0!"},{"$error":"#DIV/0!"},{"$error":"#DIV/0!"},{"$error":"#DIV/0!"},{"$f":"(AY510/(AH510*Sanierungsdesign!$E$10))*1000000","v":{"$error":"#DIV/0!"}},{"$f":"AZ510/Sanierungsdesign!$E$12","v":{"$error":"#DIV/0!"}},{"$f":"$D$5+((-(Sanierungsdesign!$E$12)*MIN($BA$7:$BA$932))/(4*PI()*$D$3))*(-LN((4*$D$4*AH510)/(Sanierungsdesign!$E$13)^2)-$D$19)","v":{"$error":"#DIV/0!"}},{"$f":"(BB510-273.15)/Heterogenität!$D$4","v":{"$error":"#DIV/0!"}},{"$f":"IF(AI510<Berechnung!$D$7,AI510,#N/A)","v":{"$error":"#N/A"}}]
[null,null,null,null,null,null,null,null,null,null,null,null,null,null,null,null,null,null,null,null,null,null,null,null,null,null,null,null,null,null,null,null,{"$f":"Sanierungsdesign!$E$12*AH511*Sanierungsdesign!$E$10/1000000","v":23634},3636000,42.083333333333336,{"$f":"$D$5+((-Sanierungsdesign!$E$12)/4*PI()*$D$3)*(-LN((4*$D$4*AH511)/(Sanierungsdesign!$E$13^2))-$D$19)","v":2971.0950823257731},2697.945082325773,5372.515793336137,{"$f":"$D$3*$T$7*$AH$7*(AK511-$D$5)*(1/Sanierungsdesign!$E$15)/1000000","v":337.23238735233929},{"$f":"$D$5+(-Sanierungsdesign!$E$12/(4*PI()*$D$3))*(-LN((4*$D$4*AH511)/(Sanierungsdesign!$E$13+Sanierungsdesign!$E$15)^2)-$D$19)","v":384.44804818410648},111.29804818410651,{"$f":"(2*PI()*Sanierungsdesign!$E$10*$D$3)*(LN((Sanierungsdesign!$E$13+Sanierungsdesign!$E$15)/Sanierungsdesign!$E$13)*(AJ511-AN511))*$AH$7/1000000","v":230.93324037952701},6264.9740535188903,14140.046438792135,{"$f":"AU511/Sanierungsdesign!$E$11","v":1.9435498615709292},2908800,15.548398892567434,{"$error":"#DIV/0!"},{"$error":"#DIV/0!"},{"$error":"#DIV/0!"},{"$error":"#DIV/0!"},{"$f":"(AY511/(AH511*Sanierungsdesign!$E$10))*1000000","v":{"$error":"#DIV/0!"}},{"$f":"AZ511/Sanierungsdesign!$E$12","v":{"$error":"#DIV/0!"}},{"$f":"$D$5+((-(Sanierungsdesign!$E$12)*MIN($BA$7:$BA$932))/(4*PI()*$D$3))*(-LN((4*$D$4*AH511)/(Sanierungsdesign!$E$13)^2)-$D$19)","v":{"$error":"#DIV/0!"}},{"$f":"(BB511-273.15)/Heterogenität!$D$4","v":{"$error":"#DIV/0!"}},{"$f":"IF(AI511<Berechnung!$D$7,AI511,#N/A)","v":{"$error":"#N/A"}}]
[null,null,null,null,null,null,null,null,null,null,null,null,null,null,null,null,null,null,null,null,null,null,null,null,null,null,null,null,null,null,null,null,{"$f":"Sanierungsdesign!$E$12*AH512*Sanierungsdesign!$E$10/1000000","v":23680.799999999999},3643200,42.166666666666664,{"$f":"$D$5+((-Sanierungsdesign!$E$12)/4*PI()*$D$3)*(-LN((4*$D$4*AH512)/(Sanierungsdesign!$E$13^2))-$D$19)","v":2973.8662724762694},2700.7162724762693,5378.0588191216775,{"$f":"$D$3*$T$7*$AH$7*(AK512-$D$5)*(1/Sanierungsdesign!$E$15)/1000000","v":337.61939123399327},{"$f":"$D$5+(-Sanierungsdesign!$E$12/(4*PI()*$D$3))*(-LN((4*$D$4*AH512)/(Sanierungsdesign!$E$13+Sanierungsdesign!$E$15)^2)-$D$19)","v":384.59721023932281},111.44721023932283,{"$f":"(2*PI()*Sanierungsdesign!$E$10*$D$3)*(LN((Sanierungsdesign!$E$13+Sanierungsdesign!$E$15)/Sanierungsdesign!$E$13)*(AJ512-AN512))*$AH$7/1000000","v":231.16733240538784},6277.379942733779,14168.04653075014,{"$f":"AU512/Sanierungsdesign!$E$11","v":1.9455550947638283},2914560,15.564440758110626,{"$error":"#DIV/0!"},{"$error":"#DIV/0!"},{"$error":"#DIV/0!"},{"$error":"#DIV/0!"},{"$f":"(AY512/(AH512*Sanierungsdesign!$E$10))*1000000","v":{"$error":"#DIV/0!"}},{"$f":"AZ512/Sanierungsdesign!$E$12","v":{"$error":"#DIV/0!"}},{"$f":"$D$5+((-(Sanierungsdesign!$E$12)*MIN($BA$7:$BA$932))/(4*PI()*$D$3))*(-LN((4*$D$4*AH512)/(Sanierungsdesign!$E$13)^2)-$D$19)","v":{"$error":"#DIV/0!"}},{"$f":"(BB512-273.15)/Heterogenität!$D$4","v":{"$error":"#DIV/0!"}},{"$f":"IF(AI512<Berechnung!$D$7,AI512,#N/A)","v":{"$error":"#N/A"}}]
[null,null,null,null,null,null,null,null,null,null,null,null,null,null,null,null,null,null,null,null,null,null,null,null,null,null,null,null,null,null,null,null,{"$f":"Sanierungsdesign!$E$12*AH513*Sanierungsdesign!$E$10/1000000","v":23727.599999999999},3650400,42.25,{"$f":"$D$5+((-Sanierungsdesign!$E$12)/4*PI()*$D$3)*(-LN((4*$D$4*AH513)/(Sanierungsdesign!$E$13^2))-$D$19)","v":2976.6319913692078},2703.4819913692077,5383.5909011177,{"$f":"$D$3*$T$7*$AH$7*(AK513-$D$5)*(1/Sanierungsdesign!$E$15)/1000000","v":338.00563104035928},{"$f":"$D$5+(-Sanierungsdesign!$E$12/(4*PI()*$D$3))*(-LN((4*$D$4*AH513)/(Sanierungsdesign!$E$13+Sanierungsdesign!$E$15)^2)-$D$19)","v":384.74607779868074},111.59607779868077,{"$f":"(2*PI()*Sanierungsdesign!$E$10*$D$3)*(LN((Sanierungsdesign!$E$13+Sanierungsdesign!$E$15)/Sanierungsdesign!$E$13)*(AJ513-AN513))*$AH$7/1000000","v":231.40096225518133},6289.7858319486686,14196.046622708145,{"$f":"AU513/Sanierungsdesign!$E$11","v":1.9475563689547584},2920320,15.580450951638067,{"$error":"#DIV/0!"},{"$error":"#DIV/0!"},{"$error":"#DIV/0!"},{"$error":"#DIV/0!"},{"$f":"(AY513/(AH513*Sanierungsdesign!$E$10))*1000000","v":{"$error":"#DIV/0!"}},{"$f":"AZ513/Sanierungsdesign!$E$12","v":{"$error":"#DIV/0!"}},{"$f":"$D$5+((-(Sanierungsdesign!$E$12)*MIN($BA$7:$BA$932))/(4*PI()*$D$3))*(-LN((4*$D$4*AH513)/(Sanierungsdesign!$E$13)^2)-$D$19)","v":{"$error":"#DIV/0!"}},{"$f":"(BB513-273.15)/Heterogenität!$D$4","v":{"$error":"#DIV/0!"}},{"$f":"IF(AI513<Berechnung!$D$7,AI513,#N/A)","v":{"$error":"#N/A"}}]
[null,null,null,null,null,null,null,null,null,null,null,null,null,null,null,null,null,null,null,null,null,null,null,null,null,null,null,null,null,null,null,null,{"$f":"Sanierungsdesign!$E$12*AH514*Sanierungsdesign!$E$10/1000000","v":23774.400000000001},3657600,42.333333333333336,{"$f":"$D$5+((-Sanierungsdesign!$E$12)/4*PI()*$D$3)*(-LN((4*$D$4*AH514)/(Sanierungsdesign!$E$13^2))-$D$19)","v":2979.3922605662165},2706.2422605662164,5389.1120824524833,{"$f":"$D$3*$T$7*$AH$7*(AK514-$D$5)*(1/Sanierungsdesign!$E$15)/1000000","v":338.39110978257446},{"$f":"$D$5+(-Sanierungsdesign!$E$12/(4*PI()*$D$3))*(-LN((4*$D$4*AH514)/(Sanierungsdesign!$E$13+Sanierungsdesign!$E$15)^2)-$D$19)","v":384.89465202275642},111.74465202275644,{"$f":"(2*PI()*Sanierungsdesign!$E$10*$D$3)*(LN((Sanierungsdesign!$E$13+Sanierungsdesign!$E$15)/Sanierungsdesign!$E$13)*(AJ514-AN514))*$AH$7/1000000","v":231.63413175029274},6302.1917211635573,14224.046714666149,{"$f":"AU514/Sanierungsdesign!$E$11","v":1.9495536997457139},2926080,15.596429597965711,{"$error":"#DIV/0!"},{"$error":"#DIV/0!"},{"$error":"#DIV/0!"},{"$error":"#DIV/0!"},{"$f":"(AY514/(AH514*Sanierungsdesign!$E$10))*1000000","v":{"$error":"#DIV/0!"}},{"$f":"AZ514/Sanierungsdesign!$E$12","v":{"$error":"#DIV/0!"}},{"$f":"$D$5+((-(Sanierungsdesign!$E$12)*MIN($BA$7:$BA$932))/(4*PI()*$D$3))*(-LN((4*$D$4*AH514)/(Sanierungsdesign!$E$13)^2)-$D$19)","v":{"$error":"#DIV/0!"}},{"$f":"(BB514-273.15)/Heterogenität!$D$4","v":{"$error":"#DIV/0!"}},{"$f":"IF(AI514<Berechnung!$D$7,AI514,#N/A)","v":{"$error":"#N/A"}}]
[null,null,null,null,null,null,null,null,null,null,null,null,null,null,null,null,null,null,null,null,null,null,null,null,null,null,null,null,null,null,null,null,{"$f":"Sanierungsdesign!$E$12*AH515*Sanierungsdesign!$E$10/1000000","v":23821.200000000001},3664800,42.416666666666664,{"$f":"$D$5+((-Sanierungsdesign!$E$12)/4*PI()*$D$3)*(-LN((4*$D$4*AH515)/(Sanierungsdesign!$E$13^2))-$D$19)","v":2982.1471015017155},2708.9971015017154,5394.6224059998585,{"$f":"$D$3*$T$7*$AH$7*(AK515-$D$5)*(1/Sanierungsdesign!$E$15)/1000000","v":338.77583045401116},{"$f":"$D$5+(-Sanierungsdesign!$E$12/(4*PI()*$D$3))*(-LN((4*$D$4*AH515)/(Sanierungsdesign!$E$13+Sanierungsdesign!$E$15)^2)-$D$19)","v":385.04293406527859},111.89293406527861,{"$f":"(2*PI()*Sanierungsdesign!$E$10*$D$3)*(LN((Sanierungsdesign!$E$13+Sanierungsdesign!$E$15)/Sanierungsdesign!$E$13)*(AJ515-AN515))*$AH$7/1000000","v":231.86684270136183},6314.597610378446,14252.046806624154,{"$f":"AU515/Sanierungsdesign!$E$11","v":1.9515471026466409},2931840,15.612376821173127,{"$error":"#DIV/0!"},{"$error":"#DIV/0!"},{"$error":"#DIV/0!"},{"$error":"#DIV/0!"},{"$f":"(AY515/(AH515*Sanierungsdesign!$E$10))*1000000","v":{"$error":"#DIV/0!"}},{"$f":"AZ515/Sanierungsdesign!$E$12","v":{"$error":"#DIV/0!"}},{"$f":"$D$5+((-(Sanierungsdesign!$E$12)*MIN($BA$7:$BA$932))/(4*PI()*$D$3))*(-LN((4*$D$4*AH515)/(Sanierungsdesign!$E$13)^2)-$D$19)","v":{"$error":"#DIV/0!"}},{"$f":"(BB515-273.15)/Heterogenität!$D$4","v":{"$error":"#DIV/0!"}},{"$f":"IF(AI515<Berechnung!$D$7,AI515,#N/A)","v":{"$error":"#N/A"}}]
[null,null,null,null,null,null,null,null,null,null,null,null,null,null,null,null,null,null,null,null,null,null,null,null,null,null,null,null,null,null,null,null,{"$f":"Sanierungsdesign!$E$12*AH516*Sanierungsdesign!$E$10/1000000","v":23868},3672000,42.5,{"$f":"$D$5+((-Sanierungsdesign!$E$12)/4*PI()*$D$3)*(-LN((4*$D$4*AH516)/(Sanierungsdesign!$E$13^2))-$D$19)","v":2984.8965354839147},2711.7465354839146,5400.1219143812104,{"$f":"$D$3*$T$7*$AH$7*(AK516-$D$5)*(1/Sanierungsdesign!$E$15)/1000000","v":339.15979603041592},{"$f":"$D$5+(-Sanierungsdesign!$E$12/(4*PI()*$D$3))*(-LN((4*$D$4*AH516)/(Sanierungsdesign!$E$13+Sanierungsdesign!$E$15)^2)-$D$19)","v":385.19092507318294},112.04092507318296,{"$f":"(2*PI()*Sanierungsdesign!$E$10*$D$3)*(LN((Sanierungsdesign!$E$13+Sanierungsdesign!$E$15)/Sanierungsdesign!$E$13)*(AJ516-AN516))*$AH$7/1000000","v":232.0990969083669},6327.0034995933347,14280.046898582157,{"$f":"AU516/Sanierungsdesign!$E$11","v":1.9535365930761603},2937600,15.628292744609283,{"$error":"#DIV/0!"},{"$error":"#DIV/0!"},{"$error":"#DIV/0!"},{"$error":"#DIV/0!"},{"$f":"(AY516/(AH516*Sanierungsdesign!$E$10))*1000000","v":{"$error":"#DIV/0!"}},{"$f":"AZ516/Sanierungsdesign!$E$12","v":{"$error":"#DIV/0!"}},{"$f":"$D$5+((-(Sanierungsdesign!$E$12)*MIN($BA$7:$BA$932))/(4*PI()*$D$3))*(-LN((4*$D$4*AH516)/(Sanierungsdesign!$E$13)^2)-$D$19)","v":{"$error":"#DIV/0!"}},{"$f":"(BB516-273.15)/Heterogenität!$D$4","v":{"$error":"#DIV/0!"}},{"$f":"IF(AI516<Berechnung!$D$7,AI516,#N/A)","v":{"$error":"#N/A"}}]
[null,null,null,null,null,null,null,null,null,null,null,null,null,null,null,null,null,null,null,null,null,null,null,null,null,null,null,null,null,null,null,null,{"$f":"Sanierungsdesign!$E$12*AH517*Sanierungsdesign!$E$10/1000000","v":23914.799999999999},3679200,42.583333333333336,{"$f":"$D$5+((-Sanierungsdesign!$E$12)/4*PI()*$D$3)*(-LN((4*$D$4*AH517)/(Sanierungsdesign!$E$13^2))-$D$19)","v":2987.6405836958061},2714.490583695806,5405.6106499674552,{"$f":"$D$3*$T$7*$AH$7*(AK517-$D$5)*(1/Sanierungsdesign!$E$15)/1000000","v":339.54300947004856},{"$f":"$D$5+(-Sanierungsdesign!$E$12/(4*PI()*$D$3))*(-LN((4*$D$4*AH517)/(Sanierungsdesign!$E$13+Sanierungsdesign!$E$15)^2)-$D$19)","v":385.33862618666478},112.18862618666481,{"$f":"(2*PI()*Sanierungsdesign!$E$10*$D$3)*(LN((Sanierungsdesign!$E$13+Sanierungsdesign!$E$15)/Sanierungsdesign!$E$13)*(AJ517-AN517))*$AH$7/1000000","v":232.33089616070848},6339.4093888082234,14308.046990540161,{"$f":"AU517/Sanierungsdesign!$E$11","v":1.9555221863622849},2943360,15.644177490898279,{"$error":"#DIV/0!"},{"$error":"#DIV/0!"},{"$error":"#DIV/0!"},{"$error":"#DIV/0!"},{"$f":"(AY517/(AH517*Sanierungsdesign!$E$10))*1000000","v":{"$error":"#DIV/0!"}},{"$f":"AZ517/Sanierungsdesign!$E$12","v":{"$error":"#DIV/0!"}},{"$f":"$D$5+((-(Sanierungsdesign!$E$12)*MIN($BA$7:$BA$932))/(4*PI()*$D$3))*(-LN((4*$D$4*AH517)/(Sanierungsdesign!$E$13)^2)-$D$19)","v":{"$error":"#DIV/0!"}},{"$f":"(BB517-273.15)/Heterogenität!$D$4","v":{"$error":"#DIV/0!"}},{"$f":"IF(AI517<Berechnung!$D$7,AI517,#N/A)","v":{"$error":"#N/A"}}]
[null,null,null,null,null,null,null,null,null,null,null,null,null,null,null,null,null,null,null,null,null,null,null,null,null,null,null,null,null,null,null,null,{"$f":"Sanierungsdesign!$E$12*AH518*Sanierungsdesign!$E$10/1000000","v":23961.599999999999},3686400,42.666666666666664,{"$f":"$D$5+((-Sanierungsdesign!$E$12)/4*PI()*$D$3)*(-LN((4*$D$4*AH518)/(Sanierungsdesign!$E$13^2))-$D$19)","v":2990.3792671961401},2717.22926719614,5411.0886548810004,{"$f":"$D$3*$T$7*$AH$7*(AK518-$D$5)*(1/Sanierungsdesign!$E$15)/1000000","v":339.92547371381806},{"$f":"$D$5+(-Sanierungsdesign!$E$12/(4*PI()*$D$3))*(-LN((4*$D$4*AH518)/(Sanierungsdesign!$E$13+Sanierungsdesign!$E$15)^2)-$D$19)","v":385.48603853923237},112.33603853923239,{"$f":"(2*PI()*Sanierungsdesign!$E$10*$D$3)*(LN((Sanierungsdesign!$E$13+Sanierungsdesign!$E$15)/Sanierungsdesign!$E$13)*(AJ518-AN518))*$AH$7/1000000","v":232.56224223729228},6351.815278023113,14336.047082498168,{"$f":"AU518/Sanierungsdesign!$E$11","v":1.9575038977431267},2949120,15.660031181945014,{"$error":"#DIV/0!"},{"$error":"#DIV/0!"},{"$error":"#DIV/0!"},{"$error":"#DIV/0!"},{"$f":"(AY518/(AH518*Sanierungsdesign!$E$10))*1000000","v":{"$error":"#DIV/0!"}},{"$f":"AZ518/Sanierungsdesign!$E$12","v":{"$error":"#DIV/0!"}},{"$f":"$D$5+((-(Sanierungsdesign!$E$12)*MIN($BA$7:$BA$932))/(4*PI()*$D$3))*(-LN((4*$D$4*AH518)/(Sanierungsdesign!$E$13)^2)-$D$19)","v":{"$error":"#DIV/0!"}},{"$f":"(BB518-273.15)/Heterogenität!$D$4","v":{"$error":"#DIV/0!"}},{"$f":"IF(AI518<Berechnung!$D$7,AI518,#N/A)","v":{"$error":"#N/A"}}]
[null,null,null,null,null,null,null,null,null,null,null,null,null,null,null,null,null,null,null,null,null,null,null,null,null,null,null,null,null,null,null,null,{"$f":"Sanierungsdesign!$E$12*AH519*Sanierungsdesign!$E$10/1000000","v":24008.400000000001},3693600,{"$f":"AH519/86400","v":42.75},{"$f":"$D$5+((-Sanierungsdesign!$E$12)/4*PI()*$D$3)*(-LN((4*$D$4*AH519)/(Sanierungsdesign!$E$13^2))-$D$19)","v":2993.112606920396},{"$f":"AJ519-273.15","v":2719.962606920396},5416.5559709976806,{"$f":"$D$3*$T$7*$AH$7*(AK519-$D$5)*(1/Sanierungsdesign!$E$15)/1000000","v":340.30719168541845},{"$f":"$D$5+(-Sanierungsdesign!$E$12/(4*PI()*$D$3))*(-LN((4*$D$4*AH519)/(Sanierungsdesign!$E$13+Sanierungsdesign!$E$15)^2)-$D$19)","v":385.63316325775855},{"$f":"AN519-273.15","v":112.48316325775858},{"$f":"(2*PI()*Sanierungsdesign!$E$10*$D$3)*(LN((Sanierungsdesign!$E$13+Sanierungsdesign!$E$15)/Sanierungsdesign!$E$13)*(AJ519-AN519))*$AH$7/1000000","v":232.79313690661058},6364.2211672380017,14364.047174456169,{"$f":"AU519/Sanierungsdesign!$E$11","v":1.9594817423675983},2954880,15.675853938940786,{"$error":"#DIV/0!"},{"$error":"#DIV/0!"},{"$error":"#DIV/0!"},{"$f":"AG519-AX519","v":{"$error":"#DIV/0!"}},{"$f":"(AY519/(AH519*Sanierungsdesign!$E$10))*1000000","v":{"$error":"#DIV/0!"}},{"$f":"AZ519/Sanierungsdesign!$E$12","v":{"$error":"#DIV/0!"}},{"$f":"$D$5+((-(Sanierungsdesign!$E$12)*MIN($BA$7:$BA$932))/(4*PI()*$D$3))*(-LN((4*$D$4*AH519)/(Sanierungsdesign!$E$13)^2)-$D$19)","v":{"$error":"#DIV/0!"}},{"$f":"(BB519-273.15)/Heterogenität!$D$4","v":{"$error":"#DIV/0!"}},{"$f":"IF(AI519<Berechnung!$D$7,AI519,#N/A)","v":{"$error":"#N/A"}}]
[null,null,null,null,null,null,null,null,null,null,null,null,null,null,null,null,null,null,null,null,null,null,null,null,null,null,null,null,null,null,null,null,{"$f":"Sanierungsdesign!$E$12*AH520*Sanierungsdesign!$E$10/1000000","v":24055.200000000001},3700800,42.833333333333336,{"$f":"$D$5+((-Sanierungsdesign!$E$12)/4*PI()*$D$3)*(-LN((4*$D$4*AH520)/(Sanierungsdesign!$E$13^2))-$D$19)","v":2995.8406236817432},2722.6906236817431,{"$f":"$T$4*$T$7*$AH$7*(AJ520-$D$2)/1000000","v":5422.0126399486826},{"$f":"$D$3*$T$7*$AH$7*(AK520-$D$5)*(1/Sanierungsdesign!$E$15)/1000000","v":340.68816629146249},{"$f":"$D$5+(-Sanierungsdesign!$E$12/(4*PI()*$D$3))*(-LN((4*$D$4*AH520)/(Sanierungsdesign!$E$13+Sanierungsdesign!$E$15)^2)-$D$19)","v":385.78000146253288},112.6300014625329,{"$f":"(2*PI()*Sanierungsdesign!$E$10*$D$3)*(LN((Sanierungsdesign!$E$13+Sanierungsdesign!$E$15)/Sanierungsdesign!$E$13)*(AJ520-AN520))*$AH$7/1000000","v":233.02358192682388},{"$f":"$T$20*AH520","v":6376.6270564528904},{"$f":"$D$12*AQ520/1000000","v":14392.047266414173},{"$f":"AU520/Sanierungsdesign!$E$11","v":1.9614557352961091},{"$f":"$T$18/$D$24*AH520","v":2960640},{"$f":"($D$10*$T$18)*(AJ520-$D$2)/1000000","v":15.691645882368872},{"$f":"($D$17*$L$10*$T$28+$L$2*$D$10*$T$28+$D$16*$L$4*$T$28+$D$18*$L$7*$T$28)*(AJ520-$D$5)/1000000","v":{"$error":"#DIV/0!"}},{"$f":"AV520*$D$28","v":{"$error":"#DIV/0!"}},{"$f":"AL520+AM520+AR520+(0.5*AP520)-(2*AW520)+AS520","v":{"$error":"#DIV/0!"}},{"$error":"#DIV/0!"},{"$f":"(AY520/(AH520*Sanierungsdesign!$E$10))*1000000","v":{"$error":"#DIV/0!"}},{"$f":"AZ520/Sanierungsdesign!$E$12","v":{"$error":"#DIV/0!"}},{"$f":"$D$5+((-(Sanierungsdesign!$E$12)*MIN($BA$7:$BA$932))/(4*PI()*$D$3))*(-LN((4*$D$4*AH520)/(Sanierungsdesign!$E$13)^2)-$D$19)","v":{"$error":"#DIV/0!"}},{"$f":"(BB520-273.15)/Heterogenität!$D$4","v":{"$error":"#DIV/0!"}},{"$f":"IF(AI520<Berechnung!$D$7,AI520,#N/A)","v":{"$error":"#N/A"}}]
[null,null,null,null,null,null,null,null,null,null,null,null,null,null,null,null,null,null,null,null,null,null,null,null,null,null,null,null,null,null,null,null,{"$f":"Sanierungsdesign!$E$12*AH521*Sanierungsdesign!$E$10/1000000","v":24102},{"$f":"AH520+$D$24","v":3708000},42.916666666666664,{"$f":"$D$5+((-Sanierungsdesign!$E$12)/4*PI()*$D$3)*(-LN((4*$D$4*AH521)/(Sanierungsdesign!$E$13^2))-$D$19)","v":2998.5633381719917},2725.4133381719917,5427.4587031224464,{"$f":"$D$3*$T$7*$AH$7*(AK521-$D$5)*(1/Sanierungsdesign!$E$15)/1000000","v":341.06840042161531},{"$f":"$D$5+(-Sanierungsdesign!$E$12/(4*PI()*$D$3))*(-LN((4*$D$4*AH521)/(Sanierungsdesign!$E$13+Sanierungsdesign!$E$15)^2)-$D$19)","v":385.92655426731238},112.77655426731241,{"$f":"(2*PI()*Sanierungsdesign!$E$10*$D$3)*(LN((Sanierungsdesign!$E$13+Sanierungsdesign!$E$15)/Sanierungsdesign!$E$13)*(AJ521-AN521))*$AH$7/1000000","v":233.25357904584109},6389.0329456677791,14420.047358372178,{"$f":"AU521/Sanierungsdesign!$E$11","v":1.963425891501253},2966400,15.707407132010024,{"$error":"#DIV/0!"},{"$error":"#DIV/0!"},{"$error":"#DIV/0!"},{"$error":"#DIV/0!"},{"$f":"(AY521/(AH521*Sanierungsdesign!$E$10))*1000000","v":{"$error":"#DIV/0!"}},{"$f":"AZ521/Sanierungsdesign!$E$12","v":{"$error":"#DIV/0!"}},{"$f":"$D$5+((-(Sanierungsdesign!$E$12)*MIN($BA$7:$BA$932))/(4*PI()*$D$3))*(-LN((4*$D$4*AH521)/(Sanierungsdesign!$E$13)^2)-$D$19)","v":{"$error":"#DIV/0!"}},{"$f":"(BB521-273.15)/Heterogenität!$D$4","v":{"$error":"#DIV/0!"}},{"$f":"IF(AI521<Berechnung!$D$7,AI521,#N/A)","v":{"$error":"#N/A"}}]
[null,null,null,null,null,null,null,null,null,null,null,null,null,null,null,null,null,null,null,null,null,null,null,null,null,null,null,null,null,null,null,null,{"$f":"Sanierungsdesign!$E$12*AH522*Sanierungsdesign!$E$10/1000000","v":24148.799999999999},3715200,43,{"$f":"$D$5+((-Sanierungsdesign!$E$12)/4*PI()*$D$3)*(-LN((4*$D$4*AH522)/(Sanierungsdesign!$E$13^2))-$D$19)","v":3001.2807709625317},2728.1307709625316,5432.8942016665433,{"$f":"$D$3*$T$7*$AH$7*(AK522-$D$5)*(1/Sanierungsdesign!$E$15)/1000000","v":341.44789694872463},{"$f":"$D$5+(-Sanierungsdesign!$E$12/(4*PI()*$D$3))*(-LN((4*$D$4*AH522)/(Sanierungsdesign!$E$13+Sanierungsdesign!$E$15)^2)-$D$19)","v":386.07282277937264},112.92282277937267,{"$f":"(2*PI()*Sanierungsdesign!$E$10*$D$3)*(LN((Sanierungsdesign!$E$13+Sanierungsdesign!$E$15)/Sanierungsdesign!$E$13)*(AJ522-AN522))*$AH$7/1000000","v":233.48313000139868},6401.4388348826678,14448.047450330181,{"$f":"AU522/Sanierungsdesign!$E$11","v":1.9653922258684877},2972160,15.723137806947902,{"$error":"#DIV/0!"},{"$error":"#DIV/0!"},{"$error":"#DIV/0!"},{"$error":"#DIV/0!"},{"$f":"(AY522/(AH522*Sanierungsdesign!$E$10))*1000000","v":{"$error":"#DIV/0!"}},{"$f":"AZ522/Sanierungsdesign!$E$12","v":{"$error":"#DIV/0!"}},{"$f":"$D$5+((-(Sanierungsdesign!$E$12)*MIN($BA$7:$BA$932))/(4*PI()*$D$3))*(-LN((4*$D$4*AH522)/(Sanierungsdesign!$E$13)^2)-$D$19)","v":{"$error":"#DIV/0!"}},{"$f":"(BB522-273.15)/Heterogenität!$D$4","v":{"$error":"#DIV/0!"}},{"$f":"IF(AI522<Berechnung!$D$7,AI522,#N/A)","v":{"$error":"#N/A"}}]
[null,null,null,null,null,null,null,null,null,null,null,null,null,null,null,null,null,null,null,null,null,null,null,null,null,null,null,null,null,null,null,null,{"$f":"Sanierungsdesign!$E$12*AH523*Sanierungsdesign!$E$10/1000000","v":24195.599999999999},3722400,43.083333333333336,{"$f":"$D$5+((-Sanierungsdesign!$E$12)/4*PI()*$D$3)*(-LN((4*$D$4*AH523)/(Sanierungsdesign!$E$13^2))-$D$19)","v":3003.9929425052692},2730.8429425052691,5438.3191764895491,{"$f":"$D$3*$T$7*$AH$7*(AK523-$D$5)*(1/Sanierungsdesign!$E$15)/1000000","v":341.82665872895217},{"$f":"$D$5+(-Sanierungsdesign!$E$12/(4*PI()*$D$3))*(-LN((4*$D$4*AH523)/(Sanierungsdesign!$E$13+Sanierungsdesign!$E$15)^2)-$D$19)","v":386.21880809955769},113.06880809955771,{"$f":"(2*PI()*Sanierungsdesign!$E$10*$D$3)*(LN((Sanierungsdesign!$E$13+Sanierungsdesign!$E$15)/Sanierungsdesign!$E$13)*(AJ523-AN523))*$AH$7/1000000","v":233.71223652113994},6413.8447240975574,14476.047542288186,{"$f":"AU523/Sanierungsdesign!$E$11","v":1.9673547531968125},2977920,15.7388380255745,{"$error":"#DIV/0!"},{"$error":"#DIV/0!"},{"$error":"#DIV/0!"},{"$error":"#DIV/0!"},{"$f":"(AY523/(AH523*Sanierungsdesign!$E$10))*1000000","v":{"$error":"#DIV/0!"}},{"$f":"AZ523/Sanierungsdesign!$E$12","v":{"$error":"#DIV/0!"}},{"$f":"$D$5+((-(Sanierungsdesign!$E$12)*MIN($BA$7:$BA$932))/(4*PI()*$D$3))*(-LN((4*$D$4*AH523)/(Sanierungsdesign!$E$13)^2)-$D$19)","v":{"$error":"#DIV/0!"}},{"$f":"(BB523-273.15)/Heterogenität!$D$4","v":{"$error":"#DIV/0!"}},{"$f":"IF(AI523<Berechnung!$D$7,AI523,#N/A)","v":{"$error":"#N/A"}}]
[null,null,null,null,null,null,null,null,null,null,null,null,null,null,null,null,null,null,null,null,null,null,null,null,null,null,null,null,null,null,null,null,{"$f":"Sanierungsdesign!$E$12*AH524*Sanierungsdesign!$E$10/1000000","v":24242.400000000001},3729600,43.166666666666664,{"$f":"$D$5+((-Sanierungsdesign!$E$12)/4*PI()*$D$3)*(-LN((4*$D$4*AH524)/(Sanierungsdesign!$E$13^2))-$D$19)","v":3006.6998731335484},2733.5498731335483,5443.7336682628893,{"$f":"$D$3*$T$7*$AH$7*(AK524-$D$5)*(1/Sanierungsdesign!$E$15)/1000000","v":342.20468860190215},{"$f":"$D$5+(-Sanierungsdesign!$E$12/(4*PI()*$D$3))*(-LN((4*$D$4*AH524)/(Sanierungsdesign!$E$13+Sanierungsdesign!$E$15)^2)-$D$19)","v":386.36451132232997},113.21451132233,{"$f":"(2*PI()*Sanierungsdesign!$E$10*$D$3)*(LN((Sanierungsdesign!$E$13+Sanierungsdesign!$E$15)/Sanierungsdesign!$E$13)*(AJ524-AN524))*$AH$7/1000000","v":233.94090032269293},6426.2506133124461,14504.047634246192,{"$f":"AU524/Sanierungsdesign!$E$11","v":1.9693134881994354},2983680,15.754507905595483,{"$error":"#DIV/0!"},{"$error":"#DIV/0!"},{"$error":"#DIV/0!"},{"$error":"#DIV/0!"},{"$f":"(AY524/(AH524*Sanierungsdesign!$E$10))*1000000","v":{"$error":"#DIV/0!"}},{"$f":"AZ524/Sanierungsdesign!$E$12","v":{"$error":"#DIV/0!"}},{"$f":"$D$5+((-(Sanierungsdesign!$E$12)*MIN($BA$7:$BA$932))/(4*PI()*$D$3))*(-LN((4*$D$4*AH524)/(Sanierungsdesign!$E$13)^2)-$D$19)","v":{"$error":"#DIV/0!"}},{"$f":"(BB524-273.15)/Heterogenität!$D$4","v":{"$error":"#DIV/0!"}},{"$f":"IF(AI524<Berechnung!$D$7,AI524,#N/A)","v":{"$error":"#N/A"}}]
[null,null,null,null,null,null,null,null,null,null,null,null,null,null,null,null,null,null,null,null,null,null,null,null,null,null,null,null,null,null,null,null,{"$f":"Sanierungsdesign!$E$12*AH525*Sanierungsdesign!$E$10/1000000","v":24289.200000000001},3736800,43.25,{"$f":"$D$5+((-Sanierungsdesign!$E$12)/4*PI()*$D$3)*(-LN((4*$D$4*AH525)/(Sanierungsdesign!$E$13^2))-$D$19)","v":3009.4015830630656},2736.2515830630655,5449.1377174226636,{"$f":"$D$3*$T$7*$AH$7*(AK525-$D$5)*(1/Sanierungsdesign!$E$15)/1000000","v":342.58198939074879},{"$f":"$D$5+(-Sanierungsdesign!$E$12/(4*PI()*$D$3))*(-LN((4*$D$4*AH525)/(Sanierungsdesign!$E$13+Sanierungsdesign!$E$15)^2)-$D$19)","v":386.5099335358193},113.35993353581932,{"$f":"(2*PI()*Sanierungsdesign!$E$10*$D$3)*(LN((Sanierungsdesign!$E$13+Sanierungsdesign!$E$15)/Sanierungsdesign!$E$13)*(AJ525-AN525))*$AH$7/1000000","v":234.16912311374745},6438.6565025273349,14532.047726204195,{"$f":"AU525/Sanierungsdesign!$E$11","v":1.971268445504434},2989440,15.770147564035472,{"$error":"#DIV/0!"},{"$error":"#DIV/0!"},{"$error":"#DIV/0!"},{"$error":"#DIV/0!"},{"$f":"(AY525/(AH525*Sanierungsdesign!$E$10))*1000000","v":{"$error":"#DIV/0!"}},{"$f":"AZ525/Sanierungsdesign!$E$12","v":{"$error":"#DIV/0!"}},{"$f":"$D$5+((-(Sanierungsdesign!$E$12)*MIN($BA$7:$BA$932))/(4*PI()*$D$3))*(-LN((4*$D$4*AH525)/(Sanierungsdesign!$E$13)^2)-$D$19)","v":{"$error":"#DIV/0!"}},{"$f":"(BB525-273.15)/Heterogenität!$D$4","v":{"$error":"#DIV/0!"}},{"$f":"IF(AI525<Berechnung!$D$7,AI525,#N/A)","v":{"$error":"#N/A"}}]
[null,null,null,null,null,null,null,null,null,null,null,null,null,null,null,null,null,null,null,null,null,null,null,null,null,null,null,null,null,null,null,null,{"$f":"Sanierungsdesign!$E$12*AH526*Sanierungsdesign!$E$10/1000000","v":24336},3744000,43.333333333333336,{"$f":"$D$5+((-Sanierungsdesign!$E$12)/4*PI()*$D$3)*(-LN((4*$D$4*AH526)/(Sanierungsdesign!$E$13^2))-$D$19)","v":3012.0980923927764},2738.9480923927763,5454.5313641714665,{"$f":"$D$3*$T$7*$AH$7*(AK526-$D$5)*(1/Sanierungsdesign!$E$15)/1000000","v":342.95856390236344},{"$f":"$D$5+(-Sanierungsdesign!$E$12/(4*PI()*$D$3))*(-LN((4*$D$4*AH526)/(Sanierungsdesign!$E$13+Sanierungsdesign!$E$15)^2)-$D$19)","v":386.65507582187195},113.50507582187197,{"$f":"(2*PI()*Sanierungsdesign!$E$10*$D$3)*(LN((Sanierungsdesign!$E$13+Sanierungsdesign!$E$15)/Sanierungsdesign!$E$13)*(AJ526-AN526))*$AH$7/1000000","v":234.39690659213187},6451.0623917422236,14560.047818162198,{"$f":"AU526/Sanierungsdesign!$E$11","v":1.9732196396554127},2995200,15.785757117243302,{"$error":"#DIV/0!"},{"$error":"#DIV/0!"},{"$error":"#DIV/0!"},{"$error":"#DIV/0!"},{"$f":"(AY526/(AH526*Sanierungsdesign!$E$10))*1000000","v":{"$error":"#DIV/0!"}},{"$f":"AZ526/Sanierungsdesign!$E$12","v":{"$error":"#DIV/0!"}},{"$f":"$D$5+((-(Sanierungsdesign!$E$12)*MIN($BA$7:$BA$932))/(4*PI()*$D$3))*(-LN((4*$D$4*AH526)/(Sanierungsdesign!$E$13)^2)-$D$19)","v":{"$error":"#DIV/0!"}},{"$f":"(BB526-273.15)/Heterogenität!$D$4","v":{"$error":"#DIV/0!"}},{"$f":"IF(AI526<Berechnung!$D$7,AI526,#N/A)","v":{"$error":"#N/A"}}]
[null,null,null,null,null,null,null,null,null,null,null,null,null,null,null,null,null,null,null,null,null,null,null,null,null,null,null,null,null,null,null,null,{"$f":"Sanierungsdesign!$E$12*AH527*Sanierungsdesign!$E$10/1000000","v":24382.799999999999},3751200,43.416666666666664,{"$f":"$D$5+((-Sanierungsdesign!$E$12)/4*PI()*$D$3)*(-LN((4*$D$4*AH527)/(Sanierungsdesign!$E$13^2))-$D$19)","v":3014.7894211057906},2741.6394211057905,5459.9146484801713,{"$f":"$D$3*$T$7*$AH$7*(AK527-$D$5)*(1/Sanierungsdesign!$E$15)/1000000","v":343.33441492743901},{"$f":"$D$5+(-Sanierungsdesign!$E$12/(4*PI()*$D$3))*(-LN((4*$D$4*AH527)/(Sanierungsdesign!$E$13+Sanierungsdesign!$E$15)^2)-$D$19)","v":386.79993925609858},113.64993925609861,{"$f":"(2*PI()*Sanierungsdesign!$E$10*$D$3)*(LN((Sanierungsdesign!$E$13+Sanierungsdesign!$E$15)/Sanierungsdesign!$E$13)*(AJ527-AN527))*$AH$7/1000000","v":234.62425244588863},6463.4682809571123,14588.047910120204,{"$f":"AU527/Sanierungsdesign!$E$11","v":1.9751670851121499},3000960,15.801336680897199,{"$error":"#DIV/0!"},{"$error":"#DIV/0!"},{"$error":"#DIV/0!"},{"$error":"#DIV/0!"},{"$f":"(AY527/(AH527*Sanierungsdesign!$E$10))*1000000","v":{"$error":"#DIV/0!"}},{"$f":"AZ527/Sanierungsdesign!$E$12","v":{"$error":"#DIV/0!"}},{"$f":"$D$5+((-(Sanierungsdesign!$E$12)*MIN($BA$7:$BA$932))/(4*PI()*$D$3))*(-LN((4*$D$4*AH527)/(Sanierungsdesign!$E$13)^2)-$D$19)","v":{"$error":"#DIV/0!"}},{"$f":"(BB527-273.15)/Heterogenität!$D$4","v":{"$error":"#DIV/0!"}},{"$f":"IF(AI527<Berechnung!$D$7,AI527,#N/A)","v":{"$error":"#N/A"}}]
[null,null,null,null,null,null,null,null,null,null,null,null,null,null,null,null,null,null,null,null,null,null,null,null,null,null,null,null,null,null,null,null,{"$f":"Sanierungsdesign!$E$12*AH528*Sanierungsdesign!$E$10/1000000","v":24429.599999999999},3758400,43.5,{"$f":"$D$5+((-Sanierungsdesign!$E$12)/4*PI()*$D$3)*(-LN((4*$D$4*AH528)/(Sanierungsdesign!$E$13^2))-$D$19)","v":3017.4755890702645},2744.3255890702644,5465.2876100897192,{"$f":"$D$3*$T$7*$AH$7*(AK528-$D$5)*(1/Sanierungsdesign!$E$15)/1000000","v":343.70954524061506},{"$f":"$D$5+(-Sanierungsdesign!$E$12/(4*PI()*$D$3))*(-LN((4*$D$4*AH528)/(Sanierungsdesign!$E$13+Sanierungsdesign!$E$15)^2)-$D$19)","v":386.9445249079223},113.79452490792232,{"$f":"(2*PI()*Sanierungsdesign!$E$10*$D$3)*(LN((Sanierungsdesign!$E$13+Sanierungsdesign!$E$15)/Sanierungsdesign!$E$13)*(AJ528-AN528))*$AH$7/1000000","v":234.85116235334976},6475.8741701720019,14616.048002078209,{"$f":"AU528/Sanierungsdesign!$E$11","v":1.9771107962512431},3006720,15.816886370009945,{"$error":"#DIV/0!"},{"$error":"#DIV/0!"},{"$error":"#DIV/0!"},{"$error":"#DIV/0!"},{"$f":"(AY528/(AH528*Sanierungsdesign!$E$10))*1000000","v":{"$error":"#DIV/0!"}},{"$f":"AZ528/Sanierungsdesign!$E$12","v":{"$error":"#DIV/0!"}},{"$f":"$D$5+((-(Sanierungsdesign!$E$12)*MIN($BA$7:$BA$932))/(4*PI()*$D$3))*(-LN((4*$D$4*AH528)/(Sanierungsdesign!$E$13)^2)-$D$19)","v":{"$error":"#DIV/0!"}},{"$f":"(BB528-273.15)/Heterogenität!$D$4","v":{"$error":"#DIV/0!"}},{"$f":"IF(AI528<Berechnung!$D$7,AI528,#N/A)","v":{"$error":"#N/A"}}]
[null,null,null,null,null,null,null,null,null,null,null,null,null,null,null,null,null,null,null,null,null,null,null,null,null,null,null,null,null,null,null,null,{"$f":"Sanierungsdesign!$E$12*AH529*Sanierungsdesign!$E$10/1000000","v":24476.400000000001},3765600,43.583333333333336,{"$f":"$D$5+((-Sanierungsdesign!$E$12)/4*PI()*$D$3)*(-LN((4*$D$4*AH529)/(Sanierungsdesign!$E$13^2))-$D$19)","v":3020.1566160402781},2747.006616040278,5470.6502885128712,{"$f":"$D$3*$T$7*$AH$7*(AK529-$D$5)*(1/Sanierungsdesign!$E$15)/1000000","v":344.08395760060006},{"$f":"$D$5+(-Sanierungsdesign!$E$12/(4*PI()*$D$3))*(-LN((4*$D$4*AH529)/(Sanierungsdesign!$E$13+Sanierungsdesign!$E$15)^2)-$D$19)","v":387.08883384062614},113.93883384062616,{"$f":"(2*PI()*Sanierungsdesign!$E$10*$D$3)*(LN((Sanierungsdesign!$E$13+Sanierungsdesign!$E$15)/Sanierungsdesign!$E$13)*(AJ529-AN529))*$AH$7/1000000","v":235.07763798321065},6488.2800593868906,14644.048094036212,{"$f":"AU529/Sanierungsdesign!$E$11","v":1.9790507873667449},3012480,15.832406298933959,{"$error":"#DIV/0!"},{"$error":"#DIV/0!"},{"$error":"#DIV/0!"},{"$error":"#DIV/0!"},{"$f":"(AY529/(AH529*Sanierungsdesign!$E$10))*1000000","v":{"$error":"#DIV/0!"}},{"$f":"AZ529/Sanierungsdesign!$E$12","v":{"$error":"#DIV/0!"}},{"$f":"$D$5+((-(Sanierungsdesign!$E$12)*MIN($BA$7:$BA$932))/(4*PI()*$D$3))*(-LN((4*$D$4*AH529)/(Sanierungsdesign!$E$13)^2)-$D$19)","v":{"$error":"#DIV/0!"}},{"$f":"(BB529-273.15)/Heterogenität!$D$4","v":{"$error":"#DIV/0!"}},{"$f":"IF(AI529<Berechnung!$D$7,AI529,#N/A)","v":{"$error":"#N/A"}}]
[null,null,null,null,null,null,null,null,null,null,null,null,null,null,null,null,null,null,null,null,null,null,null,null,null,null,null,null,null,null,null,null,{"$f":"Sanierungsdesign!$E$12*AH530*Sanierungsdesign!$E$10/1000000","v":24523.200000000001},3772800,43.666666666666664,{"$f":"$D$5+((-Sanierungsdesign!$E$12)/4*PI()*$D$3)*(-LN((4*$D$4*AH530)/(Sanierungsdesign!$E$13^2))-$D$19)","v":3022.8325216567055},2749.6825216567054,5476.0027230359492,{"$f":"$D$3*$T$7*$AH$7*(AK530-$D$5)*(1/Sanierungsdesign!$E$15)/1000000","v":344.45765475029282},{"$f":"$D$5+(-Sanierungsdesign!$E$12/(4*PI()*$D$3))*(-LN((4*$D$4*AH530)/(Sanierungsdesign!$E$13+Sanierungsdesign!$E$15)^2)-$D$19)","v":387.23286711139963},114.08286711139965,{"$f":"(2*PI()*Sanierungsdesign!$E$10*$D$3)*(LN((Sanierungsdesign!$E$13+Sanierungsdesign!$E$15)/Sanierungsdesign!$E$13)*(AJ530-AN530))*$AH$7/1000000","v":235.30368099460401},6500.6859486017793,14672.048185994216,{"$f":"AU530/Sanierungsdesign!$E$11","v":1.9809870726707917},3018240,15.847896581366333,{"$error":"#DIV/0!"},{"$error":"#DIV/0!"},{"$error":"#DIV/0!"},{"$error":"#DIV/0!"},{"$f":"(AY530/(AH530*Sanierungsdesign!$E$10))*1000000","v":{"$error":"#DIV/0!"}},{"$f":"AZ530/Sanierungsdesign!$E$12","v":{"$error":"#DIV/0!"}},{"$f":"$D$5+((-(Sanierungsdesign!$E$12)*MIN($BA$7:$BA$932))/(4*PI()*$D$3))*(-LN((4*$D$4*AH530)/(Sanierungsdesign!$E$13)^2)-$D$19)","v":{"$error":"#DIV/0!"}},{"$f":"(BB530-273.15)/Heterogenität!$D$4","v":{"$error":"#DIV/0!"}},{"$f":"IF(AI530<Berechnung!$D$7,AI530,#N/A)","v":{"$error":"#N/A"}}]
[null,null,null,null,null,null,null,null,null,null,null,null,null,null,null,null,null,null,null,null,null,null,null,null,null,null,null,null,null,null,null,null,{"$f":"Sanierungsdesign!$E$12*AH531*Sanierungsdesign!$E$10/1000000","v":24570},3780000,43.75,{"$f":"$D$5+((-Sanierungsdesign!$E$12)/4*PI()*$D$3)*(-LN((4*$D$4*AH531)/(Sanierungsdesign!$E$13^2))-$D$19)","v":3025.5033254480823},2752.3533254480822,5481.3449527205739,{"$f":"$D$3*$T$7*$AH$7*(AK531-$D$5)*(1/Sanierungsdesign!$E$15)/1000000","v":344.83063941690409},{"$f":"$D$5+(-Sanierungsdesign!$E$12/(4*PI()*$D$3))*(-LN((4*$D$4*AH531)/(Sanierungsdesign!$E$13+Sanierungsdesign!$E$15)^2)-$D$19)","v":387.37662577138542},114.22662577138544,{"$f":"(2*PI()*Sanierungsdesign!$E$10*$D$3)*(LN((Sanierungsdesign!$E$13+Sanierungsdesign!$E$15)/Sanierungsdesign!$E$13)*(AJ531-AN531))*$AH$7/1000000","v":235.52929303717295},6513.091837816668,14700.048277952219,{"$f":"AU531/Sanierungsdesign!$E$11","v":1.9829196662942321},3024000,15.863357330353857,{"$error":"#DIV/0!"},{"$error":"#DIV/0!"},{"$error":"#DIV/0!"},{"$error":"#DIV/0!"},{"$f":"(AY531/(AH531*Sanierungsdesign!$E$10))*1000000","v":{"$error":"#DIV/0!"}},{"$f":"AZ531/Sanierungsdesign!$E$12","v":{"$error":"#DIV/0!"}},{"$f":"$D$5+((-(Sanierungsdesign!$E$12)*MIN($BA$7:$BA$932))/(4*PI()*$D$3))*(-LN((4*$D$4*AH531)/(Sanierungsdesign!$E$13)^2)-$D$19)","v":{"$error":"#DIV/0!"}},{"$f":"(BB531-273.15)/Heterogenität!$D$4","v":{"$error":"#DIV/0!"}},{"$f":"IF(AI531<Berechnung!$D$7,AI531,#N/A)","v":{"$error":"#N/A"}}]
[null,null,null,null,null,null,null,null,null,null,null,null,null,null,null,null,null,null,null,null,null,null,null,null,null,null,null,null,null,null,null,null,{"$f":"Sanierungsdesign!$E$12*AH532*Sanierungsdesign!$E$10/1000000","v":24616.799999999999},3787200,43.833333333333336,{"$f":"$D$5+((-Sanierungsdesign!$E$12)/4*PI()*$D$3)*(-LN((4*$D$4*AH532)/(Sanierungsdesign!$E$13^2))-$D$19)","v":3028.1690468314573},2755.0190468314572,5486.6770164053669,{"$f":"$D$3*$T$7*$AH$7*(AK532-$D$5)*(1/Sanierungsdesign!$E$15)/1000000","v":345.20291431207482},{"$f":"$D$5+(-Sanierungsdesign!$E$12/(4*PI()*$D$3))*(-LN((4*$D$4*AH532)/(Sanierungsdesign!$E$13+Sanierungsdesign!$E$15)^2)-$D$19)","v":387.52011086572548},114.37011086572551,{"$f":"(2*PI()*Sanierungsdesign!$E$10*$D$3)*(LN((Sanierungsdesign!$E$13+Sanierungsdesign!$E$15)/Sanierungsdesign!$E$13)*(AJ532-AN532))*$AH$7/1000000","v":235.75447575114259},6525.4977270315576,14728.048369910224,{"$f":"AU532/Sanierungsdesign!$E$11","v":1.9848485822872421},3029760,15.878788658297937,{"$error":"#DIV/0!"},{"$error":"#DIV/0!"},{"$error":"#DIV/0!"},{"$error":"#DIV/0!"},{"$f":"(AY532/(AH532*Sanierungsdesign!$E$10))*1000000","v":{"$error":"#DIV/0!"}},{"$f":"AZ532/Sanierungsdesign!$E$12","v":{"$error":"#DIV/0!"}},{"$f":"$D$5+((-(Sanierungsdesign!$E$12)*MIN($BA$7:$BA$932))/(4*PI()*$D$3))*(-LN((4*$D$4*AH532)/(Sanierungsdesign!$E$13)^2)-$D$19)","v":{"$error":"#DIV/0!"}},{"$f":"(BB532-273.15)/Heterogenität!$D$4","v":{"$error":"#DIV/0!"}},{"$f":"IF(AI532<Berechnung!$D$7,AI532,#N/A)","v":{"$error":"#N/A"}}]
[null,null,null,null,null,null,null,null,null,null,null,null,null,null,null,null,null,null,null,null,null,null,null,null,null,null,null,null,null,null,null,null,{"$f":"Sanierungsdesign!$E$12*AH533*Sanierungsdesign!$E$10/1000000","v":24663.599999999999},3794400,43.916666666666664,{"$f":"$D$5+((-Sanierungsdesign!$E$12)/4*PI()*$D$3)*(-LN((4*$D$4*AH533)/(Sanierungsdesign!$E$13^2))-$D$19)","v":3030.8297051132408},2757.6797051132407,5491.9989527076441,{"$f":"$D$3*$T$7*$AH$7*(AK533-$D$5)*(1/Sanierungsdesign!$E$15)/1000000","v":345.57448213199535},{"$f":"$D$5+(-Sanierungsdesign!$E$12/(4*PI()*$D$3))*(-LN((4*$D$4*AH533)/(Sanierungsdesign!$E$13+Sanierungsdesign!$E$15)^2)-$D$19)","v":387.66332343360648},114.5133234336065,{"$f":"(2*PI()*Sanierungsdesign!$E$10*$D$3)*(LN((Sanierungsdesign!$E$13+Sanierungsdesign!$E$15)/Sanierungsdesign!$E$13)*(AJ533-AN533))*$AH$7/1000000","v":235.97923076739249},6537.9036162464463,14756.048461868229,{"$f":"AU533/Sanierungsdesign!$E$11","v":1.9867738346199406},3035520,15.894190676959525,{"$error":"#DIV/0!"},{"$error":"#DIV/0!"},{"$error":"#DIV/0!"},{"$error":"#DIV/0!"},{"$f":"(AY533/(AH533*Sanierungsdesign!$E$10))*1000000","v":{"$error":"#DIV/0!"}},{"$f":"AZ533/Sanierungsdesign!$E$12","v":{"$error":"#DIV/0!"}},{"$f":"$D$5+((-(Sanierungsdesign!$E$12)*MIN($BA$7:$BA$932))/(4*PI()*$D$3))*(-LN((4*$D$4*AH533)/(Sanierungsdesign!$E$13)^2)-$D$19)","v":{"$error":"#DIV/0!"}},{"$f":"(BB533-273.15)/Heterogenität!$D$4","v":{"$error":"#DIV/0!"}},{"$f":"IF(AI533<Berechnung!$D$7,AI533,#N/A)","v":{"$error":"#N/A"}}]
[null,null,null,null,null,null,null,null,null,null,null,null,null,null,null,null,null,null,null,null,null,null,null,null,null,null,null,null,null,null,null,null,{"$f":"Sanierungsdesign!$E$12*AH534*Sanierungsdesign!$E$10/1000000","v":24710.400000000001},3801600,44,{"$f":"$D$5+((-Sanierungsdesign!$E$12)/4*PI()*$D$3)*(-LN((4*$D$4*AH534)/(Sanierungsdesign!$E$13^2))-$D$19)","v":3033.4853194900452},2760.3353194900451,5497.3108000251013,{"$f":"$D$3*$T$7*$AH$7*(AK534-$D$5)*(1/Sanierungsdesign!$E$15)/1000000","v":345.94534555752233},{"$f":"$D$5+(-Sanierungsdesign!$E$12/(4*PI()*$D$3))*(-LN((4*$D$4*AH534)/(Sanierungsdesign!$E$13+Sanierungsdesign!$E$15)^2)-$D$19)","v":387.80626450830505},114.65626450830507,{"$f":"(2*PI()*Sanierungsdesign!$E$10*$D$3)*(LN((Sanierungsdesign!$E$13+Sanierungsdesign!$E$15)/Sanierungsdesign!$E$13)*(AJ534-AN534))*$AH$7/1000000","v":236.20355970752672},6550.309505461335,14784.048553826233,{"$f":"AU534/Sanierungsdesign!$E$11","v":1.9886954371829964},3041280,15.909563497463971,{"$error":"#DIV/0!"},{"$error":"#DIV/0!"},{"$error":"#DIV/0!"},{"$error":"#DIV/0!"},{"$f":"(AY534/(AH534*Sanierungsdesign!$E$10))*1000000","v":{"$error":"#DIV/0!"}},{"$f":"AZ534/Sanierungsdesign!$E$12","v":{"$error":"#DIV/0!"}},{"$f":"$D$5+((-(Sanierungsdesign!$E$12)*MIN($BA$7:$BA$932))/(4*PI()*$D$3))*(-LN((4*$D$4*AH534)/(Sanierungsdesign!$E$13)^2)-$D$19)","v":{"$error":"#DIV/0!"}},{"$f":"(BB534-273.15)/Heterogenität!$D$4","v":{"$error":"#DIV/0!"}},{"$f":"IF(AI534<Berechnung!$D$7,AI534,#N/A)","v":{"$error":"#N/A"}}]
[null,null,null,null,null,null,null,null,null,null,null,null,null,null,null,null,null,null,null,null,null,null,null,null,null,null,null,null,null,null,null,null,{"$f":"Sanierungsdesign!$E$12*AH535*Sanierungsdesign!$E$10/1000000","v":24757.200000000001},3808800,44.083333333333336,{"$f":"$D$5+((-Sanierungsdesign!$E$12)/4*PI()*$D$3)*(-LN((4*$D$4*AH535)/(Sanierungsdesign!$E$13^2))-$D$19)","v":3036.1359090495116},2762.9859090495115,5502.6125965374695,{"$f":"$D$3*$T$7*$AH$7*(AK535-$D$5)*(1/Sanierungsdesign!$E$15)/1000000","v":346.31550725429423},{"$f":"$D$5+(-Sanierungsdesign!$E$12/(4*PI()*$D$3))*(-LN((4*$D$4*AH535)/(Sanierungsdesign!$E$13+Sanierungsdesign!$E$15)^2)-$D$19)","v":387.94893511723245},114.79893511723247,{"$f":"(2*PI()*Sanierungsdesign!$E$10*$D$3)*(LN((Sanierungsdesign!$E$13+Sanierungsdesign!$E$15)/Sanierungsdesign!$E$13)*(AJ535-AN535))*$AH$7/1000000","v":236.42746418394452},6562.7153946762237,14812.048645784236,{"$f":"AU535/Sanierungsdesign!$E$11","v":1.9906134037882262},3047040,15.924907230305809,{"$error":"#DIV/0!"},{"$error":"#DIV/0!"},{"$error":"#DIV/0!"},{"$error":"#DIV/0!"},{"$f":"(AY535/(AH535*Sanierungsdesign!$E$10))*1000000","v":{"$error":"#DIV/0!"}},{"$f":"AZ535/Sanierungsdesign!$E$12","v":{"$error":"#DIV/0!"}},{"$f":"$D$5+((-(Sanierungsdesign!$E$12)*MIN($BA$7:$BA$932))/(4*PI()*$D$3))*(-LN((4*$D$4*AH535)/(Sanierungsdesign!$E$13)^2)-$D$19)","v":{"$error":"#DIV/0!"}},{"$f":"(BB535-273.15)/Heterogenität!$D$4","v":{"$error":"#DIV/0!"}},{"$f":"IF(AI535<Berechnung!$D$7,AI535,#N/A)","v":{"$error":"#N/A"}}]
[null,null,null,null,null,null,null,null,null,null,null,null,null,null,null,null,null,null,null,null,null,null,null,null,null,null,null,null,null,null,null,null,{"$f":"Sanierungsdesign!$E$12*AH536*Sanierungsdesign!$E$10/1000000","v":24804},3816000,44.166666666666664,{"$f":"$D$5+((-Sanierungsdesign!$E$12)/4*PI()*$D$3)*(-LN((4*$D$4*AH536)/(Sanierungsdesign!$E$13^2))-$D$19)","v":3038.7814927711374},2765.6314927711373,5507.9043802081615,{"$f":"$D$3*$T$7*$AH$7*(AK536-$D$5)*(1/Sanierungsdesign!$E$15)/1000000","v":346.68496987284698},{"$f":"$D$5+(-Sanierungsdesign!$E$12/(4*PI()*$D$3))*(-LN((4*$D$4*AH536)/(Sanierungsdesign!$E$13+Sanierungsdesign!$E$15)^2)-$D$19)","v":388.0913362819789},114.94133628197892,{"$f":"(2*PI()*Sanierungsdesign!$E$10*$D$3)*(LN((Sanierungsdesign!$E$13+Sanierungsdesign!$E$15)/Sanierungsdesign!$E$13)*(AJ536-AN536))*$AH$7/1000000","v":236.65094579990978},6575.1212838911124,14840.048737742241,{"$f":"AU536/Sanierungsdesign!$E$11","v":1.9925277481691948},3052800,15.940221985353558,{"$error":"#DIV/0!"},{"$error":"#DIV/0!"},{"$error":"#DIV/0!"},{"$error":"#DIV/0!"},{"$f":"(AY536/(AH536*Sanierungsdesign!$E$10))*1000000","v":{"$error":"#DIV/0!"}},{"$f":"AZ536/Sanierungsdesign!$E$12","v":{"$error":"#DIV/0!"}},{"$f":"$D$5+((-(Sanierungsdesign!$E$12)*MIN($BA$7:$BA$932))/(4*PI()*$D$3))*(-LN((4*$D$4*AH536)/(Sanierungsdesign!$E$13)^2)-$D$19)","v":{"$error":"#DIV/0!"}},{"$f":"(BB536-273.15)/Heterogenität!$D$4","v":{"$error":"#DIV/0!"}},{"$f":"IF(AI536<Berechnung!$D$7,AI536,#N/A)","v":{"$error":"#N/A"}}]
[null,null,null,null,null,null,null,null,null,null,null,null,null,null,null,null,null,null,null,null,null,null,null,null,null,null,null,null,null,null,null,null,{"$f":"Sanierungsdesign!$E$12*AH537*Sanierungsdesign!$E$10/1000000","v":24850.799999999999},3823200,44.25,{"$f":"$D$5+((-Sanierungsdesign!$E$12)/4*PI()*$D$3)*(-LN((4*$D$4*AH537)/(Sanierungsdesign!$E$13^2))-$D$19)","v":3041.4220895270892},2768.2720895270891,5513.1861887859077,{"$f":"$D$3*$T$7*$AH$7*(AK537-$D$5)*(1/Sanierungsdesign!$E$15)/1000000","v":347.0537360487275},{"$f":"$D$5+(-Sanierungsdesign!$E$12/(4*PI()*$D$3))*(-LN((4*$D$4*AH537)/(Sanierungsdesign!$E$13+Sanierungsdesign!$E$15)^2)-$D$19)","v":388.23346901835743},115.08346901835745,{"$f":"(2*PI()*Sanierungsdesign!$E$10*$D$3)*(LN((Sanierungsdesign!$E$13+Sanierungsdesign!$E$15)/Sanierungsdesign!$E$13)*(AJ537-AN537))*$AH$7/1000000","v":236.87400614961967},6587.527173106002,14868.048829700247,{"$f":"AU537/Sanierungsdesign!$E$11","v":1.9944384839818015},3058560,15.955507871854412,{"$error":"#DIV/0!"},{"$error":"#DIV/0!"},{"$error":"#DIV/0!"},{"$error":"#DIV/0!"},{"$f":"(AY537/(AH537*Sanierungsdesign!$E$10))*1000000","v":{"$error":"#DIV/0!"}},{"$f":"AZ537/Sanierungsdesign!$E$12","v":{"$error":"#DIV/0!"}},{"$f":"$D$5+((-(Sanierungsdesign!$E$12)*MIN($BA$7:$BA$932))/(4*PI()*$D$3))*(-LN((4*$D$4*AH537)/(Sanierungsdesign!$E$13)^2)-$D$19)","v":{"$error":"#DIV/0!"}},{"$f":"(BB537-273.15)/Heterogenität!$D$4","v":{"$error":"#DIV/0!"}},{"$f":"IF(AI537<Berechnung!$D$7,AI537,#N/A)","v":{"$error":"#N/A"}}]
[null,null,null,null,null,null,null,null,null,null,null,null,null,null,null,null,null,null,null,null,null,null,null,null,null,null,null,null,null,null,null,null,{"$f":"Sanierungsdesign!$E$12*AH538*Sanierungsdesign!$E$10/1000000","v":24897.599999999999},3830400,44.333333333333336,{"$f":"$D$5+((-Sanierungsdesign!$E$12)/4*PI()*$D$3)*(-LN((4*$D$4*AH538)/(Sanierungsdesign!$E$13^2))-$D$19)","v":3044.0577180830128},2770.9077180830127,5518.4580598063703,{"$f":"$D$3*$T$7*$AH$7*(AK538-$D$5)*(1/Sanierungsdesign!$E$15)/1000000","v":347.42180840260693},{"$f":"$D$5+(-Sanierungsdesign!$E$12/(4*PI()*$D$3))*(-LN((4*$D$4*AH538)/(Sanierungsdesign!$E$13+Sanierungsdesign!$E$15)^2)-$D$19)","v":388.37533433644751},115.22533433644753,{"$f":"(2*PI()*Sanierungsdesign!$E$10*$D$3)*(LN((Sanierungsdesign!$E$13+Sanierungsdesign!$E$15)/Sanierungsdesign!$E$13)*(AJ538-AN538))*$AH$7/1000000","v":237.09664681827334},6599.9330623208907,14896.04892165825,{"$f":"AU538/Sanierungsdesign!$E$11","v":1.9963456248048677},3064320,15.970764998438941,{"$error":"#DIV/0!"},{"$error":"#DIV/0!"},{"$error":"#DIV/0!"},{"$error":"#DIV/0!"},{"$f":"(AY538/(AH538*Sanierungsdesign!$E$10))*1000000","v":{"$error":"#DIV/0!"}},{"$f":"AZ538/Sanierungsdesign!$E$12","v":{"$error":"#DIV/0!"}},{"$f":"$D$5+((-(Sanierungsdesign!$E$12)*MIN($BA$7:$BA$932))/(4*PI()*$D$3))*(-LN((4*$D$4*AH538)/(Sanierungsdesign!$E$13)^2)-$D$19)","v":{"$error":"#DIV/0!"}},{"$f":"(BB538-273.15)/Heterogenität!$D$4","v":{"$error":"#DIV/0!"}},{"$f":"IF(AI538<Berechnung!$D$7,AI538,#N/A)","v":{"$error":"#N/A"}}]
[null,null,null,null,null,null,null,null,null,null,null,null,null,null,null,null,null,null,null,null,null,null,null,null,null,null,null,null,null,null,null,null,{"$f":"Sanierungsdesign!$E$12*AH539*Sanierungsdesign!$E$10/1000000","v":24944.400000000001},3837600,44.416666666666664,{"$f":"$D$5+((-Sanierungsdesign!$E$12)/4*PI()*$D$3)*(-LN((4*$D$4*AH539)/(Sanierungsdesign!$E$13^2))-$D$19)","v":3046.6883970988301},2773.53839709883,5523.7200305937395,{"$f":"$D$3*$T$7*$AH$7*(AK539-$D$5)*(1/Sanierungsdesign!$E$15)/1000000","v":347.78918954039165},{"$f":"$D$5+(-Sanierungsdesign!$E$12/(4*PI()*$D$3))*(-LN((4*$D$4*AH539)/(Sanierungsdesign!$E$13+Sanierungsdesign!$E$15)^2)-$D$19)","v":388.51693324063797},115.36693324063799,{"$f":"(2*PI()*Sanierungsdesign!$E$10*$D$3)*(LN((Sanierungsdesign!$E$13+Sanierungsdesign!$E$15)/Sanierungsdesign!$E$13)*(AJ539-AN539))*$AH$7/1000000","v":237.31886938213887},6612.3389515357794,14924.049013616255,{"$f":"AU539/Sanierungsdesign!$E$11","v":1.9982491841407133},3070080,15.985993473125706,{"$error":"#DIV/0!"},{"$error":"#DIV/0!"},{"$error":"#DIV/0!"},{"$error":"#DIV/0!"},{"$f":"(AY539/(AH539*Sanierungsdesign!$E$10))*1000000","v":{"$error":"#DIV/0!"}},{"$f":"AZ539/Sanierungsdesign!$E$12","v":{"$error":"#DIV/0!"}},{"$f":"$D$5+((-(Sanierungsdesign!$E$12)*MIN($BA$7:$BA$932))/(4*PI()*$D$3))*(-LN((4*$D$4*AH539)/(Sanierungsdesign!$E$13)^2)-$D$19)","v":{"$error":"#DIV/0!"}},{"$f":"(BB539-273.15)/Heterogenität!$D$4","v":{"$error":"#DIV/0!"}},{"$f":"IF(AI539<Berechnung!$D$7,AI539,#N/A)","v":{"$error":"#N/A"}}]
[null,null,null,null,null,null,null,null,null,null,null,null,null,null,null,null,null,null,null,null,null,null,null,null,null,null,null,null,null,null,null,null,{"$f":"Sanierungsdesign!$E$12*AH540*Sanierungsdesign!$E$10/1000000","v":24991.200000000001},3844800,44.5,{"$f":"$D$5+((-Sanierungsdesign!$E$12)/4*PI()*$D$3)*(-LN((4*$D$4*AH540)/(Sanierungsdesign!$E$13^2))-$D$19)","v":3049.3141451295346},2776.1641451295345,5528.9721382623247,{"$f":"$D$3*$T$7*$AH$7*(AK540-$D$5)*(1/Sanierungsdesign!$E$15)/1000000","v":348.15588205333455},{"$f":"$D$5+(-Sanierungsdesign!$E$12/(4*PI()*$D$3))*(-LN((4*$D$4*AH540)/(Sanierungsdesign!$E$13+Sanierungsdesign!$E$15)^2)-$D$19)","v":388.65826672966972},115.50826672966974,{"$f":"(2*PI()*Sanierungsdesign!$E$10*$D$3)*(LN((Sanierungsdesign!$E$13+Sanierungsdesign!$E$15)/Sanierungsdesign!$E$13)*(AJ540-AN540))*$AH$7/1000000","v":237.5406754086209},6624.7448407506681,14952.049105574259,{"$f":"AU540/Sanierungsdesign!$E$11","v":2.0001491754157312},3075840,16.00119340332585,{"$error":"#DIV/0!"},{"$error":"#DIV/0!"},{"$error":"#DIV/0!"},{"$error":"#DIV/0!"},{"$f":"(AY540/(AH540*Sanierungsdesign!$E$10))*1000000","v":{"$error":"#DIV/0!"}},{"$f":"AZ540/Sanierungsdesign!$E$12","v":{"$error":"#DIV/0!"}},{"$f":"$D$5+((-(Sanierungsdesign!$E$12)*MIN($BA$7:$BA$932))/(4*PI()*$D$3))*(-LN((4*$D$4*AH540)/(Sanierungsdesign!$E$13)^2)-$D$19)","v":{"$error":"#DIV/0!"}},{"$f":"(BB540-273.15)/Heterogenität!$D$4","v":{"$error":"#DIV/0!"}},{"$f":"IF(AI540<Berechnung!$D$7,AI540,#N/A)","v":{"$error":"#N/A"}}]
[null,null,null,null,null,null,null,null,null,null,null,null,null,null,null,null,null,null,null,null,null,null,null,null,null,null,null,null,null,null,null,null,{"$f":"Sanierungsdesign!$E$12*AH541*Sanierungsdesign!$E$10/1000000","v":25038},3852000,44.583333333333336,{"$f":"$D$5+((-Sanierungsdesign!$E$12)/4*PI()*$D$3)*(-LN((4*$D$4*AH541)/(Sanierungsdesign!$E$13^2))-$D$19)","v":3051.9349806259752},2778.7849806259751,5534.2144197181206,{"$f":"$D$3*$T$7*$AH$7*(AK541-$D$5)*(1/Sanierungsdesign!$E$15)/1000000","v":348.52188851814441},{"$f":"$D$5+(-Sanierungsdesign!$E$12/(4*PI()*$D$3))*(-LN((4*$D$4*AH541)/(Sanierungsdesign!$E$13+Sanierungsdesign!$E$15)^2)-$D$19)","v":388.79933579667795},115.64933579667797,{"$f":"(2*PI()*Sanierungsdesign!$E$10*$D$3)*(LN((Sanierungsdesign!$E$13+Sanierungsdesign!$E$15)/Sanierungsdesign!$E$13)*(AJ541-AN541))*$AH$7/1000000","v":237.76206645632647},6637.1507299655568,14980.04919753226,{"$f":"AU541/Sanierungsdesign!$E$11","v":2.0020456119809555},3081600,16.016364895847644,{"$error":"#DIV/0!"},{"$error":"#DIV/0!"},{"$error":"#DIV/0!"},{"$error":"#DIV/0!"},{"$f":"(AY541/(AH541*Sanierungsdesign!$E$10))*1000000","v":{"$error":"#DIV/0!"}},{"$f":"AZ541/Sanierungsdesign!$E$12","v":{"$error":"#DIV/0!"}},{"$f":"$D$5+((-(Sanierungsdesign!$E$12)*MIN($BA$7:$BA$932))/(4*PI()*$D$3))*(-LN((4*$D$4*AH541)/(Sanierungsdesign!$E$13)^2)-$D$19)","v":{"$error":"#DIV/0!"}},{"$f":"(BB541-273.15)/Heterogenität!$D$4","v":{"$error":"#DIV/0!"}},{"$f":"IF(AI541<Berechnung!$D$7,AI541,#N/A)","v":{"$error":"#N/A"}}]
[null,null,null,null,null,null,null,null,null,null,null,null,null,null,null,null,null,null,null,null,null,null,null,null,null,null,null,null,null,null,null,null,{"$f":"Sanierungsdesign!$E$12*AH542*Sanierungsdesign!$E$10/1000000","v":25084.799999999999},3859200,44.666666666666664,{"$f":"$D$5+((-Sanierungsdesign!$E$12)/4*PI()*$D$3)*(-LN((4*$D$4*AH542)/(Sanierungsdesign!$E$13^2))-$D$19)","v":3054.550921935635},2781.4009219356349,5539.4469116603677,{"$f":"$D$3*$T$7*$AH$7*(AK542-$D$5)*(1/Sanierungsdesign!$E$15)/1000000","v":348.88721149709488},{"$f":"$D$5+(-Sanierungsdesign!$E$12/(4*PI()*$D$3))*(-LN((4*$D$4*AH542)/(Sanierungsdesign!$E$13+Sanierungsdesign!$E$15)^2)-$D$19)","v":388.94014142923407},115.7901414292341,{"$f":"(2*PI()*Sanierungsdesign!$E$10*$D$3)*(LN((Sanierungsdesign!$E$13+Sanierungsdesign!$E$15)/Sanierungsdesign!$E$13)*(AJ542-AN542))*$AH$7/1000000","v":237.98304407513101},6649.5566191804464,15008.049289490267,{"$f":"AU542/Sanierungsdesign!$E$11","v":2.003938507112625},3087360,16.031508056901,{"$error":"#DIV/0!"},{"$error":"#DIV/0!"},{"$error":"#DIV/0!"},{"$error":"#DIV/0!"},{"$f":"(AY542/(AH542*Sanierungsdesign!$E$10))*1000000","v":{"$error":"#DIV/0!"}},{"$f":"AZ542/Sanierungsdesign!$E$12","v":{"$error":"#DIV/0!"}},{"$f":"$D$5+((-(Sanierungsdesign!$E$12)*MIN($BA$7:$BA$932))/(4*PI()*$D$3))*(-LN((4*$D$4*AH542)/(Sanierungsdesign!$E$13)^2)-$D$19)","v":{"$error":"#DIV/0!"}},{"$f":"(BB542-273.15)/Heterogenität!$D$4","v":{"$error":"#DIV/0!"}},{"$f":"IF(AI542<Berechnung!$D$7,AI542,#N/A)","v":{"$error":"#N/A"}}]
[null,null,null,null,null,null,null,null,null,null,null,null,null,null,null,null,null,null,null,null,null,null,null,null,null,null,null,null,null,null,null,null,{"$f":"Sanierungsdesign!$E$12*AH543*Sanierungsdesign!$E$10/1000000","v":25131.599999999999},3866400,44.75,{"$f":"$D$5+((-Sanierungsdesign!$E$12)/4*PI()*$D$3)*(-LN((4*$D$4*AH543)/(Sanierungsdesign!$E$13^2))-$D$19)","v":3057.161987303401},2784.0119873034009,5544.6696505830896,{"$f":"$D$3*$T$7*$AH$7*(AK543-$D$5)*(1/Sanierungsdesign!$E$15)/1000000","v":349.25185353813163},{"$f":"$D$5+(-Sanierungsdesign!$E$12/(4*PI()*$D$3))*(-LN((4*$D$4*AH543)/(Sanierungsdesign!$E$13+Sanierungsdesign!$E$15)^2)-$D$19)","v":389.08068460938733},115.93068460938736,{"$f":"(2*PI()*Sanierungsdesign!$E$10*$D$3)*(LN((Sanierungsdesign!$E$13+Sanierungsdesign!$E$15)/Sanierungsdesign!$E$13)*(AJ543-AN543))*$AH$7/1000000","v":238.20360980624335},6661.9625083953351,15036.049381448271,{"$f":"AU543/Sanierungsdesign!$E$11","v":2.0058278740127404},3093120,16.046622992101923,{"$error":"#DIV/0!"},{"$error":"#DIV/0!"},{"$error":"#DIV/0!"},{"$error":"#DIV/0!"},{"$f":"(AY543/(AH543*Sanierungsdesign!$E$10))*1000000","v":{"$error":"#DIV/0!"}},{"$f":"AZ543/Sanierungsdesign!$E$12","v":{"$error":"#DIV/0!"}},{"$f":"$D$5+((-(Sanierungsdesign!$E$12)*MIN($BA$7:$BA$932))/(4*PI()*$D$3))*(-LN((4*$D$4*AH543)/(Sanierungsdesign!$E$13)^2)-$D$19)","v":{"$error":"#DIV/0!"}},{"$f":"(BB543-273.15)/Heterogenität!$D$4","v":{"$error":"#DIV/0!"}},{"$f":"IF(AI543<Berechnung!$D$7,AI543,#N/A)","v":{"$error":"#N/A"}}]
[null,null,null,null,null,null,null,null,null,null,null,null,null,null,null,null,null,null,null,null,null,null,null,null,null,null,null,null,null,null,null,null,{"$f":"Sanierungsdesign!$E$12*AH544*Sanierungsdesign!$E$10/1000000","v":25178.400000000001},3873600,44.833333333333336,{"$f":"$D$5+((-Sanierungsdesign!$E$12)/4*PI()*$D$3)*(-LN((4*$D$4*AH544)/(Sanierungsdesign!$E$13^2))-$D$19)","v":3059.7681948723298},2786.6181948723297,5549.8826727766245,{"$f":"$D$3*$T$7*$AH$7*(AK544-$D$5)*(1/Sanierungsdesign!$E$15)/1000000","v":349.6158171749795},{"$f":"$D$5+(-Sanierungsdesign!$E$12/(4*PI()*$D$3))*(-LN((4*$D$4*AH544)/(Sanierungsdesign!$E$13+Sanierungsdesign!$E$15)^2)-$D$19)","v":389.22096631370562},116.07096631370564,{"$f":"(2*PI()*Sanierungsdesign!$E$10*$D$3)*(LN((Sanierungsdesign!$E$13+Sanierungsdesign!$E$15)/Sanierungsdesign!$E$13)*(AJ544-AN544))*$AH$7/1000000","v":238.42376518227022},6674.3683976102238,15064.049473406274,{"$f":"AU544/Sanierungsdesign!$E$11","v":2.0077137258096176},3098880,16.061709806476941,{"$error":"#DIV/0!"},{"$error":"#DIV/0!"},{"$error":"#DIV/0!"},{"$error":"#DIV/0!"},{"$f":"(AY544/(AH544*Sanierungsdesign!$E$10))*1000000","v":{"$error":"#DIV/0!"}},{"$f":"AZ544/Sanierungsdesign!$E$12","v":{"$error":"#DIV/0!"}},{"$f":"$D$5+((-(Sanierungsdesign!$E$12)*MIN($BA$7:$BA$932))/(4*PI()*$D$3))*(-LN((4*$D$4*AH544)/(Sanierungsdesign!$E$13)^2)-$D$19)","v":{"$error":"#DIV/0!"}},{"$f":"(BB544-273.15)/Heterogenität!$D$4","v":{"$error":"#DIV/0!"}},{"$f":"IF(AI544<Berechnung!$D$7,AI544,#N/A)","v":{"$error":"#N/A"}}]
[null,null,null,null,null,null,null,null,null,null,null,null,null,null,null,null,null,null,null,null,null,null,null,null,null,null,null,null,null,null,null,null,{"$f":"Sanierungsdesign!$E$12*AH545*Sanierungsdesign!$E$10/1000000","v":25225.200000000001},3880800,44.916666666666664,{"$f":"$D$5+((-Sanierungsdesign!$E$12)/4*PI()*$D$3)*(-LN((4*$D$4*AH545)/(Sanierungsdesign!$E$13^2))-$D$19)","v":3062.3695626843992},2789.2195626843991,5555.0860143291329,{"$f":"$D$3*$T$7*$AH$7*(AK545-$D$5)*(1/Sanierungsdesign!$E$15)/1000000","v":349.97910492724742},{"$f":"$D$5+(-Sanierungsdesign!$E$12/(4*PI()*$D$3))*(-LN((4*$D$4*AH545)/(Sanierungsdesign!$E$13+Sanierungsdesign!$E$15)^2)-$D$19)","v":389.36098751331633},116.21098751331635,{"$f":"(2*PI()*Sanierungsdesign!$E$10*$D$3)*(LN((Sanierungsdesign!$E$13+Sanierungsdesign!$E$15)/Sanierungsdesign!$E$13)*(AJ545-AN545))*$AH$7/1000000","v":238.64351172727993},6686.7742868251125,15092.049565364279,{"$f":"AU545/Sanierungsdesign!$E$11","v":2.0095960755584308},3104640,16.076768604467446,{"$error":"#DIV/0!"},{"$error":"#DIV/0!"},{"$error":"#DIV/0!"},{"$error":"#DIV/0!"},{"$f":"(AY545/(AH545*Sanierungsdesign!$E$10))*1000000","v":{"$error":"#DIV/0!"}},{"$f":"AZ545/Sanierungsdesign!$E$12","v":{"$error":"#DIV/0!"}},{"$f":"$D$5+((-(Sanierungsdesign!$E$12)*MIN($BA$7:$BA$932))/(4*PI()*$D$3))*(-LN((4*$D$4*AH545)/(Sanierungsdesign!$E$13)^2)-$D$19)","v":{"$error":"#DIV/0!"}},{"$f":"(BB545-273.15)/Heterogenität!$D$4","v":{"$error":"#DIV/0!"}},{"$f":"IF(AI545<Berechnung!$D$7,AI545,#N/A)","v":{"$error":"#N/A"}}]
[null,null,null,null,null,null,null,null,null,null,null,null,null,null,null,null,null,null,null,null,null,null,null,null,null,null,null,null,null,null,null,null,{"$f":"Sanierungsdesign!$E$12*AH546*Sanierungsdesign!$E$10/1000000","v":25272},3888000,45,{"$f":"$D$5+((-Sanierungsdesign!$E$12)/4*PI()*$D$3)*(-LN((4*$D$4*AH546)/(Sanierungsdesign!$E$13^2))-$D$19)","v":3064.9661086812639},2791.8161086812638,5560.2797111281006,{"$f":"$D$3*$T$7*$AH$7*(AK546-$D$5)*(1/Sanierungsdesign!$E$15)/1000000","v":350.3417193005339},{"$f":"$D$5+(-Sanierungsdesign!$E$12/(4*PI()*$D$3))*(-LN((4*$D$4*AH546)/(Sanierungsdesign!$E$13+Sanierungsdesign!$E$15)^2)-$D$19)","v":389.50074917394676},116.35074917394678,{"$f":"(2*PI()*Sanierungsdesign!$E$10*$D$3)*(LN((Sanierungsdesign!$E$13+Sanierungsdesign!$E$15)/Sanierungsdesign!$E$13)*(AJ546-AN546))*$AH$7/1000000","v":238.8628509568662},6699.1801760400012,15120.049657322283,{"$f":"AU546/Sanierungsdesign!$E$11","v":2.0114749362417621},3110400,16.091799489934097,{"$error":"#DIV/0!"},{"$error":"#DIV/0!"},{"$error":"#DIV/0!"},{"$error":"#DIV/0!"},{"$f":"(AY546/(AH546*Sanierungsdesign!$E$10))*1000000","v":{"$error":"#DIV/0!"}},{"$f":"AZ546/Sanierungsdesign!$E$12","v":{"$error":"#DIV/0!"}},{"$f":"$D$5+((-(Sanierungsdesign!$E$12)*MIN($BA$7:$BA$932))/(4*PI()*$D$3))*(-LN((4*$D$4*AH546)/(Sanierungsdesign!$E$13)^2)-$D$19)","v":{"$error":"#DIV/0!"}},{"$f":"(BB546-273.15)/Heterogenität!$D$4","v":{"$error":"#DIV/0!"}},{"$f":"IF(AI546<Berechnung!$D$7,AI546,#N/A)","v":{"$error":"#N/A"}}]
[null,null,null,null,null,null,null,null,null,null,null,null,null,null,null,null,null,null,null,null,null,null,null,null,null,null,null,null,null,null,null,null,{"$f":"Sanierungsdesign!$E$12*AH547*Sanierungsdesign!$E$10/1000000","v":25318.799999999999},3895200,45.083333333333336,{"$f":"$D$5+((-Sanierungsdesign!$E$12)/4*PI()*$D$3)*(-LN((4*$D$4*AH547)/(Sanierungsdesign!$E$13^2))-$D$19)","v":3067.5578507049941},2794.407850704994,5565.463798861826,{"$f":"$D$3*$T$7*$AH$7*(AK547-$D$5)*(1/Sanierungsdesign!$E$15)/1000000","v":350.70366278653023},{"$f":"$D$5+(-Sanierungsdesign!$E$12/(4*PI()*$D$3))*(-LN((4*$D$4*AH547)/(Sanierungsdesign!$E$13+Sanierungsdesign!$E$15)^2)-$D$19)","v":389.64025225596396},116.49025225596398,{"$f":"(2*PI()*Sanierungsdesign!$E$10*$D$3)*(LN((Sanierungsdesign!$E$13+Sanierungsdesign!$E$15)/Sanierungsdesign!$E$13)*(AJ547-AN547))*$AH$7/1000000","v":239.08178437821044},6711.5860652548909,15148.049749280288,{"$f":"AU547/Sanierungsdesign!$E$11","v":2.0133503207701331},3116160,16.106802566161065,{"$error":"#DIV/0!"},{"$error":"#DIV/0!"},{"$error":"#DIV/0!"},{"$error":"#DIV/0!"},{"$f":"(AY547/(AH547*Sanierungsdesign!$E$10))*1000000","v":{"$error":"#DIV/0!"}},{"$f":"AZ547/Sanierungsdesign!$E$12","v":{"$error":"#DIV/0!"}},{"$f":"$D$5+((-(Sanierungsdesign!$E$12)*MIN($BA$7:$BA$932))/(4*PI()*$D$3))*(-LN((4*$D$4*AH547)/(Sanierungsdesign!$E$13)^2)-$D$19)","v":{"$error":"#DIV/0!"}},{"$f":"(BB547-273.15)/Heterogenität!$D$4","v":{"$error":"#DIV/0!"}},{"$f":"IF(AI547<Berechnung!$D$7,AI547,#N/A)","v":{"$error":"#N/A"}}]
[null,null,null,null,null,null,null,null,null,null,null,null,null,null,null,null,null,null,null,null,null,null,null,null,null,null,null,null,null,null,null,null,{"$f":"Sanierungsdesign!$E$12*AH548*Sanierungsdesign!$E$10/1000000","v":25365.599999999999},3902400,45.166666666666664,{"$f":"$D$5+((-Sanierungsdesign!$E$12)/4*PI()*$D$3)*(-LN((4*$D$4*AH548)/(Sanierungsdesign!$E$13^2))-$D$19)","v":3070.1448064988108},2796.9948064988107,5570.6383130208815,{"$f":"$D$3*$T$7*$AH$7*(AK548-$D$5)*(1/Sanierungsdesign!$E$15)/1000000","v":351.0649378631233},{"$f":"$D$5+(-Sanierungsdesign!$E$12/(4*PI()*$D$3))*(-LN((4*$D$4*AH548)/(Sanierungsdesign!$E$13+Sanierungsdesign!$E$15)^2)-$D$19)","v":389.77949771441445},116.62949771441447,{"$f":"(2*PI()*Sanierungsdesign!$E$10*$D$3)*(LN((Sanierungsdesign!$E$13+Sanierungsdesign!$E$15)/Sanierungsdesign!$E$13)*(AJ548-AN548))*$AH$7/1000000","v":239.30031349014402},6723.9919544697796,15176.049841238293,{"$f":"AU548/Sanierungsdesign!$E$11","v":2.015222241982539},3121920,16.121777935860312,{"$error":"#DIV/0!"},{"$error":"#DIV/0!"},{"$error":"#DIV/0!"},{"$error":"#DIV/0!"},{"$f":"(AY548/(AH548*Sanierungsdesign!$E$10))*1000000","v":{"$error":"#DIV/0!"}},{"$f":"AZ548/Sanierungsdesign!$E$12","v":{"$error":"#DIV/0!"}},{"$f":"$D$5+((-(Sanierungsdesign!$E$12)*MIN($BA$7:$BA$932))/(4*PI()*$D$3))*(-LN((4*$D$4*AH548)/(Sanierungsdesign!$E$13)^2)-$D$19)","v":{"$error":"#DIV/0!"}},{"$f":"(BB548-273.15)/Heterogenität!$D$4","v":{"$error":"#DIV/0!"}},{"$f":"IF(AI548<Berechnung!$D$7,AI548,#N/A)","v":{"$error":"#N/A"}}]
[null,null,null,null,null,null,null,null,null,null,null,null,null,null,null,null,null,null,null,null,null,null,null,null,null,null,null,null,null,null,null,null,{"$f":"Sanierungsdesign!$E$12*AH549*Sanierungsdesign!$E$10/1000000","v":25412.400000000001},3909600,45.25,{"$f":"$D$5+((-Sanierungsdesign!$E$12)/4*PI()*$D$3)*(-LN((4*$D$4*AH549)/(Sanierungsdesign!$E$13^2))-$D$19)","v":3072.7269937078154},2799.5769937078153,5575.8032888995831,{"$f":"$D$3*$T$7*$AH$7*(AK549-$D$5)*(1/Sanierungsdesign!$E$15)/1000000","v":351.4255469944971},{"$f":"$D$5+(-Sanierungsdesign!$E$12/(4*PI()*$D$3))*(-LN((4*$D$4*AH549)/(Sanierungsdesign!$E$13+Sanierungsdesign!$E$15)^2)-$D$19)","v":389.91848649906331},116.76848649906333,{"$f":"(2*PI()*Sanierungsdesign!$E$10*$D$3)*(LN((Sanierungsdesign!$E$13+Sanierungsdesign!$E$15)/Sanierungsdesign!$E$13)*(AJ549-AN549))*$AH$7/1000000","v":239.51843978320971},6736.3978436846683,15204.049933196296,{"$f":"AU549/Sanierungsdesign!$E$11","v":2.0170907126469748},3127680,16.136725701175799,{"$error":"#DIV/0!"},{"$error":"#DIV/0!"},{"$error":"#DIV/0!"},{"$error":"#DIV/0!"},{"$f":"(AY549/(AH549*Sanierungsdesign!$E$10))*1000000","v":{"$error":"#DIV/0!"}},{"$f":"AZ549/Sanierungsdesign!$E$12","v":{"$error":"#DIV/0!"}},{"$f":"$D$5+((-(Sanierungsdesign!$E$12)*MIN($BA$7:$BA$932))/(4*PI()*$D$3))*(-LN((4*$D$4*AH549)/(Sanierungsdesign!$E$13)^2)-$D$19)","v":{"$error":"#DIV/0!"}},{"$f":"(BB549-273.15)/Heterogenität!$D$4","v":{"$error":"#DIV/0!"}},{"$f":"IF(AI549<Berechnung!$D$7,AI549,#N/A)","v":{"$error":"#N/A"}}]
[null,null,null,null,null,null,null,null,null,null,null,null,null,null,null,null,null,null,null,null,null,null,null,null,null,null,null,null,null,null,null,null,{"$f":"Sanierungsdesign!$E$12*AH550*Sanierungsdesign!$E$10/1000000","v":25459.200000000001},3916800,45.333333333333336,{"$f":"$D$5+((-Sanierungsdesign!$E$12)/4*PI()*$D$3)*(-LN((4*$D$4*AH550)/(Sanierungsdesign!$E$13^2))-$D$19)","v":3075.304429879714},2802.1544298797139,5580.9587615974269,{"$f":"$D$3*$T$7*$AH$7*(AK550-$D$5)*(1/Sanierungsdesign!$E$15)/1000000","v":351.78549263123432},{"$f":"$D$5+(-Sanierungsdesign!$E$12/(4*PI()*$D$3))*(-LN((4*$D$4*AH550)/(Sanierungsdesign!$E$13+Sanierungsdesign!$E$15)^2)-$D$19)","v":390.05721955443317},116.9072195544332,{"$f":"(2*PI()*Sanierungsdesign!$E$10*$D$3)*(LN((Sanierungsdesign!$E$13+Sanierungsdesign!$E$15)/Sanierungsdesign!$E$13)*(AJ550-AN550))*$AH$7/1000000","v":239.73616473972294},6748.803732899557,15232.0500251543,{"$f":"AU550/Sanierungsdesign!$E$11","v":2.0189557454609606},3133440,16.151645963687685,{"$error":"#DIV/0!"},{"$error":"#DIV/0!"},{"$error":"#DIV/0!"},{"$error":"#DIV/0!"},{"$f":"(AY550/(AH550*Sanierungsdesign!$E$10))*1000000","v":{"$error":"#DIV/0!"}},{"$f":"AZ550/Sanierungsdesign!$E$12","v":{"$error":"#DIV/0!"}},{"$f":"$D$5+((-(Sanierungsdesign!$E$12)*MIN($BA$7:$BA$932))/(4*PI()*$D$3))*(-LN((4*$D$4*AH550)/(Sanierungsdesign!$E$13)^2)-$D$19)","v":{"$error":"#DIV/0!"}},{"$f":"(BB550-273.15)/Heterogenität!$D$4","v":{"$error":"#DIV/0!"}},{"$f":"IF(AI550<Berechnung!$D$7,AI550,#N/A)","v":{"$error":"#N/A"}}]
[null,null,null,null,null,null,null,null,null,null,null,null,null,null,null,null,null,null,null,null,null,null,null,null,null,null,null,null,null,null,null,null,{"$f":"Sanierungsdesign!$E$12*AH551*Sanierungsdesign!$E$10/1000000","v":25506},3924000,45.416666666666664,{"$f":"$D$5+((-Sanierungsdesign!$E$12)/4*PI()*$D$3)*(-LN((4*$D$4*AH551)/(Sanierungsdesign!$E$13^2))-$D$19)","v":3077.8771324655295},2804.7271324655294,5586.1047660205268,{"$f":"$D$3*$T$7*$AH$7*(AK551-$D$5)*(1/Sanierungsdesign!$E$15)/1000000","v":352.1447772104155},{"$f":"$D$5+(-Sanierungsdesign!$E$12/(4*PI()*$D$3))*(-LN((4*$D$4*AH551)/(Sanierungsdesign!$E$13+Sanierungsdesign!$E$15)^2)-$D$19)","v":390.19569781984268},117.0456978198427,{"$f":"(2*PI()*Sanierungsdesign!$E$10*$D$3)*(LN((Sanierungsdesign!$E$13+Sanierungsdesign!$E$15)/Sanierungsdesign!$E$13)*(AJ551-AN551))*$AH$7/1000000","v":239.95348983383209},6761.2096221144457,15260.050117112305,{"$f":"AU551/Sanierungsdesign!$E$11","v":2.020817353052057},3139200,16.166538824416456,{"$error":"#DIV/0!"},{"$error":"#DIV/0!"},{"$error":"#DIV/0!"},{"$error":"#DIV/0!"},{"$f":"(AY551/(AH551*Sanierungsdesign!$E$10))*1000000","v":{"$error":"#DIV/0!"}},{"$f":"AZ551/Sanierungsdesign!$E$12","v":{"$error":"#DIV/0!"}},{"$f":"$D$5+((-(Sanierungsdesign!$E$12)*MIN($BA$7:$BA$932))/(4*PI()*$D$3))*(-LN((4*$D$4*AH551)/(Sanierungsdesign!$E$13)^2)-$D$19)","v":{"$error":"#DIV/0!"}},{"$f":"(BB551-273.15)/Heterogenität!$D$4","v":{"$error":"#DIV/0!"}},{"$f":"IF(AI551<Berechnung!$D$7,AI551,#N/A)","v":{"$error":"#N/A"}}]
[null,null,null,null,null,null,null,null,null,null,null,null,null,null,null,null,null,null,null,null,null,null,null,null,null,null,null,null,null,null,null,null,{"$f":"Sanierungsdesign!$E$12*AH552*Sanierungsdesign!$E$10/1000000","v":25552.799999999999},3931200,45.5,{"$f":"$D$5+((-Sanierungsdesign!$E$12)/4*PI()*$D$3)*(-LN((4*$D$4*AH552)/(Sanierungsdesign!$E$13^2))-$D$19)","v":3080.4451188203129},2807.2951188203128,5591.2413368830248,{"$f":"$D$3*$T$7*$AH$7*(AK552-$D$5)*(1/Sanierungsdesign!$E$15)/1000000","v":352.50340315571839},{"$f":"$D$5+(-Sanierungsdesign!$E$12/(4*PI()*$D$3))*(-LN((4*$D$4*AH552)/(Sanierungsdesign!$E$13+Sanierungsdesign!$E$15)^2)-$D$19)","v":390.33392222944451},117.18392222944453,{"$f":"(2*PI()*Sanierungsdesign!$E$10*$D$3)*(LN((Sanierungsdesign!$E$13+Sanierungsdesign!$E$15)/Sanierungsdesign!$E$13)*(AJ552-AN552))*$AH$7/1000000","v":240.17041653157841},6773.6155113293353,15288.05020907031,{"$f":"AU552/Sanierungsdesign!$E$11","v":2.0226755479783782},3144960,16.181404383827026,{"$error":"#DIV/0!"},{"$error":"#DIV/0!"},{"$error":"#DIV/0!"},{"$error":"#DIV/0!"},{"$f":"(AY552/(AH552*Sanierungsdesign!$E$10))*1000000","v":{"$error":"#DIV/0!"}},{"$f":"AZ552/Sanierungsdesign!$E$12","v":{"$error":"#DIV/0!"}},{"$f":"$D$5+((-(Sanierungsdesign!$E$12)*MIN($BA$7:$BA$932))/(4*PI()*$D$3))*(-LN((4*$D$4*AH552)/(Sanierungsdesign!$E$13)^2)-$D$19)","v":{"$error":"#DIV/0!"}},{"$f":"(BB552-273.15)/Heterogenität!$D$4","v":{"$error":"#DIV/0!"}},{"$f":"IF(AI552<Berechnung!$D$7,AI552,#N/A)","v":{"$error":"#N/A"}}]
[null,null,null,null,null,null,null,null,null,null,null,null,null,null,null,null,null,null,null,null,null,null,null,null,null,null,null,null,null,null,null,null,{"$f":"Sanierungsdesign!$E$12*AH553*Sanierungsdesign!$E$10/1000000","v":25599.599999999999},3938400,45.583333333333336,{"$f":"$D$5+((-Sanierungsdesign!$E$12)/4*PI()*$D$3)*(-LN((4*$D$4*AH553)/(Sanierungsdesign!$E$13^2))-$D$19)","v":3083.0084062038445},2809.8584062038444,5596.3685087085041,{"$f":"$D$3*$T$7*$AH$7*(AK553-$D$5)*(1/Sanierungsdesign!$E$15)/1000000","v":352.86137287751603},{"$f":"$D$5+(-Sanierungsdesign!$E$12/(4*PI()*$D$3))*(-LN((4*$D$4*AH553)/(Sanierungsdesign!$E$13+Sanierungsdesign!$E$15)^2)-$D$19)","v":390.47189371226358},117.3218937122636,{"$f":"(2*PI()*Sanierungsdesign!$E$10*$D$3)*(LN((Sanierungsdesign!$E$13+Sanierungsdesign!$E$15)/Sanierungsdesign!$E$13)*(AJ553-AN553))*$AH$7/1000000","v":240.38694629095528},6786.021400544224,15316.050301028312,{"$f":"AU553/Sanierungsdesign!$E$11","v":2.0245303427291015},3150720,16.196242741832812,{"$error":"#DIV/0!"},{"$error":"#DIV/0!"},{"$error":"#DIV/0!"},{"$error":"#DIV/0!"},{"$f":"(AY553/(AH553*Sanierungsdesign!$E$10))*1000000","v":{"$error":"#DIV/0!"}},{"$f":"AZ553/Sanierungsdesign!$E$12","v":{"$error":"#DIV/0!"}},{"$f":"$D$5+((-(Sanierungsdesign!$E$12)*MIN($BA$7:$BA$932))/(4*PI()*$D$3))*(-LN((4*$D$4*AH553)/(Sanierungsdesign!$E$13)^2)-$D$19)","v":{"$error":"#DIV/0!"}},{"$f":"(BB553-273.15)/Heterogenität!$D$4","v":{"$error":"#DIV/0!"}},{"$f":"IF(AI553<Berechnung!$D$7,AI553,#N/A)","v":{"$error":"#N/A"}}]
[null,null,null,null,null,null,null,null,null,null,null,null,null,null,null,null,null,null,null,null,null,null,null,null,null,null,null,null,null,null,null,null,{"$f":"Sanierungsdesign!$E$12*AH554*Sanierungsdesign!$E$10/1000000","v":25646.400000000001},3945600,45.666666666666664,{"$f":"$D$5+((-Sanierungsdesign!$E$12)/4*PI()*$D$3)*(-LN((4*$D$4*AH554)/(Sanierungsdesign!$E$13^2))-$D$19)","v":3085.5670117813302},2812.4170117813301,5601.4863158313719,{"$f":"$D$3*$T$7*$AH$7*(AK554-$D$5)*(1/Sanierungsdesign!$E$15)/1000000","v":353.21868877297391},{"$f":"$D$5+(-Sanierungsdesign!$E$12/(4*PI()*$D$3))*(-LN((4*$D$4*AH554)/(Sanierungsdesign!$E$13+Sanierungsdesign!$E$15)^2)-$D$19)","v":390.60961319223406},117.45961319223409,{"$f":"(2*PI()*Sanierungsdesign!$E$10*$D$3)*(LN((Sanierungsdesign!$E$13+Sanierungsdesign!$E$15)/Sanierungsdesign!$E$13)*(AJ554-AN554))*$AH$7/1000000","v":240.603080561967},6798.4272897591127,15344.050392986317,{"$f":"AU554/Sanierungsdesign!$E$11","v":2.0263817497249703},3156480,16.211053997799763,{"$error":"#DIV/0!"},{"$error":"#DIV/0!"},{"$error":"#DIV/0!"},{"$error":"#DIV/0!"},{"$f":"(AY554/(AH554*Sanierungsdesign!$E$10))*1000000","v":{"$error":"#DIV/0!"}},{"$f":"AZ554/Sanierungsdesign!$E$12","v":{"$error":"#DIV/0!"}},{"$f":"$D$5+((-(Sanierungsdesign!$E$12)*MIN($BA$7:$BA$932))/(4*PI()*$D$3))*(-LN((4*$D$4*AH554)/(Sanierungsdesign!$E$13)^2)-$D$19)","v":{"$error":"#DIV/0!"}},{"$f":"(BB554-273.15)/Heterogenität!$D$4","v":{"$error":"#DIV/0!"}},{"$f":"IF(AI554<Berechnung!$D$7,AI554,#N/A)","v":{"$error":"#N/A"}}]
[null,null,null,null,null,null,null,null,null,null,null,null,null,null,null,null,null,null,null,null,null,null,null,null,null,null,null,null,null,null,null,null,{"$f":"Sanierungsdesign!$E$12*AH555*Sanierungsdesign!$E$10/1000000","v":25693.200000000001},3952800,45.75,{"$f":"$D$5+((-Sanierungsdesign!$E$12)/4*PI()*$D$3)*(-LN((4*$D$4*AH555)/(Sanierungsdesign!$E$13^2))-$D$19)","v":3088.1209526240914},2814.9709526240913,5606.5947923982494,{"$f":"$D$3*$T$7*$AH$7*(AK555-$D$5)*(1/Sanierungsdesign!$E$15)/1000000","v":353.57535322614621},{"$f":"$D$5+(-Sanierungsdesign!$E$12/(4*PI()*$D$3))*(-LN((4*$D$4*AH555)/(Sanierungsdesign!$E$13+Sanierungsdesign!$E$15)^2)-$D$19)","v":390.74708158823671},117.59708158823673,{"$f":"(2*PI()*Sanierungsdesign!$E$10*$D$3)*(LN((Sanierungsdesign!$E$13+Sanierungsdesign!$E$15)/Sanierungsdesign!$E$13)*(AJ555-AN555))*$AH$7/1000000","v":240.81882078668733},6810.8331789740014,15372.05048494432,{"$f":"AU555/Sanierungsdesign!$E$11","v":2.0282297813187919},3162240,16.225838250550336,{"$error":"#DIV/0!"},{"$error":"#DIV/0!"},{"$error":"#DIV/0!"},{"$error":"#DIV/0!"},{"$f":"(AY555/(AH555*Sanierungsdesign!$E$10))*1000000","v":{"$error":"#DIV/0!"}},{"$f":"AZ555/Sanierungsdesign!$E$12","v":{"$error":"#DIV/0!"}},{"$f":"$D$5+((-(Sanierungsdesign!$E$12)*MIN($BA$7:$BA$932))/(4*PI()*$D$3))*(-LN((4*$D$4*AH555)/(Sanierungsdesign!$E$13)^2)-$D$19)","v":{"$error":"#DIV/0!"}},{"$f":"(BB555-273.15)/Heterogenität!$D$4","v":{"$error":"#DIV/0!"}},{"$f":"IF(AI555<Berechnung!$D$7,AI555,#N/A)","v":{"$error":"#N/A"}}]
[null,null,null,null,null,null,null,null,null,null,null,null,null,null,null,null,null,null,null,null,null,null,null,null,null,null,null,null,null,null,null,null,{"$f":"Sanierungsdesign!$E$12*AH556*Sanierungsdesign!$E$10/1000000","v":25740},3960000,45.833333333333336,{"$f":"$D$5+((-Sanierungsdesign!$E$12)/4*PI()*$D$3)*(-LN((4*$D$4*AH556)/(Sanierungsdesign!$E$13^2))-$D$19)","v":3090.6702457102492},2817.5202457102491,5611.6939723693331,{"$f":"$D$3*$T$7*$AH$7*(AK556-$D$5)*(1/Sanierungsdesign!$E$15)/1000000","v":353.93136860807169},{"$f":"$D$5+(-Sanierungsdesign!$E$12/(4*PI()*$D$3))*(-LN((4*$D$4*AH556)/(Sanierungsdesign!$E$13+Sanierungsdesign!$E$15)^2)-$D$19)","v":390.88429981413583},117.73429981413585,{"$f":"(2*PI()*Sanierungsdesign!$E$10*$D$3)*(LN((Sanierungsdesign!$E$13+Sanierungsdesign!$E$15)/Sanierungsdesign!$E$13)*(AJ556-AN556))*$AH$7/1000000","v":241.0341683993168},6823.239068188891,15400.050576902326,{"$f":"AU556/Sanierungsdesign!$E$11","v":2.030074449795936},3168000,16.240595598367488,{"$error":"#DIV/0!"},{"$error":"#DIV/0!"},{"$error":"#DIV/0!"},{"$error":"#DIV/0!"},{"$f":"(AY556/(AH556*Sanierungsdesign!$E$10))*1000000","v":{"$error":"#DIV/0!"}},{"$f":"AZ556/Sanierungsdesign!$E$12","v":{"$error":"#DIV/0!"}},{"$f":"$D$5+((-(Sanierungsdesign!$E$12)*MIN($BA$7:$BA$932))/(4*PI()*$D$3))*(-LN((4*$D$4*AH556)/(Sanierungsdesign!$E$13)^2)-$D$19)","v":{"$error":"#DIV/0!"}},{"$f":"(BB556-273.15)/Heterogenität!$D$4","v":{"$error":"#DIV/0!"}},{"$f":"IF(AI556<Berechnung!$D$7,AI556,#N/A)","v":{"$error":"#N/A"}}]
[null,null,null,null,null,null,null,null,null,null,null,null,null,null,null,null,null,null,null,null,null,null,null,null,null,null,null,null,null,null,null,null,{"$f":"Sanierungsdesign!$E$12*AH557*Sanierungsdesign!$E$10/1000000","v":25786.799999999999},3967200,45.916666666666664,{"$f":"$D$5+((-Sanierungsdesign!$E$12)/4*PI()*$D$3)*(-LN((4*$D$4*AH557)/(Sanierungsdesign!$E$13^2))-$D$19)","v":3093.2149079254004},2820.0649079254003,5616.7838895197483,{"$f":"$D$3*$T$7*$AH$7*(AK557-$D$5)*(1/Sanierungsdesign!$E$15)/1000000","v":354.28673727686743},{"$f":"$D$5+(-Sanierungsdesign!$E$12/(4*PI()*$D$3))*(-LN((4*$D$4*AH557)/(Sanierungsdesign!$E$13+Sanierungsdesign!$E$15)^2)-$D$19)","v":391.02126877881517},117.87126877881519,{"$f":"(2*PI()*Sanierungsdesign!$E$10*$D$3)*(LN((Sanierungsdesign!$E$13+Sanierungsdesign!$E$15)/Sanierungsdesign!$E$13)*(AJ557-AN557))*$AH$7/1000000","v":241.24912482624029},6835.6449574037797,15428.050668860331,{"$f":"AU557/Sanierungsdesign!$E$11","v":2.0319157673748194},3173760,16.255326138998555,{"$error":"#DIV/0!"},{"$error":"#DIV/0!"},{"$error":"#DIV/0!"},{"$error":"#DIV/0!"},{"$f":"(AY557/(AH557*Sanierungsdesign!$E$10))*1000000","v":{"$error":"#DIV/0!"}},{"$f":"AZ557/Sanierungsdesign!$E$12","v":{"$error":"#DIV/0!"}},{"$f":"$D$5+((-(Sanierungsdesign!$E$12)*MIN($BA$7:$BA$932))/(4*PI()*$D$3))*(-LN((4*$D$4*AH557)/(Sanierungsdesign!$E$13)^2)-$D$19)","v":{"$error":"#DIV/0!"}},{"$f":"(BB557-273.15)/Heterogenität!$D$4","v":{"$error":"#DIV/0!"}},{"$f":"IF(AI557<Berechnung!$D$7,AI557,#N/A)","v":{"$error":"#N/A"}}]
[null,null,null,null,null,null,null,null,null,null,null,null,null,null,null,null,null,null,null,null,null,null,null,null,null,null,null,null,null,null,null,null,{"$f":"Sanierungsdesign!$E$12*AH558*Sanierungsdesign!$E$10/1000000","v":25833.599999999999},3974400,46,{"$f":"$D$5+((-Sanierungsdesign!$E$12)/4*PI()*$D$3)*(-LN((4*$D$4*AH558)/(Sanierungsdesign!$E$13^2))-$D$19)","v":3095.7549560632874},2822.6049560632873,5621.8645774408942,{"$f":"$D$3*$T$7*$AH$7*(AK558-$D$5)*(1/Sanierungsdesign!$E$15)/1000000","v":354.64146157782324},{"$f":"$D$5+(-Sanierungsdesign!$E$12/(4*PI()*$D$3))*(-LN((4*$D$4*AH558)/(Sanierungsdesign!$E$13+Sanierungsdesign!$E$15)^2)-$D$19)","v":391.15798938621475},118.00798938621477,{"$f":"(2*PI()*Sanierungsdesign!$E$10*$D$3)*(LN((Sanierungsdesign!$E$13+Sanierungsdesign!$E$15)/Sanierungsdesign!$E$13)*(AJ558-AN558))*$AH$7/1000000","v":241.46369148608335},6848.0508466186684,15456.050760818334,{"$f":"AU558/Sanierungsdesign!$E$11","v":2.0337537462073945},3179520,16.270029969659156,{"$error":"#DIV/0!"},{"$error":"#DIV/0!"},{"$error":"#DIV/0!"},{"$error":"#DIV/0!"},{"$f":"(AY558/(AH558*Sanierungsdesign!$E$10))*1000000","v":{"$error":"#DIV/0!"}},{"$f":"AZ558/Sanierungsdesign!$E$12","v":{"$error":"#DIV/0!"}},{"$f":"$D$5+((-(Sanierungsdesign!$E$12)*MIN($BA$7:$BA$932))/(4*PI()*$D$3))*(-LN((4*$D$4*AH558)/(Sanierungsdesign!$E$13)^2)-$D$19)","v":{"$error":"#DIV/0!"}},{"$f":"(BB558-273.15)/Heterogenität!$D$4","v":{"$error":"#DIV/0!"}},{"$f":"IF(AI558<Berechnung!$D$7,AI558,#N/A)","v":{"$error":"#N/A"}}]
[null,null,null,null,null,null,null,null,null,null,null,null,null,null,null,null,null,null,null,null,null,null,null,null,null,null,null,null,null,null,null,null,{"$f":"Sanierungsdesign!$E$12*AH559*Sanierungsdesign!$E$10/1000000","v":25880.400000000001},3981600,46.083333333333336,{"$f":"$D$5+((-Sanierungsdesign!$E$12)/4*PI()*$D$3)*(-LN((4*$D$4*AH559)/(Sanierungsdesign!$E$13^2))-$D$19)","v":3098.2904068264675},2825.1404068264674,5626.9360695417736,{"$f":"$D$3*$T$7*$AH$7*(AK559-$D$5)*(1/Sanierungsdesign!$E$15)/1000000","v":354.99554384349443},{"$f":"$D$5+(-Sanierungsdesign!$E$12/(4*PI()*$D$3))*(-LN((4*$D$4*AH559)/(Sanierungsdesign!$E$13+Sanierungsdesign!$E$15)^2)-$D$19)","v":391.29446253536616},118.14446253536619,{"$f":"(2*PI()*Sanierungsdesign!$E$10*$D$3)*(LN((Sanierungsdesign!$E$13+Sanierungsdesign!$E$15)/Sanierungsdesign!$E$13)*(AJ559-AN559))*$AH$7/1000000","v":241.67786978976886},6860.4567358335571,15484.050852776338,{"$f":"AU559/Sanierungsdesign!$E$11","v":2.0355883983796317},3185280,16.284707187037053,{"$error":"#DIV/0!"},{"$error":"#DIV/0!"},{"$error":"#DIV/0!"},{"$error":"#DIV/0!"},{"$f":"(AY559/(AH559*Sanierungsdesign!$E$10))*1000000","v":{"$error":"#DIV/0!"}},{"$f":"AZ559/Sanierungsdesign!$E$12","v":{"$error":"#DIV/0!"}},{"$f":"$D$5+((-(Sanierungsdesign!$E$12)*MIN($BA$7:$BA$932))/(4*PI()*$D$3))*(-LN((4*$D$4*AH559)/(Sanierungsdesign!$E$13)^2)-$D$19)","v":{"$error":"#DIV/0!"}},{"$f":"(BB559-273.15)/Heterogenität!$D$4","v":{"$error":"#DIV/0!"}},{"$f":"IF(AI559<Berechnung!$D$7,AI559,#N/A)","v":{"$error":"#N/A"}}]
[null,null,null,null,null,null,null,null,null,null,null,null,null,null,null,null,null,null,null,null,null,null,null,null,null,null,null,null,null,null,null,null,{"$f":"Sanierungsdesign!$E$12*AH560*Sanierungsdesign!$E$10/1000000","v":25927.200000000001},3988800,46.166666666666664,{"$f":"$D$5+((-Sanierungsdesign!$E$12)/4*PI()*$D$3)*(-LN((4*$D$4*AH560)/(Sanierungsdesign!$E$13^2))-$D$19)","v":3100.8212768269664},2827.6712768269663,5631.9983990503079,{"$f":"$D$3*$T$7*$AH$7*(AK560-$D$5)*(1/Sanierungsdesign!$E$15)/1000000","v":355.34898639379338},{"$f":"$D$5+(-Sanierungsdesign!$E$12/(4*PI()*$D$3))*(-LN((4*$D$4*AH560)/(Sanierungsdesign!$E$13+Sanierungsdesign!$E$15)^2)-$D$19)","v":391.43068912042821},118.28068912042824,{"$f":"(2*PI()*Sanierungsdesign!$E$10*$D$3)*(LN((Sanierungsdesign!$E$13+Sanierungsdesign!$E$15)/Sanierungsdesign!$E$13)*(AJ560-AN560))*$AH$7/1000000","v":241.89166114057213},6872.8626250484458,15512.050944734343,{"$f":"AU560/Sanierungsdesign!$E$11","v":2.0374197359119925},3191040,16.29935788729594,{"$error":"#DIV/0!"},{"$error":"#DIV/0!"},{"$error":"#DIV/0!"},{"$error":"#DIV/0!"},{"$f":"(AY560/(AH560*Sanierungsdesign!$E$10))*1000000","v":{"$error":"#DIV/0!"}},{"$f":"AZ560/Sanierungsdesign!$E$12","v":{"$error":"#DIV/0!"}},{"$f":"$D$5+((-(Sanierungsdesign!$E$12)*MIN($BA$7:$BA$932))/(4*PI()*$D$3))*(-LN((4*$D$4*AH560)/(Sanierungsdesign!$E$13)^2)-$D$19)","v":{"$error":"#DIV/0!"}},{"$f":"(BB560-273.15)/Heterogenität!$D$4","v":{"$error":"#DIV/0!"}},{"$f":"IF(AI560<Berechnung!$D$7,AI560,#N/A)","v":{"$error":"#N/A"}}]
[null,null,null,null,null,null,null,null,null,null,null,null,null,null,null,null,null,null,null,null,null,null,null,null,null,null,null,null,null,null,null,null,{"$f":"Sanierungsdesign!$E$12*AH561*Sanierungsdesign!$E$10/1000000","v":25974},3996000,46.25,{"$f":"$D$5+((-Sanierungsdesign!$E$12)/4*PI()*$D$3)*(-LN((4*$D$4*AH561)/(Sanierungsdesign!$E$13^2))-$D$19)","v":3103.3475825869355},2830.1975825869354,5637.0515990146487,{"$f":"$D$3*$T$7*$AH$7*(AK561-$D$5)*(1/Sanierungsdesign!$E$15)/1000000","v":355.70179153608143},{"$f":"$D$5+(-Sanierungsdesign!$E$12/(4*PI()*$D$3))*(-LN((4*$D$4*AH561)/(Sanierungsdesign!$E$13+Sanierungsdesign!$E$15)^2)-$D$19)","v":391.56667003072204},118.41667003072206,{"$f":"(2*PI()*Sanierungsdesign!$E$10*$D$3)*(LN((Sanierungsdesign!$E$13+Sanierungsdesign!$E$15)/Sanierungsdesign!$E$13)*(AJ561-AN561))*$AH$7/1000000","v":242.10506693417645},6885.2685142633354,15540.051036692348,{"$f":"AU561/Sanierungsdesign!$E$11","v":2.0392477707599062},3196800,16.313982166079249,{"$error":"#DIV/0!"},{"$error":"#DIV/0!"},{"$error":"#DIV/0!"},{"$error":"#DIV/0!"},{"$f":"(AY561/(AH561*Sanierungsdesign!$E$10))*1000000","v":{"$error":"#DIV/0!"}},{"$f":"AZ561/Sanierungsdesign!$E$12","v":{"$error":"#DIV/0!"}},{"$f":"$D$5+((-(Sanierungsdesign!$E$12)*MIN($BA$7:$BA$932))/(4*PI()*$D$3))*(-LN((4*$D$4*AH561)/(Sanierungsdesign!$E$13)^2)-$D$19)","v":{"$error":"#DIV/0!"}},{"$f":"(BB561-273.15)/Heterogenität!$D$4","v":{"$error":"#DIV/0!"}},{"$f":"IF(AI561<Berechnung!$D$7,AI561,#N/A)","v":{"$error":"#N/A"}}]
[null,null,null,null,null,null,null,null,null,null,null,null,null,null,null,null,null,null,null,null,null,null,null,null,null,null,null,null,null,null,null,null,{"$f":"Sanierungsdesign!$E$12*AH562*Sanierungsdesign!$E$10/1000000","v":26020.799999999999},4003200,46.333333333333336,{"$f":"$D$5+((-Sanierungsdesign!$E$12)/4*PI()*$D$3)*(-LN((4*$D$4*AH562)/(Sanierungsdesign!$E$13^2))-$D$19)","v":3105.8693405392978},2832.7193405392977,5642.0957023044703,{"$f":"$D$3*$T$7*$AH$7*(AK562-$D$5)*(1/Sanierungsdesign!$E$15)/1000000","v":356.05396156525876},{"$f":"$D$5+(-Sanierungsdesign!$E$12/(4*PI()*$D$3))*(-LN((4*$D$4*AH562)/(Sanierungsdesign!$E$13+Sanierungsdesign!$E$15)^2)-$D$19)","v":391.70240615076597},118.55240615076599,{"$f":"(2*PI()*Sanierungsdesign!$E$10*$D$3)*(LN((Sanierungsdesign!$E$13+Sanierungsdesign!$E$15)/Sanierungsdesign!$E$13)*(AJ562-AN562))*$AH$7/1000000","v":242.31808855872771},6897.6744034782241,15568.051128650353,{"$f":"AU562/Sanierungsdesign!$E$11","v":2.0410725148142355},3202560,16.328580118513884,{"$error":"#DIV/0!"},{"$error":"#DIV/0!"},{"$error":"#DIV/0!"},{"$error":"#DIV/0!"},{"$f":"(AY562/(AH562*Sanierungsdesign!$E$10))*1000000","v":{"$error":"#DIV/0!"}},{"$f":"AZ562/Sanierungsdesign!$E$12","v":{"$error":"#DIV/0!"}},{"$f":"$D$5+((-(Sanierungsdesign!$E$12)*MIN($BA$7:$BA$932))/(4*PI()*$D$3))*(-LN((4*$D$4*AH562)/(Sanierungsdesign!$E$13)^2)-$D$19)","v":{"$error":"#DIV/0!"}},{"$f":"(BB562-273.15)/Heterogenität!$D$4","v":{"$error":"#DIV/0!"}},{"$f":"IF(AI562<Berechnung!$D$7,AI562,#N/A)","v":{"$error":"#N/A"}}]
[null,null,null,null,null,null,null,null,null,null,null,null,null,null,null,null,null,null,null,null,null,null,null,null,null,null,null,null,null,null,null,null,{"$f":"Sanierungsdesign!$E$12*AH563*Sanierungsdesign!$E$10/1000000","v":26067.599999999999},4010400,46.416666666666664,{"$f":"$D$5+((-Sanierungsdesign!$E$12)/4*PI()*$D$3)*(-LN((4*$D$4*AH563)/(Sanierungsdesign!$E$13^2))-$D$19)","v":3108.3865670283881},2835.236567028388,5647.1307416122472,{"$f":"$D$3*$T$7*$AH$7*(AK563-$D$5)*(1/Sanierungsdesign!$E$15)/1000000","v":356.40549876385404},{"$f":"$D$5+(-Sanierungsdesign!$E$12/(4*PI()*$D$3))*(-LN((4*$D$4*AH563)/(Sanierungsdesign!$E$13+Sanierungsdesign!$E$15)^2)-$D$19)","v":391.83789836031013},118.68789836031016,{"$f":"(2*PI()*Sanierungsdesign!$E$10*$D$3)*(LN((Sanierungsdesign!$E$13+Sanierungsdesign!$E$15)/Sanierungsdesign!$E$13)*(AJ563-AN563))*$AH$7/1000000","v":242.53072739488846},6910.0802926931128,15596.051220608357,{"$f":"AU563/Sanierungsdesign!$E$11","v":2.0428939799017414},3208320,16.343151839213931,{"$error":"#DIV/0!"},{"$error":"#DIV/0!"},{"$error":"#DIV/0!"},{"$error":"#DIV/0!"},{"$f":"(AY563/(AH563*Sanierungsdesign!$E$10))*1000000","v":{"$error":"#DIV/0!"}},{"$f":"AZ563/Sanierungsdesign!$E$12","v":{"$error":"#DIV/0!"}},{"$f":"$D$5+((-(Sanierungsdesign!$E$12)*MIN($BA$7:$BA$932))/(4*PI()*$D$3))*(-LN((4*$D$4*AH563)/(Sanierungsdesign!$E$13)^2)-$D$19)","v":{"$error":"#DIV/0!"}},{"$f":"(BB563-273.15)/Heterogenität!$D$4","v":{"$error":"#DIV/0!"}},{"$f":"IF(AI563<Berechnung!$D$7,AI563,#N/A)","v":{"$error":"#N/A"}}]
[null,null,null,null,null,null,null,null,null,null,null,null,null,null,null,null,null,null,null,null,null,null,null,null,null,null,null,null,null,null,null,null,{"$f":"Sanierungsdesign!$E$12*AH564*Sanierungsdesign!$E$10/1000000","v":26114.400000000001},4017600,46.5,{"$f":"$D$5+((-Sanierungsdesign!$E$12)/4*PI()*$D$3)*(-LN((4*$D$4*AH564)/(Sanierungsdesign!$E$13^2))-$D$19)","v":3110.8992783105905},2837.7492783105904,5652.1567494545352,{"$f":"$D$3*$T$7*$AH$7*(AK564-$D$5)*(1/Sanierungsdesign!$E$15)/1000000","v":356.75640540211344},{"$f":"$D$5+(-Sanierungsdesign!$E$12/(4*PI()*$D$3))*(-LN((4*$D$4*AH564)/(Sanierungsdesign!$E$13+Sanierungsdesign!$E$15)^2)-$D$19)","v":391.97314753437036},118.82314753437038,{"$f":"(2*PI()*Sanierungsdesign!$E$10*$D$3)*(LN((Sanierungsdesign!$E$13+Sanierungsdesign!$E$15)/Sanierungsdesign!$E$13)*(AJ564-AN564))*$AH$7/1000000","v":242.74298481589173},6922.4861819080015,15624.051312566358,{"$f":"AU564/Sanierungsdesign!$E$11","v":2.0447121777855428},3214080,16.357697422284343,{"$error":"#DIV/0!"},{"$error":"#DIV/0!"},{"$error":"#DIV/0!"},{"$error":"#DIV/0!"},{"$f":"(AY564/(AH564*Sanierungsdesign!$E$10))*1000000","v":{"$error":"#DIV/0!"}},{"$f":"AZ564/Sanierungsdesign!$E$12","v":{"$error":"#DIV/0!"}},{"$f":"$D$5+((-(Sanierungsdesign!$E$12)*MIN($BA$7:$BA$932))/(4*PI()*$D$3))*(-LN((4*$D$4*AH564)/(Sanierungsdesign!$E$13)^2)-$D$19)","v":{"$error":"#DIV/0!"}},{"$f":"(BB564-273.15)/Heterogenität!$D$4","v":{"$error":"#DIV/0!"}},{"$f":"IF(AI564<Berechnung!$D$7,AI564,#N/A)","v":{"$error":"#N/A"}}]
[null,null,null,null,null,null,null,null,null,null,null,null,null,null,null,null,null,null,null,null,null,null,null,null,null,null,null,null,null,null,null,null,{"$f":"Sanierungsdesign!$E$12*AH565*Sanierungsdesign!$E$10/1000000","v":26161.200000000001},4024800,46.583333333333336,{"$f":"$D$5+((-Sanierungsdesign!$E$12)/4*PI()*$D$3)*(-LN((4*$D$4*AH565)/(Sanierungsdesign!$E$13^2))-$D$19)","v":3113.4074905549669},2840.2574905549668,5657.1737581732259,{"$f":"$D$3*$T$7*$AH$7*(AK565-$D$5)*(1/Sanierungsdesign!$E$15)/1000000","v":357.10668373808829},{"$f":"$D$5+(-Sanierungsdesign!$E$12/(4*PI()*$D$3))*(-LN((4*$D$4*AH565)/(Sanierungsdesign!$E$13+Sanierungsdesign!$E$15)^2)-$D$19)","v":392.10815454326246},118.95815454326248,{"$f":"(2*PI()*Sanierungsdesign!$E$10*$D$3)*(LN((Sanierungsdesign!$E$13+Sanierungsdesign!$E$15)/Sanierungsdesign!$E$13)*(AJ565-AN565))*$AH$7/1000000","v":242.9548621875943},6934.8920711228902,15652.051404524362,{"$f":"AU565/Sanierungsdesign!$E$11","v":2.0465271201655737},3219840,16.37221696132459,{"$error":"#DIV/0!"},{"$error":"#DIV/0!"},{"$error":"#DIV/0!"},{"$error":"#DIV/0!"},{"$f":"(AY565/(AH565*Sanierungsdesign!$E$10))*1000000","v":{"$error":"#DIV/0!"}},{"$f":"AZ565/Sanierungsdesign!$E$12","v":{"$error":"#DIV/0!"}},{"$f":"$D$5+((-(Sanierungsdesign!$E$12)*MIN($BA$7:$BA$932))/(4*PI()*$D$3))*(-LN((4*$D$4*AH565)/(Sanierungsdesign!$E$13)^2)-$D$19)","v":{"$error":"#DIV/0!"}},{"$f":"(BB565-273.15)/Heterogenität!$D$4","v":{"$error":"#DIV/0!"}},{"$f":"IF(AI565<Berechnung!$D$7,AI565,#N/A)","v":{"$error":"#N/A"}}]
[null,null,null,null,null,null,null,null,null,null,null,null,null,null,null,null,null,null,null,null,null,null,null,null,null,null,null,null,null,null,null,null,{"$f":"Sanierungsdesign!$E$12*AH566*Sanierungsdesign!$E$10/1000000","v":26208},4032000,46.666666666666664,{"$f":"$D$5+((-Sanierungsdesign!$E$12)/4*PI()*$D$3)*(-LN((4*$D$4*AH566)/(Sanierungsdesign!$E$13^2))-$D$19)","v":3115.9112198438811},2842.761219843881,5662.1817999367913,{"$f":"$D$3*$T$7*$AH$7*(AK566-$D$5)*(1/Sanierungsdesign!$E$15)/1000000","v":357.45633601772244},{"$f":"$D$5+(-Sanierungsdesign!$E$12/(4*PI()*$D$3))*(-LN((4*$D$4*AH566)/(Sanierungsdesign!$E$13+Sanierungsdesign!$E$15)^2)-$D$19)","v":392.24292025263571},119.09292025263574,{"$f":"(2*PI()*Sanierungsdesign!$E$10*$D$3)*(LN((Sanierungsdesign!$E$13+Sanierungsdesign!$E$15)/Sanierungsdesign!$E$13)*(AJ566-AN566))*$AH$7/1000000","v":243.1663608685289},6947.2979603377798,15680.051496482369,{"$f":"AU566/Sanierungsdesign!$E$11","v":2.0483388186790323},3225600,16.386710549432259,{"$error":"#DIV/0!"},{"$error":"#DIV/0!"},{"$error":"#DIV/0!"},{"$error":"#DIV/0!"},{"$f":"(AY566/(AH566*Sanierungsdesign!$E$10))*1000000","v":{"$error":"#DIV/0!"}},{"$f":"AZ566/Sanierungsdesign!$E$12","v":{"$error":"#DIV/0!"}},{"$f":"$D$5+((-(Sanierungsdesign!$E$12)*MIN($BA$7:$BA$932))/(4*PI()*$D$3))*(-LN((4*$D$4*AH566)/(Sanierungsdesign!$E$13)^2)-$D$19)","v":{"$error":"#DIV/0!"}},{"$f":"(BB566-273.15)/Heterogenität!$D$4","v":{"$error":"#DIV/0!"}},{"$f":"IF(AI566<Berechnung!$D$7,AI566,#N/A)","v":{"$error":"#N/A"}}]
[null,null,null,null,null,null,null,null,null,null,null,null,null,null,null,null,null,null,null,null,null,null,null,null,null,null,null,null,null,null,null,null,{"$f":"Sanierungsdesign!$E$12*AH567*Sanierungsdesign!$E$10/1000000","v":26254.799999999999},4039200,46.75,{"$f":"$D$5+((-Sanierungsdesign!$E$12)/4*PI()*$D$3)*(-LN((4*$D$4*AH567)/(Sanierungsdesign!$E$13^2))-$D$19)","v":3118.4104821736187},2845.2604821736186,5667.1809067415288,{"$f":"$D$3*$T$7*$AH$7*(AK567-$D$5)*(1/Sanierungsdesign!$E$15)/1000000","v":357.80536447493853},{"$f":"$D$5+(-Sanierungsdesign!$E$12/(4*PI()*$D$3))*(-LN((4*$D$4*AH567)/(Sanierungsdesign!$E$13+Sanierungsdesign!$E$15)^2)-$D$19)","v":392.37744552350591},119.22744552350593,{"$f":"(2*PI()*Sanierungsdesign!$E$10*$D$3)*(LN((Sanierungsdesign!$E$13+Sanierungsdesign!$E$15)/Sanierungsdesign!$E$13)*(AJ567-AN567))*$AH$7/1000000","v":243.37748220995738},6959.7038495526685,15708.051588440372,{"$f":"AU567/Sanierungsdesign!$E$11","v":2.05014728490083},3231360,16.40117827920664,{"$error":"#DIV/0!"},{"$error":"#DIV/0!"},{"$error":"#DIV/0!"},{"$error":"#DIV/0!"},{"$f":"(AY567/(AH567*Sanierungsdesign!$E$10))*1000000","v":{"$error":"#DIV/0!"}},{"$f":"AZ567/Sanierungsdesign!$E$12","v":{"$error":"#DIV/0!"}},{"$f":"$D$5+((-(Sanierungsdesign!$E$12)*MIN($BA$7:$BA$932))/(4*PI()*$D$3))*(-LN((4*$D$4*AH567)/(Sanierungsdesign!$E$13)^2)-$D$19)","v":{"$error":"#DIV/0!"}},{"$f":"(BB567-273.15)/Heterogenität!$D$4","v":{"$error":"#DIV/0!"}},{"$f":"IF(AI567<Berechnung!$D$7,AI567,#N/A)","v":{"$error":"#N/A"}}]
[null,null,null,null,null,null,null,null,null,null,null,null,null,null,null,null,null,null,null,null,null,null,null,null,null,null,null,null,null,null,null,null,{"$f":"Sanierungsdesign!$E$12*AH568*Sanierungsdesign!$E$10/1000000","v":26301.599999999999},4046400,46.833333333333336,{"$f":"$D$5+((-Sanierungsdesign!$E$12)/4*PI()*$D$3)*(-LN((4*$D$4*AH568)/(Sanierungsdesign!$E$13^2))-$D$19)","v":3120.905293455},2847.7552934549999,5672.1711104127844,{"$f":"$D$3*$T$7*$AH$7*(AK568-$D$5)*(1/Sanierungsdesign!$E$15)/1000000","v":358.15377133172387},{"$f":"$D$5+(-Sanierungsdesign!$E$12/(4*PI()*$D$3))*(-LN((4*$D$4*AH568)/(Sanierungsdesign!$E$13+Sanierungsdesign!$E$15)^2)-$D$19)","v":392.51173121228874},119.36173121228876,{"$f":"(2*PI()*Sanierungsdesign!$E$10*$D$3)*(LN((Sanierungsdesign!$E$13+Sanierungsdesign!$E$15)/Sanierungsdesign!$E$13)*(AJ568-AN568))*$AH$7/1000000","v":243.58822755592158},6972.1097387675572,15736.051680398377,{"$f":"AU568/Sanierungsdesign!$E$11","v":2.0519525303440376},3237120,16.415620242752301,{"$error":"#DIV/0!"},{"$error":"#DIV/0!"},{"$error":"#DIV/0!"},{"$error":"#DIV/0!"},{"$f":"(AY568/(AH568*Sanierungsdesign!$E$10))*1000000","v":{"$error":"#DIV/0!"}},{"$f":"AZ568/Sanierungsdesign!$E$12","v":{"$error":"#DIV/0!"}},{"$f":"$D$5+((-(Sanierungsdesign!$E$12)*MIN($BA$7:$BA$932))/(4*PI()*$D$3))*(-LN((4*$D$4*AH568)/(Sanierungsdesign!$E$13)^2)-$D$19)","v":{"$error":"#DIV/0!"}},{"$f":"(BB568-273.15)/Heterogenität!$D$4","v":{"$error":"#DIV/0!"}},{"$f":"IF(AI568<Berechnung!$D$7,AI568,#N/A)","v":{"$error":"#N/A"}}]
[null,null,null,null,null,null,null,null,null,null,null,null,null,null,null,null,null,null,null,null,null,null,null,null,null,null,null,null,null,null,null,null,{"$f":"Sanierungsdesign!$E$12*AH569*Sanierungsdesign!$E$10/1000000","v":26348.400000000001},4053600,46.916666666666664,{"$f":"$D$5+((-Sanierungsdesign!$E$12)/4*PI()*$D$3)*(-LN((4*$D$4*AH569)/(Sanierungsdesign!$E$13^2))-$D$19)","v":3123.3956695139882},2850.2456695139881,5677.1524426061715,{"$f":"$D$3*$T$7*$AH$7*(AK569-$D$5)*(1/Sanierungsdesign!$E$15)/1000000","v":358.50155879821517},{"$f":"$D$5+(-Sanierungsdesign!$E$12/(4*PI()*$D$3))*(-LN((4*$D$4*AH569)/(Sanierungsdesign!$E$13+Sanierungsdesign!$E$15)^2)-$D$19)","v":392.64577817083239},119.49577817083241,{"$f":"(2*PI()*Sanierungsdesign!$E$10*$D$3)*(LN((Sanierungsdesign!$E$13+Sanierungsdesign!$E$15)/Sanierungsdesign!$E$13)*(AJ569-AN569))*$AH$7/1000000","v":243.79859824329557},6984.5156279824459,15764.051772356381,{"$f":"AU569/Sanierungsdesign!$E$11","v":2.0537545664603214},3242880,16.430036531682571,{"$error":"#DIV/0!"},{"$error":"#DIV/0!"},{"$error":"#DIV/0!"},{"$error":"#DIV/0!"},{"$f":"(AY569/(AH569*Sanierungsdesign!$E$10))*1000000","v":{"$error":"#DIV/0!"}},{"$f":"AZ569/Sanierungsdesign!$E$12","v":{"$error":"#DIV/0!"}},{"$f":"$D$5+((-(Sanierungsdesign!$E$12)*MIN($BA$7:$BA$932))/(4*PI()*$D$3))*(-LN((4*$D$4*AH569)/(Sanierungsdesign!$E$13)^2)-$D$19)","v":{"$error":"#DIV/0!"}},{"$f":"(BB569-273.15)/Heterogenität!$D$4","v":{"$error":"#DIV/0!"}},{"$f":"IF(AI569<Berechnung!$D$7,AI569,#N/A)","v":{"$error":"#N/A"}}]
[null,null,null,null,null,null,null,null,null,null,null,null,null,null,null,null,null,null,null,null,null,null,null,null,null,null,null,null,null,null,null,null,{"$f":"Sanierungsdesign!$E$12*AH570*Sanierungsdesign!$E$10/1000000","v":26395.200000000001},4060800,47,{"$f":"$D$5+((-Sanierungsdesign!$E$12)/4*PI()*$D$3)*(-LN((4*$D$4*AH570)/(Sanierungsdesign!$E$13^2))-$D$19)","v":3125.8816260922877},2852.7316260922876,5682.1249348087667,{"$f":"$D$3*$T$7*$AH$7*(AK570-$D$5)*(1/Sanierungsdesign!$E$15)/1000000","v":358.84872907278213},{"$f":"$D$5+(-Sanierungsdesign!$E$12/(4*PI()*$D$3))*(-LN((4*$D$4*AH570)/(Sanierungsdesign!$E$13+Sanierungsdesign!$E$15)^2)-$D$19)","v":392.77958724644964},119.62958724644966,{"$f":"(2*PI()*Sanierungsdesign!$E$10*$D$3)*(LN((Sanierungsdesign!$E$13+Sanierungsdesign!$E$15)/Sanierungsdesign!$E$13)*(AJ570-AN570))*$AH$7/1000000","v":244.00859560183557},6996.9215171973347,15792.051864314384,{"$f":"AU570/Sanierungsdesign!$E$11","v":2.0555534046403792},3248640,16.444427237123033,{"$error":"#DIV/0!"},{"$error":"#DIV/0!"},{"$error":"#DIV/0!"},{"$error":"#DIV/0!"},{"$f":"(AY570/(AH570*Sanierungsdesign!$E$10))*1000000","v":{"$error":"#DIV/0!"}},{"$f":"AZ570/Sanierungsdesign!$E$12","v":{"$error":"#DIV/0!"}},{"$f":"$D$5+((-(Sanierungsdesign!$E$12)*MIN($BA$7:$BA$932))/(4*PI()*$D$3))*(-LN((4*$D$4*AH570)/(Sanierungsdesign!$E$13)^2)-$D$19)","v":{"$error":"#DIV/0!"}},{"$f":"(BB570-273.15)/Heterogenität!$D$4","v":{"$error":"#DIV/0!"}},{"$f":"IF(AI570<Berechnung!$D$7,AI570,#N/A)","v":{"$error":"#N/A"}}]
[null,null,null,null,null,null,null,null,null,null,null,null,null,null,null,null,null,null,null,null,null,null,null,null,null,null,null,null,null,null,null,null,{"$f":"Sanierungsdesign!$E$12*AH571*Sanierungsdesign!$E$10/1000000","v":26442},4068000,47.083333333333336,{"$f":"$D$5+((-Sanierungsdesign!$E$12)/4*PI()*$D$3)*(-LN((4*$D$4*AH571)/(Sanierungsdesign!$E$13^2))-$D$19)","v":3128.3631788479483},2855.2131788479483,5687.0886183403145,{"$f":"$D$3*$T$7*$AH$7*(AK571-$D$5)*(1/Sanierungsdesign!$E$15)/1000000","v":359.19528434211219},{"$f":"$D$5+(-Sanierungsdesign!$E$12/(4*PI()*$D$3))*(-LN((4*$D$4*AH571)/(Sanierungsdesign!$E$13+Sanierungsdesign!$E$15)^2)-$D$19)","v":392.91315928195064},119.76315928195066,{"$f":"(2*PI()*Sanierungsdesign!$E$10*$D$3)*(LN((Sanierungsdesign!$E$13+Sanierungsdesign!$E$15)/Sanierungsdesign!$E$13)*(AJ571-AN571))*$AH$7/1000000","v":244.21822095423119},7009.3274064122243,15820.051956272391,{"$f":"AU571/Sanierungsdesign!$E$11","v":2.0573490562143752},3254400,16.458792449715002,{"$error":"#DIV/0!"},{"$error":"#DIV/0!"},{"$error":"#DIV/0!"},{"$error":"#DIV/0!"},{"$f":"(AY571/(AH571*Sanierungsdesign!$E$10))*1000000","v":{"$error":"#DIV/0!"}},{"$f":"AZ571/Sanierungsdesign!$E$12","v":{"$error":"#DIV/0!"}},{"$f":"$D$5+((-(Sanierungsdesign!$E$12)*MIN($BA$7:$BA$932))/(4*PI()*$D$3))*(-LN((4*$D$4*AH571)/(Sanierungsdesign!$E$13)^2)-$D$19)","v":{"$error":"#DIV/0!"}},{"$f":"(BB571-273.15)/Heterogenität!$D$4","v":{"$error":"#DIV/0!"}},{"$f":"IF(AI571<Berechnung!$D$7,AI571,#N/A)","v":{"$error":"#N/A"}}]
[null,null,null,null,null,null,null,null,null,null,null,null,null,null,null,null,null,null,null,null,null,null,null,null,null,null,null,null,null,null,null,null,{"$f":"Sanierungsdesign!$E$12*AH572*Sanierungsdesign!$E$10/1000000","v":26488.799999999999},4075200,47.166666666666664,{"$f":"$D$5+((-Sanierungsdesign!$E$12)/4*PI()*$D$3)*(-LN((4*$D$4*AH572)/(Sanierungsdesign!$E$13^2))-$D$19)","v":3130.8403433559529},2857.6903433559528,5692.0435243544098,{"$f":"$D$3*$T$7*$AH$7*(AK572-$D$5)*(1/Sanierungsdesign!$E$15)/1000000","v":359.54122678129193},{"$f":"$D$5+(-Sanierungsdesign!$E$12/(4*PI()*$D$3))*(-LN((4*$D$4*AH572)/(Sanierungsdesign!$E$13+Sanierungsdesign!$E$15)^2)-$D$19)","v":393.04649511567413},119.89649511567416,{"$f":"(2*PI()*Sanierungsdesign!$E$10*$D$3)*(LN((Sanierungsdesign!$E$13+Sanierungsdesign!$E$15)/Sanierungsdesign!$E$13)*(AJ572-AN572))*$AH$7/1000000","v":244.42747561615528},7021.733295627113,15848.052048230395,{"$f":"AU572/Sanierungsdesign!$E$11","v":2.0591415324523674},3260160,16.473132259618939,{"$error":"#DIV/0!"},{"$error":"#DIV/0!"},{"$error":"#DIV/0!"},{"$error":"#DIV/0!"},{"$f":"(AY572/(AH572*Sanierungsdesign!$E$10))*1000000","v":{"$error":"#DIV/0!"}},{"$f":"AZ572/Sanierungsdesign!$E$12","v":{"$error":"#DIV/0!"}},{"$f":"$D$5+((-(Sanierungsdesign!$E$12)*MIN($BA$7:$BA$932))/(4*PI()*$D$3))*(-LN((4*$D$4*AH572)/(Sanierungsdesign!$E$13)^2)-$D$19)","v":{"$error":"#DIV/0!"}},{"$f":"(BB572-273.15)/Heterogenität!$D$4","v":{"$error":"#DIV/0!"}},{"$f":"IF(AI572<Berechnung!$D$7,AI572,#N/A)","v":{"$error":"#N/A"}}]
[null,null,null,null,null,null,null,null,null,null,null,null,null,null,null,null,null,null,null,null,null,null,null,null,null,null,null,null,null,null,null,null,{"$f":"Sanierungsdesign!$E$12*AH573*Sanierungsdesign!$E$10/1000000","v":26535.599999999999},4082400,47.25,{"$f":"$D$5+((-Sanierungsdesign!$E$12)/4*PI()*$D$3)*(-LN((4*$D$4*AH573)/(Sanierungsdesign!$E$13^2))-$D$19)","v":3133.3131351088005},2860.1631351088004,5696.9896838396598,{"$f":"$D$3*$T$7*$AH$7*(AK573-$D$5)*(1/Sanierungsdesign!$E$15)/1000000","v":359.88655855388885},{"$f":"$D$5+(-Sanierungsdesign!$E$12/(4*PI()*$D$3))*(-LN((4*$D$4*AH573)/(Sanierungsdesign!$E$13+Sanierungsdesign!$E$15)^2)-$D$19)","v":393.17959558151938},120.0295955815194,{"$f":"(2*PI()*Sanierungsdesign!$E$10*$D$3)*(LN((Sanierungsdesign!$E$13+Sanierungsdesign!$E$15)/Sanierungsdesign!$E$13)*(AJ573-AN573))*$AH$7/1000000","v":244.63636089631274},7034.1391848420017,15876.052140188398,{"$f":"AU573/Sanierungsdesign!$E$11","v":2.0609308445647279},3265920,16.487446756517823,{"$error":"#DIV/0!"},{"$error":"#DIV/0!"},{"$error":"#DIV/0!"},{"$error":"#DIV/0!"},{"$f":"(AY573/(AH573*Sanierungsdesign!$E$10))*1000000","v":{"$error":"#DIV/0!"}},{"$f":"AZ573/Sanierungsdesign!$E$12","v":{"$error":"#DIV/0!"}},{"$f":"$D$5+((-(Sanierungsdesign!$E$12)*MIN($BA$7:$BA$932))/(4*PI()*$D$3))*(-LN((4*$D$4*AH573)/(Sanierungsdesign!$E$13)^2)-$D$19)","v":{"$error":"#DIV/0!"}},{"$f":"(BB573-273.15)/Heterogenität!$D$4","v":{"$error":"#DIV/0!"}},{"$f":"IF(AI573<Berechnung!$D$7,AI573,#N/A)","v":{"$error":"#N/A"}}]
[null,null,null,null,null,null,null,null,null,null,null,null,null,null,null,null,null,null,null,null,null,null,null,null,null,null,null,null,null,null,null,null,{"$f":"Sanierungsdesign!$E$12*AH574*Sanierungsdesign!$E$10/1000000","v":26582.400000000001},4089600,47.333333333333336,{"$f":"$D$5+((-Sanierungsdesign!$E$12)/4*PI()*$D$3)*(-LN((4*$D$4*AH574)/(Sanierungsdesign!$E$13^2))-$D$19)","v":3135.7815695170962},2862.6315695170961,5701.9271276208628,{"$f":"$D$3*$T$7*$AH$7*(AK574-$D$5)*(1/Sanierungsdesign!$E$15)/1000000","v":360.23128181203396},{"$f":"$D$5+(-Sanierungsdesign!$E$12/(4*PI()*$D$3))*(-LN((4*$D$4*AH574)/(Sanierungsdesign!$E$13+Sanierungsdesign!$E$15)^2)-$D$19)","v":393.31246150897732},120.16246150897734,{"$f":"(2*PI()*Sanierungsdesign!$E$10*$D$3)*(LN((Sanierungsdesign!$E$13+Sanierungsdesign!$E$15)/Sanierungsdesign!$E$13)*(AJ574-AN574))*$AH$7/1000000","v":244.84487809649082},7046.5450740568904,15904.052232146403,{"$f":"AU574/Sanierungsdesign!$E$11","v":2.0627170037025704},3271680,16.501736029620563,{"$error":"#DIV/0!"},{"$error":"#DIV/0!"},{"$error":"#DIV/0!"},{"$error":"#DIV/0!"},{"$f":"(AY574/(AH574*Sanierungsdesign!$E$10))*1000000","v":{"$error":"#DIV/0!"}},{"$f":"AZ574/Sanierungsdesign!$E$12","v":{"$error":"#DIV/0!"}},{"$f":"$D$5+((-(Sanierungsdesign!$E$12)*MIN($BA$7:$BA$932))/(4*PI()*$D$3))*(-LN((4*$D$4*AH574)/(Sanierungsdesign!$E$13)^2)-$D$19)","v":{"$error":"#DIV/0!"}},{"$f":"(BB574-273.15)/Heterogenität!$D$4","v":{"$error":"#DIV/0!"}},{"$f":"IF(AI574<Berechnung!$D$7,AI574,#N/A)","v":{"$error":"#N/A"}}]
[null,null,null,null,null,null,null,null,null,null,null,null,null,null,null,null,null,null,null,null,null,null,null,null,null,null,null,null,null,null,null,null,{"$f":"Sanierungsdesign!$E$12*AH575*Sanierungsdesign!$E$10/1000000","v":26629.200000000001},4096800,47.416666666666664,{"$f":"$D$5+((-Sanierungsdesign!$E$12)/4*PI()*$D$3)*(-LN((4*$D$4*AH575)/(Sanierungsdesign!$E$13^2))-$D$19)","v":3138.2456619101199},2865.0956619101198,5706.8558863601502,{"$f":"$D$3*$T$7*$AH$7*(AK575-$D$5)*(1/Sanierungsdesign!$E$15)/1000000","v":360.57539869650094},{"$f":"$D$5+(-Sanierungsdesign!$E$12/(4*PI()*$D$3))*(-LN((4*$D$4*AH575)/(Sanierungsdesign!$E$13+Sanierungsdesign!$E$15)^2)-$D$19)","v":393.44509372316168},120.2950937231617,{"$f":"(2*PI()*Sanierungsdesign!$E$10*$D$3)*(LN((Sanierungsdesign!$E$13+Sanierungsdesign!$E$15)/Sanierungsdesign!$E$13)*(AJ575-AN575))*$AH$7/1000000","v":245.05302851160681},7058.9509632717791,15932.052324104405,{"$f":"AU575/Sanierungsdesign!$E$11","v":2.0645000209581625},3277440,16.5160001676653,{"$error":"#DIV/0!"},{"$error":"#DIV/0!"},{"$error":"#DIV/0!"},{"$error":"#DIV/0!"},{"$f":"(AY575/(AH575*Sanierungsdesign!$E$10))*1000000","v":{"$error":"#DIV/0!"}},{"$f":"AZ575/Sanierungsdesign!$E$12","v":{"$error":"#DIV/0!"}},{"$f":"$D$5+((-(Sanierungsdesign!$E$12)*MIN($BA$7:$BA$932))/(4*PI()*$D$3))*(-LN((4*$D$4*AH575)/(Sanierungsdesign!$E$13)^2)-$D$19)","v":{"$error":"#DIV/0!"}},{"$f":"(BB575-273.15)/Heterogenität!$D$4","v":{"$error":"#DIV/0!"}},{"$f":"IF(AI575<Berechnung!$D$7,AI575,#N/A)","v":{"$error":"#N/A"}}]
[null,null,null,null,null,null,null,null,null,null,null,null,null,null,null,null,null,null,null,null,null,null,null,null,null,null,null,null,null,null,null,null,{"$f":"Sanierungsdesign!$E$12*AH576*Sanierungsdesign!$E$10/1000000","v":26676},4104000,47.5,{"$f":"$D$5+((-Sanierungsdesign!$E$12)/4*PI()*$D$3)*(-LN((4*$D$4*AH576)/(Sanierungsdesign!$E$13^2))-$D$19)","v":3140.7054275363998},2867.5554275363997,5711.7759905581306,{"$f":"$D$3*$T$7*$AH$7*(AK576-$D$5)*(1/Sanierungsdesign!$E$15)/1000000","v":360.91891133678621},{"$f":"$D$5+(-Sanierungsdesign!$E$12/(4*PI()*$D$3))*(-LN((4*$D$4*AH576)/(Sanierungsdesign!$E$13+Sanierungsdesign!$E$15)^2)-$D$19)","v":393.57749304483957},120.42749304483959,{"$f":"(2*PI()*Sanierungsdesign!$E$10*$D$3)*(LN((Sanierungsdesign!$E$13+Sanierungsdesign!$E$15)/Sanierungsdesign!$E$13)*(AJ576-AN576))*$AH$7/1000000","v":245.26081342975678},7071.3568524866687,15960.05241606241,{"$f":"AU576/Sanierungsdesign!$E$11","v":2.0662799073653386},3283200,16.530239258922709,{"$error":"#DIV/0!"},{"$error":"#DIV/0!"},{"$error":"#DIV/0!"},{"$error":"#DIV/0!"},{"$f":"(AY576/(AH576*Sanierungsdesign!$E$10))*1000000","v":{"$error":"#DIV/0!"}},{"$f":"AZ576/Sanierungsdesign!$E$12","v":{"$error":"#DIV/0!"}},{"$f":"$D$5+((-(Sanierungsdesign!$E$12)*MIN($BA$7:$BA$932))/(4*PI()*$D$3))*(-LN((4*$D$4*AH576)/(Sanierungsdesign!$E$13)^2)-$D$19)","v":{"$error":"#DIV/0!"}},{"$f":"(BB576-273.15)/Heterogenität!$D$4","v":{"$error":"#DIV/0!"}},{"$f":"IF(AI576<Berechnung!$D$7,AI576,#N/A)","v":{"$error":"#N/A"}}]
[null,null,null,null,null,null,null,null,null,null,null,null,null,null,null,null,null,null,null,null,null,null,null,null,null,null,null,null,null,null,null,null,{"$f":"Sanierungsdesign!$E$12*AH577*Sanierungsdesign!$E$10/1000000","v":26722.799999999999},4111200,47.583333333333336,{"$f":"$D$5+((-Sanierungsdesign!$E$12)/4*PI()*$D$3)*(-LN((4*$D$4*AH577)/(Sanierungsdesign!$E$13^2))-$D$19)","v":3143.1608815642799},2870.0108815642798,5716.6874705550235,{"$f":"$D$3*$T$7*$AH$7*(AK577-$D$5)*(1/Sanierungsdesign!$E$15)/1000000","v":361.2618218511883},{"$f":"$D$5+(-Sanierungsdesign!$E$12/(4*PI()*$D$3))*(-LN((4*$D$4*AH577)/(Sanierungsdesign!$E$13+Sanierungsdesign!$E$15)^2)-$D$19)","v":393.70966029046224},120.55966029046226,{"$f":"(2*PI()*Sanierungsdesign!$E$10*$D$3)*(LN((Sanierungsdesign!$E$13+Sanierungsdesign!$E$15)/Sanierungsdesign!$E$13)*(AJ577-AN577))*$AH$7/1000000","v":245.46823413226312},7083.7627417015574,15988.052508020415,{"$f":"AU577/Sanierungsdesign!$E$11","v":2.0680566738999127},3288960,16.544453391199301,{"$error":"#DIV/0!"},{"$error":"#DIV/0!"},{"$error":"#DIV/0!"},{"$error":"#DIV/0!"},{"$f":"(AY577/(AH577*Sanierungsdesign!$E$10))*1000000","v":{"$error":"#DIV/0!"}},{"$f":"AZ577/Sanierungsdesign!$E$12","v":{"$error":"#DIV/0!"}},{"$f":"$D$5+((-(Sanierungsdesign!$E$12)*MIN($BA$7:$BA$932))/(4*PI()*$D$3))*(-LN((4*$D$4*AH577)/(Sanierungsdesign!$E$13)^2)-$D$19)","v":{"$error":"#DIV/0!"}},{"$f":"(BB577-273.15)/Heterogenität!$D$4","v":{"$error":"#DIV/0!"}},{"$f":"IF(AI577<Berechnung!$D$7,AI577,#N/A)","v":{"$error":"#N/A"}}]
[null,null,null,null,null,null,null,null,null,null,null,null,null,null,null,null,null,null,null,null,null,null,null,null,null,null,null,null,null,null,null,null,{"$f":"Sanierungsdesign!$E$12*AH578*Sanierungsdesign!$E$10/1000000","v":26769.599999999999},4118400,47.666666666666664,{"$f":"$D$5+((-Sanierungsdesign!$E$12)/4*PI()*$D$3)*(-LN((4*$D$4*AH578)/(Sanierungsdesign!$E$13^2))-$D$19)","v":3145.6120390824804},2872.4620390824803,5721.5903565317849,{"$f":"$D$3*$T$7*$AH$7*(AK578-$D$5)*(1/Sanierungsdesign!$E$15)/1000000","v":361.60413234688605},{"$f":"$D$5+(-Sanierungsdesign!$E$12/(4*PI()*$D$3))*(-LN((4*$D$4*AH578)/(Sanierungsdesign!$E$13+Sanierungsdesign!$E$15)^2)-$D$19)","v":393.84159627219492},120.69159627219494,{"$f":"(2*PI()*Sanierungsdesign!$E$10*$D$3)*(LN((Sanierungsdesign!$E$13+Sanierungsdesign!$E$15)/Sanierungsdesign!$E$13)*(AJ578-AN578))*$AH$7/1000000","v":245.67529189372229},7096.1686309164461,16016.052599978419,{"$f":"AU578/Sanierungsdesign!$E$11","v":2.0698303314800826},3294720,16.55864265184066,{"$error":"#DIV/0!"},{"$error":"#DIV/0!"},{"$error":"#DIV/0!"},{"$error":"#DIV/0!"},{"$f":"(AY578/(AH578*Sanierungsdesign!$E$10))*1000000","v":{"$error":"#DIV/0!"}},{"$f":"AZ578/Sanierungsdesign!$E$12","v":{"$error":"#DIV/0!"}},{"$f":"$D$5+((-(Sanierungsdesign!$E$12)*MIN($BA$7:$BA$932))/(4*PI()*$D$3))*(-LN((4*$D$4*AH578)/(Sanierungsdesign!$E$13)^2)-$D$19)","v":{"$error":"#DIV/0!"}},{"$f":"(BB578-273.15)/Heterogenität!$D$4","v":{"$error":"#DIV/0!"}},{"$f":"IF(AI578<Berechnung!$D$7,AI578,#N/A)","v":{"$error":"#N/A"}}]
[null,null,null,null,null,null,null,null,null,null,null,null,null,null,null,null,null,null,null,null,null,null,null,null,null,null,null,null,null,null,null,null,{"$f":"Sanierungsdesign!$E$12*AH579*Sanierungsdesign!$E$10/1000000","v":26816.400000000001},4125600,47.75,{"$f":"$D$5+((-Sanierungsdesign!$E$12)/4*PI()*$D$3)*(-LN((4*$D$4*AH579)/(Sanierungsdesign!$E$13^2))-$D$19)","v":3148.0589151006534},2874.9089151006533,5726.484678511215,{"$f":"$D$3*$T$7*$AH$7*(AK579-$D$5)*(1/Sanierungsdesign!$E$15)/1000000","v":361.94584492001621},{"$f":"$D$5+(-Sanierungsdesign!$E$12/(4*PI()*$D$3))*(-LN((4*$D$4*AH579)/(Sanierungsdesign!$E$13+Sanierungsdesign!$E$15)^2)-$D$19)","v":393.97330179794704},120.82330179794707,{"$f":"(2*PI()*Sanierungsdesign!$E$10*$D$3)*(LN((Sanierungsdesign!$E$13+Sanierungsdesign!$E$15)/Sanierungsdesign!$E$13)*(AJ579-AN579))*$AH$7/1000000","v":245.88198798205167},7108.5745201313348,16044.052691936422,{"$f":"AU579/Sanierungsdesign!$E$11","v":2.0716008909668324},3300480,16.572807127734659,{"$error":"#DIV/0!"},{"$error":"#DIV/0!"},{"$error":"#DIV/0!"},{"$error":"#DIV/0!"},{"$f":"(AY579/(AH579*Sanierungsdesign!$E$10))*1000000","v":{"$error":"#DIV/0!"}},{"$f":"AZ579/Sanierungsdesign!$E$12","v":{"$error":"#DIV/0!"}},{"$f":"$D$5+((-(Sanierungsdesign!$E$12)*MIN($BA$7:$BA$932))/(4*PI()*$D$3))*(-LN((4*$D$4*AH579)/(Sanierungsdesign!$E$13)^2)-$D$19)","v":{"$error":"#DIV/0!"}},{"$f":"(BB579-273.15)/Heterogenität!$D$4","v":{"$error":"#DIV/0!"}},{"$f":"IF(AI579<Berechnung!$D$7,AI579,#N/A)","v":{"$error":"#N/A"}}]
[null,null,null,null,null,null,null,null,null,null,null,null,null,null,null,null,null,null,null,null,null,null,null,null,null,null,null,null,null,null,null,null,{"$f":"Sanierungsdesign!$E$12*AH580*Sanierungsdesign!$E$10/1000000","v":26863.200000000001},4132800,47.833333333333336,{"$f":"$D$5+((-Sanierungsdesign!$E$12)/4*PI()*$D$3)*(-LN((4*$D$4*AH580)/(Sanierungsdesign!$E$13^2))-$D$19)","v":3150.5015245499344},2877.3515245499343,5731.3704663590634,{"$f":"$D$3*$T$7*$AH$7*(AK580-$D$5)*(1/Sanierungsdesign!$E$15)/1000000","v":362.28696165575064},{"$f":"$D$5+(-Sanierungsdesign!$E$12/(4*PI()*$D$3))*(-LN((4*$D$4*AH580)/(Sanierungsdesign!$E$13+Sanierungsdesign!$E$15)^2)-$D$19)","v":394.10477767140173},120.95477767140176,{"$f":"(2*PI()*Sanierungsdesign!$E$10*$D$3)*(LN((Sanierungsdesign!$E$13+Sanierungsdesign!$E$15)/Sanierungsdesign!$E$13)*(AJ580-AN580))*$AH$7/1000000","v":246.08832365853587},7120.9804093462244,16072.052783894429,{"$f":"AU580/Sanierungsdesign!$E$11","v":2.0733683631643323},3306240,16.586946905314658,{"$error":"#DIV/0!"},{"$error":"#DIV/0!"},{"$error":"#DIV/0!"},{"$error":"#DIV/0!"},{"$f":"(AY580/(AH580*Sanierungsdesign!$E$10))*1000000","v":{"$error":"#DIV/0!"}},{"$f":"AZ580/Sanierungsdesign!$E$12","v":{"$error":"#DIV/0!"}},{"$f":"$D$5+((-(Sanierungsdesign!$E$12)*MIN($BA$7:$BA$932))/(4*PI()*$D$3))*(-LN((4*$D$4*AH580)/(Sanierungsdesign!$E$13)^2)-$D$19)","v":{"$error":"#DIV/0!"}},{"$f":"(BB580-273.15)/Heterogenität!$D$4","v":{"$error":"#DIV/0!"}},{"$f":"IF(AI580<Berechnung!$D$7,AI580,#N/A)","v":{"$error":"#N/A"}}]
[null,null,null,null,null,null,null,null,null,null,null,null,null,null,null,null,null,null,null,null,null,null,null,null,null,null,null,null,null,null,null,null,{"$f":"Sanierungsdesign!$E$12*AH581*Sanierungsdesign!$E$10/1000000","v":26910},4140000,47.916666666666664,{"$f":"$D$5+((-Sanierungsdesign!$E$12)/4*PI()*$D$3)*(-LN((4*$D$4*AH581)/(Sanierungsdesign!$E$13^2))-$D$19)","v":3152.9398822834924},2879.7898822834923,5736.2477497851269,{"$f":"$D$3*$T$7*$AH$7*(AK581-$D$5)*(1/Sanierungsdesign!$E$15)/1000000","v":362.62748462837266},{"$f":"$D$5+(-Sanierungsdesign!$E$12/(4*PI()*$D$3))*(-LN((4*$D$4*AH581)/(Sanierungsdesign!$E$13+Sanierungsdesign!$E$15)^2)-$D$19)","v":394.23602469204548},121.0860246920455,{"$f":"(2*PI()*Sanierungsdesign!$E$10*$D$3)*(LN((Sanierungsdesign!$E$13+Sanierungsdesign!$E$15)/Sanierungsdesign!$E$13)*(AJ581-AN581))*$AH$7/1000000","v":246.29430017787348},7133.3862985611131,16100.052875852432,{"$f":"AU581/Sanierungsdesign!$E$11","v":2.0751327588203345},3312000,16.601062070562676,{"$error":"#DIV/0!"},{"$error":"#DIV/0!"},{"$error":"#DIV/0!"},{"$error":"#DIV/0!"},{"$f":"(AY581/(AH581*Sanierungsdesign!$E$10))*1000000","v":{"$error":"#DIV/0!"}},{"$f":"AZ581/Sanierungsdesign!$E$12","v":{"$error":"#DIV/0!"}},{"$f":"$D$5+((-(Sanierungsdesign!$E$12)*MIN($BA$7:$BA$932))/(4*PI()*$D$3))*(-LN((4*$D$4*AH581)/(Sanierungsdesign!$E$13)^2)-$D$19)","v":{"$error":"#DIV/0!"}},{"$f":"(BB581-273.15)/Heterogenität!$D$4","v":{"$error":"#DIV/0!"}},{"$f":"IF(AI581<Berechnung!$D$7,AI581,#N/A)","v":{"$error":"#N/A"}}]
[null,null,null,null,null,null,null,null,null,null,null,null,null,null,null,null,null,null,null,null,null,null,null,null,null,null,null,null,null,null,null,null,{"$f":"Sanierungsdesign!$E$12*AH582*Sanierungsdesign!$E$10/1000000","v":26956.799999999999},4147200,48,{"$f":"$D$5+((-Sanierungsdesign!$E$12)/4*PI()*$D$3)*(-LN((4*$D$4*AH582)/(Sanierungsdesign!$E$13^2))-$D$19)","v":3155.3740030770632},2882.2240030770631,5741.116558344318,{"$f":"$D$3*$T$7*$AH$7*(AK582-$D$5)*(1/Sanierungsdesign!$E$15)/1000000","v":362.9674159013523},{"$f":"$D$5+(-Sanierungsdesign!$E$12/(4*PI()*$D$3))*(-LN((4*$D$4*AH582)/(Sanierungsdesign!$E$13+Sanierungsdesign!$E$15)^2)-$D$19)","v":394.36704365519705},121.21704365519707,{"$f":"(2*PI()*Sanierungsdesign!$E$10*$D$3)*(LN((Sanierungsdesign!$E$13+Sanierungsdesign!$E$15)/Sanierungsdesign!$E$13)*(AJ582-AN582))*$AH$7/1000000","v":246.49991878822229},7145.7921877760018,16128.052967810436,{"$f":"AU582/Sanierungsdesign!$E$11","v":2.0768940886265628},3317760,16.615152709012502,{"$error":"#DIV/0!"},{"$error":"#DIV/0!"},{"$error":"#DIV/0!"},{"$error":"#DIV/0!"},{"$f":"(AY582/(AH582*Sanierungsdesign!$E$10))*1000000","v":{"$error":"#DIV/0!"}},{"$f":"AZ582/Sanierungsdesign!$E$12","v":{"$error":"#DIV/0!"}},{"$f":"$D$5+((-(Sanierungsdesign!$E$12)*MIN($BA$7:$BA$932))/(4*PI()*$D$3))*(-LN((4*$D$4*AH582)/(Sanierungsdesign!$E$13)^2)-$D$19)","v":{"$error":"#DIV/0!"}},{"$f":"(BB582-273.15)/Heterogenität!$D$4","v":{"$error":"#DIV/0!"}},{"$f":"IF(AI582<Berechnung!$D$7,AI582,#N/A)","v":{"$error":"#N/A"}}]
[null,null,null,null,null,null,null,null,null,null,null,null,null,null,null,null,null,null,null,null,null,null,null,null,null,null,null,null,null,null,null,null,{"$f":"Sanierungsdesign!$E$12*AH583*Sanierungsdesign!$E$10/1000000","v":27003.599999999999},4154400,{"$f":"AH583/86400","v":48.083333333333336},{"$f":"$D$5+((-Sanierungsdesign!$E$12)/4*PI()*$D$3)*(-LN((4*$D$4*AH583)/(Sanierungsdesign!$E$13^2))-$D$19)","v":3157.8039016294983},{"$f":"AJ583-273.15","v":2884.6539016294983},5745.9769214377657,{"$f":"$D$3*$T$7*$AH$7*(AK583-$D$5)*(1/Sanierungsdesign!$E$15)/1000000","v":363.30675752742206},{"$f":"$D$5+(-Sanierungsdesign!$E$12/(4*PI()*$D$3))*(-LN((4*$D$4*AH583)/(Sanierungsdesign!$E$13+Sanierungsdesign!$E$15)^2)-$D$19)","v":394.49783535203653},{"$f":"AN583-273.15","v":121.34783535203655},{"$f":"(2*PI()*Sanierungsdesign!$E$10*$D$3)*(LN((Sanierungsdesign!$E$13+Sanierungsdesign!$E$15)/Sanierungsdesign!$E$13)*(AJ583-AN583))*$AH$7/1000000","v":246.70518073124481},7158.1980769908905,16156.053059768441,{"$f":"AU583/Sanierungsdesign!$E$11","v":2.0786523632191045},3323520,16.629218905752836,{"$error":"#DIV/0!"},{"$error":"#DIV/0!"},{"$error":"#DIV/0!"},{"$f":"AG583-AX583","v":{"$error":"#DIV/0!"}},{"$f":"(AY583/(AH583*Sanierungsdesign!$E$10))*1000000","v":{"$error":"#DIV/0!"}},{"$f":"AZ583/Sanierungsdesign!$E$12","v":{"$error":"#DIV/0!"}},{"$f":"$D$5+((-(Sanierungsdesign!$E$12)*MIN($BA$7:$BA$932))/(4*PI()*$D$3))*(-LN((4*$D$4*AH583)/(Sanierungsdesign!$E$13)^2)-$D$19)","v":{"$error":"#DIV/0!"}},{"$f":"(BB583-273.15)/Heterogenität!$D$4","v":{"$error":"#DIV/0!"}},{"$f":"IF(AI583<Berechnung!$D$7,AI583,#N/A)","v":{"$error":"#N/A"}}]
[null,null,null,null,null,null,null,null,null,null,null,null,null,null,null,null,null,null,null,null,null,null,null,null,null,null,null,null,null,null,null,null,{"$f":"Sanierungsdesign!$E$12*AH584*Sanierungsdesign!$E$10/1000000","v":27050.400000000001},4161600,48.166666666666664,{"$f":"$D$5+((-Sanierungsdesign!$E$12)/4*PI()*$D$3)*(-LN((4*$D$4*AH584)/(Sanierungsdesign!$E$13^2))-$D$19)","v":3160.2295925632875},2887.0795925632874,{"$f":"$T$4*$T$7*$AH$7*(AJ584-$D$2)/1000000","v":5750.8288683138544},{"$f":"$D$3*$T$7*$AH$7*(AK584-$D$5)*(1/Sanierungsdesign!$E$15)/1000000","v":363.64551154865057},{"$f":"$D$5+(-Sanierungsdesign!$E$12/(4*PI()*$D$3))*(-LN((4*$D$4*AH584)/(Sanierungsdesign!$E$13+Sanierungsdesign!$E$15)^2)-$D$19)","v":394.62840056963404},121.47840056963406,{"$f":"(2*PI()*Sanierungsdesign!$E$10*$D$3)*(LN((Sanierungsdesign!$E$13+Sanierungsdesign!$E$15)/Sanierungsdesign!$E$13)*(AJ584-AN584))*$AH$7/1000000","v":246.91008724215362},{"$f":"$T$20*AH584","v":7170.6039662057792},{"$f":"$D$12*AQ584/1000000","v":16184.053151726444},{"$f":"AU584/Sanierungsdesign!$E$11","v":2.0804075931787946},{"$f":"$T$18/$D$24*AH584","v":3329280},{"$f":"($D$10*$T$18)*(AJ584-$D$2)/1000000","v":16.643260745430357},{"$f":"($D$17*$L$10*$T$28+$L$2*$D$10*$T$28+$D$16*$L$4*$T$28+$D$18*$L$7*$T$28)*(AJ584-$D$5)/1000000","v":{"$error":"#DIV/0!"}},{"$f":"AV584*$D$28","v":{"$error":"#DIV/0!"}},{"$f":"AL584+AM584+AR584+(0.5*AP584)-(2*AW584)+AS584","v":{"$error":"#DIV/0!"}},{"$error":"#DIV/0!"},{"$f":"(AY584/(AH584*Sanierungsdesign!$E$10))*1000000","v":{"$error":"#DIV/0!"}},{"$f":"AZ584/Sanierungsdesign!$E$12","v":{"$error":"#DIV/0!"}},{"$f":"$D$5+((-(Sanierungsdesign!$E$12)*MIN($BA$7:$BA$932))/(4*PI()*$D$3))*(-LN((4*$D$4*AH584)/(Sanierungsdesign!$E$13)^2)-$D$19)","v":{"$error":"#DIV/0!"}},{"$f":"(BB584-273.15)/Heterogenität!$D$4","v":{"$error":"#DIV/0!"}},{"$f":"IF(AI584<Berechnung!$D$7,AI584,#N/A)","v":{"$error":"#N/A"}}]
[null,null,null,null,null,null,null,null,null,null,null,null,null,null,null,null,null,null,null,null,null,null,null,null,null,null,null,null,null,null,null,null,{"$f":"Sanierungsdesign!$E$12*AH585*Sanierungsdesign!$E$10/1000000","v":27097.200000000001},{"$f":"AH584+$D$24","v":4168800},48.25,{"$f":"$D$5+((-Sanierungsdesign!$E$12)/4*PI()*$D$3)*(-LN((4*$D$4*AH585)/(Sanierungsdesign!$E$13^2))-$D$19)","v":3162.6510904250927},2889.5010904250926,5755.6724280692952,{"$f":"$D$3*$T$7*$AH$7*(AK585-$D$5)*(1/Sanierungsdesign!$E$15)/1000000","v":363.98367999651674},{"$f":"$D$5+(-Sanierungsdesign!$E$12/(4*PI()*$D$3))*(-LN((4*$D$4*AH585)/(Sanierungsdesign!$E$13+Sanierungsdesign!$E$15)^2)-$D$19)","v":394.75874009097794},121.60874009097796,{"$f":"(2*PI()*Sanierungsdesign!$E$10*$D$3)*(LN((Sanierungsdesign!$E$13+Sanierungsdesign!$E$15)/Sanierungsdesign!$E$13)*(AJ585-AN585))*$AH$7/1000000","v":247.11463954975548},7183.0098554206688,16212.05324368445,{"$f":"AU585/Sanierungsdesign!$E$11","v":2.0821597890315968},3335040,16.657278312252775,{"$error":"#DIV/0!"},{"$error":"#DIV/0!"},{"$error":"#DIV/0!"},{"$error":"#DIV/0!"},{"$f":"(AY585/(AH585*Sanierungsdesign!$E$10))*1000000","v":{"$error":"#DIV/0!"}},{"$f":"AZ585/Sanierungsdesign!$E$12","v":{"$error":"#DIV/0!"}},{"$f":"$D$5+((-(Sanierungsdesign!$E$12)*MIN($BA$7:$BA$932))/(4*PI()*$D$3))*(-LN((4*$D$4*AH585)/(Sanierungsdesign!$E$13)^2)-$D$19)","v":{"$error":"#DIV/0!"}},{"$f":"(BB585-273.15)/Heterogenität!$D$4","v":{"$error":"#DIV/0!"}},{"$f":"IF(AI585<Berechnung!$D$7,AI585,#N/A)","v":{"$error":"#N/A"}}]
[null,null,null,null,null,null,null,null,null,null,null,null,null,null,null,null,null,null,null,null,null,null,null,null,null,null,null,null,null,null,null,null,{"$f":"Sanierungsdesign!$E$12*AH586*Sanierungsdesign!$E$10/1000000","v":27144},4176000,48.333333333333336,{"$f":"$D$5+((-Sanierungsdesign!$E$12)/4*PI()*$D$3)*(-LN((4*$D$4*AH586)/(Sanierungsdesign!$E$13^2))-$D$19)","v":3165.0684096862688},2891.9184096862687,5760.5076296501693,{"$f":"$D$3*$T$7*$AH$7*(AK586-$D$5)*(1/Sanierungsdesign!$E$15)/1000000","v":364.32126489198299},{"$f":"$D$5+(-Sanierungsdesign!$E$12/(4*PI()*$D$3))*(-LN((4*$D$4*AH586)/(Sanierungsdesign!$E$13+Sanierungsdesign!$E$15)^2)-$D$19)","v":394.88885469500337},121.7388546950034,{"$f":"(2*PI()*Sanierungsdesign!$E$10*$D$3)*(LN((Sanierungsdesign!$E$13+Sanierungsdesign!$E$15)/Sanierungsdesign!$E$13)*(AJ586-AN586))*$AH$7/1000000","v":247.31883887649599},7195.4157446355575,16240.053335642455,{"$f":"AU586/Sanierungsdesign!$E$11","v":2.0839089612489836},3340800,16.671271689991869,{"$error":"#DIV/0!"},{"$error":"#DIV/0!"},{"$error":"#DIV/0!"},{"$error":"#DIV/0!"},{"$f":"(AY586/(AH586*Sanierungsdesign!$E$10))*1000000","v":{"$error":"#DIV/0!"}},{"$f":"AZ586/Sanierungsdesign!$E$12","v":{"$error":"#DIV/0!"}},{"$f":"$D$5+((-(Sanierungsdesign!$E$12)*MIN($BA$7:$BA$932))/(4*PI()*$D$3))*(-LN((4*$D$4*AH586)/(Sanierungsdesign!$E$13)^2)-$D$19)","v":{"$error":"#DIV/0!"}},{"$f":"(BB586-273.15)/Heterogenität!$D$4","v":{"$error":"#DIV/0!"}},{"$f":"IF(AI586<Berechnung!$D$7,AI586,#N/A)","v":{"$error":"#N/A"}}]
[null,null,null,null,null,null,null,null,null,null,null,null,null,null,null,null,null,null,null,null,null,null,null,null,null,null,null,null,null,null,null,null,{"$f":"Sanierungsdesign!$E$12*AH587*Sanierungsdesign!$E$10/1000000","v":27190.799999999999},4183200,48.416666666666664,{"$f":"$D$5+((-Sanierungsdesign!$E$12)/4*PI()*$D$3)*(-LN((4*$D$4*AH587)/(Sanierungsdesign!$E$13^2))-$D$19)","v":3167.4815647433825},2894.3315647433824,5765.3345018529644,{"$f":"$D$3*$T$7*$AH$7*(AK587-$D$5)*(1/Sanierungsdesign!$E$15)/1000000","v":364.65826824556689},{"$f":"$D$5+(-Sanierungsdesign!$E$12/(4*PI()*$D$3))*(-LN((4*$D$4*AH587)/(Sanierungsdesign!$E$13+Sanierungsdesign!$E$15)^2)-$D$19)","v":395.01874515661973},121.86874515661975,{"$f":"(2*PI()*Sanierungsdesign!$E$10*$D$3)*(LN((Sanierungsdesign!$E$13+Sanierungsdesign!$E$15)/Sanierungsdesign!$E$13)*(AJ587-AN587))*$AH$7/1000000","v":247.52268643850283},7207.8216338504462,16268.053427600456,{"$f":"AU587/Sanierungsdesign!$E$11","v":2.0856551202483113},3346560,16.685240961986491,{"$error":"#DIV/0!"},{"$error":"#DIV/0!"},{"$error":"#DIV/0!"},{"$error":"#DIV/0!"},{"$f":"(AY587/(AH587*Sanierungsdesign!$E$10))*1000000","v":{"$error":"#DIV/0!"}},{"$f":"AZ587/Sanierungsdesign!$E$12","v":{"$error":"#DIV/0!"}},{"$f":"$D$5+((-(Sanierungsdesign!$E$12)*MIN($BA$7:$BA$932))/(4*PI()*$D$3))*(-LN((4*$D$4*AH587)/(Sanierungsdesign!$E$13)^2)-$D$19)","v":{"$error":"#DIV/0!"}},{"$f":"(BB587-273.15)/Heterogenität!$D$4","v":{"$error":"#DIV/0!"}},{"$f":"IF(AI587<Berechnung!$D$7,AI587,#N/A)","v":{"$error":"#N/A"}}]
[null,null,null,null,null,null,null,null,null,null,null,null,null,null,null,null,null,null,null,null,null,null,null,null,null,null,null,null,null,null,null,null,{"$f":"Sanierungsdesign!$E$12*AH588*Sanierungsdesign!$E$10/1000000","v":27237.599999999999},4190400,48.5,{"$f":"$D$5+((-Sanierungsdesign!$E$12)/4*PI()*$D$3)*(-LN((4*$D$4*AH588)/(Sanierungsdesign!$E$13^2))-$D$19)","v":3169.8905699187299},2896.7405699187298,5770.1530733256086,{"$f":"$D$3*$T$7*$AH$7*(AK588-$D$5)*(1/Sanierungsdesign!$E$15)/1000000","v":364.9946920574144},{"$f":"$D$5+(-Sanierungsdesign!$E$12/(4*PI()*$D$3))*(-LN((4*$D$4*AH588)/(Sanierungsdesign!$E$13+Sanierungsdesign!$E$15)^2)-$D$19)","v":395.14841224673881},121.99841224673884,{"$f":"(2*PI()*Sanierungsdesign!$E$10*$D$3)*(LN((Sanierungsdesign!$E$13+Sanierungsdesign!$E$15)/Sanierungsdesign!$E$13)*(AJ588-AN588))*$AH$7/1000000","v":247.72618344563003},7220.2275230653349,16296.05351955846,{"$f":"AU588/Sanierungsdesign!$E$11","v":2.0873982763931926},3352320,16.699186211145541,{"$error":"#DIV/0!"},{"$error":"#DIV/0!"},{"$error":"#DIV/0!"},{"$error":"#DIV/0!"},{"$f":"(AY588/(AH588*Sanierungsdesign!$E$10))*1000000","v":{"$error":"#DIV/0!"}},{"$f":"AZ588/Sanierungsdesign!$E$12","v":{"$error":"#DIV/0!"}},{"$f":"$D$5+((-(Sanierungsdesign!$E$12)*MIN($BA$7:$BA$932))/(4*PI()*$D$3))*(-LN((4*$D$4*AH588)/(Sanierungsdesign!$E$13)^2)-$D$19)","v":{"$error":"#DIV/0!"}},{"$f":"(BB588-273.15)/Heterogenität!$D$4","v":{"$error":"#DIV/0!"}},{"$f":"IF(AI588<Berechnung!$D$7,AI588,#N/A)","v":{"$error":"#N/A"}}]
[null,null,null,null,null,null,null,null,null,null,null,null,null,null,null,null,null,null,null,null,null,null,null,null,null,null,null,null,null,null,null,null,{"$f":"Sanierungsdesign!$E$12*AH589*Sanierungsdesign!$E$10/1000000","v":27284.400000000001},4197600,48.583333333333336,{"$f":"$D$5+((-Sanierungsdesign!$E$12)/4*PI()*$D$3)*(-LN((4*$D$4*AH589)/(Sanierungsdesign!$E$13^2))-$D$19)","v":3172.2954394608414},2899.1454394608413,5774.9633725684807,{"$f":"$D$3*$T$7*$AH$7*(AK589-$D$5)*(1/Sanierungsdesign!$E$15)/1000000","v":365.33053831736953},{"$f":"$D$5+(-Sanierungsdesign!$E$12/(4*PI()*$D$3))*(-LN((4*$D$4*AH589)/(Sanierungsdesign!$E$13+Sanierungsdesign!$E$15)^2)-$D$19)","v":395.27785673230187},122.12785673230189,{"$f":"(2*PI()*Sanierungsdesign!$E$10*$D$3)*(LN((Sanierungsdesign!$E$13+Sanierungsdesign!$E$15)/Sanierungsdesign!$E$13)*(AJ589-AN589))*$AH$7/1000000","v":247.92933110150022},7232.6334122802236,16324.053611516465,{"$f":"AU589/Sanierungsdesign!$E$11","v":2.0891384399938646},3358080,16.713107519950917,{"$error":"#DIV/0!"},{"$error":"#DIV/0!"},{"$error":"#DIV/0!"},{"$error":"#DIV/0!"},{"$f":"(AY589/(AH589*Sanierungsdesign!$E$10))*1000000","v":{"$error":"#DIV/0!"}},{"$f":"AZ589/Sanierungsdesign!$E$12","v":{"$error":"#DIV/0!"}},{"$f":"$D$5+((-(Sanierungsdesign!$E$12)*MIN($BA$7:$BA$932))/(4*PI()*$D$3))*(-LN((4*$D$4*AH589)/(Sanierungsdesign!$E$13)^2)-$D$19)","v":{"$error":"#DIV/0!"}},{"$f":"(BB589-273.15)/Heterogenität!$D$4","v":{"$error":"#DIV/0!"}},{"$f":"IF(AI589<Berechnung!$D$7,AI589,#N/A)","v":{"$error":"#N/A"}}]
[null,null,null,null,null,null,null,null,null,null,null,null,null,null,null,null,null,null,null,null,null,null,null,null,null,null,null,null,null,null,null,null,{"$f":"Sanierungsdesign!$E$12*AH590*Sanierungsdesign!$E$10/1000000","v":27331.200000000001},4204800,48.666666666666664,{"$f":"$D$5+((-Sanierungsdesign!$E$12)/4*PI()*$D$3)*(-LN((4*$D$4*AH590)/(Sanierungsdesign!$E$13^2))-$D$19)","v":3174.6961875449915},2901.5461875449914,5779.765427935431,{"$f":"$D$3*$T$7*$AH$7*(AK590-$D$5)*(1/Sanierungsdesign!$E$15)/1000000","v":365.66580900504619},{"$f":"$D$5+(-Sanierungsdesign!$E$12/(4*PI()*$D$3))*(-LN((4*$D$4*AH590)/(Sanierungsdesign!$E$13+Sanierungsdesign!$E$15)^2)-$D$19)","v":395.40707937630714},122.25707937630716,{"$f":"(2*PI()*Sanierungsdesign!$E$10*$D$3)*(LN((Sanierungsdesign!$E$13+Sanierungsdesign!$E$15)/Sanierungsdesign!$E$13)*(AJ590-AN590))*$AH$7/1000000","v":248.13213060354792},7245.0393014951132,16352.05370347447,{"$f":"AU590/Sanierungsdesign!$E$11","v":2.0908756213075557},3363840,16.727004970460445,{"$error":"#DIV/0!"},{"$error":"#DIV/0!"},{"$error":"#DIV/0!"},{"$error":"#DIV/0!"},{"$f":"(AY590/(AH590*Sanierungsdesign!$E$10))*1000000","v":{"$error":"#DIV/0!"}},{"$f":"AZ590/Sanierungsdesign!$E$12","v":{"$error":"#DIV/0!"}},{"$f":"$D$5+((-(Sanierungsdesign!$E$12)*MIN($BA$7:$BA$932))/(4*PI()*$D$3))*(-LN((4*$D$4*AH590)/(Sanierungsdesign!$E$13)^2)-$D$19)","v":{"$error":"#DIV/0!"}},{"$f":"(BB590-273.15)/Heterogenität!$D$4","v":{"$error":"#DIV/0!"}},{"$f":"IF(AI590<Berechnung!$D$7,AI590,#N/A)","v":{"$error":"#N/A"}}]
[null,null,null,null,null,null,null,null,null,null,null,null,null,null,null,null,null,null,null,null,null,null,null,null,null,null,null,null,null,null,null,null,{"$f":"Sanierungsdesign!$E$12*AH591*Sanierungsdesign!$E$10/1000000","v":27378},4212000,48.75,{"$f":"$D$5+((-Sanierungsdesign!$E$12)/4*PI()*$D$3)*(-LN((4*$D$4*AH591)/(Sanierungsdesign!$E$13^2))-$D$19)","v":3177.0928282736995},2903.9428282736994,5784.5592676347851,{"$f":"$D$3*$T$7*$AH$7*(AK591-$D$5)*(1/Sanierungsdesign!$E$15)/1000000","v":366.00050608989761},{"$f":"$D$5+(-Sanierungsdesign!$E$12/(4*PI()*$D$3))*(-LN((4*$D$4*AH591)/(Sanierungsdesign!$E$13+Sanierungsdesign!$E$15)^2)-$D$19)","v":395.53608093783657},122.3860809378366,{"$f":"(2*PI()*Sanierungsdesign!$E$10*$D$3)*(LN((Sanierungsdesign!$E$13+Sanierungsdesign!$E$15)/Sanierungsdesign!$E$13)*(AJ591-AN591))*$AH$7/1000000","v":248.33458314306185},7257.445190710002,16380.053795432474,{"$f":"AU591/Sanierungsdesign!$E$11","v":2.0926098305388487},3369600,16.74087864431079,{"$error":"#DIV/0!"},{"$error":"#DIV/0!"},{"$error":"#DIV/0!"},{"$error":"#DIV/0!"},{"$f":"(AY591/(AH591*Sanierungsdesign!$E$10))*1000000","v":{"$error":"#DIV/0!"}},{"$f":"AZ591/Sanierungsdesign!$E$12","v":{"$error":"#DIV/0!"}},{"$f":"$D$5+((-(Sanierungsdesign!$E$12)*MIN($BA$7:$BA$932))/(4*PI()*$D$3))*(-LN((4*$D$4*AH591)/(Sanierungsdesign!$E$13)^2)-$D$19)","v":{"$error":"#DIV/0!"}},{"$f":"(BB591-273.15)/Heterogenität!$D$4","v":{"$error":"#DIV/0!"}},{"$f":"IF(AI591<Berechnung!$D$7,AI591,#N/A)","v":{"$error":"#N/A"}}]
[null,null,null,null,null,null,null,null,null,null,null,null,null,null,null,null,null,null,null,null,null,null,null,null,null,null,null,null,null,null,null,null,{"$f":"Sanierungsdesign!$E$12*AH592*Sanierungsdesign!$E$10/1000000","v":27424.799999999999},4219200,48.833333333333336,{"$f":"$D$5+((-Sanierungsdesign!$E$12)/4*PI()*$D$3)*(-LN((4*$D$4*AH592)/(Sanierungsdesign!$E$13^2))-$D$19)","v":3179.4853756772236},2906.3353756772235,5789.3449197303244,{"$f":"$D$3*$T$7*$AH$7*(AK592-$D$5)*(1/Sanierungsdesign!$E$15)/1000000","v":366.33463153128577},{"$f":"$D$5+(-Sanierungsdesign!$E$12/(4*PI()*$D$3))*(-LN((4*$D$4*AH592)/(Sanierungsdesign!$E$13+Sanierungsdesign!$E$15)^2)-$D$19)","v":395.66486217208291},122.51486217208293,{"$f":"(2*PI()*Sanierungsdesign!$E$10*$D$3)*(LN((Sanierungsdesign!$E$13+Sanierungsdesign!$E$15)/Sanierungsdesign!$E$13)*(AJ592-AN592))*$AH$7/1000000","v":248.53668990522641},7269.8510799248907,16408.053887390477,{"$f":"AU592/Sanierungsdesign!$E$11","v":2.0943410778400384},3375360,16.754728622720307,{"$error":"#DIV/0!"},{"$error":"#DIV/0!"},{"$error":"#DIV/0!"},{"$error":"#DIV/0!"},{"$f":"(AY592/(AH592*Sanierungsdesign!$E$10))*1000000","v":{"$error":"#DIV/0!"}},{"$f":"AZ592/Sanierungsdesign!$E$12","v":{"$error":"#DIV/0!"}},{"$f":"$D$5+((-(Sanierungsdesign!$E$12)*MIN($BA$7:$BA$932))/(4*PI()*$D$3))*(-LN((4*$D$4*AH592)/(Sanierungsdesign!$E$13)^2)-$D$19)","v":{"$error":"#DIV/0!"}},{"$f":"(BB592-273.15)/Heterogenität!$D$4","v":{"$error":"#DIV/0!"}},{"$f":"IF(AI592<Berechnung!$D$7,AI592,#N/A)","v":{"$error":"#N/A"}}]
[null,null,null,null,null,null,null,null,null,null,null,null,null,null,null,null,null,null,null,null,null,null,null,null,null,null,null,null,null,null,null,null,{"$f":"Sanierungsdesign!$E$12*AH593*Sanierungsdesign!$E$10/1000000","v":27471.599999999999},4226400,48.916666666666664,{"$f":"$D$5+((-Sanierungsdesign!$E$12)/4*PI()*$D$3)*(-LN((4*$D$4*AH593)/(Sanierungsdesign!$E$13^2))-$D$19)","v":3181.8738437140578},2908.7238437140577,5794.1224121422911,{"$f":"$D$3*$T$7*$AH$7*(AK593-$D$5)*(1/Sanierungsdesign!$E$15)/1000000","v":366.66818727855053},{"$f":"$D$5+(-Sanierungsdesign!$E$12/(4*PI()*$D$3))*(-LN((4*$D$4*AH593)/(Sanierungsdesign!$E$13+Sanierungsdesign!$E$15)^2)-$D$19)","v":395.79342383037579},122.64342383037581,{"$f":"(2*PI()*Sanierungsdesign!$E$10*$D$3)*(LN((Sanierungsdesign!$E$13+Sanierungsdesign!$E$15)/Sanierungsdesign!$E$13)*(AJ593-AN593))*$AH$7/1000000","v":248.73845206916386},7282.2569691397794,16436.053979348482,{"$f":"AU593/Sanierungsdesign!$E$11","v":2.0960693733114919},3381120,16.768554986491935,{"$error":"#DIV/0!"},{"$error":"#DIV/0!"},{"$error":"#DIV/0!"},{"$error":"#DIV/0!"},{"$f":"(AY593/(AH593*Sanierungsdesign!$E$10))*1000000","v":{"$error":"#DIV/0!"}},{"$f":"AZ593/Sanierungsdesign!$E$12","v":{"$error":"#DIV/0!"}},{"$f":"$D$5+((-(Sanierungsdesign!$E$12)*MIN($BA$7:$BA$932))/(4*PI()*$D$3))*(-LN((4*$D$4*AH593)/(Sanierungsdesign!$E$13)^2)-$D$19)","v":{"$error":"#DIV/0!"}},{"$f":"(BB593-273.15)/Heterogenität!$D$4","v":{"$error":"#DIV/0!"}},{"$f":"IF(AI593<Berechnung!$D$7,AI593,#N/A)","v":{"$error":"#N/A"}}]
[null,null,null,null,null,null,null,null,null,null,null,null,null,null,null,null,null,null,null,null,null,null,null,null,null,null,null,null,null,null,null,null,{"$f":"Sanierungsdesign!$E$12*AH594*Sanierungsdesign!$E$10/1000000","v":27518.400000000001},4233600,49,{"$f":"$D$5+((-Sanierungsdesign!$E$12)/4*PI()*$D$3)*(-LN((4*$D$4*AH594)/(Sanierungsdesign!$E$13^2))-$D$19)","v":3184.2582462714176},2911.1082462714176,5798.8917726483496,{"$f":"$D$3*$T$7*$AH$7*(AK594-$D$5)*(1/Sanierungsdesign!$E$15)/1000000","v":367.00117527107739},{"$f":"$D$5+(-Sanierungsdesign!$E$12/(4*PI()*$D$3))*(-LN((4*$D$4*AH594)/(Sanierungsdesign!$E$13+Sanierungsdesign!$E$15)^2)-$D$19)","v":395.92176666020828},122.7717666602083,{"$f":"(2*PI()*Sanierungsdesign!$E$10*$D$3)*(LN((Sanierungsdesign!$E$13+Sanierungsdesign!$E$15)/Sanierungsdesign!$E$13)*(AJ594-AN594))*$AH$7/1000000","v":248.9398708079755},7294.6628583546681,16464.054071306487,{"$f":"AU594/Sanierungsdesign!$E$11","v":2.0977947270019977},3386880,16.782357816015981,{"$error":"#DIV/0!"},{"$error":"#DIV/0!"},{"$error":"#DIV/0!"},{"$error":"#DIV/0!"},{"$f":"(AY594/(AH594*Sanierungsdesign!$E$10))*1000000","v":{"$error":"#DIV/0!"}},{"$f":"AZ594/Sanierungsdesign!$E$12","v":{"$error":"#DIV/0!"}},{"$f":"$D$5+((-(Sanierungsdesign!$E$12)*MIN($BA$7:$BA$932))/(4*PI()*$D$3))*(-LN((4*$D$4*AH594)/(Sanierungsdesign!$E$13)^2)-$D$19)","v":{"$error":"#DIV/0!"}},{"$f":"(BB594-273.15)/Heterogenität!$D$4","v":{"$error":"#DIV/0!"}},{"$f":"IF(AI594<Berechnung!$D$7,AI594,#N/A)","v":{"$error":"#N/A"}}]
[null,null,null,null,null,null,null,null,null,null,null,null,null,null,null,null,null,null,null,null,null,null,null,null,null,null,null,null,null,null,null,null,{"$f":"Sanierungsdesign!$E$12*AH595*Sanierungsdesign!$E$10/1000000","v":27565.200000000001},4240800,49.083333333333336,{"$f":"$D$5+((-Sanierungsdesign!$E$12)/4*PI()*$D$3)*(-LN((4*$D$4*AH595)/(Sanierungsdesign!$E$13^2))-$D$19)","v":3186.638597165726},2913.4885971657259,5803.6530288845643,{"$f":"$D$3*$T$7*$AH$7*(AK595-$D$5)*(1/Sanierungsdesign!$E$15)/1000000","v":367.3335974383657},{"$f":"$D$5+(-Sanierungsdesign!$E$12/(4*PI()*$D$3))*(-LN((4*$D$4*AH595)/(Sanierungsdesign!$E$13+Sanierungsdesign!$E$15)^2)-$D$19)","v":396.04989140526322},122.89989140526325,{"$f":"(2*PI()*Sanierungsdesign!$E$10*$D$3)*(LN((Sanierungsdesign!$E$13+Sanierungsdesign!$E$15)/Sanierungsdesign!$E$13)*(AJ595-AN595))*$AH$7/1000000","v":249.14094728878229},7307.0687475695577,16492.054163264493,{"$f":"AU595/Sanierungsdesign!$E$11","v":2.0995171489091189},3392640,16.796137191272951,{"$error":"#DIV/0!"},{"$error":"#DIV/0!"},{"$error":"#DIV/0!"},{"$error":"#DIV/0!"},{"$f":"(AY595/(AH595*Sanierungsdesign!$E$10))*1000000","v":{"$error":"#DIV/0!"}},{"$f":"AZ595/Sanierungsdesign!$E$12","v":{"$error":"#DIV/0!"}},{"$f":"$D$5+((-(Sanierungsdesign!$E$12)*MIN($BA$7:$BA$932))/(4*PI()*$D$3))*(-LN((4*$D$4*AH595)/(Sanierungsdesign!$E$13)^2)-$D$19)","v":{"$error":"#DIV/0!"}},{"$f":"(BB595-273.15)/Heterogenität!$D$4","v":{"$error":"#DIV/0!"}},{"$f":"IF(AI595<Berechnung!$D$7,AI595,#N/A)","v":{"$error":"#N/A"}}]
[null,null,null,null,null,null,null,null,null,null,null,null,null,null,null,null,null,null,null,null,null,null,null,null,null,null,null,null,null,null,null,null,{"$f":"Sanierungsdesign!$E$12*AH596*Sanierungsdesign!$E$10/1000000","v":27612},4248000,49.166666666666664,{"$f":"$D$5+((-Sanierungsdesign!$E$12)/4*PI()*$D$3)*(-LN((4*$D$4*AH596)/(Sanierungsdesign!$E$13^2))-$D$19)","v":3189.0149101430925},2915.8649101430924,5808.4062083463568,{"$f":"$D$3*$T$7*$AH$7*(AK596-$D$5)*(1/Sanierungsdesign!$E$15)/1000000","v":367.66545570009521},{"$f":"$D$5+(-Sanierungsdesign!$E$12/(4*PI()*$D$3))*(-LN((4*$D$4*AH596)/(Sanierungsdesign!$E$13+Sanierungsdesign!$E$15)^2)-$D$19)","v":396.17779880543844},123.02779880543847,{"$f":"(2*PI()*Sanierungsdesign!$E$10*$D$3)*(LN((Sanierungsdesign!$E$13+Sanierungsdesign!$E$15)/Sanierungsdesign!$E$13)*(AJ596-AN596))*$AH$7/1000000","v":249.34168267276581},7319.4746367844464,16520.054255222494,{"$f":"AU596/Sanierungsdesign!$E$11","v":2.1012366489795413},3398400,16.809893191836331,{"$error":"#DIV/0!"},{"$error":"#DIV/0!"},{"$error":"#DIV/0!"},{"$error":"#DIV/0!"},{"$f":"(AY596/(AH596*Sanierungsdesign!$E$10))*1000000","v":{"$error":"#DIV/0!"}},{"$f":"AZ596/Sanierungsdesign!$E$12","v":{"$error":"#DIV/0!"}},{"$f":"$D$5+((-(Sanierungsdesign!$E$12)*MIN($BA$7:$BA$932))/(4*PI()*$D$3))*(-LN((4*$D$4*AH596)/(Sanierungsdesign!$E$13)^2)-$D$19)","v":{"$error":"#DIV/0!"}},{"$f":"(BB596-273.15)/Heterogenität!$D$4","v":{"$error":"#DIV/0!"}},{"$f":"IF(AI596<Berechnung!$D$7,AI596,#N/A)","v":{"$error":"#N/A"}}]
[null,null,null,null,null,null,null,null,null,null,null,null,null,null,null,null,null,null,null,null,null,null,null,null,null,null,null,null,null,null,null,null,{"$f":"Sanierungsdesign!$E$12*AH597*Sanierungsdesign!$E$10/1000000","v":27658.799999999999},4255200,49.25,{"$f":"$D$5+((-Sanierungsdesign!$E$12)/4*PI()*$D$3)*(-LN((4*$D$4*AH597)/(Sanierungsdesign!$E$13^2))-$D$19)","v":3191.3871988797928},2918.2371988797927,5813.1513383894617,{"$f":"$D$3*$T$7*$AH$7*(AK597-$D$5)*(1/Sanierungsdesign!$E$15)/1000000","v":367.9967519661933},{"$f":"$D$5+(-Sanierungsdesign!$E$12/(4*PI()*$D$3))*(-LN((4*$D$4*AH597)/(Sanierungsdesign!$E$13+Sanierungsdesign!$E$15)^2)-$D$19)","v":396.30548959687303},123.15548959687305,{"$f":"(2*PI()*Sanierungsdesign!$E$10*$D$3)*(LN((Sanierungsdesign!$E$13+Sanierungsdesign!$E$15)/Sanierungsdesign!$E$13)*(AJ597-AN597))*$AH$7/1000000","v":249.54207811520828},7331.8805259993351,16548.054347180499,{"$f":"AU597/Sanierungsdesign!$E$11","v":2.1029532371094177},3404160,16.823625896875342,{"$error":"#DIV/0!"},{"$error":"#DIV/0!"},{"$error":"#DIV/0!"},{"$error":"#DIV/0!"},{"$f":"(AY597/(AH597*Sanierungsdesign!$E$10))*1000000","v":{"$error":"#DIV/0!"}},{"$f":"AZ597/Sanierungsdesign!$E$12","v":{"$error":"#DIV/0!"}},{"$f":"$D$5+((-(Sanierungsdesign!$E$12)*MIN($BA$7:$BA$932))/(4*PI()*$D$3))*(-LN((4*$D$4*AH597)/(Sanierungsdesign!$E$13)^2)-$D$19)","v":{"$error":"#DIV/0!"}},{"$f":"(BB597-273.15)/Heterogenität!$D$4","v":{"$error":"#DIV/0!"}},{"$f":"IF(AI597<Berechnung!$D$7,AI597,#N/A)","v":{"$error":"#N/A"}}]
[null,null,null,null,null,null,null,null,null,null,null,null,null,null,null,null,null,null,null,null,null,null,null,null,null,null,null,null,null,null,null,null,{"$f":"Sanierungsdesign!$E$12*AH598*Sanierungsdesign!$E$10/1000000","v":27705.599999999999},4262400,49.333333333333336,{"$f":"$D$5+((-Sanierungsdesign!$E$12)/4*PI()*$D$3)*(-LN((4*$D$4*AH598)/(Sanierungsdesign!$E$13^2))-$D$19)","v":3193.7554769827343},2920.6054769827342,5817.8884462308652,{"$f":"$D$3*$T$7*$AH$7*(AK598-$D$5)*(1/Sanierungsdesign!$E$15)/1000000","v":368.32748813689977},{"$f":"$D$5+(-Sanierungsdesign!$E$12/(4*PI()*$D$3))*(-LN((4*$D$4*AH598)/(Sanierungsdesign!$E$13+Sanierungsdesign!$E$15)^2)-$D$19)","v":396.43296451197233},123.28296451197235,{"$f":"(2*PI()*Sanierungsdesign!$E$10*$D$3)*(LN((Sanierungsdesign!$E$13+Sanierungsdesign!$E$15)/Sanierungsdesign!$E$13)*(AJ598-AN598))*$AH$7/1000000","v":249.74213476553243},7344.2864152142238,16576.054439138501,{"$f":"AU598/Sanierungsdesign!$E$11","v":2.1046669231447059},3409920,16.837335385157647,{"$error":"#DIV/0!"},{"$error":"#DIV/0!"},{"$error":"#DIV/0!"},{"$error":"#DIV/0!"},{"$f":"(AY598/(AH598*Sanierungsdesign!$E$10))*1000000","v":{"$error":"#DIV/0!"}},{"$f":"AZ598/Sanierungsdesign!$E$12","v":{"$error":"#DIV/0!"}},{"$f":"$D$5+((-(Sanierungsdesign!$E$12)*MIN($BA$7:$BA$932))/(4*PI()*$D$3))*(-LN((4*$D$4*AH598)/(Sanierungsdesign!$E$13)^2)-$D$19)","v":{"$error":"#DIV/0!"}},{"$f":"(BB598-273.15)/Heterogenität!$D$4","v":{"$error":"#DIV/0!"}},{"$f":"IF(AI598<Berechnung!$D$7,AI598,#N/A)","v":{"$error":"#N/A"}}]
[null,null,null,null,null,null,null,null,null,null,null,null,null,null,null,null,null,null,null,null,null,null,null,null,null,null,null,null,null,null,null,null,{"$f":"Sanierungsdesign!$E$12*AH599*Sanierungsdesign!$E$10/1000000","v":27752.400000000001},4269600,49.416666666666664,{"$f":"$D$5+((-Sanierungsdesign!$E$12)/4*PI()*$D$3)*(-LN((4*$D$4*AH599)/(Sanierungsdesign!$E$13^2))-$D$19)","v":3196.1197579899317},2922.9697579899316,5822.6175589497507,{"$f":"$D$3*$T$7*$AH$7*(AK599-$D$5)*(1/Sanierungsdesign!$E$15)/1000000","v":368.65766610283345},{"$f":"$D$5+(-Sanierungsdesign!$E$12/(4*PI()*$D$3))*(-LN((4*$D$4*AH599)/(Sanierungsdesign!$E$13+Sanierungsdesign!$E$15)^2)-$D$19)","v":396.56022427943333},123.41022427943335,{"$f":"(2*PI()*Sanierungsdesign!$E$10*$D$3)*(LN((Sanierungsdesign!$E$13+Sanierungsdesign!$E$15)/Sanierungsdesign!$E$13)*(AJ599-AN599))*$AH$7/1000000","v":249.94185376734112},7356.6923044291125,16604.054531096506,{"$f":"AU599/Sanierungsdesign!$E$11","v":2.1063777168815139},3415680,16.851021735052111,{"$error":"#DIV/0!"},{"$error":"#DIV/0!"},{"$error":"#DIV/0!"},{"$error":"#DIV/0!"},{"$f":"(AY599/(AH599*Sanierungsdesign!$E$10))*1000000","v":{"$error":"#DIV/0!"}},{"$f":"AZ599/Sanierungsdesign!$E$12","v":{"$error":"#DIV/0!"}},{"$f":"$D$5+((-(Sanierungsdesign!$E$12)*MIN($BA$7:$BA$932))/(4*PI()*$D$3))*(-LN((4*$D$4*AH599)/(Sanierungsdesign!$E$13)^2)-$D$19)","v":{"$error":"#DIV/0!"}},{"$f":"(BB599-273.15)/Heterogenität!$D$4","v":{"$error":"#DIV/0!"}},{"$f":"IF(AI599<Berechnung!$D$7,AI599,#N/A)","v":{"$error":"#N/A"}}]
[null,null,null,null,null,null,null,null,null,null,null,null,null,null,null,null,null,null,null,null,null,null,null,null,null,null,null,null,null,null,null,null,{"$f":"Sanierungsdesign!$E$12*AH600*Sanierungsdesign!$E$10/1000000","v":27799.200000000001},4276800,49.5,{"$f":"$D$5+((-Sanierungsdesign!$E$12)/4*PI()*$D$3)*(-LN((4*$D$4*AH600)/(Sanierungsdesign!$E$13^2))-$D$19)","v":3198.4800553709683},2925.3300553709682,5827.3387034884208,{"$f":"$D$3*$T$7*$AH$7*(AK600-$D$5)*(1/Sanierungsdesign!$E$15)/1000000","v":368.98728774505656},{"$f":"$D$5+(-Sanierungsdesign!$E$12/(4*PI()*$D$3))*(-LN((4*$D$4*AH600)/(Sanierungsdesign!$E$13+Sanierungsdesign!$E$15)^2)-$D$19)","v":396.68726962426979},123.53726962426981,{"$f":"(2*PI()*Sanierungsdesign!$E$10*$D$3)*(LN((Sanierungsdesign!$E$13+Sanierungsdesign!$E$15)/Sanierungsdesign!$E$13)*(AJ600-AN600))*$AH$7/1000000","v":250.14123625845667},7369.0981936440021,16632.054623054511,{"$f":"AU600/Sanierungsdesign!$E$11","v":2.1080856280664322},3421440,16.864685024531457,{"$error":"#DIV/0!"},{"$error":"#DIV/0!"},{"$error":"#DIV/0!"},{"$error":"#DIV/0!"},{"$f":"(AY600/(AH600*Sanierungsdesign!$E$10))*1000000","v":{"$error":"#DIV/0!"}},{"$f":"AZ600/Sanierungsdesign!$E$12","v":{"$error":"#DIV/0!"}},{"$f":"$D$5+((-(Sanierungsdesign!$E$12)*MIN($BA$7:$BA$932))/(4*PI()*$D$3))*(-LN((4*$D$4*AH600)/(Sanierungsdesign!$E$13)^2)-$D$19)","v":{"$error":"#DIV/0!"}},{"$f":"(BB600-273.15)/Heterogenität!$D$4","v":{"$error":"#DIV/0!"}},{"$f":"IF(AI600<Berechnung!$D$7,AI600,#N/A)","v":{"$error":"#N/A"}}]
[null,null,null,null,null,null,null,null,null,null,null,null,null,null,null,null,null,null,null,null,null,null,null,null,null,null,null,null,null,null,null,null,{"$f":"Sanierungsdesign!$E$12*AH601*Sanierungsdesign!$E$10/1000000","v":27846},4284000,49.583333333333336,{"$f":"$D$5+((-Sanierungsdesign!$E$12)/4*PI()*$D$3)*(-LN((4*$D$4*AH601)/(Sanierungsdesign!$E$13^2))-$D$19)","v":3200.8363825274541},2927.686382527454,5832.0519066532161,{"$f":"$D$3*$T$7*$AH$7*(AK601-$D$5)*(1/Sanierungsdesign!$E$15)/1000000","v":369.31635493513858},{"$f":"$D$5+(-Sanierungsdesign!$E$12/(4*PI()*$D$3))*(-LN((4*$D$4*AH601)/(Sanierungsdesign!$E$13+Sanierungsdesign!$E$15)^2)-$D$19)","v":396.81410126783652},123.66410126783654,{"$f":"(2*PI()*Sanierungsdesign!$E$10*$D$3)*(LN((Sanierungsdesign!$E$13+Sanierungsdesign!$E$15)/Sanierungsdesign!$E$13)*(AJ601-AN601))*$AH$7/1000000","v":250.34028337095955},7381.5040828588908,16660.054715012517,{"$f":"AU601/Sanierungsdesign!$E$11","v":2.1097906663968655},3427200,16.878325331174924,{"$error":"#DIV/0!"},{"$error":"#DIV/0!"},{"$error":"#DIV/0!"},{"$error":"#DIV/0!"},{"$f":"(AY601/(AH601*Sanierungsdesign!$E$10))*1000000","v":{"$error":"#DIV/0!"}},{"$f":"AZ601/Sanierungsdesign!$E$12","v":{"$error":"#DIV/0!"}},{"$f":"$D$5+((-(Sanierungsdesign!$E$12)*MIN($BA$7:$BA$932))/(4*PI()*$D$3))*(-LN((4*$D$4*AH601)/(Sanierungsdesign!$E$13)^2)-$D$19)","v":{"$error":"#DIV/0!"}},{"$f":"(BB601-273.15)/Heterogenität!$D$4","v":{"$error":"#DIV/0!"}},{"$f":"IF(AI601<Berechnung!$D$7,AI601,#N/A)","v":{"$error":"#N/A"}}]
[null,null,null,null,null,null,null,null,null,null,null,null,null,null,null,null,null,null,null,null,null,null,null,null,null,null,null,null,null,null,null,null,{"$f":"Sanierungsdesign!$E$12*AH602*Sanierungsdesign!$E$10/1000000","v":27892.799999999999},4291200,49.666666666666664,{"$f":"$D$5+((-Sanierungsdesign!$E$12)/4*PI()*$D$3)*(-LN((4*$D$4*AH602)/(Sanierungsdesign!$E$13^2))-$D$19)","v":3203.1887527934887},2930.0387527934886,5836.7571951154441,{"$f":"$D$3*$T$7*$AH$7*(AK602-$D$5)*(1/Sanierungsdesign!$E$15)/1000000","v":369.64486953522112},{"$f":"$D$5+(-Sanierungsdesign!$E$12/(4*PI()*$D$3))*(-LN((4*$D$4*AH602)/(Sanierungsdesign!$E$13+Sanierungsdesign!$E$15)^2)-$D$19)","v":396.94071992785462},123.79071992785464,{"$f":"(2*PI()*Sanierungsdesign!$E$10*$D$3)*(LN((Sanierungsdesign!$E$13+Sanierungsdesign!$E$15)/Sanierungsdesign!$E$13)*(AJ602-AN602))*$AH$7/1000000","v":250.53899623122729},7393.9099720737795,16688.054806970518,{"$f":"AU602/Sanierungsdesign!$E$11","v":2.1114928415213678},3432960,16.891942732170943,{"$error":"#DIV/0!"},{"$error":"#DIV/0!"},{"$error":"#DIV/0!"},{"$error":"#DIV/0!"},{"$f":"(AY602/(AH602*Sanierungsdesign!$E$10))*1000000","v":{"$error":"#DIV/0!"}},{"$f":"AZ602/Sanierungsdesign!$E$12","v":{"$error":"#DIV/0!"}},{"$f":"$D$5+((-(Sanierungsdesign!$E$12)*MIN($BA$7:$BA$932))/(4*PI()*$D$3))*(-LN((4*$D$4*AH602)/(Sanierungsdesign!$E$13)^2)-$D$19)","v":{"$error":"#DIV/0!"}},{"$f":"(BB602-273.15)/Heterogenität!$D$4","v":{"$error":"#DIV/0!"}},{"$f":"IF(AI602<Berechnung!$D$7,AI602,#N/A)","v":{"$error":"#N/A"}}]
[null,null,null,null,null,null,null,null,null,null,null,null,null,null,null,null,null,null,null,null,null,null,null,null,null,null,null,null,null,null,null,null,{"$f":"Sanierungsdesign!$E$12*AH603*Sanierungsdesign!$E$10/1000000","v":27939.599999999999},4298400,49.75,{"$f":"$D$5+((-Sanierungsdesign!$E$12)/4*PI()*$D$3)*(-LN((4*$D$4*AH603)/(Sanierungsdesign!$E$13^2))-$D$19)","v":3205.5371794361035},2932.3871794361035,5841.4545954122568,{"$f":"$D$3*$T$7*$AH$7*(AK603-$D$5)*(1/Sanierungsdesign!$E$15)/1000000","v":369.97283339807939},{"$f":"$D$5+(-Sanierungsdesign!$E$12/(4*PI()*$D$3))*(-LN((4*$D$4*AH603)/(Sanierungsdesign!$E$13+Sanierungsdesign!$E$15)^2)-$D$19)","v":397.06712631843538},123.91712631843541,{"$f":"(2*PI()*Sanierungsdesign!$E$10*$D$3)*(LN((Sanierungsdesign!$E$13+Sanierungsdesign!$E$15)/Sanierungsdesign!$E$13)*(AJ603-AN603))*$AH$7/1000000","v":250.7373759599719},7406.3158612886682,16716.054898928523,{"$f":"AU603/Sanierungsdesign!$E$11","v":2.1131921630399644},3438720,16.905537304319715,{"$error":"#DIV/0!"},{"$error":"#DIV/0!"},{"$error":"#DIV/0!"},{"$error":"#DIV/0!"},{"$f":"(AY603/(AH603*Sanierungsdesign!$E$10))*1000000","v":{"$error":"#DIV/0!"}},{"$f":"AZ603/Sanierungsdesign!$E$12","v":{"$error":"#DIV/0!"}},{"$f":"$D$5+((-(Sanierungsdesign!$E$12)*MIN($BA$7:$BA$932))/(4*PI()*$D$3))*(-LN((4*$D$4*AH603)/(Sanierungsdesign!$E$13)^2)-$D$19)","v":{"$error":"#DIV/0!"}},{"$f":"(BB603-273.15)/Heterogenität!$D$4","v":{"$error":"#DIV/0!"}},{"$f":"IF(AI603<Berechnung!$D$7,AI603,#N/A)","v":{"$error":"#N/A"}}]
[null,null,null,null,null,null,null,null,null,null,null,null,null,null,null,null,null,null,null,null,null,null,null,null,null,null,null,null,null,null,null,null,{"$f":"Sanierungsdesign!$E$12*AH604*Sanierungsdesign!$E$10/1000000","v":27986.400000000001},4305600,49.833333333333336,{"$f":"$D$5+((-Sanierungsdesign!$E$12)/4*PI()*$D$3)*(-LN((4*$D$4*AH604)/(Sanierungsdesign!$E$13^2))-$D$19)","v":3207.8816756557226},2934.7316756557225,5846.1441339475768,{"$f":"$D$3*$T$7*$AH$7*(AK604-$D$5)*(1/Sanierungsdesign!$E$15)/1000000","v":370.30024836718695},{"$f":"$D$5+(-Sanierungsdesign!$E$12/(4*PI()*$D$3))*(-LN((4*$D$4*AH604)/(Sanierungsdesign!$E$13+Sanierungsdesign!$E$15)^2)-$D$19)","v":397.19332115010462},124.04332115010465,{"$f":"(2*PI()*Sanierungsdesign!$E$10*$D$3)*(LN((Sanierungsdesign!$E$13+Sanierungsdesign!$E$15)/Sanierungsdesign!$E$13)*(AJ604-AN604))*$AH$7/1000000","v":250.93542367227903},7418.7217505035569,16744.054990886529,{"$f":"AU604/Sanierungsdesign!$E$11","v":2.1148886405044802},3444480,16.919109124035842,{"$error":"#DIV/0!"},{"$error":"#DIV/0!"},{"$error":"#DIV/0!"},{"$error":"#DIV/0!"},{"$f":"(AY604/(AH604*Sanierungsdesign!$E$10))*1000000","v":{"$error":"#DIV/0!"}},{"$f":"AZ604/Sanierungsdesign!$E$12","v":{"$error":"#DIV/0!"}},{"$f":"$D$5+((-(Sanierungsdesign!$E$12)*MIN($BA$7:$BA$932))/(4*PI()*$D$3))*(-LN((4*$D$4*AH604)/(Sanierungsdesign!$E$13)^2)-$D$19)","v":{"$error":"#DIV/0!"}},{"$f":"(BB604-273.15)/Heterogenität!$D$4","v":{"$error":"#DIV/0!"}},{"$f":"IF(AI604<Berechnung!$D$7,AI604,#N/A)","v":{"$error":"#N/A"}}]
[null,null,null,null,null,null,null,null,null,null,null,null,null,null,null,null,null,null,null,null,null,null,null,null,null,null,null,null,null,null,null,null,{"$f":"Sanierungsdesign!$E$12*AH605*Sanierungsdesign!$E$10/1000000","v":28033.200000000001},4312800,49.916666666666664,{"$f":"$D$5+((-Sanierungsdesign!$E$12)/4*PI()*$D$3)*(-LN((4*$D$4*AH605)/(Sanierungsdesign!$E$13^2))-$D$19)","v":3210.2222545866016},2937.0722545866015,5850.8258369929754,{"$f":"$D$3*$T$7*$AH$7*(AK605-$D$5)*(1/Sanierungsdesign!$E$15)/1000000","v":370.62711627677652},{"$f":"$D$5+(-Sanierungsdesign!$E$12/(4*PI()*$D$3))*(-LN((4*$D$4*AH605)/(Sanierungsdesign!$E$13+Sanierungsdesign!$E$15)^2)-$D$19)","v":397.31930512982655},124.16930512982657,{"$f":"(2*PI()*Sanierungsdesign!$E$10*$D$3)*(LN((Sanierungsdesign!$E$13+Sanierungsdesign!$E$15)/Sanierungsdesign!$E$13)*(AJ605-AN605))*$AH$7/1000000","v":251.13314047764459},7431.1276397184465,16772.055082844534,{"$f":"AU605/Sanierungsdesign!$E$11","v":2.1165822834188646},3450240,16.932658267350917,{"$error":"#DIV/0!"},{"$error":"#DIV/0!"},{"$error":"#DIV/0!"},{"$error":"#DIV/0!"},{"$f":"(AY605/(AH605*Sanierungsdesign!$E$10))*1000000","v":{"$error":"#DIV/0!"}},{"$f":"AZ605/Sanierungsdesign!$E$12","v":{"$error":"#DIV/0!"}},{"$f":"$D$5+((-(Sanierungsdesign!$E$12)*MIN($BA$7:$BA$932))/(4*PI()*$D$3))*(-LN((4*$D$4*AH605)/(Sanierungsdesign!$E$13)^2)-$D$19)","v":{"$error":"#DIV/0!"}},{"$f":"(BB605-273.15)/Heterogenität!$D$4","v":{"$error":"#DIV/0!"}},{"$f":"IF(AI605<Berechnung!$D$7,AI605,#N/A)","v":{"$error":"#N/A"}}]
[null,null,null,null,null,null,null,null,null,null,null,null,null,null,null,null,null,null,null,null,null,null,null,null,null,null,null,null,null,null,null,null,{"$f":"Sanierungsdesign!$E$12*AH606*Sanierungsdesign!$E$10/1000000","v":28080},4320000,50,{"$f":"$D$5+((-Sanierungsdesign!$E$12)/4*PI()*$D$3)*(-LN((4*$D$4*AH606)/(Sanierungsdesign!$E$13^2))-$D$19)","v":3212.5589292972682},2939.4089292972681,5855.4997306885507,{"$f":"$D$3*$T$7*$AH$7*(AK606-$D$5)*(1/Sanierungsdesign!$E$15)/1000000","v":370.95343895190172},{"$f":"$D$5+(-Sanierungsdesign!$E$12/(4*PI()*$D$3))*(-LN((4*$D$4*AH606)/(Sanierungsdesign!$E$13+Sanierungsdesign!$E$15)^2)-$D$19)","v":397.44507896102778},124.2950789610278,{"$f":"(2*PI()*Sanierungsdesign!$E$10*$D$3)*(LN((Sanierungsdesign!$E$13+Sanierungsdesign!$E$15)/Sanierungsdesign!$E$13)*(AJ606-AN606))*$AH$7/1000000","v":251.33052748001245},7443.5335289333352,16800.055174802539,{"$f":"AU606/Sanierungsdesign!$E$11","v":2.1182731012395029},3456000,16.946184809916023,{"$error":"#DIV/0!"},{"$error":"#DIV/0!"},{"$error":"#DIV/0!"},{"$error":"#DIV/0!"},{"$f":"(AY606/(AH606*Sanierungsdesign!$E$10))*1000000","v":{"$error":"#DIV/0!"}},{"$f":"AZ606/Sanierungsdesign!$E$12","v":{"$error":"#DIV/0!"}},{"$f":"$D$5+((-(Sanierungsdesign!$E$12)*MIN($BA$7:$BA$932))/(4*PI()*$D$3))*(-LN((4*$D$4*AH606)/(Sanierungsdesign!$E$13)^2)-$D$19)","v":{"$error":"#DIV/0!"}},{"$f":"(BB606-273.15)/Heterogenität!$D$4","v":{"$error":"#DIV/0!"}},{"$f":"IF(AI606<Berechnung!$D$7,AI606,#N/A)","v":{"$error":"#N/A"}}]
[null,null,null,null,null,null,null,null,null,null,null,null,null,null,null,null,null,null,null,null,null,null,null,null,null,null,null,null,null,null,null,null,{"$f":"Sanierungsdesign!$E$12*AH607*Sanierungsdesign!$E$10/1000000","v":28126.799999999999},4327200,50.083333333333336,{"$f":"$D$5+((-Sanierungsdesign!$E$12)/4*PI()*$D$3)*(-LN((4*$D$4*AH607)/(Sanierungsdesign!$E$13^2))-$D$19)","v":3214.8917127909626},2941.7417127909625,5860.165841043814,{"$f":"$D$3*$T$7*$AH$7*(AK607-$D$5)*(1/Sanierungsdesign!$E$15)/1000000","v":371.27921820849895},{"$f":"$D$5+(-Sanierungsdesign!$E$12/(4*PI()*$D$3))*(-LN((4*$D$4*AH607)/(Sanierungsdesign!$E$13+Sanierungsdesign!$E$15)^2)-$D$19)","v":397.57064334362053},124.42064334362055,{"$f":"(2*PI()*Sanierungsdesign!$E$10*$D$3)*(LN((Sanierungsdesign!$E$13+Sanierungsdesign!$E$15)/Sanierungsdesign!$E$13)*(AJ607-AN607))*$AH$7/1000000","v":251.52758577781123},7455.9394181482239,16828.055266760541,{"$f":"AU607/Sanierungsdesign!$E$11","v":2.1199611033755401},3461760,16.959688827004321,{"$error":"#DIV/0!"},{"$error":"#DIV/0!"},{"$error":"#DIV/0!"},{"$error":"#DIV/0!"},{"$f":"(AY607/(AH607*Sanierungsdesign!$E$10))*1000000","v":{"$error":"#DIV/0!"}},{"$f":"AZ607/Sanierungsdesign!$E$12","v":{"$error":"#DIV/0!"}},{"$f":"$D$5+((-(Sanierungsdesign!$E$12)*MIN($BA$7:$BA$932))/(4*PI()*$D$3))*(-LN((4*$D$4*AH607)/(Sanierungsdesign!$E$13)^2)-$D$19)","v":{"$error":"#DIV/0!"}},{"$f":"(BB607-273.15)/Heterogenität!$D$4","v":{"$error":"#DIV/0!"}},{"$f":"IF(AI607<Berechnung!$D$7,AI607,#N/A)","v":{"$error":"#N/A"}}]
[null,null,null,null,null,null,null,null,null,null,null,null,null,null,null,null,null,null,null,null,null,null,null,null,null,null,null,null,null,null,null,null,{"$f":"Sanierungsdesign!$E$12*AH608*Sanierungsdesign!$E$10/1000000","v":28173.599999999999},4334400,50.166666666666664,{"$f":"$D$5+((-Sanierungsdesign!$E$12)/4*PI()*$D$3)*(-LN((4*$D$4*AH608)/(Sanierungsdesign!$E$13^2))-$D$19)","v":3217.2206180060716},2944.0706180060715,5864.8241939385507,{"$f":"$D$3*$T$7*$AH$7*(AK608-$D$5)*(1/Sanierungsdesign!$E$15)/1000000","v":371.60445585344729},{"$f":"$D$5+(-Sanierungsdesign!$E$12/(4*PI()*$D$3))*(-LN((4*$D$4*AH608)/(Sanierungsdesign!$E$13+Sanierungsdesign!$E$15)^2)-$D$19)","v":397.69599897402622},124.54599897402625,{"$f":"(2*PI()*Sanierungsdesign!$E$10*$D$3)*(LN((Sanierungsdesign!$E$13+Sanierungsdesign!$E$15)/Sanierungsdesign!$E$13)*(AJ608-AN608))*$AH$7/1000000","v":251.72431646399136},7468.3453073631126,16856.055358718546,{"$f":"AU608/Sanierungsdesign!$E$11","v":2.1216462991891931},3467520,16.973170393513545,{"$error":"#DIV/0!"},{"$error":"#DIV/0!"},{"$error":"#DIV/0!"},{"$error":"#DIV/0!"},{"$f":"(AY608/(AH608*Sanierungsdesign!$E$10))*1000000","v":{"$error":"#DIV/0!"}},{"$f":"AZ608/Sanierungsdesign!$E$12","v":{"$error":"#DIV/0!"}},{"$f":"$D$5+((-(Sanierungsdesign!$E$12)*MIN($BA$7:$BA$932))/(4*PI()*$D$3))*(-LN((4*$D$4*AH608)/(Sanierungsdesign!$E$13)^2)-$D$19)","v":{"$error":"#DIV/0!"}},{"$f":"(BB608-273.15)/Heterogenität!$D$4","v":{"$error":"#DIV/0!"}},{"$f":"IF(AI608<Berechnung!$D$7,AI608,#N/A)","v":{"$error":"#N/A"}}]
[null,null,null,null,null,null,null,null,null,null,null,null,null,null,null,null,null,null,null,null,null,null,null,null,null,null,null,null,null,null,null,null,{"$f":"Sanierungsdesign!$E$12*AH609*Sanierungsdesign!$E$10/1000000","v":28220.400000000001},4341600,50.25,{"$f":"$D$5+((-Sanierungsdesign!$E$12)/4*PI()*$D$3)*(-LN((4*$D$4*AH609)/(Sanierungsdesign!$E$13^2))-$D$19)","v":3219.5456578165581},2946.395657816558,5869.4748151236854,{"$f":"$D$3*$T$7*$AH$7*(AK609-$D$5)*(1/Sanierungsdesign!$E$15)/1000000","v":371.92915368462906},{"$f":"$D$5+(-Sanierungsdesign!$E$12/(4*PI()*$D$3))*(-LN((4*$D$4*AH609)/(Sanierungsdesign!$E$13+Sanierungsdesign!$E$15)^2)-$D$19)","v":397.82114654519876},124.67114654519878,{"$f":"(2*PI()*Sanierungsdesign!$E$10*$D$3)*(LN((Sanierungsdesign!$E$13+Sanierungsdesign!$E$15)/Sanierungsdesign!$E$13)*(AJ609-AN609))*$AH$7/1000000","v":251.92072062606104},7480.7511965780022,16884.055450676551,{"$f":"AU609/Sanierungsdesign!$E$11","v":2.1233286979960613},3473280,16.98662958396849,{"$error":"#DIV/0!"},{"$error":"#DIV/0!"},{"$error":"#DIV/0!"},{"$error":"#DIV/0!"},{"$f":"(AY609/(AH609*Sanierungsdesign!$E$10))*1000000","v":{"$error":"#DIV/0!"}},{"$f":"AZ609/Sanierungsdesign!$E$12","v":{"$error":"#DIV/0!"}},{"$f":"$D$5+((-(Sanierungsdesign!$E$12)*MIN($BA$7:$BA$932))/(4*PI()*$D$3))*(-LN((4*$D$4*AH609)/(Sanierungsdesign!$E$13)^2)-$D$19)","v":{"$error":"#DIV/0!"}},{"$f":"(BB609-273.15)/Heterogenität!$D$4","v":{"$error":"#DIV/0!"}},{"$f":"IF(AI609<Berechnung!$D$7,AI609,#N/A)","v":{"$error":"#N/A"}}]
[null,null,null,null,null,null,null,null,null,null,null,null,null,null,null,null,null,null,null,null,null,null,null,null,null,null,null,null,null,null,null,null,{"$f":"Sanierungsdesign!$E$12*AH610*Sanierungsdesign!$E$10/1000000","v":28267.200000000001},4348800,50.333333333333336,{"$f":"$D$5+((-Sanierungsdesign!$E$12)/4*PI()*$D$3)*(-LN((4*$D$4*AH610)/(Sanierungsdesign!$E$13^2))-$D$19)","v":3221.866845032388},2948.7168450323879,5874.1177302221358,{"$f":"$D$3*$T$7*$AH$7*(AK610-$D$5)*(1/Sanierungsdesign!$E$15)/1000000","v":372.25331349098923},{"$f":"$D$5+(-Sanierungsdesign!$E$12/(4*PI()*$D$3))*(-LN((4*$D$4*AH610)/(Sanierungsdesign!$E$13+Sanierungsdesign!$E$15)^2)-$D$19)","v":397.94608674664721},124.79608674664723,{"$f":"(2*PI()*Sanierungsdesign!$E$10*$D$3)*(LN((Sanierungsdesign!$E$13+Sanierungsdesign!$E$15)/Sanierungsdesign!$E$13)*(AJ610-AN610))*$AH$7/1000000","v":252.11679934612235},7493.1570857928909,16912.055542634553,{"$f":"AU610/Sanierungsdesign!$E$11","v":2.1250083090654357},3479040,17.000066472523486,{"$error":"#DIV/0!"},{"$error":"#DIV/0!"},{"$error":"#DIV/0!"},{"$error":"#DIV/0!"},{"$f":"(AY610/(AH610*Sanierungsdesign!$E$10))*1000000","v":{"$error":"#DIV/0!"}},{"$f":"AZ610/Sanierungsdesign!$E$12","v":{"$error":"#DIV/0!"}},{"$f":"$D$5+((-(Sanierungsdesign!$E$12)*MIN($BA$7:$BA$932))/(4*PI()*$D$3))*(-LN((4*$D$4*AH610)/(Sanierungsdesign!$E$13)^2)-$D$19)","v":{"$error":"#DIV/0!"}},{"$f":"(BB610-273.15)/Heterogenität!$D$4","v":{"$error":"#DIV/0!"}},{"$f":"IF(AI610<Berechnung!$D$7,AI610,#N/A)","v":{"$error":"#N/A"}}]
[null,null,null,null,null,null,null,null,null,null,null,null,null,null,null,null,null,null,null,null,null,null,null,null,null,null,null,null,null,null,null,null,{"$f":"Sanierungsdesign!$E$12*AH611*Sanierungsdesign!$E$10/1000000","v":28314},4356000,50.416666666666664,{"$f":"$D$5+((-Sanierungsdesign!$E$12)/4*PI()*$D$3)*(-LN((4*$D$4*AH611)/(Sanierungsdesign!$E$13^2))-$D$19)","v":3224.1841923999536},2951.0341923999536,5878.7529647296524,{"$f":"$D$3*$T$7*$AH$7*(AK611-$D$5)*(1/Sanierungsdesign!$E$15)/1000000","v":372.57693705259436},{"$f":"$D$5+(-Sanierungsdesign!$E$12/(4*PI()*$D$3))*(-LN((4*$D$4*AH611)/(Sanierungsdesign!$E$13+Sanierungsdesign!$E$15)^2)-$D$19)","v":398.0708202644588},124.92082026445883,{"$f":"(2*PI()*Sanierungsdesign!$E$10*$D$3)*(LN((Sanierungsdesign!$E$13+Sanierungsdesign!$E$15)/Sanierungsdesign!$E$13)*(AJ611-AN611))*$AH$7/1000000","v":252.31255370090733},7505.5629750077796,16940.055634592558,{"$f":"AU611/Sanierungsdesign!$E$11","v":2.1266851416206061},3484800,17.013481132964849,{"$error":"#DIV/0!"},{"$error":"#DIV/0!"},{"$error":"#DIV/0!"},{"$error":"#DIV/0!"},{"$f":"(AY611/(AH611*Sanierungsdesign!$E$10))*1000000","v":{"$error":"#DIV/0!"}},{"$f":"AZ611/Sanierungsdesign!$E$12","v":{"$error":"#DIV/0!"}},{"$f":"$D$5+((-(Sanierungsdesign!$E$12)*MIN($BA$7:$BA$932))/(4*PI()*$D$3))*(-LN((4*$D$4*AH611)/(Sanierungsdesign!$E$13)^2)-$D$19)","v":{"$error":"#DIV/0!"}},{"$f":"(BB611-273.15)/Heterogenität!$D$4","v":{"$error":"#DIV/0!"}},{"$f":"IF(AI611<Berechnung!$D$7,AI611,#N/A)","v":{"$error":"#N/A"}}]
[null,null,null,null,null,null,null,null,null,null,null,null,null,null,null,null,null,null,null,null,null,null,null,null,null,null,null,null,null,null,null,null,{"$f":"Sanierungsdesign!$E$12*AH612*Sanierungsdesign!$E$10/1000000","v":28360.799999999999},4363200,50.5,{"$f":"$D$5+((-Sanierungsdesign!$E$12)/4*PI()*$D$3)*(-LN((4*$D$4*AH612)/(Sanierungsdesign!$E$13^2))-$D$19)","v":3226.497712602496},2953.3477126024959,5883.3805440156739,{"$f":"$D$3*$T$7*$AH$7*(AK612-$D$5)*(1/Sanierungsdesign!$E$15)/1000000","v":372.90002614069192},{"$f":"$D$5+(-Sanierungsdesign!$E$12/(4*PI()*$D$3))*(-LN((4*$D$4*AH612)/(Sanierungsdesign!$E$13+Sanierungsdesign!$E$15)^2)-$D$19)","v":398.19534778132152},125.04534778132154,{"$f":"(2*PI()*Sanierungsdesign!$E$10*$D$3)*(LN((Sanierungsdesign!$E$13+Sanierungsdesign!$E$15)/Sanierungsdesign!$E$13)*(AJ612-AN612))*$AH$7/1000000","v":252.50798476181308},7517.9688642226683,16968.055726550563,{"$f":"AU612/Sanierungsdesign!$E$11","v":2.1283592048391657},3490560,17.026873638713326,{"$error":"#DIV/0!"},{"$error":"#DIV/0!"},{"$error":"#DIV/0!"},{"$error":"#DIV/0!"},{"$f":"(AY612/(AH612*Sanierungsdesign!$E$10))*1000000","v":{"$error":"#DIV/0!"}},{"$f":"AZ612/Sanierungsdesign!$E$12","v":{"$error":"#DIV/0!"}},{"$f":"$D$5+((-(Sanierungsdesign!$E$12)*MIN($BA$7:$BA$932))/(4*PI()*$D$3))*(-LN((4*$D$4*AH612)/(Sanierungsdesign!$E$13)^2)-$D$19)","v":{"$error":"#DIV/0!"}},{"$f":"(BB612-273.15)/Heterogenität!$D$4","v":{"$error":"#DIV/0!"}},{"$f":"IF(AI612<Berechnung!$D$7,AI612,#N/A)","v":{"$error":"#N/A"}}]
[null,null,null,null,null,null,null,null,null,null,null,null,null,null,null,null,null,null,null,null,null,null,null,null,null,null,null,null,null,null,null,null,{"$f":"Sanierungsdesign!$E$12*AH613*Sanierungsdesign!$E$10/1000000","v":28407.599999999999},4370400,50.583333333333336,{"$f":"$D$5+((-Sanierungsdesign!$E$12)/4*PI()*$D$3)*(-LN((4*$D$4*AH613)/(Sanierungsdesign!$E$13^2))-$D$19)","v":3228.8074182605178},2955.6574182605177,5888.0004933241435,{"$f":"$D$3*$T$7*$AH$7*(AK613-$D$5)*(1/Sanierungsdesign!$E$15)/1000000","v":373.22258251776793},{"$f":"$D$5+(-Sanierungsdesign!$E$12/(4*PI()*$D$3))*(-LN((4*$D$4*AH613)/(Sanierungsdesign!$E$13+Sanierungsdesign!$E$15)^2)-$D$19)","v":398.31966997654638},125.1696699765464,{"$f":"(2*PI()*Sanierungsdesign!$E$10*$D$3)*(LN((Sanierungsdesign!$E$13+Sanierungsdesign!$E$15)/Sanierungsdesign!$E$13)*(AJ613-AN613))*$AH$7/1000000","v":252.70309359493729},7530.374753437557,16996.055818508565,{"$f":"AU613/Sanierungsdesign!$E$11","v":2.1300305078533106},3496320,17.040244062826485,{"$error":"#DIV/0!"},{"$error":"#DIV/0!"},{"$error":"#DIV/0!"},{"$error":"#DIV/0!"},{"$f":"(AY613/(AH613*Sanierungsdesign!$E$10))*1000000","v":{"$error":"#DIV/0!"}},{"$f":"AZ613/Sanierungsdesign!$E$12","v":{"$error":"#DIV/0!"}},{"$f":"$D$5+((-(Sanierungsdesign!$E$12)*MIN($BA$7:$BA$932))/(4*PI()*$D$3))*(-LN((4*$D$4*AH613)/(Sanierungsdesign!$E$13)^2)-$D$19)","v":{"$error":"#DIV/0!"}},{"$f":"(BB613-273.15)/Heterogenität!$D$4","v":{"$error":"#DIV/0!"}},{"$f":"IF(AI613<Berechnung!$D$7,AI613,#N/A)","v":{"$error":"#N/A"}}]
[null,null,null,null,null,null,null,null,null,null,null,null,null,null,null,null,null,null,null,null,null,null,null,null,null,null,null,null,null,null,null,null,{"$f":"Sanierungsdesign!$E$12*AH614*Sanierungsdesign!$E$10/1000000","v":28454.400000000001},4377600,50.666666666666664,{"$f":"$D$5+((-Sanierungsdesign!$E$12)/4*PI()*$D$3)*(-LN((4*$D$4*AH614)/(Sanierungsdesign!$E$13^2))-$D$19)","v":3231.1133219321987},2957.9633219321986,5892.6128377743471,{"$f":"$D$3*$T$7*$AH$7*(AK614-$D$5)*(1/Sanierungsdesign!$E$15)/1000000","v":373.54460793760461},{"$f":"$D$5+(-Sanierungsdesign!$E$12/(4*PI()*$D$3))*(-LN((4*$D$4*AH614)/(Sanierungsdesign!$E$13+Sanierungsdesign!$E$15)^2)-$D$19)","v":398.44378752608986},125.29378752608989,{"$f":"(2*PI()*Sanierungsdesign!$E$10*$D$3)*(LN((Sanierungsdesign!$E$13+Sanierungsdesign!$E$15)/Sanierungsdesign!$E$13)*(AJ614-AN614))*$AH$7/1000000","v":252.89788126111281},7542.7806426524467,17024.055910466574,{"$f":"AU614/Sanierungsdesign!$E$11","v":2.1316990597501388},3502080,17.053592478001111,{"$error":"#DIV/0!"},{"$error":"#DIV/0!"},{"$error":"#DIV/0!"},{"$error":"#DIV/0!"},{"$f":"(AY614/(AH614*Sanierungsdesign!$E$10))*1000000","v":{"$error":"#DIV/0!"}},{"$f":"AZ614/Sanierungsdesign!$E$12","v":{"$error":"#DIV/0!"}},{"$f":"$D$5+((-(Sanierungsdesign!$E$12)*MIN($BA$7:$BA$932))/(4*PI()*$D$3))*(-LN((4*$D$4*AH614)/(Sanierungsdesign!$E$13)^2)-$D$19)","v":{"$error":"#DIV/0!"}},{"$f":"(BB614-273.15)/Heterogenität!$D$4","v":{"$error":"#DIV/0!"}},{"$f":"IF(AI614<Berechnung!$D$7,AI614,#N/A)","v":{"$error":"#N/A"}}]
[null,null,null,null,null,null,null,null,null,null,null,null,null,null,null,null,null,null,null,null,null,null,null,null,null,null,null,null,null,null,null,null,{"$f":"Sanierungsdesign!$E$12*AH615*Sanierungsdesign!$E$10/1000000","v":28501.200000000001},4384800,50.75,{"$f":"$D$5+((-Sanierungsdesign!$E$12)/4*PI()*$D$3)*(-LN((4*$D$4*AH615)/(Sanierungsdesign!$E$13^2))-$D$19)","v":3233.4154361138048},2960.2654361138048,5897.2176023617276,{"$f":"$D$3*$T$7*$AH$7*(AK615-$D$5)*(1/Sanierungsdesign!$E$15)/1000000","v":373.86610414533789},{"$f":"$D$5+(-Sanierungsdesign!$E$12/(4*PI()*$D$3))*(-LN((4*$D$4*AH615)/(Sanierungsdesign!$E$13+Sanierungsdesign!$E$15)^2)-$D$19)","v":398.56770110257594},125.41770110257596,{"$f":"(2*PI()*Sanierungsdesign!$E$10*$D$3)*(LN((Sanierungsdesign!$E$13+Sanierungsdesign!$E$15)/Sanierungsdesign!$E$13)*(AJ615-AN615))*$AH$7/1000000","v":253.09234881594247},7555.1865318673354,17052.056002424575,{"$f":"AU615/Sanierungsdesign!$E$11","v":2.1333648695719489},3507840,17.066918956575591,{"$error":"#DIV/0!"},{"$error":"#DIV/0!"},{"$error":"#DIV/0!"},{"$error":"#DIV/0!"},{"$f":"(AY615/(AH615*Sanierungsdesign!$E$10))*1000000","v":{"$error":"#DIV/0!"}},{"$f":"AZ615/Sanierungsdesign!$E$12","v":{"$error":"#DIV/0!"}},{"$f":"$D$5+((-(Sanierungsdesign!$E$12)*MIN($BA$7:$BA$932))/(4*PI()*$D$3))*(-LN((4*$D$4*AH615)/(Sanierungsdesign!$E$13)^2)-$D$19)","v":{"$error":"#DIV/0!"}},{"$f":"(BB615-273.15)/Heterogenität!$D$4","v":{"$error":"#DIV/0!"}},{"$f":"IF(AI615<Berechnung!$D$7,AI615,#N/A)","v":{"$error":"#N/A"}}]
[null,null,null,null,null,null,null,null,null,null,null,null,null,null,null,null,null,null,null,null,null,null,null,null,null,null,null,null,null,null,null,null,{"$f":"Sanierungsdesign!$E$12*AH616*Sanierungsdesign!$E$10/1000000","v":28548},4392000,50.833333333333336,{"$f":"$D$5+((-Sanierungsdesign!$E$12)/4*PI()*$D$3)*(-LN((4*$D$4*AH616)/(Sanierungsdesign!$E$13^2))-$D$19)","v":3235.7137732400952},2962.5637732400951,5901.8148119586995,{"$f":"$D$3*$T$7*$AH$7*(AK616-$D$5)*(1/Sanierungsdesign!$E$15)/1000000","v":374.18707287751408},{"$f":"$D$5+(-Sanierungsdesign!$E$12/(4*PI()*$D$3))*(-LN((4*$D$4*AH616)/(Sanierungsdesign!$E$13+Sanierungsdesign!$E$15)^2)-$D$19)","v":398.69141137531778},125.54141137531781,{"$f":"(2*PI()*Sanierungsdesign!$E$10*$D$3)*(LN((Sanierungsdesign!$E$13+Sanierungsdesign!$E$15)/Sanierungsdesign!$E$13)*(AJ616-AN616))*$AH$7/1000000","v":253.28649730983352},7567.5924210822241,17080.05609438258,{"$f":"AU616/Sanierungsdesign!$E$11","v":2.1350279463165323},3513600,17.080223570532258,{"$error":"#DIV/0!"},{"$error":"#DIV/0!"},{"$error":"#DIV/0!"},{"$error":"#DIV/0!"},{"$f":"(AY616/(AH616*Sanierungsdesign!$E$10))*1000000","v":{"$error":"#DIV/0!"}},{"$f":"AZ616/Sanierungsdesign!$E$12","v":{"$error":"#DIV/0!"}},{"$f":"$D$5+((-(Sanierungsdesign!$E$12)*MIN($BA$7:$BA$932))/(4*PI()*$D$3))*(-LN((4*$D$4*AH616)/(Sanierungsdesign!$E$13)^2)-$D$19)","v":{"$error":"#DIV/0!"}},{"$f":"(BB616-273.15)/Heterogenität!$D$4","v":{"$error":"#DIV/0!"}},{"$f":"IF(AI616<Berechnung!$D$7,AI616,#N/A)","v":{"$error":"#N/A"}}]
[null,null,null,null,null,null,null,null,null,null,null,null,null,null,null,null,null,null,null,null,null,null,null,null,null,null,null,null,null,null,null,null,{"$f":"Sanierungsdesign!$E$12*AH617*Sanierungsdesign!$E$10/1000000","v":28594.799999999999},4399200,50.916666666666664,{"$f":"$D$5+((-Sanierungsdesign!$E$12)/4*PI()*$D$3)*(-LN((4*$D$4*AH617)/(Sanierungsdesign!$E$13^2))-$D$19)","v":3238.0083456847228},2964.8583456847227,5906.4044913154494,{"$f":"$D$3*$T$7*$AH$7*(AK617-$D$5)*(1/Sanierungsdesign!$E$15)/1000000","v":374.50751586214591},{"$f":"$D$5+(-Sanierungsdesign!$E$12/(4*PI()*$D$3))*(-LN((4*$D$4*AH617)/(Sanierungsdesign!$E$13+Sanierungsdesign!$E$15)^2)-$D$19)","v":398.81491901033951},125.66491901033953,{"$f":"(2*PI()*Sanierungsdesign!$E$10*$D$3)*(LN((Sanierungsdesign!$E$13+Sanierungsdesign!$E$15)/Sanierungsdesign!$E$13)*(AJ617-AN617))*$AH$7/1000000","v":253.48032778803119},7579.9983102971128,17108.056186340586,{"$f":"AU617/Sanierungsdesign!$E$11","v":2.1366882989374649},3519360,17.093506391499719,{"$error":"#DIV/0!"},{"$error":"#DIV/0!"},{"$error":"#DIV/0!"},{"$error":"#DIV/0!"},{"$f":"(AY617/(AH617*Sanierungsdesign!$E$10))*1000000","v":{"$error":"#DIV/0!"}},{"$f":"AZ617/Sanierungsdesign!$E$12","v":{"$error":"#DIV/0!"}},{"$f":"$D$5+((-(Sanierungsdesign!$E$12)*MIN($BA$7:$BA$932))/(4*PI()*$D$3))*(-LN((4*$D$4*AH617)/(Sanierungsdesign!$E$13)^2)-$D$19)","v":{"$error":"#DIV/0!"}},{"$f":"(BB617-273.15)/Heterogenität!$D$4","v":{"$error":"#DIV/0!"}},{"$f":"IF(AI617<Berechnung!$D$7,AI617,#N/A)","v":{"$error":"#N/A"}}]
[null,null,null,null,null,null,null,null,null,null,null,null,null,null,null,null,null,null,null,null,null,null,null,null,null,null,null,null,null,null,null,null,{"$f":"Sanierungsdesign!$E$12*AH618*Sanierungsdesign!$E$10/1000000","v":28641.599999999999},4406400,51,{"$f":"$D$5+((-Sanierungsdesign!$E$12)/4*PI()*$D$3)*(-LN((4*$D$4*AH618)/(Sanierungsdesign!$E$13^2))-$D$19)","v":3240.2991657606376},2967.1491657606375,5910.9866650607464,{"$f":"$D$3*$T$7*$AH$7*(AK618-$D$5)*(1/Sanierungsdesign!$E$15)/1000000","v":374.82743481876861},{"$f":"$D$5+(-Sanierungsdesign!$E$12/(4*PI()*$D$3))*(-LN((4*$D$4*AH618)/(Sanierungsdesign!$E$13+Sanierungsdesign!$E$15)^2)-$D$19)","v":398.93822467039786},125.78822467039788,{"$f":"(2*PI()*Sanierungsdesign!$E$10*$D$3)*(LN((Sanierungsdesign!$E$13+Sanierungsdesign!$E$15)/Sanierungsdesign!$E$13)*(AJ618-AN618))*$AH$7/1000000","v":253.673841290653},7592.4041995120015,17136.056278298587,{"$f":"AU618/Sanierungsdesign!$E$11","v":2.1383459363443973},3525120,17.106767490755178,{"$error":"#DIV/0!"},{"$error":"#DIV/0!"},{"$error":"#DIV/0!"},{"$error":"#DIV/0!"},{"$f":"(AY618/(AH618*Sanierungsdesign!$E$10))*1000000","v":{"$error":"#DIV/0!"}},{"$f":"AZ618/Sanierungsdesign!$E$12","v":{"$error":"#DIV/0!"}},{"$f":"$D$5+((-(Sanierungsdesign!$E$12)*MIN($BA$7:$BA$932))/(4*PI()*$D$3))*(-LN((4*$D$4*AH618)/(Sanierungsdesign!$E$13)^2)-$D$19)","v":{"$error":"#DIV/0!"}},{"$f":"(BB618-273.15)/Heterogenität!$D$4","v":{"$error":"#DIV/0!"}},{"$f":"IF(AI618<Berechnung!$D$7,AI618,#N/A)","v":{"$error":"#N/A"}}]
[null,null,null,null,null,null,null,null,null,null,null,null,null,null,null,null,null,null,null,null,null,null,null,null,null,null,null,null,null,null,null,null,{"$f":"Sanierungsdesign!$E$12*AH619*Sanierungsdesign!$E$10/1000000","v":28688.400000000001},4413600,51.083333333333336,{"$f":"$D$5+((-Sanierungsdesign!$E$12)/4*PI()*$D$3)*(-LN((4*$D$4*AH619)/(Sanierungsdesign!$E$13^2))-$D$19)","v":3242.5862457204789},2969.4362457204788,5915.5613577027234,{"$f":"$D$3*$T$7*$AH$7*(AK619-$D$5)*(1/Sanierungsdesign!$E$15)/1000000","v":375.14683145849511},{"$f":"$D$5+(-Sanierungsdesign!$E$12/(4*PI()*$D$3))*(-LN((4*$D$4*AH619)/(Sanierungsdesign!$E$13+Sanierungsdesign!$E$15)^2)-$D$19)","v":399.06132901500337},125.91132901500339,{"$f":"(2*PI()*Sanierungsdesign!$E$10*$D$3)*(LN((Sanierungsdesign!$E$13+Sanierungsdesign!$E$15)/Sanierungsdesign!$E$13)*(AJ619-AN619))*$AH$7/1000000","v":253.86703885272178},7604.8100887268911,17164.056370256592,{"$f":"AU619/Sanierungsdesign!$E$11","v":2.1400008674033382},3530880,17.120006939226705,{"$error":"#DIV/0!"},{"$error":"#DIV/0!"},{"$error":"#DIV/0!"},{"$error":"#DIV/0!"},{"$f":"(AY619/(AH619*Sanierungsdesign!$E$10))*1000000","v":{"$error":"#DIV/0!"}},{"$f":"AZ619/Sanierungsdesign!$E$12","v":{"$error":"#DIV/0!"}},{"$f":"$D$5+((-(Sanierungsdesign!$E$12)*MIN($BA$7:$BA$932))/(4*PI()*$D$3))*(-LN((4*$D$4*AH619)/(Sanierungsdesign!$E$13)^2)-$D$19)","v":{"$error":"#DIV/0!"}},{"$f":"(BB619-273.15)/Heterogenität!$D$4","v":{"$error":"#DIV/0!"}},{"$f":"IF(AI619<Berechnung!$D$7,AI619,#N/A)","v":{"$error":"#N/A"}}]
[null,null,null,null,null,null,null,null,null,null,null,null,null,null,null,null,null,null,null,null,null,null,null,null,null,null,null,null,null,null,null,null,{"$f":"Sanierungsdesign!$E$12*AH620*Sanierungsdesign!$E$10/1000000","v":28735.200000000001},4420800,51.166666666666664,{"$f":"$D$5+((-Sanierungsdesign!$E$12)/4*PI()*$D$3)*(-LN((4*$D$4*AH620)/(Sanierungsdesign!$E$13^2))-$D$19)","v":3244.8695977569737},2971.7195977569736,5920.1285936296736,{"$f":"$D$3*$T$7*$AH$7*(AK620-$D$5)*(1/Sanierungsdesign!$E$15)/1000000","v":375.46570748407129},{"$f":"$D$5+(-Sanierungsdesign!$E$12/(4*PI()*$D$3))*(-LN((4*$D$4*AH620)/(Sanierungsdesign!$E$13+Sanierungsdesign!$E$15)^2)-$D$19)","v":399.1842327004415},126.03423270044152,{"$f":"(2*PI()*Sanierungsdesign!$E$10*$D$3)*(LN((Sanierungsdesign!$E$13+Sanierungsdesign!$E$15)/Sanierungsdesign!$E$13)*(AJ620-AN620))*$AH$7/1000000","v":254.05992150419948},7617.2159779417798,17192.056462214598,{"$f":"AU620/Sanierungsdesign!$E$11","v":2.1416531009369462},3536640,17.133224807495569,{"$error":"#DIV/0!"},{"$error":"#DIV/0!"},{"$error":"#DIV/0!"},{"$error":"#DIV/0!"},{"$f":"(AY620/(AH620*Sanierungsdesign!$E$10))*1000000","v":{"$error":"#DIV/0!"}},{"$f":"AZ620/Sanierungsdesign!$E$12","v":{"$error":"#DIV/0!"}},{"$f":"$D$5+((-(Sanierungsdesign!$E$12)*MIN($BA$7:$BA$932))/(4*PI()*$D$3))*(-LN((4*$D$4*AH620)/(Sanierungsdesign!$E$13)^2)-$D$19)","v":{"$error":"#DIV/0!"}},{"$f":"(BB620-273.15)/Heterogenität!$D$4","v":{"$error":"#DIV/0!"}},{"$f":"IF(AI620<Berechnung!$D$7,AI620,#N/A)","v":{"$error":"#N/A"}}]
[null,null,null,null,null,null,null,null,null,null,null,null,null,null,null,null,null,null,null,null,null,null,null,null,null,null,null,null,null,null,null,null,{"$f":"Sanierungsdesign!$E$12*AH621*Sanierungsdesign!$E$10/1000000","v":28782},4428000,51.25,{"$f":"$D$5+((-Sanierungsdesign!$E$12)/4*PI()*$D$3)*(-LN((4*$D$4*AH621)/(Sanierungsdesign!$E$13^2))-$D$19)","v":3247.1492340033215},2973.9992340033214,5924.6883971108236,{"$f":"$D$3*$T$7*$AH$7*(AK621-$D$5)*(1/Sanierungsdesign!$E$15)/1000000","v":375.78406458992993},{"$f":"$D$5+(-Sanierungsdesign!$E$12/(4*PI()*$D$3))*(-LN((4*$D$4*AH621)/(Sanierungsdesign!$E$13+Sanierungsdesign!$E$15)^2)-$D$19)","v":399.30693637979385},126.15693637979388,{"$f":"(2*PI()*Sanierungsdesign!$E$10*$D$3)*(LN((Sanierungsdesign!$E$13+Sanierungsdesign!$E$15)/Sanierungsdesign!$E$13)*(AJ621-AN621))*$AH$7/1000000","v":254.25249027001936},7629.6218671566685,17220.056554172599,{"$f":"AU621/Sanierungsdesign!$E$11","v":2.1433026457248032},3542400,17.146421165798426,{"$error":"#DIV/0!"},{"$error":"#DIV/0!"},{"$error":"#DIV/0!"},{"$error":"#DIV/0!"},{"$f":"(AY621/(AH621*Sanierungsdesign!$E$10))*1000000","v":{"$error":"#DIV/0!"}},{"$f":"AZ621/Sanierungsdesign!$E$12","v":{"$error":"#DIV/0!"}},{"$f":"$D$5+((-(Sanierungsdesign!$E$12)*MIN($BA$7:$BA$932))/(4*PI()*$D$3))*(-LN((4*$D$4*AH621)/(Sanierungsdesign!$E$13)^2)-$D$19)","v":{"$error":"#DIV/0!"}},{"$f":"(BB621-273.15)/Heterogenität!$D$4","v":{"$error":"#DIV/0!"}},{"$f":"IF(AI621<Berechnung!$D$7,AI621,#N/A)","v":{"$error":"#N/A"}}]
[null,null,null,null,null,null,null,null,null,null,null,null,null,null,null,null,null,null,null,null,null,null,null,null,null,null,null,null,null,null,null,null,{"$f":"Sanierungsdesign!$E$12*AH622*Sanierungsdesign!$E$10/1000000","v":28828.799999999999},4435200,51.333333333333336,{"$f":"$D$5+((-Sanierungsdesign!$E$12)/4*PI()*$D$3)*(-LN((4*$D$4*AH622)/(Sanierungsdesign!$E$13^2))-$D$19)","v":3249.4251665335851},2976.275166533585,5929.2407922971097,{"$f":"$D$3*$T$7*$AH$7*(AK622-$D$5)*(1/Sanierungsdesign!$E$15)/1000000","v":376.10190446224505},{"$f":"$D$5+(-Sanierungsdesign!$E$12/(4*PI()*$D$3))*(-LN((4*$D$4*AH622)/(Sanierungsdesign!$E$13+Sanierungsdesign!$E$15)^2)-$D$19)","v":399.42944070295869},126.27944070295871,{"$f":"(2*PI()*Sanierungsdesign!$E$10*$D$3)*(LN((Sanierungsdesign!$E$13+Sanierungsdesign!$E$15)/Sanierungsdesign!$E$13)*(AJ622-AN622))*$AH$7/1000000","v":254.4447461701194},7642.0277563715572,17248.056646130604,{"$f":"AU622/Sanierungsdesign!$E$11","v":2.144949510503702},3548160,17.159596084029616,{"$error":"#DIV/0!"},{"$error":"#DIV/0!"},{"$error":"#DIV/0!"},{"$error":"#DIV/0!"},{"$f":"(AY622/(AH622*Sanierungsdesign!$E$10))*1000000","v":{"$error":"#DIV/0!"}},{"$f":"AZ622/Sanierungsdesign!$E$12","v":{"$error":"#DIV/0!"}},{"$f":"$D$5+((-(Sanierungsdesign!$E$12)*MIN($BA$7:$BA$932))/(4*PI()*$D$3))*(-LN((4*$D$4*AH622)/(Sanierungsdesign!$E$13)^2)-$D$19)","v":{"$error":"#DIV/0!"}},{"$f":"(BB622-273.15)/Heterogenität!$D$4","v":{"$error":"#DIV/0!"}},{"$f":"IF(AI622<Berechnung!$D$7,AI622,#N/A)","v":{"$error":"#N/A"}}]
[null,null,null,null,null,null,null,null,null,null,null,null,null,null,null,null,null,null,null,null,null,null,null,null,null,null,null,null,null,null,null,null,{"$f":"Sanierungsdesign!$E$12*AH623*Sanierungsdesign!$E$10/1000000","v":28875.599999999999},4442400,51.416666666666664,{"$f":"$D$5+((-Sanierungsdesign!$E$12)/4*PI()*$D$3)*(-LN((4*$D$4*AH623)/(Sanierungsdesign!$E$13^2))-$D$19)","v":3251.6974073630718},2978.5474073630717,5933.7858032219456,{"$f":"$D$3*$T$7*$AH$7*(AK623-$D$5)*(1/Sanierungsdesign!$E$15)/1000000","v":376.41922877898548},{"$f":"$D$5+(-Sanierungsdesign!$E$12/(4*PI()*$D$3))*(-LN((4*$D$4*AH623)/(Sanierungsdesign!$E$13+Sanierungsdesign!$E$15)^2)-$D$19)","v":399.55174631667194},126.40174631667196,{"$f":"(2*PI()*Sanierungsdesign!$E$10*$D$3)*(LN((Sanierungsdesign!$E$13+Sanierungsdesign!$E$15)/Sanierungsdesign!$E$13)*(AJ623-AN623))*$AH$7/1000000","v":254.63669021947413},7654.4336455864459,17276.05673808861,{"$f":"AU623/Sanierungsdesign!$E$11","v":2.1465937039679184},3553920,17.172749631743347,{"$error":"#DIV/0!"},{"$error":"#DIV/0!"},{"$error":"#DIV/0!"},{"$error":"#DIV/0!"},{"$f":"(AY623/(AH623*Sanierungsdesign!$E$10))*1000000","v":{"$error":"#DIV/0!"}},{"$f":"AZ623/Sanierungsdesign!$E$12","v":{"$error":"#DIV/0!"}},{"$f":"$D$5+((-(Sanierungsdesign!$E$12)*MIN($BA$7:$BA$932))/(4*PI()*$D$3))*(-LN((4*$D$4*AH623)/(Sanierungsdesign!$E$13)^2)-$D$19)","v":{"$error":"#DIV/0!"}},{"$f":"(BB623-273.15)/Heterogenität!$D$4","v":{"$error":"#DIV/0!"}},{"$f":"IF(AI623<Berechnung!$D$7,AI623,#N/A)","v":{"$error":"#N/A"}}]
[null,null,null,null,null,null,null,null,null,null,null,null,null,null,null,null,null,null,null,null,null,null,null,null,null,null,null,null,null,null,null,null,{"$f":"Sanierungsdesign!$E$12*AH624*Sanierungsdesign!$E$10/1000000","v":28922.400000000001},4449600,51.5,{"$f":"$D$5+((-Sanierungsdesign!$E$12)/4*PI()*$D$3)*(-LN((4*$D$4*AH624)/(Sanierungsdesign!$E$13^2))-$D$19)","v":3253.9659684487137},2980.8159684487136,5938.3234538019806,{"$f":"$D$3*$T$7*$AH$7*(AK624-$D$5)*(1/Sanierungsdesign!$E$15)/1000000","v":376.73603920996783},{"$f":"$D$5+(-Sanierungsdesign!$E$12/(4*PI()*$D$3))*(-LN((4*$D$4*AH624)/(Sanierungsdesign!$E$13+Sanierungsdesign!$E$15)^2)-$D$19)","v":399.67385386452736},126.52385386452738,{"$f":"(2*PI()*Sanierungsdesign!$E$10*$D$3)*(LN((Sanierungsdesign!$E$13+Sanierungsdesign!$E$15)/Sanierungsdesign!$E$13)*(AJ624-AN624))*$AH$7/1000000","v":254.82832342812711},7666.8395348013355,17304.056830046615,{"$f":"AU624/Sanierungsdesign!$E$11","v":2.1482352347694893},3559680,17.185881878155914,{"$error":"#DIV/0!"},{"$error":"#DIV/0!"},{"$error":"#DIV/0!"},{"$error":"#DIV/0!"},{"$f":"(AY624/(AH624*Sanierungsdesign!$E$10))*1000000","v":{"$error":"#DIV/0!"}},{"$f":"AZ624/Sanierungsdesign!$E$12","v":{"$error":"#DIV/0!"}},{"$f":"$D$5+((-(Sanierungsdesign!$E$12)*MIN($BA$7:$BA$932))/(4*PI()*$D$3))*(-LN((4*$D$4*AH624)/(Sanierungsdesign!$E$13)^2)-$D$19)","v":{"$error":"#DIV/0!"}},{"$f":"(BB624-273.15)/Heterogenität!$D$4","v":{"$error":"#DIV/0!"}},{"$f":"IF(AI624<Berechnung!$D$7,AI624,#N/A)","v":{"$error":"#N/A"}}]
[null,null,null,null,null,null,null,null,null,null,null,null,null,null,null,null,null,null,null,null,null,null,null,null,null,null,null,null,null,null,null,null,{"$f":"Sanierungsdesign!$E$12*AH625*Sanierungsdesign!$E$10/1000000","v":28969.200000000001},4456800,51.583333333333336,{"$f":"$D$5+((-Sanierungsdesign!$E$12)/4*PI()*$D$3)*(-LN((4*$D$4*AH625)/(Sanierungsdesign!$E$13^2))-$D$19)","v":3256.2308616894506},2983.0808616894506,5942.8537678378671,{"$f":"$D$3*$T$7*$AH$7*(AK625-$D$5)*(1/Sanierungsdesign!$E$15)/1000000","v":377.05233741690984},{"$f":"$D$5+(-Sanierungsdesign!$E$12/(4*PI()*$D$3))*(-LN((4*$D$4*AH625)/(Sanierungsdesign!$E$13+Sanierungsdesign!$E$15)^2)-$D$19)","v":399.79576398699703},126.64576398699705,{"$f":"(2*PI()*Sanierungsdesign!$E$10*$D$3)*(LN((Sanierungsdesign!$E$13+Sanierungsdesign!$E$15)/Sanierungsdesign!$E$13)*(AJ625-AN625))*$AH$7/1000000","v":255.01964680122285},7679.2454240162242,17332.05692200462,{"$f":"AU625/Sanierungsdesign!$E$11","v":2.1498741115184861},3565440,17.198992892147889,{"$error":"#DIV/0!"},{"$error":"#DIV/0!"},{"$error":"#DIV/0!"},{"$error":"#DIV/0!"},{"$f":"(AY625/(AH625*Sanierungsdesign!$E$10))*1000000","v":{"$error":"#DIV/0!"}},{"$f":"AZ625/Sanierungsdesign!$E$12","v":{"$error":"#DIV/0!"}},{"$f":"$D$5+((-(Sanierungsdesign!$E$12)*MIN($BA$7:$BA$932))/(4*PI()*$D$3))*(-LN((4*$D$4*AH625)/(Sanierungsdesign!$E$13)^2)-$D$19)","v":{"$error":"#DIV/0!"}},{"$f":"(BB625-273.15)/Heterogenität!$D$4","v":{"$error":"#DIV/0!"}},{"$f":"IF(AI625<Berechnung!$D$7,AI625,#N/A)","v":{"$error":"#N/A"}}]
[null,null,null,null,null,null,null,null,null,null,null,null,null,null,null,null,null,null,null,null,null,null,null,null,null,null,null,null,null,null,null,null,{"$f":"Sanierungsdesign!$E$12*AH626*Sanierungsdesign!$E$10/1000000","v":29016},4464000,51.666666666666664,{"$f":"$D$5+((-Sanierungsdesign!$E$12)/4*PI()*$D$3)*(-LN((4*$D$4*AH626)/(Sanierungsdesign!$E$13^2))-$D$19)","v":3258.4920989265943},2985.3420989265942,5947.3767690149853,{"$f":"$D$3*$T$7*$AH$7*(AK626-$D$5)*(1/Sanierungsdesign!$E$15)/1000000","v":377.36812505348121},{"$f":"$D$5+(-Sanierungsdesign!$E$12/(4*PI()*$D$3))*(-LN((4*$D$4*AH626)/(Sanierungsdesign!$E$13+Sanierungsdesign!$E$15)^2)-$D$19)","v":399.91747732145137},126.76747732145139,{"$f":"(2*PI()*Sanierungsdesign!$E$10*$D$3)*(LN((Sanierungsdesign!$E$13+Sanierungsdesign!$E$15)/Sanierungsdesign!$E$13)*(AJ626-AN626))*$AH$7/1000000","v":255.21066133903798},7691.6513132311129,17360.057013962625,{"$f":"AU626/Sanierungsdesign!$E$11","v":2.1515103427832836},3571200,17.212082742266269,{"$error":"#DIV/0!"},{"$error":"#DIV/0!"},{"$error":"#DIV/0!"},{"$error":"#DIV/0!"},{"$f":"(AY626/(AH626*Sanierungsdesign!$E$10))*1000000","v":{"$error":"#DIV/0!"}},{"$f":"AZ626/Sanierungsdesign!$E$12","v":{"$error":"#DIV/0!"}},{"$f":"$D$5+((-(Sanierungsdesign!$E$12)*MIN($BA$7:$BA$932))/(4*PI()*$D$3))*(-LN((4*$D$4*AH626)/(Sanierungsdesign!$E$13)^2)-$D$19)","v":{"$error":"#DIV/0!"}},{"$f":"(BB626-273.15)/Heterogenität!$D$4","v":{"$error":"#DIV/0!"}},{"$f":"IF(AI626<Berechnung!$D$7,AI626,#N/A)","v":{"$error":"#N/A"}}]
[null,null,null,null,null,null,null,null,null,null,null,null,null,null,null,null,null,null,null,null,null,null,null,null,null,null,null,null,null,null,null,null,{"$f":"Sanierungsdesign!$E$12*AH627*Sanierungsdesign!$E$10/1000000","v":29062.799999999999},4471200,51.75,{"$f":"$D$5+((-Sanierungsdesign!$E$12)/4*PI()*$D$3)*(-LN((4*$D$4*AH627)/(Sanierungsdesign!$E$13^2))-$D$19)","v":3260.7496919442115},2987.5996919442114,5951.8924809042137,{"$f":"$D$3*$T$7*$AH$7*(AK627-$D$5)*(1/Sanierungsdesign!$E$15)/1000000","v":377.68340376535758},{"$f":"$D$5+(-Sanierungsdesign!$E$12/(4*PI()*$D$3))*(-LN((4*$D$4*AH627)/(Sanierungsdesign!$E$13+Sanierungsdesign!$E$15)^2)-$D$19)","v":400.03899450217943},126.88899450217946,{"$f":"(2*PI()*Sanierungsdesign!$E$10*$D$3)*(LN((Sanierungsdesign!$E$13+Sanierungsdesign!$E$15)/Sanierungsdesign!$E$13)*(AJ627-AN627))*$AH$7/1000000","v":255.40136803701344},7704.0572024460016,17388.057105920623,{"$f":"AU627/Sanierungsdesign!$E$11","v":2.1531439370908307},3576960,17.225151496726646,{"$error":"#DIV/0!"},{"$error":"#DIV/0!"},{"$error":"#DIV/0!"},{"$error":"#DIV/0!"},{"$f":"(AY627/(AH627*Sanierungsdesign!$E$10))*1000000","v":{"$error":"#DIV/0!"}},{"$f":"AZ627/Sanierungsdesign!$E$12","v":{"$error":"#DIV/0!"}},{"$f":"$D$5+((-(Sanierungsdesign!$E$12)*MIN($BA$7:$BA$932))/(4*PI()*$D$3))*(-LN((4*$D$4*AH627)/(Sanierungsdesign!$E$13)^2)-$D$19)","v":{"$error":"#DIV/0!"}},{"$f":"(BB627-273.15)/Heterogenität!$D$4","v":{"$error":"#DIV/0!"}},{"$f":"IF(AI627<Berechnung!$D$7,AI627,#N/A)","v":{"$error":"#N/A"}}]
[null,null,null,null,null,null,null,null,null,null,null,null,null,null,null,null,null,null,null,null,null,null,null,null,null,null,null,null,null,null,null,null,{"$f":"Sanierungsdesign!$E$12*AH628*Sanierungsdesign!$E$10/1000000","v":29109.599999999999},4478400,51.833333333333336,{"$f":"$D$5+((-Sanierungsdesign!$E$12)/4*PI()*$D$3)*(-LN((4*$D$4*AH628)/(Sanierungsdesign!$E$13^2))-$D$19)","v":3263.0036524694824},2989.8536524694823,5956.4009269626458,{"$f":"$D$3*$T$7*$AH$7*(AK628-$D$5)*(1/Sanierungsdesign!$E$15)/1000000","v":377.99817519026993},{"$f":"$D$5+(-Sanierungsdesign!$E$12/(4*PI()*$D$3))*(-LN((4*$D$4*AH628)/(Sanierungsdesign!$E$13+Sanierungsdesign!$E$15)^2)-$D$19)","v":400.16031616040834},127.01031616040837,{"$f":"(2*PI()*Sanierungsdesign!$E$10*$D$3)*(LN((Sanierungsdesign!$E$13+Sanierungsdesign!$E$15)/Sanierungsdesign!$E$13)*(AJ628-AN628))*$AH$7/1000000","v":255.59176788578472},7716.4630916608903,17416.057197878628,{"$f":"AU628/Sanierungsdesign!$E$11","v":2.154774902926917},3582720,17.238199223415336,{"$error":"#DIV/0!"},{"$error":"#DIV/0!"},{"$error":"#DIV/0!"},{"$error":"#DIV/0!"},{"$f":"(AY628/(AH628*Sanierungsdesign!$E$10))*1000000","v":{"$error":"#DIV/0!"}},{"$f":"AZ628/Sanierungsdesign!$E$12","v":{"$error":"#DIV/0!"}},{"$f":"$D$5+((-(Sanierungsdesign!$E$12)*MIN($BA$7:$BA$932))/(4*PI()*$D$3))*(-LN((4*$D$4*AH628)/(Sanierungsdesign!$E$13)^2)-$D$19)","v":{"$error":"#DIV/0!"}},{"$f":"(BB628-273.15)/Heterogenität!$D$4","v":{"$error":"#DIV/0!"}},{"$f":"IF(AI628<Berechnung!$D$7,AI628,#N/A)","v":{"$error":"#N/A"}}]
[null,null,null,null,null,null,null,null,null,null,null,null,null,null,null,null,null,null,null,null,null,null,null,null,null,null,null,null,null,null,null,null,{"$f":"Sanierungsdesign!$E$12*AH629*Sanierungsdesign!$E$10/1000000","v":29156.400000000001},4485600,51.916666666666664,{"$f":"$D$5+((-Sanierungsdesign!$E$12)/4*PI()*$D$3)*(-LN((4*$D$4*AH629)/(Sanierungsdesign!$E$13^2))-$D$19)","v":3265.2539921730745},2992.1039921730744,5960.9021305343322,{"$f":"$D$3*$T$7*$AH$7*(AK629-$D$5)*(1/Sanierungsdesign!$E$15)/1000000","v":378.31244095805721},{"$f":"$D$5+(-Sanierungsdesign!$E$12/(4*PI()*$D$3))*(-LN((4*$D$4*AH629)/(Sanierungsdesign!$E$13+Sanierungsdesign!$E$15)^2)-$D$19)","v":400.28144292432336},127.13144292432338,{"$f":"(2*PI()*Sanierungsdesign!$E$10*$D$3)*(LN((Sanierungsdesign!$E$13+Sanierungsdesign!$E$15)/Sanierungsdesign!$E$13)*(AJ629-AN629))*$AH$7/1000000","v":255.78186187121355},7728.8689808757799,17444.057289836637,{"$f":"AU629/Sanierungsdesign!$E$11","v":2.1564032487364364},3588480,17.251225989891491,{"$error":"#DIV/0!"},{"$error":"#DIV/0!"},{"$error":"#DIV/0!"},{"$error":"#DIV/0!"},{"$f":"(AY629/(AH629*Sanierungsdesign!$E$10))*1000000","v":{"$error":"#DIV/0!"}},{"$f":"AZ629/Sanierungsdesign!$E$12","v":{"$error":"#DIV/0!"}},{"$f":"$D$5+((-(Sanierungsdesign!$E$12)*MIN($BA$7:$BA$932))/(4*PI()*$D$3))*(-LN((4*$D$4*AH629)/(Sanierungsdesign!$E$13)^2)-$D$19)","v":{"$error":"#DIV/0!"}},{"$f":"(BB629-273.15)/Heterogenität!$D$4","v":{"$error":"#DIV/0!"}},{"$f":"IF(AI629<Berechnung!$D$7,AI629,#N/A)","v":{"$error":"#N/A"}}]
[null,null,null,null,null,null,null,null,null,null,null,null,null,null,null,null,null,null,null,null,null,null,null,null,null,null,null,null,null,null,null,null,{"$f":"Sanierungsdesign!$E$12*AH630*Sanierungsdesign!$E$10/1000000","v":29203.200000000001},4492800,52,{"$f":"$D$5+((-Sanierungsdesign!$E$12)/4*PI()*$D$3)*(-LN((4*$D$4*AH630)/(Sanierungsdesign!$E$13^2))-$D$19)","v":3267.5007226694993},2994.3507226694992,5965.3961148510034,{"$f":"$D$3*$T$7*$AH$7*(AK630-$D$5)*(1/Sanierungsdesign!$E$15)/1000000","v":378.62620269071607},{"$f":"$D$5+(-Sanierungsdesign!$E$12/(4*PI()*$D$3))*(-LN((4*$D$4*AH630)/(Sanierungsdesign!$E$13+Sanierungsdesign!$E$15)^2)-$D$19)","v":400.40237541908692},127.25237541908695,{"$f":"(2*PI()*Sanierungsdesign!$E$10*$D$3)*(LN((Sanierungsdesign!$E$13+Sanierungsdesign!$E$15)/Sanierungsdesign!$E$13)*(AJ630-AN630))*$AH$7/1000000","v":255.97165097441791},7741.2748700906686,17472.057381794639,{"$f":"AU630/Sanierungsdesign!$E$11","v":2.1580289829236494},3594240,17.264231863389195,{"$error":"#DIV/0!"},{"$error":"#DIV/0!"},{"$error":"#DIV/0!"},{"$error":"#DIV/0!"},{"$f":"(AY630/(AH630*Sanierungsdesign!$E$10))*1000000","v":{"$error":"#DIV/0!"}},{"$f":"AZ630/Sanierungsdesign!$E$12","v":{"$error":"#DIV/0!"}},{"$f":"$D$5+((-(Sanierungsdesign!$E$12)*MIN($BA$7:$BA$932))/(4*PI()*$D$3))*(-LN((4*$D$4*AH630)/(Sanierungsdesign!$E$13)^2)-$D$19)","v":{"$error":"#DIV/0!"}},{"$f":"(BB630-273.15)/Heterogenität!$D$4","v":{"$error":"#DIV/0!"}},{"$f":"IF(AI630<Berechnung!$D$7,AI630,#N/A)","v":{"$error":"#N/A"}}]
[null,null,null,null,null,null,null,null,null,null,null,null,null,null,null,null,null,null,null,null,null,null,null,null,null,null,null,null,null,null,null,null,{"$f":"Sanierungsdesign!$E$12*AH631*Sanierungsdesign!$E$10/1000000","v":29250},4500000,52.083333333333336,{"$f":"$D$5+((-Sanierungsdesign!$E$12)/4*PI()*$D$3)*(-LN((4*$D$4*AH631)/(Sanierungsdesign!$E$13^2))-$D$19)","v":3269.7438555174726},2996.5938555174725,5969.8829030327825,{"$f":"$D$3*$T$7*$AH$7*(AK631-$D$5)*(1/Sanierungsdesign!$E$15)/1000000","v":378.93946200245114},{"$f":"$D$5+(-Sanierungsdesign!$E$12/(4*PI()*$D$3))*(-LN((4*$D$4*AH631)/(Sanierungsdesign!$E$13+Sanierungsdesign!$E$15)^2)-$D$19)","v":400.5231142668585},127.37311426685852,{"$f":"(2*PI()*Sanierungsdesign!$E$10*$D$3)*(LN((Sanierungsdesign!$E$13+Sanierungsdesign!$E$15)/Sanierungsdesign!$E$13)*(AJ631-AN631))*$AH$7/1000000","v":256.16113617180253},7753.6807593055573,17500.057473752644,{"$f":"AU631/Sanierungsdesign!$E$11","v":2.1596521138524425},3600000,17.27721691081954,{"$error":"#DIV/0!"},{"$error":"#DIV/0!"},{"$error":"#DIV/0!"},{"$error":"#DIV/0!"},{"$f":"(AY631/(AH631*Sanierungsdesign!$E$10))*1000000","v":{"$error":"#DIV/0!"}},{"$f":"AZ631/Sanierungsdesign!$E$12","v":{"$error":"#DIV/0!"}},{"$f":"$D$5+((-(Sanierungsdesign!$E$12)*MIN($BA$7:$BA$932))/(4*PI()*$D$3))*(-LN((4*$D$4*AH631)/(Sanierungsdesign!$E$13)^2)-$D$19)","v":{"$error":"#DIV/0!"}},{"$f":"(BB631-273.15)/Heterogenität!$D$4","v":{"$error":"#DIV/0!"}},{"$f":"IF(AI631<Berechnung!$D$7,AI631,#N/A)","v":{"$error":"#N/A"}}]
[null,null,null,null,null,null,null,null,null,null,null,null,null,null,null,null,null,null,null,null,null,null,null,null,null,null,null,null,null,null,null,null,{"$f":"Sanierungsdesign!$E$12*AH632*Sanierungsdesign!$E$10/1000000","v":29296.799999999999},4507200,52.166666666666664,{"$f":"$D$5+((-Sanierungsdesign!$E$12)/4*PI()*$D$3)*(-LN((4*$D$4*AH632)/(Sanierungsdesign!$E$13^2))-$D$19)","v":3271.9834022202754},2998.8334022202753,5974.3625180889121,{"$f":"$D$3*$T$7*$AH$7*(AK632-$D$5)*(1/Sanierungsdesign!$E$15)/1000000","v":379.2522204997253},{"$f":"$D$5+(-Sanierungsdesign!$E$12/(4*PI()*$D$3))*(-LN((4*$D$4*AH632)/(Sanierungsdesign!$E$13+Sanierungsdesign!$E$15)^2)-$D$19)","v":400.64366008681355},127.49366008681358,{"$f":"(2*PI()*Sanierungsdesign!$E$10*$D$3)*(LN((Sanierungsdesign!$E$13+Sanierungsdesign!$E$15)/Sanierungsdesign!$E$13)*(AJ632-AN632))*$AH$7/1000000","v":256.35031843508938},7766.086648520446,17528.057565710649,{"$f":"AU632/Sanierungsdesign!$E$11","v":2.1612726498465911},3605760,17.290181198772729,{"$error":"#DIV/0!"},{"$error":"#DIV/0!"},{"$error":"#DIV/0!"},{"$error":"#DIV/0!"},{"$f":"(AY632/(AH632*Sanierungsdesign!$E$10))*1000000","v":{"$error":"#DIV/0!"}},{"$f":"AZ632/Sanierungsdesign!$E$12","v":{"$error":"#DIV/0!"}},{"$f":"$D$5+((-(Sanierungsdesign!$E$12)*MIN($BA$7:$BA$932))/(4*PI()*$D$3))*(-LN((4*$D$4*AH632)/(Sanierungsdesign!$E$13)^2)-$D$19)","v":{"$error":"#DIV/0!"}},{"$f":"(BB632-273.15)/Heterogenität!$D$4","v":{"$error":"#DIV/0!"}},{"$f":"IF(AI632<Berechnung!$D$7,AI632,#N/A)","v":{"$error":"#N/A"}}]
[null,null,null,null,null,null,null,null,null,null,null,null,null,null,null,null,null,null,null,null,null,null,null,null,null,null,null,null,null,null,null,null,{"$f":"Sanierungsdesign!$E$12*AH633*Sanierungsdesign!$E$10/1000000","v":29343.599999999999},4514400,52.25,{"$f":"$D$5+((-Sanierungsdesign!$E$12)/4*PI()*$D$3)*(-LN((4*$D$4*AH633)/(Sanierungsdesign!$E$13^2))-$D$19)","v":3274.2193742261038},3001.0693742261037,5978.8349829184481,{"$f":"$D$3*$T$7*$AH$7*(AK633-$D$5)*(1/Sanierungsdesign!$E$15)/1000000","v":379.56447978130882},{"$f":"$D$5+(-Sanierungsdesign!$E$12/(4*PI()*$D$3))*(-LN((4*$D$4*AH633)/(Sanierungsdesign!$E$13+Sanierungsdesign!$E$15)^2)-$D$19)","v":400.7640134951626},127.61401349516262,{"$f":"(2*PI()*Sanierungsdesign!$E$10*$D$3)*(LN((Sanierungsdesign!$E$13+Sanierungsdesign!$E$15)/Sanierungsdesign!$E$13)*(AJ633-AN633))*$AH$7/1000000","v":256.53919873134726},7778.4925377353356,17556.057657668651,{"$f":"AU633/Sanierungsdesign!$E$11","v":2.1628905991900083},3611520,17.303124793520066,{"$error":"#DIV/0!"},{"$error":"#DIV/0!"},{"$error":"#DIV/0!"},{"$error":"#DIV/0!"},{"$f":"(AY633/(AH633*Sanierungsdesign!$E$10))*1000000","v":{"$error":"#DIV/0!"}},{"$f":"AZ633/Sanierungsdesign!$E$12","v":{"$error":"#DIV/0!"}},{"$f":"$D$5+((-(Sanierungsdesign!$E$12)*MIN($BA$7:$BA$932))/(4*PI()*$D$3))*(-LN((4*$D$4*AH633)/(Sanierungsdesign!$E$13)^2)-$D$19)","v":{"$error":"#DIV/0!"}},{"$f":"(BB633-273.15)/Heterogenität!$D$4","v":{"$error":"#DIV/0!"}},{"$f":"IF(AI633<Berechnung!$D$7,AI633,#N/A)","v":{"$error":"#N/A"}}]
[null,null,null,null,null,null,null,null,null,null,null,null,null,null,null,null,null,null,null,null,null,null,null,null,null,null,null,null,null,null,null,null,{"$f":"Sanierungsdesign!$E$12*AH634*Sanierungsdesign!$E$10/1000000","v":29390.400000000001},4521600,52.333333333333336,{"$f":"$D$5+((-Sanierungsdesign!$E$12)/4*PI()*$D$3)*(-LN((4*$D$4*AH634)/(Sanierungsdesign!$E$13^2))-$D$19)","v":3276.4517829284214},3003.3017829284213,5983.3003203109747,{"$f":"$D$3*$T$7*$AH$7*(AK634-$D$5)*(1/Sanierungsdesign!$E$15)/1000000","v":379.87624143832846},{"$f":"$D$5+(-Sanierungsdesign!$E$12/(4*PI()*$D$3))*(-LN((4*$D$4*AH634)/(Sanierungsdesign!$E$13+Sanierungsdesign!$E$15)^2)-$D$19)","v":400.88417510517007},127.7341751051701,{"$f":"(2*PI()*Sanierungsdesign!$E$10*$D$3)*(LN((Sanierungsdesign!$E$13+Sanierungsdesign!$E$15)/Sanierungsdesign!$E$13)*(AJ634-AN634))*$AH$7/1000000","v":256.7277780230213},7790.8984269502243,17584.057749626656,{"$f":"AU634/Sanierungsdesign!$E$11","v":2.1645059701270055},3617280,17.316047761016044,{"$error":"#DIV/0!"},{"$error":"#DIV/0!"},{"$error":"#DIV/0!"},{"$error":"#DIV/0!"},{"$f":"(AY634/(AH634*Sanierungsdesign!$E$10))*1000000","v":{"$error":"#DIV/0!"}},{"$f":"AZ634/Sanierungsdesign!$E$12","v":{"$error":"#DIV/0!"}},{"$f":"$D$5+((-(Sanierungsdesign!$E$12)*MIN($BA$7:$BA$932))/(4*PI()*$D$3))*(-LN((4*$D$4*AH634)/(Sanierungsdesign!$E$13)^2)-$D$19)","v":{"$error":"#DIV/0!"}},{"$f":"(BB634-273.15)/Heterogenität!$D$4","v":{"$error":"#DIV/0!"}},{"$f":"IF(AI634<Berechnung!$D$7,AI634,#N/A)","v":{"$error":"#N/A"}}]
[null,null,null,null,null,null,null,null,null,null,null,null,null,null,null,null,null,null,null,null,null,null,null,null,null,null,null,null,null,null,null,null,{"$f":"Sanierungsdesign!$E$12*AH635*Sanierungsdesign!$E$10/1000000","v":29437.200000000001},4528800,52.416666666666664,{"$f":"$D$5+((-Sanierungsdesign!$E$12)/4*PI()*$D$3)*(-LN((4*$D$4*AH635)/(Sanierungsdesign!$E$13^2))-$D$19)","v":3278.6806396663078},3005.5306396663077,5987.7585529472926,{"$f":"$D$3*$T$7*$AH$7*(AK635-$D$5)*(1/Sanierungsdesign!$E$15)/1000000","v":380.18750705431597},{"$f":"$D$5+(-Sanierungsdesign!$E$12/(4*PI()*$D$3))*(-LN((4*$D$4*AH635)/(Sanierungsdesign!$E$13+Sanierungsdesign!$E$15)^2)-$D$19)","v":401.00414552717314},127.85414552717316,{"$f":"(2*PI()*Sanierungsdesign!$E$10*$D$3)*(LN((Sanierungsdesign!$E$13+Sanierungsdesign!$E$15)/Sanierungsdesign!$E$13)*(AJ635-AN635))*$AH$7/1000000","v":256.91605726796308},7803.3043161651131,17612.057841584661,{"$f":"AU635/Sanierungsdesign!$E$11","v":2.1661187708625396},3623040,17.328950166900317,{"$error":"#DIV/0!"},{"$error":"#DIV/0!"},{"$error":"#DIV/0!"},{"$error":"#DIV/0!"},{"$f":"(AY635/(AH635*Sanierungsdesign!$E$10))*1000000","v":{"$error":"#DIV/0!"}},{"$f":"AZ635/Sanierungsdesign!$E$12","v":{"$error":"#DIV/0!"}},{"$f":"$D$5+((-(Sanierungsdesign!$E$12)*MIN($BA$7:$BA$932))/(4*PI()*$D$3))*(-LN((4*$D$4*AH635)/(Sanierungsdesign!$E$13)^2)-$D$19)","v":{"$error":"#DIV/0!"}},{"$f":"(BB635-273.15)/Heterogenität!$D$4","v":{"$error":"#DIV/0!"}},{"$f":"IF(AI635<Berechnung!$D$7,AI635,#N/A)","v":{"$error":"#N/A"}}]
[null,null,null,null,null,null,null,null,null,null,null,null,null,null,null,null,null,null,null,null,null,null,null,null,null,null,null,null,null,null,null,null,{"$f":"Sanierungsdesign!$E$12*AH636*Sanierungsdesign!$E$10/1000000","v":29484},4536000,52.5,{"$f":"$D$5+((-Sanierungsdesign!$E$12)/4*PI()*$D$3)*(-LN((4*$D$4*AH636)/(Sanierungsdesign!$E$13^2))-$D$19)","v":3280.9059557248052},3007.7559557248051,5992.2097034001108,{"$f":"$D$3*$T$7*$AH$7*(AK636-$D$5)*(1/Sanierungsdesign!$E$15)/1000000","v":380.49827820525678},{"$f":"$D$5+(-Sanierungsdesign!$E$12/(4*PI()*$D$3))*(-LN((4*$D$4*AH636)/(Sanierungsdesign!$E$13+Sanierungsdesign!$E$15)^2)-$D$19)","v":401.1239253686004},127.97392536860042,{"$f":"(2*PI()*Sanierungsdesign!$E$10*$D$3)*(LN((Sanierungsdesign!$E$13+Sanierungsdesign!$E$15)/Sanierungsdesign!$E$13)*(AJ636-AN636))*$AH$7/1000000","v":257.10403741945902},7815.7102053800018,17640.057933542663,{"$f":"AU636/Sanierungsdesign!$E$11","v":2.1677290095624686},3628800,17.341832076499749,{"$error":"#DIV/0!"},{"$error":"#DIV/0!"},{"$error":"#DIV/0!"},{"$error":"#DIV/0!"},{"$f":"(AY636/(AH636*Sanierungsdesign!$E$10))*1000000","v":{"$error":"#DIV/0!"}},{"$f":"AZ636/Sanierungsdesign!$E$12","v":{"$error":"#DIV/0!"}},{"$f":"$D$5+((-(Sanierungsdesign!$E$12)*MIN($BA$7:$BA$932))/(4*PI()*$D$3))*(-LN((4*$D$4*AH636)/(Sanierungsdesign!$E$13)^2)-$D$19)","v":{"$error":"#DIV/0!"}},{"$f":"(BB636-273.15)/Heterogenität!$D$4","v":{"$error":"#DIV/0!"}},{"$f":"IF(AI636<Berechnung!$D$7,AI636,#N/A)","v":{"$error":"#N/A"}}]
[null,null,null,null,null,null,null,null,null,null,null,null,null,null,null,null,null,null,null,null,null,null,null,null,null,null,null,null,null,null,null,null,{"$f":"Sanierungsdesign!$E$12*AH637*Sanierungsdesign!$E$10/1000000","v":29530.799999999999},4543200,52.583333333333336,{"$f":"$D$5+((-Sanierungsdesign!$E$12)/4*PI()*$D$3)*(-LN((4*$D$4*AH637)/(Sanierungsdesign!$E$13^2))-$D$19)","v":3283.1277423352558},3009.9777423352557,5996.6537941347333,{"$f":"$D$3*$T$7*$AH$7*(AK637-$D$5)*(1/Sanierungsdesign!$E$15)/1000000","v":380.80855645963686},{"$f":"$D$5+(-Sanierungsdesign!$E$12/(4*PI()*$D$3))*(-LN((4*$D$4*AH637)/(Sanierungsdesign!$E$13+Sanierungsdesign!$E$15)^2)-$D$19)","v":401.24351523399002},128.09351523399005,{"$f":"(2*PI()*Sanierungsdesign!$E$10*$D$3)*(LN((Sanierungsdesign!$E$13+Sanierungsdesign!$E$15)/Sanierungsdesign!$E$13)*(AJ637-AN637))*$AH$7/1000000","v":257.29171942625953},7828.1160945948905,17668.058025500668,{"$f":"AU637/Sanierungsdesign!$E$11","v":2.1693366943537908},3634560,17.354693554830327,{"$error":"#DIV/0!"},{"$error":"#DIV/0!"},{"$error":"#DIV/0!"},{"$error":"#DIV/0!"},{"$f":"(AY637/(AH637*Sanierungsdesign!$E$10))*1000000","v":{"$error":"#DIV/0!"}},{"$f":"AZ637/Sanierungsdesign!$E$12","v":{"$error":"#DIV/0!"}},{"$f":"$D$5+((-(Sanierungsdesign!$E$12)*MIN($BA$7:$BA$932))/(4*PI()*$D$3))*(-LN((4*$D$4*AH637)/(Sanierungsdesign!$E$13)^2)-$D$19)","v":{"$error":"#DIV/0!"}},{"$f":"(BB637-273.15)/Heterogenität!$D$4","v":{"$error":"#DIV/0!"}},{"$f":"IF(AI637<Berechnung!$D$7,AI637,#N/A)","v":{"$error":"#N/A"}}]
[null,null,null,null,null,null,null,null,null,null,null,null,null,null,null,null,null,null,null,null,null,null,null,null,null,null,null,null,null,null,null,null,{"$f":"Sanierungsdesign!$E$12*AH638*Sanierungsdesign!$E$10/1000000","v":29577.599999999999},4550400,52.666666666666664,{"$f":"$D$5+((-Sanierungsdesign!$E$12)/4*PI()*$D$3)*(-LN((4*$D$4*AH638)/(Sanierungsdesign!$E$13^2))-$D$19)","v":3285.3460106756534},3012.1960106756533,6001.0908475097503,{"$f":"$D$3*$T$7*$AH$7*(AK638-$D$5)*(1/Sanierungsdesign!$E$15)/1000000","v":381.11834337849211},{"$f":"$D$5+(-Sanierungsdesign!$E$12/(4*PI()*$D$3))*(-LN((4*$D$4*AH638)/(Sanierungsdesign!$E$13+Sanierungsdesign!$E$15)^2)-$D$19)","v":401.36291572500852},128.21291572500854,{"$f":"(2*PI()*Sanierungsdesign!$E$10*$D$3)*(LN((Sanierungsdesign!$E$13+Sanierungsdesign!$E$15)/Sanierungsdesign!$E$13)*(AJ638-AN638))*$AH$7/1000000","v":257.47910423260839},7840.5219838097801,17696.058117458677,{"$f":"AU638/Sanierungsdesign!$E$11","v":2.1709418333249024},3640320,17.367534666599219,{"$error":"#DIV/0!"},{"$error":"#DIV/0!"},{"$error":"#DIV/0!"},{"$error":"#DIV/0!"},{"$f":"(AY638/(AH638*Sanierungsdesign!$E$10))*1000000","v":{"$error":"#DIV/0!"}},{"$f":"AZ638/Sanierungsdesign!$E$12","v":{"$error":"#DIV/0!"}},{"$f":"$D$5+((-(Sanierungsdesign!$E$12)*MIN($BA$7:$BA$932))/(4*PI()*$D$3))*(-LN((4*$D$4*AH638)/(Sanierungsdesign!$E$13)^2)-$D$19)","v":{"$error":"#DIV/0!"}},{"$f":"(BB638-273.15)/Heterogenität!$D$4","v":{"$error":"#DIV/0!"}},{"$f":"IF(AI638<Berechnung!$D$7,AI638,#N/A)","v":{"$error":"#N/A"}}]
[null,null,null,null,null,null,null,null,null,null,null,null,null,null,null,null,null,null,null,null,null,null,null,null,null,null,null,null,null,null,null,null,{"$f":"Sanierungsdesign!$E$12*AH639*Sanierungsdesign!$E$10/1000000","v":29624.400000000001},4557600,52.75,{"$f":"$D$5+((-Sanierungsdesign!$E$12)/4*PI()*$D$3)*(-LN((4*$D$4*AH639)/(Sanierungsdesign!$E$13^2))-$D$19)","v":3287.5607718709666},3014.4107718709665,6005.5208857776897,{"$f":"$D$3*$T$7*$AH$7*(AK639-$D$5)*(1/Sanierungsdesign!$E$15)/1000000","v":381.42764051545311},{"$f":"$D$5+(-Sanierungsdesign!$E$12/(4*PI()*$D$3))*(-LN((4*$D$4*AH639)/(Sanierungsdesign!$E$13+Sanierungsdesign!$E$15)^2)-$D$19)","v":401.48212744046839},128.33212744046841,{"$f":"(2*PI()*Sanierungsdesign!$E$10*$D$3)*(LN((Sanierungsdesign!$E$13+Sanierungsdesign!$E$15)/Sanierungsdesign!$E$13)*(AJ639-AN639))*$AH$7/1000000","v":257.66619277827027},7852.9278730246688,17724.058209416675,{"$f":"AU639/Sanierungsdesign!$E$11","v":2.1725444345258311},3646080,17.380355476206649,{"$error":"#DIV/0!"},{"$error":"#DIV/0!"},{"$error":"#DIV/0!"},{"$error":"#DIV/0!"},{"$f":"(AY639/(AH639*Sanierungsdesign!$E$10))*1000000","v":{"$error":"#DIV/0!"}},{"$f":"AZ639/Sanierungsdesign!$E$12","v":{"$error":"#DIV/0!"}},{"$f":"$D$5+((-(Sanierungsdesign!$E$12)*MIN($BA$7:$BA$932))/(4*PI()*$D$3))*(-LN((4*$D$4*AH639)/(Sanierungsdesign!$E$13)^2)-$D$19)","v":{"$error":"#DIV/0!"}},{"$f":"(BB639-273.15)/Heterogenität!$D$4","v":{"$error":"#DIV/0!"}},{"$f":"IF(AI639<Berechnung!$D$7,AI639,#N/A)","v":{"$error":"#N/A"}}]
[null,null,null,null,null,null,null,null,null,null,null,null,null,null,null,null,null,null,null,null,null,null,null,null,null,null,null,null,null,null,null,null,{"$f":"Sanierungsdesign!$E$12*AH640*Sanierungsdesign!$E$10/1000000","v":29671.200000000001},4564800,52.833333333333336,{"$f":"$D$5+((-Sanierungsdesign!$E$12)/4*PI()*$D$3)*(-LN((4*$D$4*AH640)/(Sanierungsdesign!$E$13^2))-$D$19)","v":3289.7720369934841},3016.622036993484,6009.9439310857097,{"$f":"$D$3*$T$7*$AH$7*(AK640-$D$5)*(1/Sanierungsdesign!$E$15)/1000000","v":381.73644941679356},{"$f":"$D$5+(-Sanierungsdesign!$E$12/(4*PI()*$D$3))*(-LN((4*$D$4*AH640)/(Sanierungsdesign!$E$13+Sanierungsdesign!$E$15)^2)-$D$19)","v":401.60115097634662},128.45115097634664,{"$f":"(2*PI()*Sanierungsdesign!$E$10*$D$3)*(LN((Sanierungsdesign!$E$13+Sanierungsdesign!$E$15)/Sanierungsdesign!$E$13)*(AJ640-AN640))*$AH$7/1000000","v":257.85298599855969},7865.3337622395575,17752.05830137468,{"$f":"AU640/Sanierungsdesign!$E$11","v":2.1741445059684845},3651840,17.393156047747876,{"$error":"#DIV/0!"},{"$error":"#DIV/0!"},{"$error":"#DIV/0!"},{"$error":"#DIV/0!"},{"$f":"(AY640/(AH640*Sanierungsdesign!$E$10))*1000000","v":{"$error":"#DIV/0!"}},{"$f":"AZ640/Sanierungsdesign!$E$12","v":{"$error":"#DIV/0!"}},{"$f":"$D$5+((-(Sanierungsdesign!$E$12)*MIN($BA$7:$BA$932))/(4*PI()*$D$3))*(-LN((4*$D$4*AH640)/(Sanierungsdesign!$E$13)^2)-$D$19)","v":{"$error":"#DIV/0!"}},{"$f":"(BB640-273.15)/Heterogenität!$D$4","v":{"$error":"#DIV/0!"}},{"$f":"IF(AI640<Berechnung!$D$7,AI640,#N/A)","v":{"$error":"#N/A"}}]
[null,null,null,null,null,null,null,null,null,null,null,null,null,null,null,null,null,null,null,null,null,null,null,null,null,null,null,null,null,null,null,null,{"$f":"Sanierungsdesign!$E$12*AH641*Sanierungsdesign!$E$10/1000000","v":29718},4572000,52.916666666666664,{"$f":"$D$5+((-Sanierungsdesign!$E$12)/4*PI()*$D$3)*(-LN((4*$D$4*AH641)/(Sanierungsdesign!$E$13^2))-$D$19)","v":3291.9798170631439},3018.8298170631438,6014.3600054762519,{"$f":"$D$3*$T$7*$AH$7*(AK641-$D$5)*(1/Sanierungsdesign!$E$15)/1000000","v":382.04477162147657},{"$f":"$D$5+(-Sanierungsdesign!$E$12/(4*PI()*$D$3))*(-LN((4*$D$4*AH641)/(Sanierungsdesign!$E$13+Sanierungsdesign!$E$15)^2)-$D$19)","v":401.71998692580212},128.56998692580214,{"$f":"(2*PI()*Sanierungsdesign!$E$10*$D$3)*(LN((Sanierungsdesign!$E$13+Sanierungsdesign!$E$15)/Sanierungsdesign!$E$13)*(AJ641-AN641))*$AH$7/1000000","v":258.03948482436897},7877.7396514544462,17780.058393332685,{"$f":"AU641/Sanierungsdesign!$E$11","v":2.1757420556268907},3657600,17.405936445015126,{"$error":"#DIV/0!"},{"$error":"#DIV/0!"},{"$error":"#DIV/0!"},{"$error":"#DIV/0!"},{"$f":"(AY641/(AH641*Sanierungsdesign!$E$10))*1000000","v":{"$error":"#DIV/0!"}},{"$f":"AZ641/Sanierungsdesign!$E$12","v":{"$error":"#DIV/0!"}},{"$f":"$D$5+((-(Sanierungsdesign!$E$12)*MIN($BA$7:$BA$932))/(4*PI()*$D$3))*(-LN((4*$D$4*AH641)/(Sanierungsdesign!$E$13)^2)-$D$19)","v":{"$error":"#DIV/0!"}},{"$f":"(BB641-273.15)/Heterogenität!$D$4","v":{"$error":"#DIV/0!"}},{"$f":"IF(AI641<Berechnung!$D$7,AI641,#N/A)","v":{"$error":"#N/A"}}]
[null,null,null,null,null,null,null,null,null,null,null,null,null,null,null,null,null,null,null,null,null,null,null,null,null,null,null,null,null,null,null,null,{"$f":"Sanierungsdesign!$E$12*AH642*Sanierungsdesign!$E$10/1000000","v":29764.799999999999},4579200,53,{"$f":"$D$5+((-Sanierungsdesign!$E$12)/4*PI()*$D$3)*(-LN((4*$D$4*AH642)/(Sanierungsdesign!$E$13^2))-$D$19)","v":3294.1841230478603},3021.0341230478602,6018.7691308876983,{"$f":"$D$3*$T$7*$AH$7*(AK642-$D$5)*(1/Sanierungsdesign!$E$15)/1000000","v":382.35260866119961},{"$f":"$D$5+(-Sanierungsdesign!$E$12/(4*PI()*$D$3))*(-LN((4*$D$4*AH642)/(Sanierungsdesign!$E$13+Sanierungsdesign!$E$15)^2)-$D$19)","v":401.83863587919387},128.6886358791939,{"$f":"(2*PI()*Sanierungsdesign!$E$10*$D$3)*(LN((Sanierungsdesign!$E$13+Sanierungsdesign!$E$15)/Sanierungsdesign!$E$13)*(AJ642-AN642))*$AH$7/1000000","v":258.22569018219582},7890.1455406693349,17808.058485290687,{"$f":"AU642/Sanierungsdesign!$E$11","v":2.1773370914374315},3663360,17.418696731499452,{"$error":"#DIV/0!"},{"$error":"#DIV/0!"},{"$error":"#DIV/0!"},{"$error":"#DIV/0!"},{"$f":"(AY642/(AH642*Sanierungsdesign!$E$10))*1000000","v":{"$error":"#DIV/0!"}},{"$f":"AZ642/Sanierungsdesign!$E$12","v":{"$error":"#DIV/0!"}},{"$f":"$D$5+((-(Sanierungsdesign!$E$12)*MIN($BA$7:$BA$932))/(4*PI()*$D$3))*(-LN((4*$D$4*AH642)/(Sanierungsdesign!$E$13)^2)-$D$19)","v":{"$error":"#DIV/0!"}},{"$f":"(BB642-273.15)/Heterogenität!$D$4","v":{"$error":"#DIV/0!"}},{"$f":"IF(AI642<Berechnung!$D$7,AI642,#N/A)","v":{"$error":"#N/A"}}]
[null,null,null,null,null,null,null,null,null,null,null,null,null,null,null,null,null,null,null,null,null,null,null,null,null,null,null,null,null,null,null,null,{"$f":"Sanierungsdesign!$E$12*AH643*Sanierungsdesign!$E$10/1000000","v":29811.599999999999},4586400,53.083333333333336,{"$f":"$D$5+((-Sanierungsdesign!$E$12)/4*PI()*$D$3)*(-LN((4*$D$4*AH643)/(Sanierungsdesign!$E$13^2))-$D$19)","v":3296.3849658638528},3023.2349658638527,6023.1713291550332,{"$f":"$D$3*$T$7*$AH$7*(AK643-$D$5)*(1/Sanierungsdesign!$E$15)/1000000","v":382.6599620604411},{"$f":"$D$5+(-Sanierungsdesign!$E$12/(4*PI()*$D$3))*(-LN((4*$D$4*AH643)/(Sanierungsdesign!$E$13+Sanierungsdesign!$E$15)^2)-$D$19)","v":401.95709842409815},128.80709842409817,{"$f":"(2*PI()*Sanierungsdesign!$E$10*$D$3)*(LN((Sanierungsdesign!$E$13+Sanierungsdesign!$E$15)/Sanierungsdesign!$E$13)*(AJ643-AN643))*$AH$7/1000000","v":258.41160299417112},7902.5514298842245,17836.058577248696,{"$f":"AU643/Sanierungsdesign!$E$11","v":2.1789296212990834},3669120,17.431436970392667,{"$error":"#DIV/0!"},{"$error":"#DIV/0!"},{"$error":"#DIV/0!"},{"$error":"#DIV/0!"},{"$f":"(AY643/(AH643*Sanierungsdesign!$E$10))*1000000","v":{"$error":"#DIV/0!"}},{"$f":"AZ643/Sanierungsdesign!$E$12","v":{"$error":"#DIV/0!"}},{"$f":"$D$5+((-(Sanierungsdesign!$E$12)*MIN($BA$7:$BA$932))/(4*PI()*$D$3))*(-LN((4*$D$4*AH643)/(Sanierungsdesign!$E$13)^2)-$D$19)","v":{"$error":"#DIV/0!"}},{"$f":"(BB643-273.15)/Heterogenität!$D$4","v":{"$error":"#DIV/0!"}},{"$f":"IF(AI643<Berechnung!$D$7,AI643,#N/A)","v":{"$error":"#N/A"}}]
[null,null,null,null,null,null,null,null,null,null,null,null,null,null,null,null,null,null,null,null,null,null,null,null,null,null,null,null,null,null,null,null,{"$f":"Sanierungsdesign!$E$12*AH644*Sanierungsdesign!$E$10/1000000","v":29858.400000000001},4593600,53.166666666666664,{"$f":"$D$5+((-Sanierungsdesign!$E$12)/4*PI()*$D$3)*(-LN((4*$D$4*AH644)/(Sanierungsdesign!$E$13^2))-$D$19)","v":3298.5823563759727},3025.4323563759726,6027.5666220104886,{"$f":"$D$3*$T$7*$AH$7*(AK644-$D$5)*(1/Sanierungsdesign!$E$15)/1000000","v":382.9668333365056},{"$f":"$D$5+(-Sanierungsdesign!$E$12/(4*PI()*$D$3))*(-LN((4*$D$4*AH644)/(Sanierungsdesign!$E$13+Sanierungsdesign!$E$15)^2)-$D$19)","v":402.07537514532635},128.92537514532637,{"$f":"(2*PI()*Sanierungsdesign!$E$10*$D$3)*(LN((Sanierungsdesign!$E$13+Sanierungsdesign!$E$15)/Sanierungsdesign!$E$13)*(AJ644-AN644))*$AH$7/1000000","v":258.59722417808644},7914.9573190991132,17864.058669206701,{"$f":"AU644/Sanierungsdesign!$E$11","v":2.1805196530736537},3674880,17.44415722458923,{"$error":"#DIV/0!"},{"$error":"#DIV/0!"},{"$error":"#DIV/0!"},{"$error":"#DIV/0!"},{"$f":"(AY644/(AH644*Sanierungsdesign!$E$10))*1000000","v":{"$error":"#DIV/0!"}},{"$f":"AZ644/Sanierungsdesign!$E$12","v":{"$error":"#DIV/0!"}},{"$f":"$D$5+((-(Sanierungsdesign!$E$12)*MIN($BA$7:$BA$932))/(4*PI()*$D$3))*(-LN((4*$D$4*AH644)/(Sanierungsdesign!$E$13)^2)-$D$19)","v":{"$error":"#DIV/0!"}},{"$f":"(BB644-273.15)/Heterogenität!$D$4","v":{"$error":"#DIV/0!"}},{"$f":"IF(AI644<Berechnung!$D$7,AI644,#N/A)","v":{"$error":"#N/A"}}]
[null,null,null,null,null,null,null,null,null,null,null,null,null,null,null,null,null,null,null,null,null,null,null,null,null,null,null,null,null,null,null,null,{"$f":"Sanierungsdesign!$E$12*AH645*Sanierungsdesign!$E$10/1000000","v":29905.200000000001},4600800,53.25,{"$f":"$D$5+((-Sanierungsdesign!$E$12)/4*PI()*$D$3)*(-LN((4*$D$4*AH645)/(Sanierungsdesign!$E$13^2))-$D$19)","v":3300.7763053980202},3027.6263053980201,6031.9550310841823,{"$f":"$D$3*$T$7*$AH$7*(AK645-$D$5)*(1/Sanierungsdesign!$E$15)/1000000","v":383.27322399956836},{"$f":"$D$5+(-Sanierungsdesign!$E$12/(4*PI()*$D$3))*(-LN((4*$D$4*AH645)/(Sanierungsdesign!$E$13+Sanierungsdesign!$E$15)^2)-$D$19)","v":402.193466624942},129.04346662494203,{"$f":"(2*PI()*Sanierungsdesign!$E$10*$D$3)*(LN((Sanierungsdesign!$E$13+Sanierungsdesign!$E$15)/Sanierungsdesign!$E$13)*(AJ645-AN645))*$AH$7/1000000","v":258.78255464742091},7927.3632083140019,17892.058761164702,{"$f":"AU645/Sanierungsdesign!$E$11","v":2.1821071945860071},3680640,17.456857556688057,{"$error":"#DIV/0!"},{"$error":"#DIV/0!"},{"$error":"#DIV/0!"},{"$error":"#DIV/0!"},{"$f":"(AY645/(AH645*Sanierungsdesign!$E$10))*1000000","v":{"$error":"#DIV/0!"}},{"$f":"AZ645/Sanierungsdesign!$E$12","v":{"$error":"#DIV/0!"}},{"$f":"$D$5+((-(Sanierungsdesign!$E$12)*MIN($BA$7:$BA$932))/(4*PI()*$D$3))*(-LN((4*$D$4*AH645)/(Sanierungsdesign!$E$13)^2)-$D$19)","v":{"$error":"#DIV/0!"}},{"$f":"(BB645-273.15)/Heterogenität!$D$4","v":{"$error":"#DIV/0!"}},{"$f":"IF(AI645<Berechnung!$D$7,AI645,#N/A)","v":{"$error":"#N/A"}}]
[null,null,null,null,null,null,null,null,null,null,null,null,null,null,null,null,null,null,null,null,null,null,null,null,null,null,null,null,null,null,null,null,{"$f":"Sanierungsdesign!$E$12*AH646*Sanierungsdesign!$E$10/1000000","v":29952},4608000,53.333333333333336,{"$f":"$D$5+((-Sanierungsdesign!$E$12)/4*PI()*$D$3)*(-LN((4*$D$4*AH646)/(Sanierungsdesign!$E$13^2))-$D$19)","v":3302.966823693067},3029.8168236930669,6036.3365779047681,{"$f":"$D$3*$T$7*$AH$7*(AK646-$D$5)*(1/Sanierungsdesign!$E$15)/1000000","v":383.57913555272012},{"$f":"$D$5+(-Sanierungsdesign!$E$12/(4*PI()*$D$3))*(-LN((4*$D$4*AH646)/(Sanierungsdesign!$E$13+Sanierungsdesign!$E$15)^2)-$D$19)","v":402.31137344227807},129.16137344227809,{"$f":"(2*PI()*Sanierungsdesign!$E$10*$D$3)*(LN((Sanierungsdesign!$E$13+Sanierungsdesign!$E$15)/Sanierungsdesign!$E$13)*(AJ646-AN646))*$AH$7/1000000","v":258.96759531136843},7939.7690975288906,17920.058853122708,{"$f":"AU646/Sanierungsdesign!$E$11","v":2.1836922536243026},3686400,17.469538028994421,{"$error":"#DIV/0!"},{"$error":"#DIV/0!"},{"$error":"#DIV/0!"},{"$error":"#DIV/0!"},{"$f":"(AY646/(AH646*Sanierungsdesign!$E$10))*1000000","v":{"$error":"#DIV/0!"}},{"$f":"AZ646/Sanierungsdesign!$E$12","v":{"$error":"#DIV/0!"}},{"$f":"$D$5+((-(Sanierungsdesign!$E$12)*MIN($BA$7:$BA$932))/(4*PI()*$D$3))*(-LN((4*$D$4*AH646)/(Sanierungsdesign!$E$13)^2)-$D$19)","v":{"$error":"#DIV/0!"}},{"$f":"(BB646-273.15)/Heterogenität!$D$4","v":{"$error":"#DIV/0!"}},{"$f":"IF(AI646<Berechnung!$D$7,AI646,#N/A)","v":{"$error":"#N/A"}}]
[null,null,null,null,null,null,null,null,null,null,null,null,null,null,null,null,null,null,null,null,null,null,null,null,null,null,null,null,null,null,null,null,{"$f":"Sanierungsdesign!$E$12*AH647*Sanierungsdesign!$E$10/1000000","v":29998.799999999999},4615200,{"$f":"AH647/86400","v":53.416666666666664},{"$f":"$D$5+((-Sanierungsdesign!$E$12)/4*PI()*$D$3)*(-LN((4*$D$4*AH647)/(Sanierungsdesign!$E$13^2))-$D$19)","v":3305.1539219737724},{"$f":"AJ647-273.15","v":3032.0039219737723},6040.7112839000565,{"$f":"$D$3*$T$7*$AH$7*(AK647-$D$5)*(1/Sanierungsdesign!$E$15)/1000000","v":383.88456949201162},{"$f":"$D$5+(-Sanierungsdesign!$E$12/(4*PI()*$D$3))*(-LN((4*$D$4*AH647)/(Sanierungsdesign!$E$13+Sanierungsdesign!$E$15)^2)-$D$19)","v":402.42909617395406},{"$f":"AN647-273.15","v":129.27909617395409},{"$f":"(2*PI()*Sanierungsdesign!$E$10*$D$3)*(LN((Sanierungsdesign!$E$13+Sanierungsdesign!$E$15)/Sanierungsdesign!$E$13)*(AJ647-AN647))*$AH$7/1000000","v":259.15234707486451},7952.1749867437793,17948.058945080713,{"$f":"AU647/Sanierungsdesign!$E$11","v":2.1852748379402214},3692160,17.482198703521771,{"$error":"#DIV/0!"},{"$error":"#DIV/0!"},{"$error":"#DIV/0!"},{"$f":"AG647-AX647","v":{"$error":"#DIV/0!"}},{"$f":"(AY647/(AH647*Sanierungsdesign!$E$10))*1000000","v":{"$error":"#DIV/0!"}},{"$f":"AZ647/Sanierungsdesign!$E$12","v":{"$error":"#DIV/0!"}},{"$f":"$D$5+((-(Sanierungsdesign!$E$12)*MIN($BA$7:$BA$932))/(4*PI()*$D$3))*(-LN((4*$D$4*AH647)/(Sanierungsdesign!$E$13)^2)-$D$19)","v":{"$error":"#DIV/0!"}},{"$f":"(BB647-273.15)/Heterogenität!$D$4","v":{"$error":"#DIV/0!"}},{"$f":"IF(AI647<Berechnung!$D$7,AI647,#N/A)","v":{"$error":"#N/A"}}]
[null,null,null,null,null,null,null,null,null,null,null,null,null,null,null,null,null,null,null,null,null,null,null,null,null,null,null,null,null,null,null,null,{"$f":"Sanierungsdesign!$E$12*AH648*Sanierungsdesign!$E$10/1000000","v":30045.599999999999},4622400,53.5,{"$f":"$D$5+((-Sanierungsdesign!$E$12)/4*PI()*$D$3)*(-LN((4*$D$4*AH648)/(Sanierungsdesign!$E$13^2))-$D$19)","v":3307.3376109026976},3034.1876109026975,{"$f":"$T$4*$T$7*$AH$7*(AJ648-$D$2)/1000000","v":6045.0791703976565},{"$f":"$D$3*$T$7*$AH$7*(AK648-$D$5)*(1/Sanierungsdesign!$E$15)/1000000","v":384.1895273064971},{"$f":"$D$5+(-Sanierungsdesign!$E$12/(4*PI()*$D$3))*(-LN((4*$D$4*AH648)/(Sanierungsdesign!$E$13+Sanierungsdesign!$E$15)^2)-$D$19)","v":402.54663539389287},129.39663539389289,{"$f":"(2*PI()*Sanierungsdesign!$E$10*$D$3)*(LN((Sanierungsdesign!$E$13+Sanierungsdesign!$E$15)/Sanierungsdesign!$E$13)*(AJ648-AN648))*$AH$7/1000000","v":259.33681083861251},{"$f":"$T$20*AH648","v":7964.5808759586689},{"$f":"$D$12*AQ648/1000000","v":17976.059037038714},{"$f":"AU648/Sanierungsdesign!$E$11","v":2.1868549552491916},{"$f":"$T$18/$D$24*AH648","v":3697920},{"$f":"($D$10*$T$18)*(AJ648-$D$2)/1000000","v":17.494839641993533},{"$f":"($D$17*$L$10*$T$28+$L$2*$D$10*$T$28+$D$16*$L$4*$T$28+$D$18*$L$7*$T$28)*(AJ648-$D$5)/1000000","v":{"$error":"#DIV/0!"}},{"$f":"AV648*$D$28","v":{"$error":"#DIV/0!"}},{"$f":"AL648+AM648+AR648+(0.5*AP648)-(2*AW648)+AS648","v":{"$error":"#DIV/0!"}},{"$error":"#DIV/0!"},{"$f":"(AY648/(AH648*Sanierungsdesign!$E$10))*1000000","v":{"$error":"#DIV/0!"}},{"$f":"AZ648/Sanierungsdesign!$E$12","v":{"$error":"#DIV/0!"}},{"$f":"$D$5+((-(Sanierungsdesign!$E$12)*MIN($BA$7:$BA$932))/(4*PI()*$D$3))*(-LN((4*$D$4*AH648)/(Sanierungsdesign!$E$13)^2)-$D$19)","v":{"$error":"#DIV/0!"}},{"$f":"(BB648-273.15)/Heterogenität!$D$4","v":{"$error":"#DIV/0!"}},{"$f":"IF(AI648<Berechnung!$D$7,AI648,#N/A)","v":{"$error":"#N/A"}}]
[null,null,null,null,null,null,null,null,null,null,null,null,null,null,null,null,null,null,null,null,null,null,null,null,null,null,null,null,null,null,null,null,{"$f":"Sanierungsdesign!$E$12*AH649*Sanierungsdesign!$E$10/1000000","v":30092.400000000001},{"$f":"AH648+$D$24","v":4629600},53.583333333333336,{"$f":"$D$5+((-Sanierungsdesign!$E$12)/4*PI()*$D$3)*(-LN((4*$D$4*AH649)/(Sanierungsdesign!$E$13^2))-$D$19)","v":3309.5179010926163},3036.3679010926162,6049.4402586255856,{"$f":"$D$3*$T$7*$AH$7*(AK649-$D$5)*(1/Sanierungsdesign!$E$15)/1000000","v":384.49401047827786},{"$f":"$D$5+(-Sanierungsdesign!$E$12/(4*PI()*$D$3))*(-LN((4*$D$4*AH649)/(Sanierungsdesign!$E$13+Sanierungsdesign!$E$15)^2)-$D$19)","v":402.6639916733377},129.51399167333773,{"$f":"(2*PI()*Sanierungsdesign!$E$10*$D$3)*(LN((Sanierungsdesign!$E$13+Sanierungsdesign!$E$15)/Sanierungsdesign!$E$13)*(AJ649-AN649))*$AH$7/1000000","v":259.52098749911022},7976.9867651735576,18004.05912899672,{"$f":"AU649/Sanierungsdesign!$E$11","v":2.1884326132306167},3703680,17.507460905844933,{"$error":"#DIV/0!"},{"$error":"#DIV/0!"},{"$error":"#DIV/0!"},{"$error":"#DIV/0!"},{"$f":"(AY649/(AH649*Sanierungsdesign!$E$10))*1000000","v":{"$error":"#DIV/0!"}},{"$f":"AZ649/Sanierungsdesign!$E$12","v":{"$error":"#DIV/0!"}},{"$f":"$D$5+((-(Sanierungsdesign!$E$12)*MIN($BA$7:$BA$932))/(4*PI()*$D$3))*(-LN((4*$D$4*AH649)/(Sanierungsdesign!$E$13)^2)-$D$19)","v":{"$error":"#DIV/0!"}},{"$f":"(BB649-273.15)/Heterogenität!$D$4","v":{"$error":"#DIV/0!"}},{"$f":"IF(AI649<Berechnung!$D$7,AI649,#N/A)","v":{"$error":"#N/A"}}]
[null,null,null,null,null,null,null,null,null,null,null,null,null,null,null,null,null,null,null,null,null,null,null,null,null,null,null,null,null,null,null,null,{"$f":"Sanierungsdesign!$E$12*AH650*Sanierungsdesign!$E$10/1000000","v":30139.200000000001},4636800,53.666666666666664,{"$f":"$D$5+((-Sanierungsdesign!$E$12)/4*PI()*$D$3)*(-LN((4*$D$4*AH650)/(Sanierungsdesign!$E$13^2))-$D$19)","v":3311.6948031068277},3038.5448031068277,6053.7945697129016,{"$f":"$D$3*$T$7*$AH$7*(AK650-$D$5)*(1/Sanierungsdesign!$E$15)/1000000","v":384.79802048254601},{"$f":"$D$5+(-Sanierungsdesign!$E$12/(4*PI()*$D$3))*(-LN((4*$D$4*AH650)/(Sanierungsdesign!$E$13+Sanierungsdesign!$E$15)^2)-$D$19)","v":402.78116558086839},129.63116558086841,{"$f":"(2*PI()*Sanierungsdesign!$E$10*$D$3)*(LN((Sanierungsdesign!$E$13+Sanierungsdesign!$E$15)/Sanierungsdesign!$E$13)*(AJ650-AN650))*$AH$7/1000000","v":259.70487794867614},7989.3926543884463,18032.059220954725,{"$f":"AU650/Sanierungsdesign!$E$11","v":2.1900078195281001},3709440,17.520062556224801,{"$error":"#DIV/0!"},{"$error":"#DIV/0!"},{"$error":"#DIV/0!"},{"$error":"#DIV/0!"},{"$f":"(AY650/(AH650*Sanierungsdesign!$E$10))*1000000","v":{"$error":"#DIV/0!"}},{"$f":"AZ650/Sanierungsdesign!$E$12","v":{"$error":"#DIV/0!"}},{"$f":"$D$5+((-(Sanierungsdesign!$E$12)*MIN($BA$7:$BA$932))/(4*PI()*$D$3))*(-LN((4*$D$4*AH650)/(Sanierungsdesign!$E$13)^2)-$D$19)","v":{"$error":"#DIV/0!"}},{"$f":"(BB650-273.15)/Heterogenität!$D$4","v":{"$error":"#DIV/0!"}},{"$f":"IF(AI650<Berechnung!$D$7,AI650,#N/A)","v":{"$error":"#N/A"}}]
[null,null,null,null,null,null,null,null,null,null,null,null,null,null,null,null,null,null,null,null,null,null,null,null,null,null,null,null,null,null,null,null,{"$f":"Sanierungsdesign!$E$12*AH651*Sanierungsdesign!$E$10/1000000","v":30186},4644000,53.75,{"$f":"$D$5+((-Sanierungsdesign!$E$12)/4*PI()*$D$3)*(-LN((4*$D$4*AH651)/(Sanierungsdesign!$E$13^2))-$D$19)","v":3313.8683274594587},3040.7183274594586,6058.1421246903101,{"$f":"$D$3*$T$7*$AH$7*(AK651-$D$5)*(1/Sanierungsdesign!$E$15)/1000000","v":385.10155878762663},{"$f":"$D$5+(-Sanierungsdesign!$E$12/(4*PI()*$D$3))*(-LN((4*$D$4*AH651)/(Sanierungsdesign!$E$13+Sanierungsdesign!$E$15)^2)-$D$19)","v":402.89815768241834},129.74815768241837,{"$f":"(2*PI()*Sanierungsdesign!$E$10*$D$3)*(LN((Sanierungsdesign!$E$13+Sanierungsdesign!$E$15)/Sanierungsdesign!$E$13)*(AJ651-AN651))*$AH$7/1000000","v":259.88848307547482},8001.798543603335,18060.059312912726,{"$f":"AU651/Sanierungsdesign!$E$11","v":2.1915805817496641},3715200,17.532644653997313,{"$error":"#DIV/0!"},{"$error":"#DIV/0!"},{"$error":"#DIV/0!"},{"$error":"#DIV/0!"},{"$f":"(AY651/(AH651*Sanierungsdesign!$E$10))*1000000","v":{"$error":"#DIV/0!"}},{"$f":"AZ651/Sanierungsdesign!$E$12","v":{"$error":"#DIV/0!"}},{"$f":"$D$5+((-(Sanierungsdesign!$E$12)*MIN($BA$7:$BA$932))/(4*PI()*$D$3))*(-LN((4*$D$4*AH651)/(Sanierungsdesign!$E$13)^2)-$D$19)","v":{"$error":"#DIV/0!"}},{"$f":"(BB651-273.15)/Heterogenität!$D$4","v":{"$error":"#DIV/0!"}},{"$f":"IF(AI651<Berechnung!$D$7,AI651,#N/A)","v":{"$error":"#N/A"}}]
[null,null,null,null,null,null,null,null,null,null,null,null,null,null,null,null,null,null,null,null,null,null,null,null,null,null,null,null,null,null,null,null,{"$f":"Sanierungsdesign!$E$12*AH652*Sanierungsdesign!$E$10/1000000","v":30232.799999999999},4651200,53.833333333333336,{"$f":"$D$5+((-Sanierungsdesign!$E$12)/4*PI()*$D$3)*(-LN((4*$D$4*AH652)/(Sanierungsdesign!$E$13^2))-$D$19)","v":3316.0384846157726},3042.8884846157725,6062.4829444907746,{"$f":"$D$3*$T$7*$AH$7*(AK652-$D$5)*(1/Sanierungsdesign!$E$15)/1000000","v":385.40462685502087},{"$f":"$D$5+(-Sanierungsdesign!$E$12/(4*PI()*$D$3))*(-LN((4*$D$4*AH652)/(Sanierungsdesign!$E$13+Sanierungsdesign!$E$15)^2)-$D$19)","v":403.01496854129073},129.86496854129075,{"$f":"(2*PI()*Sanierungsdesign!$E$10*$D$3)*(LN((Sanierungsdesign!$E$13+Sanierungsdesign!$E$15)/Sanierungsdesign!$E$13)*(AJ652-AN652))*$AH$7/1000000","v":260.07180376354347},8014.2044328182237,18088.059404870732,{"$f":"AU652/Sanierungsdesign!$E$11","v":2.1931509074679729},3720960,17.545207259743783,{"$error":"#DIV/0!"},{"$error":"#DIV/0!"},{"$error":"#DIV/0!"},{"$error":"#DIV/0!"},{"$f":"(AY652/(AH652*Sanierungsdesign!$E$10))*1000000","v":{"$error":"#DIV/0!"}},{"$f":"AZ652/Sanierungsdesign!$E$12","v":{"$error":"#DIV/0!"}},{"$f":"$D$5+((-(Sanierungsdesign!$E$12)*MIN($BA$7:$BA$932))/(4*PI()*$D$3))*(-LN((4*$D$4*AH652)/(Sanierungsdesign!$E$13)^2)-$D$19)","v":{"$error":"#DIV/0!"}},{"$f":"(BB652-273.15)/Heterogenität!$D$4","v":{"$error":"#DIV/0!"}},{"$f":"IF(AI652<Berechnung!$D$7,AI652,#N/A)","v":{"$error":"#N/A"}}]
[null,null,null,null,null,null,null,null,null,null,null,null,null,null,null,null,null,null,null,null,null,null,null,null,null,null,null,null,null,null,null,null,{"$f":"Sanierungsdesign!$E$12*AH653*Sanierungsdesign!$E$10/1000000","v":30279.599999999999},4658400,53.916666666666664,{"$f":"$D$5+((-Sanierungsdesign!$E$12)/4*PI()*$D$3)*(-LN((4*$D$4*AH653)/(Sanierungsdesign!$E$13^2))-$D$19)","v":3318.2052849924698},3045.0552849924698,6066.8170499501211,{"$f":"$D$3*$T$7*$AH$7*(AK653-$D$5)*(1/Sanierungsdesign!$E$15)/1000000","v":385.70722613944781},{"$f":"$D$5+(-Sanierungsdesign!$E$12/(4*PI()*$D$3))*(-LN((4*$D$4*AH653)/(Sanierungsdesign!$E$13+Sanierungsdesign!$E$15)^2)-$D$19)","v":403.1315987181747},129.98159871817472,{"$f":"(2*PI()*Sanierungsdesign!$E$10*$D$3)*(LN((Sanierungsdesign!$E$13+Sanierungsdesign!$E$15)/Sanierungsdesign!$E$13)*(AJ653-AN653))*$AH$7/1000000","v":260.25484089281673},8026.6103220331133,18116.059496828737,{"$f":"AU653/Sanierungsdesign!$E$11","v":2.1947188042205505},3726720,17.557750433764404,{"$error":"#DIV/0!"},{"$error":"#DIV/0!"},{"$error":"#DIV/0!"},{"$error":"#DIV/0!"},{"$f":"(AY653/(AH653*Sanierungsdesign!$E$10))*1000000","v":{"$error":"#DIV/0!"}},{"$f":"AZ653/Sanierungsdesign!$E$12","v":{"$error":"#DIV/0!"}},{"$f":"$D$5+((-(Sanierungsdesign!$E$12)*MIN($BA$7:$BA$932))/(4*PI()*$D$3))*(-LN((4*$D$4*AH653)/(Sanierungsdesign!$E$13)^2)-$D$19)","v":{"$error":"#DIV/0!"}},{"$f":"(BB653-273.15)/Heterogenität!$D$4","v":{"$error":"#DIV/0!"}},{"$f":"IF(AI653<Berechnung!$D$7,AI653,#N/A)","v":{"$error":"#N/A"}}]
[null,null,null,null,null,null,null,null,null,null,null,null,null,null,null,null,null,null,null,null,null,null,null,null,null,null,null,null,null,null,null,null,{"$f":"Sanierungsdesign!$E$12*AH654*Sanierungsdesign!$E$10/1000000","v":30326.400000000001},4665600,54,{"$f":"$D$5+((-Sanierungsdesign!$E$12)/4*PI()*$D$3)*(-LN((4*$D$4*AH654)/(Sanierungsdesign!$E$13^2))-$D$19)","v":3320.3687389579868},3047.2187389579867,6071.1444618076375,{"$f":"$D$3*$T$7*$AH$7*(AK654-$D$5)*(1/Sanierungsdesign!$E$15)/1000000","v":386.00935808888659},{"$f":"$D$5+(-Sanierungsdesign!$E$12/(4*PI()*$D$3))*(-LN((4*$D$4*AH654)/(Sanierungsdesign!$E$13+Sanierungsdesign!$E$15)^2)-$D$19)","v":403.24804877116173},130.09804877116176,{"$f":"(2*PI()*Sanierungsdesign!$E$10*$D$3)*(LN((Sanierungsdesign!$E$13+Sanierungsdesign!$E$15)/Sanierungsdesign!$E$13)*(AJ654-AN654))*$AH$7/1000000","v":260.43759533915227},8039.016211248002,18144.059588786738,{"$f":"AU654/Sanierungsdesign!$E$11","v":2.196284279509999},3732480,17.570274236079992,{"$error":"#DIV/0!"},{"$error":"#DIV/0!"},{"$error":"#DIV/0!"},{"$error":"#DIV/0!"},{"$f":"(AY654/(AH654*Sanierungsdesign!$E$10))*1000000","v":{"$error":"#DIV/0!"}},{"$f":"AZ654/Sanierungsdesign!$E$12","v":{"$error":"#DIV/0!"}},{"$f":"$D$5+((-(Sanierungsdesign!$E$12)*MIN($BA$7:$BA$932))/(4*PI()*$D$3))*(-LN((4*$D$4*AH654)/(Sanierungsdesign!$E$13)^2)-$D$19)","v":{"$error":"#DIV/0!"}},{"$f":"(BB654-273.15)/Heterogenität!$D$4","v":{"$error":"#DIV/0!"}},{"$f":"IF(AI654<Berechnung!$D$7,AI654,#N/A)","v":{"$error":"#N/A"}}]
[null,null,null,null,null,null,null,null,null,null,null,null,null,null,null,null,null,null,null,null,null,null,null,null,null,null,null,null,null,null,null,null,{"$f":"Sanierungsdesign!$E$12*AH655*Sanierungsdesign!$E$10/1000000","v":30373.200000000001},4672800,54.083333333333336,{"$f":"$D$5+((-Sanierungsdesign!$E$12)/4*PI()*$D$3)*(-LN((4*$D$4*AH655)/(Sanierungsdesign!$E$13^2))-$D$19)","v":3322.5288568327969},3049.3788568327968,6075.4652007066752,{"$f":"$D$3*$T$7*$AH$7*(AK655-$D$5)*(1/Sanierungsdesign!$E$15)/1000000","v":386.31102414461793},{"$f":"$D$5+(-Sanierungsdesign!$E$12/(4*PI()*$D$3))*(-LN((4*$D$4*AH655)/(Sanierungsdesign!$E$13+Sanierungsdesign!$E$15)^2)-$D$19)","v":403.36431925576142},130.21431925576144,{"$f":"(2*PI()*Sanierungsdesign!$E$10*$D$3)*(LN((Sanierungsdesign!$E$13+Sanierungsdesign!$E$15)/Sanierungsdesign!$E$13)*(AJ655-AN655))*$AH$7/1000000","v":260.62006797435629},8051.4221004628907,18172.059680744744,{"$f":"AU655/Sanierungsdesign!$E$11","v":2.1978473408042114},3738240,17.582778726433691,{"$error":"#DIV/0!"},{"$error":"#DIV/0!"},{"$error":"#DIV/0!"},{"$error":"#DIV/0!"},{"$f":"(AY655/(AH655*Sanierungsdesign!$E$10))*1000000","v":{"$error":"#DIV/0!"}},{"$f":"AZ655/Sanierungsdesign!$E$12","v":{"$error":"#DIV/0!"}},{"$f":"$D$5+((-(Sanierungsdesign!$E$12)*MIN($BA$7:$BA$932))/(4*PI()*$D$3))*(-LN((4*$D$4*AH655)/(Sanierungsdesign!$E$13)^2)-$D$19)","v":{"$error":"#DIV/0!"}},{"$f":"(BB655-273.15)/Heterogenität!$D$4","v":{"$error":"#DIV/0!"}},{"$f":"IF(AI655<Berechnung!$D$7,AI655,#N/A)","v":{"$error":"#N/A"}}]
[null,null,null,null,null,null,null,null,null,null,null,null,null,null,null,null,null,null,null,null,null,null,null,null,null,null,null,null,null,null,null,null,{"$f":"Sanierungsdesign!$E$12*AH656*Sanierungsdesign!$E$10/1000000","v":30420},4680000,54.166666666666664,{"$f":"$D$5+((-Sanierungsdesign!$E$12)/4*PI()*$D$3)*(-LN((4*$D$4*AH656)/(Sanierungsdesign!$E$13^2))-$D$19)","v":3324.6856488897033},3051.5356488897032,6079.7792871952342,{"$f":"$D$3*$T$7*$AH$7*(AK656-$D$5)*(1/Sanierungsdesign!$E$15)/1000000","v":386.61222574126543},{"$f":"$D$5+(-Sanierungsdesign!$E$12/(4*PI()*$D$3))*(-LN((4*$D$4*AH656)/(Sanierungsdesign!$E$13+Sanierungsdesign!$E$15)^2)-$D$19)","v":403.48041072491765},130.33041072491767,{"$f":"(2*PI()*Sanierungsdesign!$E$10*$D$3)*(LN((Sanierungsdesign!$E$13+Sanierungsdesign!$E$15)/Sanierungsdesign!$E$13)*(AJ656-AN656))*$AH$7/1000000","v":260.80225966620799},8063.8279896777794,18200.059772702749,{"$f":"AU656/Sanierungsdesign!$E$11","v":2.1994079955365891},3744000,17.595263964292712,{"$error":"#DIV/0!"},{"$error":"#DIV/0!"},{"$error":"#DIV/0!"},{"$error":"#DIV/0!"},{"$f":"(AY656/(AH656*Sanierungsdesign!$E$10))*1000000","v":{"$error":"#DIV/0!"}},{"$f":"AZ656/Sanierungsdesign!$E$12","v":{"$error":"#DIV/0!"}},{"$f":"$D$5+((-(Sanierungsdesign!$E$12)*MIN($BA$7:$BA$932))/(4*PI()*$D$3))*(-LN((4*$D$4*AH656)/(Sanierungsdesign!$E$13)^2)-$D$19)","v":{"$error":"#DIV/0!"}},{"$f":"(BB656-273.15)/Heterogenität!$D$4","v":{"$error":"#DIV/0!"}},{"$f":"IF(AI656<Berechnung!$D$7,AI656,#N/A)","v":{"$error":"#N/A"}}]
[null,null,null,null,null,null,null,null,null,null,null,null,null,null,null,null,null,null,null,null,null,null,null,null,null,null,null,null,null,null,null,null,{"$f":"Sanierungsdesign!$E$12*AH657*Sanierungsdesign!$E$10/1000000","v":30466.799999999999},4687200,54.25,{"$f":"$D$5+((-Sanierungsdesign!$E$12)/4*PI()*$D$3)*(-LN((4*$D$4*AH657)/(Sanierungsdesign!$E$13^2))-$D$19)","v":3326.8391253541313},3053.6891253541312,6084.0867417265454,{"$f":"$D$3*$T$7*$AH$7*(AK657-$D$5)*(1/Sanierungsdesign!$E$15)/1000000","v":386.91296430683627},{"$f":"$D$5+(-Sanierungsdesign!$E$12/(4*PI()*$D$3))*(-LN((4*$D$4*AH657)/(Sanierungsdesign!$E$13+Sanierungsdesign!$E$15)^2)-$D$19)","v":403.59632372902399},130.44632372902402,{"$f":"(2*PI()*Sanierungsdesign!$E$10*$D$3)*(LN((Sanierungsdesign!$E$13+Sanierungsdesign!$E$15)/Sanierungsdesign!$E$13)*(AJ657-AN657))*$AH$7/1000000","v":260.98417127848455},8076.2338788926691,18228.059864660754,{"$f":"AU657/Sanierungsdesign!$E$11","v":2.2009662511062493},3749760,17.607730008849995,{"$error":"#DIV/0!"},{"$error":"#DIV/0!"},{"$error":"#DIV/0!"},{"$error":"#DIV/0!"},{"$f":"(AY657/(AH657*Sanierungsdesign!$E$10))*1000000","v":{"$error":"#DIV/0!"}},{"$f":"AZ657/Sanierungsdesign!$E$12","v":{"$error":"#DIV/0!"}},{"$f":"$D$5+((-(Sanierungsdesign!$E$12)*MIN($BA$7:$BA$932))/(4*PI()*$D$3))*(-LN((4*$D$4*AH657)/(Sanierungsdesign!$E$13)^2)-$D$19)","v":{"$error":"#DIV/0!"}},{"$f":"(BB657-273.15)/Heterogenität!$D$4","v":{"$error":"#DIV/0!"}},{"$f":"IF(AI657<Berechnung!$D$7,AI657,#N/A)","v":{"$error":"#N/A"}}]
[null,null,null,null,null,null,null,null,null,null,null,null,null,null,null,null,null,null,null,null,null,null,null,null,null,null,null,null,null,null,null,null,{"$f":"Sanierungsdesign!$E$12*AH658*Sanierungsdesign!$E$10/1000000","v":30513.599999999999},4694400,54.333333333333336,{"$f":"$D$5+((-Sanierungsdesign!$E$12)/4*PI()*$D$3)*(-LN((4*$D$4*AH658)/(Sanierungsdesign!$E$13^2))-$D$19)","v":3328.9892964044216},3055.8392964044215,6088.3875846596611,{"$f":"$D$3*$T$7*$AH$7*(AK658-$D$5)*(1/Sanierungsdesign!$E$15)/1000000","v":387.21324126276198},{"$f":"$D$5+(-Sanierungsdesign!$E$12/(4*PI()*$D$3))*(-LN((4*$D$4*AH658)/(Sanierungsdesign!$E$13+Sanierungsdesign!$E$15)^2)-$D$19)","v":403.71205881593977},130.56205881593979,{"$f":"(2*PI()*Sanierungsdesign!$E$10*$D$3)*(LN((Sanierungsdesign!$E$13+Sanierungsdesign!$E$15)/Sanierungsdesign!$E$13)*(AJ658-AN658))*$AH$7/1000000","v":261.16580367098555},8088.6397681075578,18256.059956618759,{"$f":"AU658/Sanierungsdesign!$E$11","v":2.202522114878239},3755520,17.620176919025912,{"$error":"#DIV/0!"},{"$error":"#DIV/0!"},{"$error":"#DIV/0!"},{"$error":"#DIV/0!"},{"$f":"(AY658/(AH658*Sanierungsdesign!$E$10))*1000000","v":{"$error":"#DIV/0!"}},{"$f":"AZ658/Sanierungsdesign!$E$12","v":{"$error":"#DIV/0!"}},{"$f":"$D$5+((-(Sanierungsdesign!$E$12)*MIN($BA$7:$BA$932))/(4*PI()*$D$3))*(-LN((4*$D$4*AH658)/(Sanierungsdesign!$E$13)^2)-$D$19)","v":{"$error":"#DIV/0!"}},{"$f":"(BB658-273.15)/Heterogenität!$D$4","v":{"$error":"#DIV/0!"}},{"$f":"IF(AI658<Berechnung!$D$7,AI658,#N/A)","v":{"$error":"#N/A"}}]
[null,null,null,null,null,null,null,null,null,null,null,null,null,null,null,null,null,null,null,null,null,null,null,null,null,null,null,null,null,null,null,null,{"$f":"Sanierungsdesign!$E$12*AH659*Sanierungsdesign!$E$10/1000000","v":30560.400000000001},4701600,54.416666666666664,{"$f":"$D$5+((-Sanierungsdesign!$E$12)/4*PI()*$D$3)*(-LN((4*$D$4*AH659)/(Sanierungsdesign!$E$13^2))-$D$19)","v":3331.1361721721173},3057.9861721721172,6092.6818362600288,{"$f":"$D$3*$T$7*$AH$7*(AK659-$D$5)*(1/Sanierungsdesign!$E$15)/1000000","v":387.51305802393898},{"$f":"$D$5+(-Sanierungsdesign!$E$12/(4*PI()*$D$3))*(-LN((4*$D$4*AH659)/(Sanierungsdesign!$E$13+Sanierungsdesign!$E$15)^2)-$D$19)","v":403.82761653100533},130.67761653100536,{"$f":"(2*PI()*Sanierungsdesign!$E$10*$D$3)*(LN((Sanierungsdesign!$E$13+Sanierungsdesign!$E$15)/Sanierungsdesign!$E$13)*(AJ659-AN659))*$AH$7/1000000","v":261.3471576995575},8101.0456573224465,18284.060048576765,{"$f":"AU659/Sanierungsdesign!$E$11","v":2.204075594183744},3761280,17.632604753469952,{"$error":"#DIV/0!"},{"$error":"#DIV/0!"},{"$error":"#DIV/0!"},{"$error":"#DIV/0!"},{"$f":"(AY659/(AH659*Sanierungsdesign!$E$10))*1000000","v":{"$error":"#DIV/0!"}},{"$f":"AZ659/Sanierungsdesign!$E$12","v":{"$error":"#DIV/0!"}},{"$f":"$D$5+((-(Sanierungsdesign!$E$12)*MIN($BA$7:$BA$932))/(4*PI()*$D$3))*(-LN((4*$D$4*AH659)/(Sanierungsdesign!$E$13)^2)-$D$19)","v":{"$error":"#DIV/0!"}},{"$f":"(BB659-273.15)/Heterogenität!$D$4","v":{"$error":"#DIV/0!"}},{"$f":"IF(AI659<Berechnung!$D$7,AI659,#N/A)","v":{"$error":"#N/A"}}]
[null,null,null,null,null,null,null,null,null,null,null,null,null,null,null,null,null,null,null,null,null,null,null,null,null,null,null,null,null,null,null,null,{"$f":"Sanierungsdesign!$E$12*AH660*Sanierungsdesign!$E$10/1000000","v":30607.200000000001},4708800,54.5,{"$f":"$D$5+((-Sanierungsdesign!$E$12)/4*PI()*$D$3)*(-LN((4*$D$4*AH660)/(Sanierungsdesign!$E$13^2))-$D$19)","v":3333.2797627422524},3060.1297627422523,6096.9695167000637,{"$f":"$D$3*$T$7*$AH$7*(AK660-$D$5)*(1/Sanierungsdesign!$E$15)/1000000","v":387.81241599876819},{"$f":"$D$5+(-Sanierungsdesign!$E$12/(4*PI()*$D$3))*(-LN((4*$D$4*AH660)/(Sanierungsdesign!$E$13+Sanierungsdesign!$E$15)^2)-$D$19)","v":403.94299741705765},130.79299741705768,{"$f":"(2*PI()*Sanierungsdesign!$E$10*$D$3)*(LN((Sanierungsdesign!$E$13+Sanierungsdesign!$E$15)/Sanierungsdesign!$E$13)*(AJ660-AN660))*$AH$7/1000000","v":261.52823421611816},8113.4515465373352,18312.060140534766,{"$f":"AU660/Sanierungsdesign!$E$11","v":2.2056266963202935},3767040,17.645013570562348,{"$error":"#DIV/0!"},{"$error":"#DIV/0!"},{"$error":"#DIV/0!"},{"$error":"#DIV/0!"},{"$f":"(AY660/(AH660*Sanierungsdesign!$E$10))*1000000","v":{"$error":"#DIV/0!"}},{"$f":"AZ660/Sanierungsdesign!$E$12","v":{"$error":"#DIV/0!"}},{"$f":"$D$5+((-(Sanierungsdesign!$E$12)*MIN($BA$7:$BA$932))/(4*PI()*$D$3))*(-LN((4*$D$4*AH660)/(Sanierungsdesign!$E$13)^2)-$D$19)","v":{"$error":"#DIV/0!"}},{"$f":"(BB660-273.15)/Heterogenität!$D$4","v":{"$error":"#DIV/0!"}},{"$f":"IF(AI660<Berechnung!$D$7,AI660,#N/A)","v":{"$error":"#N/A"}}]
[null,null,null,null,null,null,null,null,null,null,null,null,null,null,null,null,null,null,null,null,null,null,null,null,null,null,null,null,null,null,null,null,{"$f":"Sanierungsdesign!$E$12*AH661*Sanierungsdesign!$E$10/1000000","v":30654},4716000,54.583333333333336,{"$f":"$D$5+((-Sanierungsdesign!$E$12)/4*PI()*$D$3)*(-LN((4*$D$4*AH661)/(Sanierungsdesign!$E$13^2))-$D$19)","v":3335.4200781536324},3062.2700781536323,6101.250646059716,{"$f":"$D$3*$T$7*$AH$7*(AK661-$D$5)*(1/Sanierungsdesign!$E$15)/1000000","v":388.11131658919487},{"$f":"$D$5+(-Sanierungsdesign!$E$12/(4*PI()*$D$3))*(-LN((4*$D$4*AH661)/(Sanierungsdesign!$E$13+Sanierungsdesign!$E$15)^2)-$D$19)","v":404.05820201444533},130.90820201444535,{"$f":"(2*PI()*Sanierungsdesign!$E$10*$D$3)*(LN((Sanierungsdesign!$E$13+Sanierungsdesign!$E$15)/Sanierungsdesign!$E$13)*(AJ661-AN661))*$AH$7/1000000","v":261.70903406868024},8125.8574357522239,18340.060232492771,{"$f":"AU661/Sanierungsdesign!$E$11","v":2.207175428551968},3772800,17.657403428415744,{"$error":"#DIV/0!"},{"$error":"#DIV/0!"},{"$error":"#DIV/0!"},{"$error":"#DIV/0!"},{"$f":"(AY661/(AH661*Sanierungsdesign!$E$10))*1000000","v":{"$error":"#DIV/0!"}},{"$f":"AZ661/Sanierungsdesign!$E$12","v":{"$error":"#DIV/0!"}},{"$f":"$D$5+((-(Sanierungsdesign!$E$12)*MIN($BA$7:$BA$932))/(4*PI()*$D$3))*(-LN((4*$D$4*AH661)/(Sanierungsdesign!$E$13)^2)-$D$19)","v":{"$error":"#DIV/0!"}},{"$f":"(BB661-273.15)/Heterogenität!$D$4","v":{"$error":"#DIV/0!"}},{"$f":"IF(AI661<Berechnung!$D$7,AI661,#N/A)","v":{"$error":"#N/A"}}]
[null,null,null,null,null,null,null,null,null,null,null,null,null,null,null,null,null,null,null,null,null,null,null,null,null,null,null,null,null,null,null,null,{"$f":"Sanierungsdesign!$E$12*AH662*Sanierungsdesign!$E$10/1000000","v":30700.799999999999},4723200,54.666666666666664,{"$f":"$D$5+((-Sanierungsdesign!$E$12)/4*PI()*$D$3)*(-LN((4*$D$4*AH662)/(Sanierungsdesign!$E$13^2))-$D$19)","v":3337.5571283991208},3064.4071283991207,6105.5252443270419,{"$f":"$D$3*$T$7*$AH$7*(AK662-$D$5)*(1/Sanierungsdesign!$E$15)/1000000","v":388.40976119074833},{"$f":"$D$5+(-Sanierungsdesign!$E$12/(4*PI()*$D$3))*(-LN((4*$D$4*AH662)/(Sanierungsdesign!$E$13+Sanierungsdesign!$E$15)^2)-$D$19)","v":404.17323086104409},131.02323086104411,{"$f":"(2*PI()*Sanierungsdesign!$E$10*$D$3)*(LN((Sanierungsdesign!$E$13+Sanierungsdesign!$E$15)/Sanierungsdesign!$E$13)*(AJ662-AN662))*$AH$7/1000000","v":261.88955810137548},8138.2633249671135,18368.060324450777,{"$f":"AU662/Sanierungsdesign!$E$11","v":2.2087217981096035},3778560,17.669774384876828,{"$error":"#DIV/0!"},{"$error":"#DIV/0!"},{"$error":"#DIV/0!"},{"$error":"#DIV/0!"},{"$f":"(AY662/(AH662*Sanierungsdesign!$E$10))*1000000","v":{"$error":"#DIV/0!"}},{"$f":"AZ662/Sanierungsdesign!$E$12","v":{"$error":"#DIV/0!"}},{"$f":"$D$5+((-(Sanierungsdesign!$E$12)*MIN($BA$7:$BA$932))/(4*PI()*$D$3))*(-LN((4*$D$4*AH662)/(Sanierungsdesign!$E$13)^2)-$D$19)","v":{"$error":"#DIV/0!"}},{"$f":"(BB662-273.15)/Heterogenität!$D$4","v":{"$error":"#DIV/0!"}},{"$f":"IF(AI662<Berechnung!$D$7,AI662,#N/A)","v":{"$error":"#N/A"}}]
[null,null,null,null,null,null,null,null,null,null,null,null,null,null,null,null,null,null,null,null,null,null,null,null,null,null,null,null,null,null,null,null,{"$f":"Sanierungsdesign!$E$12*AH663*Sanierungsdesign!$E$10/1000000","v":30747.599999999999},4730400,54.75,{"$f":"$D$5+((-Sanierungsdesign!$E$12)/4*PI()*$D$3)*(-LN((4*$D$4*AH663)/(Sanierungsdesign!$E$13^2))-$D$19)","v":3339.6909234259151},3066.540923425915,6109.7933313987505,{"$f":"$D$3*$T$7*$AH$7*(AK663-$D$5)*(1/Sanierungsdesign!$E$15)/1000000","v":388.70775119258047},{"$f":"$D$5+(-Sanierungsdesign!$E$12/(4*PI()*$D$3))*(-LN((4*$D$4*AH663)/(Sanierungsdesign!$E$13+Sanierungsdesign!$E$15)^2)-$D$19)","v":404.28808449227182},131.13808449227184,{"$f":"(2*PI()*Sanierungsdesign!$E$10*$D$3)*(LN((Sanierungsdesign!$E$13+Sanierungsdesign!$E$15)/Sanierungsdesign!$E$13)*(AJ663-AN663))*$AH$7/1000000","v":262.06980715447799},8150.6692141820022,18396.060416408778,{"$f":"AU663/Sanierungsdesign!$E$11","v":2.2102658121909919},3784320,17.682126497527936,{"$error":"#DIV/0!"},{"$error":"#DIV/0!"},{"$error":"#DIV/0!"},{"$error":"#DIV/0!"},{"$f":"(AY663/(AH663*Sanierungsdesign!$E$10))*1000000","v":{"$error":"#DIV/0!"}},{"$f":"AZ663/Sanierungsdesign!$E$12","v":{"$error":"#DIV/0!"}},{"$f":"$D$5+((-(Sanierungsdesign!$E$12)*MIN($BA$7:$BA$932))/(4*PI()*$D$3))*(-LN((4*$D$4*AH663)/(Sanierungsdesign!$E$13)^2)-$D$19)","v":{"$error":"#DIV/0!"}},{"$f":"(BB663-273.15)/Heterogenität!$D$4","v":{"$error":"#DIV/0!"}},{"$f":"IF(AI663<Berechnung!$D$7,AI663,#N/A)","v":{"$error":"#N/A"}}]
[null,null,null,null,null,null,null,null,null,null,null,null,null,null,null,null,null,null,null,null,null,null,null,null,null,null,null,null,null,null,null,null,{"$f":"Sanierungsdesign!$E$12*AH664*Sanierungsdesign!$E$10/1000000","v":30794.400000000001},4737600,54.833333333333336,{"$f":"$D$5+((-Sanierungsdesign!$E$12)/4*PI()*$D$3)*(-LN((4*$D$4*AH664)/(Sanierungsdesign!$E$13^2))-$D$19)","v":3341.821473135828},3068.6714731358279,6114.0549270807742,{"$f":"$D$3*$T$7*$AH$7*(AK664-$D$5)*(1/Sanierungsdesign!$E$15)/1000000","v":389.00528797750496},{"$f":"$D$5+(-Sanierungsdesign!$E$12/(4*PI()*$D$3))*(-LN((4*$D$4*AH664)/(Sanierungsdesign!$E$13+Sanierungsdesign!$E$15)^2)-$D$19)","v":404.40276344110327},131.2527634411033,{"$f":"(2*PI()*Sanierungsdesign!$E$10*$D$3)*(LN((Sanierungsdesign!$E$13+Sanierungsdesign!$E$15)/Sanierungsdesign!$E$13)*(AJ664-AN664))*$AH$7/1000000","v":262.2497820644283},8163.0751033968909,18424.060508366783,{"$f":"AU664/Sanierungsdesign!$E$11","v":2.2118074779610848},3790080,17.694459823688678,{"$error":"#DIV/0!"},{"$error":"#DIV/0!"},{"$error":"#DIV/0!"},{"$error":"#DIV/0!"},{"$f":"(AY664/(AH664*Sanierungsdesign!$E$10))*1000000","v":{"$error":"#DIV/0!"}},{"$f":"AZ664/Sanierungsdesign!$E$12","v":{"$error":"#DIV/0!"}},{"$f":"$D$5+((-(Sanierungsdesign!$E$12)*MIN($BA$7:$BA$932))/(4*PI()*$D$3))*(-LN((4*$D$4*AH664)/(Sanierungsdesign!$E$13)^2)-$D$19)","v":{"$error":"#DIV/0!"}},{"$f":"(BB664-273.15)/Heterogenität!$D$4","v":{"$error":"#DIV/0!"}},{"$f":"IF(AI664<Berechnung!$D$7,AI664,#N/A)","v":{"$error":"#N/A"}}]
[null,null,null,null,null,null,null,null,null,null,null,null,null,null,null,null,null,null,null,null,null,null,null,null,null,null,null,null,null,null,null,null,{"$f":"Sanierungsdesign!$E$12*AH665*Sanierungsdesign!$E$10/1000000","v":30841.200000000001},4744800,54.916666666666664,{"$f":"$D$5+((-Sanierungsdesign!$E$12)/4*PI()*$D$3)*(-LN((4*$D$4*AH665)/(Sanierungsdesign!$E$13^2))-$D$19)","v":3343.9487873855592},3070.7987873855591,6118.3100510888098,{"$f":"$D$3*$T$7*$AH$7*(AK665-$D$5)*(1/Sanierungsdesign!$E$15)/1000000","v":389.3023729220356},{"$f":"$D$5+(-Sanierungsdesign!$E$12/(4*PI()*$D$3))*(-LN((4*$D$4*AH665)/(Sanierungsdesign!$E$13+Sanierungsdesign!$E$15)^2)-$D$19)","v":404.51726823808519},131.36726823808522,{"$f":"(2*PI()*Sanierungsdesign!$E$10*$D$3)*(LN((Sanierungsdesign!$E$13+Sanierungsdesign!$E$15)/Sanierungsdesign!$E$13)*(AJ665-AN665))*$AH$7/1000000","v":262.42948366385588},8175.4809926117796,18452.060600324789,{"$f":"AU665/Sanierungsdesign!$E$11","v":2.2133468025521901},3795840,17.706774420417521,{"$error":"#DIV/0!"},{"$error":"#DIV/0!"},{"$error":"#DIV/0!"},{"$error":"#DIV/0!"},{"$f":"(AY665/(AH665*Sanierungsdesign!$E$10))*1000000","v":{"$error":"#DIV/0!"}},{"$f":"AZ665/Sanierungsdesign!$E$12","v":{"$error":"#DIV/0!"}},{"$f":"$D$5+((-(Sanierungsdesign!$E$12)*MIN($BA$7:$BA$932))/(4*PI()*$D$3))*(-LN((4*$D$4*AH665)/(Sanierungsdesign!$E$13)^2)-$D$19)","v":{"$error":"#DIV/0!"}},{"$f":"(BB665-273.15)/Heterogenität!$D$4","v":{"$error":"#DIV/0!"}},{"$f":"IF(AI665<Berechnung!$D$7,AI665,#N/A)","v":{"$error":"#N/A"}}]
[null,null,null,null,null,null,null,null,null,null,null,null,null,null,null,null,null,null,null,null,null,null,null,null,null,null,null,null,null,null,null,null,{"$f":"Sanierungsdesign!$E$12*AH666*Sanierungsdesign!$E$10/1000000","v":30888},4752000,55,{"$f":"$D$5+((-Sanierungsdesign!$E$12)/4*PI()*$D$3)*(-LN((4*$D$4*AH666)/(Sanierungsdesign!$E$13^2))-$D$19)","v":3346.0728759869721},3072.922875986972,6122.5587230488691,{"$f":"$D$3*$T$7*$AH$7*(AK666-$D$5)*(1/Sanierungsdesign!$E$15)/1000000","v":389.59900739642433},{"$f":"$D$5+(-Sanierungsdesign!$E$12/(4*PI()*$D$3))*(-LN((4*$D$4*AH666)/(Sanierungsdesign!$E$13+Sanierungsdesign!$E$15)^2)-$D$19)","v":404.63159941135081},131.48159941135083,{"$f":"(2*PI()*Sanierungsdesign!$E$10*$D$3)*(LN((Sanierungsdesign!$E$13+Sanierungsdesign!$E$15)/Sanierungsdesign!$E$13)*(AJ666-AN666))*$AH$7/1000000","v":262.6089127816029},8187.8868818266683,18480.06069228279,{"$f":"AU666/Sanierungsdesign!$E$11","v":2.2148837930641729},3801600,17.719070344513383,{"$error":"#DIV/0!"},{"$error":"#DIV/0!"},{"$error":"#DIV/0!"},{"$error":"#DIV/0!"},{"$f":"(AY666/(AH666*Sanierungsdesign!$E$10))*1000000","v":{"$error":"#DIV/0!"}},{"$f":"AZ666/Sanierungsdesign!$E$12","v":{"$error":"#DIV/0!"}},{"$f":"$D$5+((-(Sanierungsdesign!$E$12)*MIN($BA$7:$BA$932))/(4*PI()*$D$3))*(-LN((4*$D$4*AH666)/(Sanierungsdesign!$E$13)^2)-$D$19)","v":{"$error":"#DIV/0!"}},{"$f":"(BB666-273.15)/Heterogenität!$D$4","v":{"$error":"#DIV/0!"}},{"$f":"IF(AI666<Berechnung!$D$7,AI666,#N/A)","v":{"$error":"#N/A"}}]
[null,null,null,null,null,null,null,null,null,null,null,null,null,null,null,null,null,null,null,null,null,null,null,null,null,null,null,null,null,null,null,null,{"$f":"Sanierungsdesign!$E$12*AH667*Sanierungsdesign!$E$10/1000000","v":30934.799999999999},4759200,55.083333333333336,{"$f":"$D$5+((-Sanierungsdesign!$E$12)/4*PI()*$D$3)*(-LN((4*$D$4*AH667)/(Sanierungsdesign!$E$13^2))-$D$19)","v":3348.1937487073656},3075.0437487073655,6126.8009624978249,{"$f":"$D$3*$T$7*$AH$7*(AK667-$D$5)*(1/Sanierungsdesign!$E$15)/1000000","v":389.89519276469991},{"$f":"$D$5+(-Sanierungsdesign!$E$12/(4*PI()*$D$3))*(-LN((4*$D$4*AH667)/(Sanierungsdesign!$E$13+Sanierungsdesign!$E$15)^2)-$D$19)","v":404.7457574866346},131.59575748663462,{"$f":"(2*PI()*Sanierungsdesign!$E$10*$D$3)*(LN((Sanierungsdesign!$E$13+Sanierungsdesign!$E$15)/Sanierungsdesign!$E$13)*(AJ667-AN667))*$AH$7/1000000","v":262.78807024274676},8200.292771041557,18508.060784240795,{"$f":"AU667/Sanierungsdesign!$E$11","v":2.2164184565646496},3807360,17.731347652517197,{"$error":"#DIV/0!"},{"$error":"#DIV/0!"},{"$error":"#DIV/0!"},{"$error":"#DIV/0!"},{"$f":"(AY667/(AH667*Sanierungsdesign!$E$10))*1000000","v":{"$error":"#DIV/0!"}},{"$f":"AZ667/Sanierungsdesign!$E$12","v":{"$error":"#DIV/0!"}},{"$f":"$D$5+((-(Sanierungsdesign!$E$12)*MIN($BA$7:$BA$932))/(4*PI()*$D$3))*(-LN((4*$D$4*AH667)/(Sanierungsdesign!$E$13)^2)-$D$19)","v":{"$error":"#DIV/0!"}},{"$f":"(BB667-273.15)/Heterogenität!$D$4","v":{"$error":"#DIV/0!"}},{"$f":"IF(AI667<Berechnung!$D$7,AI667,#N/A)","v":{"$error":"#N/A"}}]
[null,null,null,null,null,null,null,null,null,null,null,null,null,null,null,null,null,null,null,null,null,null,null,null,null,null,null,null,null,null,null,null,{"$f":"Sanierungsdesign!$E$12*AH668*Sanierungsdesign!$E$10/1000000","v":30981.599999999999},4766400,55.166666666666664,{"$f":"$D$5+((-Sanierungsdesign!$E$12)/4*PI()*$D$3)*(-LN((4*$D$4*AH668)/(Sanierungsdesign!$E$13^2))-$D$19)","v":3350.3114152697417},3077.1614152697416,6131.0367888839455,{"$f":"$D$3*$T$7*$AH$7*(AK668-$D$5)*(1/Sanierungsdesign!$E$15)/1000000","v":390.19093038470476},{"$f":"$D$5+(-Sanierungsdesign!$E$12/(4*PI()*$D$3))*(-LN((4*$D$4*AH668)/(Sanierungsdesign!$E$13+Sanierungsdesign!$E$15)^2)-$D$19)","v":404.85974298728678},131.7097429872868,{"$f":"(2*PI()*Sanierungsdesign!$E$10*$D$3)*(LN((Sanierungsdesign!$E$13+Sanierungsdesign!$E$15)/Sanierungsdesign!$E$13)*(AJ668-AN668))*$AH$7/1000000","v":262.96695686862324},8212.6986602564466,18536.060876198801,{"$f":"AU668/Sanierungsdesign!$E$11","v":2.2179508000891848},3813120,17.743606400713478,{"$error":"#DIV/0!"},{"$error":"#DIV/0!"},{"$error":"#DIV/0!"},{"$error":"#DIV/0!"},{"$f":"(AY668/(AH668*Sanierungsdesign!$E$10))*1000000","v":{"$error":"#DIV/0!"}},{"$f":"AZ668/Sanierungsdesign!$E$12","v":{"$error":"#DIV/0!"}},{"$f":"$D$5+((-(Sanierungsdesign!$E$12)*MIN($BA$7:$BA$932))/(4*PI()*$D$3))*(-LN((4*$D$4*AH668)/(Sanierungsdesign!$E$13)^2)-$D$19)","v":{"$error":"#DIV/0!"}},{"$f":"(BB668-273.15)/Heterogenität!$D$4","v":{"$error":"#DIV/0!"}},{"$f":"IF(AI668<Berechnung!$D$7,AI668,#N/A)","v":{"$error":"#N/A"}}]
[null,null,null,null,null,null,null,null,null,null,null,null,null,null,null,null,null,null,null,null,null,null,null,null,null,null,null,null,null,null,null,null,{"$f":"Sanierungsdesign!$E$12*AH669*Sanierungsdesign!$E$10/1000000","v":31028.400000000001},4773600,55.25,{"$f":"$D$5+((-Sanierungsdesign!$E$12)/4*PI()*$D$3)*(-LN((4*$D$4*AH669)/(Sanierungsdesign!$E$13^2))-$D$19)","v":3352.4258853530728},3079.2758853530727,6135.26622156743,{"$f":"$D$3*$T$7*$AH$7*(AK669-$D$5)*(1/Sanierungsdesign!$E$15)/1000000","v":390.48622160813233},{"$f":"$D$5+(-Sanierungsdesign!$E$12/(4*PI()*$D$3))*(-LN((4*$D$4*AH669)/(Sanierungsdesign!$E$13+Sanierungsdesign!$E$15)^2)-$D$19)","v":404.97355643428773},131.82355643428775,{"$f":"(2*PI()*Sanierungsdesign!$E$10*$D$3)*(LN((Sanierungsdesign!$E$13+Sanierungsdesign!$E$15)/Sanierungsdesign!$E$13)*(AJ669-AN669))*$AH$7/1000000","v":263.1455734768486},8225.1045494713362,18564.060968156806,{"$f":"AU669/Sanierungsdesign!$E$11","v":2.219480830641483},3818880,17.755846645131864,{"$error":"#DIV/0!"},{"$error":"#DIV/0!"},{"$error":"#DIV/0!"},{"$error":"#DIV/0!"},{"$f":"(AY669/(AH669*Sanierungsdesign!$E$10))*1000000","v":{"$error":"#DIV/0!"}},{"$f":"AZ669/Sanierungsdesign!$E$12","v":{"$error":"#DIV/0!"}},{"$f":"$D$5+((-(Sanierungsdesign!$E$12)*MIN($BA$7:$BA$932))/(4*PI()*$D$3))*(-LN((4*$D$4*AH669)/(Sanierungsdesign!$E$13)^2)-$D$19)","v":{"$error":"#DIV/0!"}},{"$f":"(BB669-273.15)/Heterogenität!$D$4","v":{"$error":"#DIV/0!"}},{"$f":"IF(AI669<Berechnung!$D$7,AI669,#N/A)","v":{"$error":"#N/A"}}]
[null,null,null,null,null,null,null,null,null,null,null,null,null,null,null,null,null,null,null,null,null,null,null,null,null,null,null,null,null,null,null,null,{"$f":"Sanierungsdesign!$E$12*AH670*Sanierungsdesign!$E$10/1000000","v":31075.200000000001},4780800,55.333333333333336,{"$f":"$D$5+((-Sanierungsdesign!$E$12)/4*PI()*$D$3)*(-LN((4*$D$4*AH670)/(Sanierungsdesign!$E$13^2))-$D$19)","v":3354.5371685925684},3081.3871685925683,6139.4892798209421,{"$f":"$D$3*$T$7*$AH$7*(AK670-$D$5)*(1/Sanierungsdesign!$E$15)/1000000","v":390.78106778056463},{"$f":"$D$5+(-Sanierungsdesign!$E$12/(4*PI()*$D$3))*(-LN((4*$D$4*AH670)/(Sanierungsdesign!$E$13+Sanierungsdesign!$E$15)^2)-$D$19)","v":405.08719834626208},131.93719834626211,{"$f":"(2*PI()*Sanierungsdesign!$E$10*$D$3)*(LN((Sanierungsdesign!$E$13+Sanierungsdesign!$E$15)/Sanierungsdesign!$E$13)*(AJ670-AN670))*$AH$7/1000000","v":263.3239208813423},8237.510438686224,18592.061060114807,{"$f":"AU670/Sanierungsdesign!$E$11","v":2.2210085551935821},3824640,17.768068441548657,{"$error":"#DIV/0!"},{"$error":"#DIV/0!"},{"$error":"#DIV/0!"},{"$error":"#DIV/0!"},{"$f":"(AY670/(AH670*Sanierungsdesign!$E$10))*1000000","v":{"$error":"#DIV/0!"}},{"$f":"AZ670/Sanierungsdesign!$E$12","v":{"$error":"#DIV/0!"}},{"$f":"$D$5+((-(Sanierungsdesign!$E$12)*MIN($BA$7:$BA$932))/(4*PI()*$D$3))*(-LN((4*$D$4*AH670)/(Sanierungsdesign!$E$13)^2)-$D$19)","v":{"$error":"#DIV/0!"}},{"$f":"(BB670-273.15)/Heterogenität!$D$4","v":{"$error":"#DIV/0!"}},{"$f":"IF(AI670<Berechnung!$D$7,AI670,#N/A)","v":{"$error":"#N/A"}}]
[null,null,null,null,null,null,null,null,null,null,null,null,null,null,null,null,null,null,null,null,null,null,null,null,null,null,null,null,null,null,null,null,{"$f":"Sanierungsdesign!$E$12*AH671*Sanierungsdesign!$E$10/1000000","v":31122},4788000,55.416666666666664,{"$f":"$D$5+((-Sanierungsdesign!$E$12)/4*PI()*$D$3)*(-LN((4*$D$4*AH671)/(Sanierungsdesign!$E$13^2))-$D$19)","v":3356.6452745799402},3083.4952745799401,6143.705982830139,{"$f":"$D$3*$T$7*$AH$7*(AK671-$D$5)*(1/Sanierungsdesign!$E$15)/1000000","v":391.07547024150904},{"$f":"$D$5+(-Sanierungsdesign!$E$12/(4*PI()*$D$3))*(-LN((4*$D$4*AH671)/(Sanierungsdesign!$E$13+Sanierungsdesign!$E$15)^2)-$D$19)","v":405.20066923949321},132.05066923949323,{"$f":"(2*PI()*Sanierungsdesign!$E$10*$D$3)*(LN((Sanierungsdesign!$E$13+Sanierungsdesign!$E$15)/Sanierungsdesign!$E$13)*(AJ671-AN671))*$AH$7/1000000","v":263.50199989234955},8249.9163279011136,18620.061152072816,{"$f":"AU671/Sanierungsdesign!$E$11","v":2.2225339806860442},3830400,17.780271845488354,{"$error":"#DIV/0!"},{"$error":"#DIV/0!"},{"$error":"#DIV/0!"},{"$error":"#DIV/0!"},{"$f":"(AY671/(AH671*Sanierungsdesign!$E$10))*1000000","v":{"$error":"#DIV/0!"}},{"$f":"AZ671/Sanierungsdesign!$E$12","v":{"$error":"#DIV/0!"}},{"$f":"$D$5+((-(Sanierungsdesign!$E$12)*MIN($BA$7:$BA$932))/(4*PI()*$D$3))*(-LN((4*$D$4*AH671)/(Sanierungsdesign!$E$13)^2)-$D$19)","v":{"$error":"#DIV/0!"}},{"$f":"(BB671-273.15)/Heterogenität!$D$4","v":{"$error":"#DIV/0!"}},{"$f":"IF(AI671<Berechnung!$D$7,AI671,#N/A)","v":{"$error":"#N/A"}}]
[null,null,null,null,null,null,null,null,null,null,null,null,null,null,null,null,null,null,null,null,null,null,null,null,null,null,null,null,null,null,null,null,{"$f":"Sanierungsdesign!$E$12*AH672*Sanierungsdesign!$E$10/1000000","v":31168.799999999999},4795200,55.5,{"$f":"$D$5+((-Sanierungsdesign!$E$12)/4*PI()*$D$3)*(-LN((4*$D$4*AH672)/(Sanierungsdesign!$E$13^2))-$D$19)","v":3358.7502128636584},3085.6002128636583,6147.9163496941856,{"$f":"$D$3*$T$7*$AH$7*(AK672-$D$5)*(1/Sanierungsdesign!$E$15)/1000000","v":391.36943032443412},{"$f":"$D$5+(-Sanierungsdesign!$E$12/(4*PI()*$D$3))*(-LN((4*$D$4*AH672)/(Sanierungsdesign!$E$13+Sanierungsdesign!$E$15)^2)-$D$19)","v":405.31396962793701},132.16396962793704,{"$f":"(2*PI()*Sanierungsdesign!$E$10*$D$3)*(LN((Sanierungsdesign!$E$13+Sanierungsdesign!$E$15)/Sanierungsdesign!$E$13)*(AJ672-AN672))*$AH$7/1000000","v":263.67981131646246},8262.3222171160014,18648.061244030814,{"$f":"AU672/Sanierungsdesign!$E$11","v":2.2240571140281427},3836160,17.792456912225141,{"$error":"#DIV/0!"},{"$error":"#DIV/0!"},{"$error":"#DIV/0!"},{"$error":"#DIV/0!"},{"$f":"(AY672/(AH672*Sanierungsdesign!$E$10))*1000000","v":{"$error":"#DIV/0!"}},{"$f":"AZ672/Sanierungsdesign!$E$12","v":{"$error":"#DIV/0!"}},{"$f":"$D$5+((-(Sanierungsdesign!$E$12)*MIN($BA$7:$BA$932))/(4*PI()*$D$3))*(-LN((4*$D$4*AH672)/(Sanierungsdesign!$E$13)^2)-$D$19)","v":{"$error":"#DIV/0!"}},{"$f":"(BB672-273.15)/Heterogenität!$D$4","v":{"$error":"#DIV/0!"}},{"$f":"IF(AI672<Berechnung!$D$7,AI672,#N/A)","v":{"$error":"#N/A"}}]
[null,null,null,null,null,null,null,null,null,null,null,null,null,null,null,null,null,null,null,null,null,null,null,null,null,null,null,null,null,null,null,null,{"$f":"Sanierungsdesign!$E$12*AH673*Sanierungsdesign!$E$10/1000000","v":31215.599999999999},4802400,55.583333333333336,{"$f":"$D$5+((-Sanierungsdesign!$E$12)/4*PI()*$D$3)*(-LN((4*$D$4*AH673)/(Sanierungsdesign!$E$13^2))-$D$19)","v":3360.8519929492149},3087.7019929492149,6152.1203994262796,{"$f":"$D$3*$T$7*$AH$7*(AK673-$D$5)*(1/Sanierungsdesign!$E$15)/1000000","v":391.66294935680651},{"$f":"$D$5+(-Sanierungsdesign!$E$12/(4*PI()*$D$3))*(-LN((4*$D$4*AH673)/(Sanierungsdesign!$E$13+Sanierungsdesign!$E$15)^2)-$D$19)","v":405.42710002323605},132.27710002323607,{"$f":"(2*PI()*Sanierungsdesign!$E$10*$D$3)*(LN((Sanierungsdesign!$E$13+Sanierungsdesign!$E$15)/Sanierungsdesign!$E$13)*(AJ673-AN673))*$AH$7/1000000","v":263.85735595664312},8274.728106330891,18676.061335988823,{"$f":"AU673/Sanierungsdesign!$E$11","v":2.2255779620980518},3841920,17.804623696784414,{"$error":"#DIV/0!"},{"$error":"#DIV/0!"},{"$error":"#DIV/0!"},{"$error":"#DIV/0!"},{"$f":"(AY673/(AH673*Sanierungsdesign!$E$10))*1000000","v":{"$error":"#DIV/0!"}},{"$f":"AZ673/Sanierungsdesign!$E$12","v":{"$error":"#DIV/0!"}},{"$f":"$D$5+((-(Sanierungsdesign!$E$12)*MIN($BA$7:$BA$932))/(4*PI()*$D$3))*(-LN((4*$D$4*AH673)/(Sanierungsdesign!$E$13)^2)-$D$19)","v":{"$error":"#DIV/0!"}},{"$f":"(BB673-273.15)/Heterogenität!$D$4","v":{"$error":"#DIV/0!"}},{"$f":"IF(AI673<Berechnung!$D$7,AI673,#N/A)","v":{"$error":"#N/A"}}]
[null,null,null,null,null,null,null,null,null,null,null,null,null,null,null,null,null,null,null,null,null,null,null,null,null,null,null,null,null,null,null,null,{"$f":"Sanierungsdesign!$E$12*AH674*Sanierungsdesign!$E$10/1000000","v":31262.400000000001},4809600,55.666666666666664,{"$f":"$D$5+((-Sanierungsdesign!$E$12)/4*PI()*$D$3)*(-LN((4*$D$4*AH674)/(Sanierungsdesign!$E$13^2))-$D$19)","v":3362.950624299383},3089.8006242993829,6156.3181509541719,{"$f":"$D$3*$T$7*$AH$7*(AK674-$D$5)*(1/Sanierungsdesign!$E$15)/1000000","v":391.95602866012695},{"$f":"$D$5+(-Sanierungsdesign!$E$12/(4*PI()*$D$3))*(-LN((4*$D$4*AH674)/(Sanierungsdesign!$E$13+Sanierungsdesign!$E$15)^2)-$D$19)","v":405.54006093473333},132.39006093473336,{"$f":"(2*PI()*Sanierungsdesign!$E$10*$D$3)*(LN((Sanierungsdesign!$E$13+Sanierungsdesign!$E$15)/Sanierungsdesign!$E$13)*(AJ674-AN674))*$AH$7/1000000","v":264.03463461224453},8287.1339955457806,18704.061427946828,{"$f":"AU674/Sanierungsdesign!$E$11","v":2.2270965317430331},3847680,17.816772253944265,{"$error":"#DIV/0!"},{"$error":"#DIV/0!"},{"$error":"#DIV/0!"},{"$error":"#DIV/0!"},{"$f":"(AY674/(AH674*Sanierungsdesign!$E$10))*1000000","v":{"$error":"#DIV/0!"}},{"$f":"AZ674/Sanierungsdesign!$E$12","v":{"$error":"#DIV/0!"}},{"$f":"$D$5+((-(Sanierungsdesign!$E$12)*MIN($BA$7:$BA$932))/(4*PI()*$D$3))*(-LN((4*$D$4*AH674)/(Sanierungsdesign!$E$13)^2)-$D$19)","v":{"$error":"#DIV/0!"}},{"$f":"(BB674-273.15)/Heterogenität!$D$4","v":{"$error":"#DIV/0!"}},{"$f":"IF(AI674<Berechnung!$D$7,AI674,#N/A)","v":{"$error":"#N/A"}}]
[null,null,null,null,null,null,null,null,null,null,null,null,null,null,null,null,null,null,null,null,null,null,null,null,null,null,null,null,null,null,null,null,{"$f":"Sanierungsdesign!$E$12*AH675*Sanierungsdesign!$E$10/1000000","v":31309.200000000001},4816800,55.75,{"$f":"$D$5+((-Sanierungsdesign!$E$12)/4*PI()*$D$3)*(-LN((4*$D$4*AH675)/(Sanierungsdesign!$E$13^2))-$D$19)","v":3365.0461163344676},3091.8961163344675,6160.5096231206671,{"$f":"$D$3*$T$7*$AH$7*(AK675-$D$5)*(1/Sanierungsdesign!$E$15)/1000000","v":392.24866954996537},{"$f":"$D$5+(-Sanierungsdesign!$E$12/(4*PI()*$D$3))*(-LN((4*$D$4*AH675)/(Sanierungsdesign!$E$13+Sanierungsdesign!$E$15)^2)-$D$19)","v":405.6528528694862},132.50285286948622,{"$f":"(2*PI()*Sanierungsdesign!$E$10*$D$3)*(LN((Sanierungsdesign!$E$13+Sanierungsdesign!$E$15)/Sanierungsdesign!$E$13)*(AJ675-AN675))*$AH$7/1000000","v":264.21164807903261},8299.5398847606684,18732.061519904826,{"$f":"AU675/Sanierungsdesign!$E$11","v":2.2286128297796202},3853440,17.828902638236961,{"$error":"#DIV/0!"},{"$error":"#DIV/0!"},{"$error":"#DIV/0!"},{"$error":"#DIV/0!"},{"$f":"(AY675/(AH675*Sanierungsdesign!$E$10))*1000000","v":{"$error":"#DIV/0!"}},{"$f":"AZ675/Sanierungsdesign!$E$12","v":{"$error":"#DIV/0!"}},{"$f":"$D$5+((-(Sanierungsdesign!$E$12)*MIN($BA$7:$BA$932))/(4*PI()*$D$3))*(-LN((4*$D$4*AH675)/(Sanierungsdesign!$E$13)^2)-$D$19)","v":{"$error":"#DIV/0!"}},{"$f":"(BB675-273.15)/Heterogenität!$D$4","v":{"$error":"#DIV/0!"}},{"$f":"IF(AI675<Berechnung!$D$7,AI675,#N/A)","v":{"$error":"#N/A"}}]
[null,null,null,null,null,null,null,null,null,null,null,null,null,null,null,null,null,null,null,null,null,null,null,null,null,null,null,null,null,null,null,null,{"$f":"Sanierungsdesign!$E$12*AH676*Sanierungsdesign!$E$10/1000000","v":31356},4824000,55.833333333333336,{"$f":"$D$5+((-Sanierungsdesign!$E$12)/4*PI()*$D$3)*(-LN((4*$D$4*AH676)/(Sanierungsdesign!$E$13^2))-$D$19)","v":3367.1384784325619},3093.9884784325618,6164.6948346841355,{"$f":"$D$3*$T$7*$AH$7*(AK676-$D$5)*(1/Sanierungsdesign!$E$15)/1000000","v":392.54087333599693},{"$f":"$D$5+(-Sanierungsdesign!$E$12/(4*PI()*$D$3))*(-LN((4*$D$4*AH676)/(Sanierungsdesign!$E$13+Sanierungsdesign!$E$15)^2)-$D$19)","v":405.76547633227983},132.61547633227985,{"$f":"(2*PI()*Sanierungsdesign!$E$10*$D$3)*(LN((Sanierungsdesign!$E$13+Sanierungsdesign!$E$15)/Sanierungsdesign!$E$13)*(AJ676-AN676))*$AH$7/1000000","v":264.38839714920721},8311.945773975558,18760.061611862835,{"$f":"AU676/Sanierungsdesign!$E$11","v":2.2301268629938016},3859200,17.841014903950413,{"$error":"#DIV/0!"},{"$error":"#DIV/0!"},{"$error":"#DIV/0!"},{"$error":"#DIV/0!"},{"$f":"(AY676/(AH676*Sanierungsdesign!$E$10))*1000000","v":{"$error":"#DIV/0!"}},{"$f":"AZ676/Sanierungsdesign!$E$12","v":{"$error":"#DIV/0!"}},{"$f":"$D$5+((-(Sanierungsdesign!$E$12)*MIN($BA$7:$BA$932))/(4*PI()*$D$3))*(-LN((4*$D$4*AH676)/(Sanierungsdesign!$E$13)^2)-$D$19)","v":{"$error":"#DIV/0!"}},{"$f":"(BB676-273.15)/Heterogenität!$D$4","v":{"$error":"#DIV/0!"}},{"$f":"IF(AI676<Berechnung!$D$7,AI676,#N/A)","v":{"$error":"#N/A"}}]
[null,null,null,null,null,null,null,null,null,null,null,null,null,null,null,null,null,null,null,null,null,null,null,null,null,null,null,null,null,null,null,null,{"$f":"Sanierungsdesign!$E$12*AH677*Sanierungsdesign!$E$10/1000000","v":31402.799999999999},4831200,55.916666666666664,{"$f":"$D$5+((-Sanierungsdesign!$E$12)/4*PI()*$D$3)*(-LN((4*$D$4*AH677)/(Sanierungsdesign!$E$13^2))-$D$19)","v":3369.2277199297992},3096.0777199297991,6168.8738043190178,{"$f":"$D$3*$T$7*$AH$7*(AK677-$D$5)*(1/Sanierungsdesign!$E$15)/1000000","v":392.83264132203669},{"$f":"$D$5+(-Sanierungsdesign!$E$12/(4*PI()*$D$3))*(-LN((4*$D$4*AH677)/(Sanierungsdesign!$E$13+Sanierungsdesign!$E$15)^2)-$D$19)","v":405.87793182564076},132.72793182564078,{"$f":"(2*PI()*Sanierungsdesign!$E$10*$D$3)*(LN((Sanierungsdesign!$E$13+Sanierungsdesign!$E$15)/Sanierungsdesign!$E$13)*(AJ677-AN677))*$AH$7/1000000","v":264.56488261142403},8324.3516631904458,18788.061703820837,{"$f":"AU677/Sanierungsdesign!$E$11","v":2.2316386381412023},3864960,17.853109105129619,{"$error":"#DIV/0!"},{"$error":"#DIV/0!"},{"$error":"#DIV/0!"},{"$error":"#DIV/0!"},{"$f":"(AY677/(AH677*Sanierungsdesign!$E$10))*1000000","v":{"$error":"#DIV/0!"}},{"$f":"AZ677/Sanierungsdesign!$E$12","v":{"$error":"#DIV/0!"}},{"$f":"$D$5+((-(Sanierungsdesign!$E$12)*MIN($BA$7:$BA$932))/(4*PI()*$D$3))*(-LN((4*$D$4*AH677)/(Sanierungsdesign!$E$13)^2)-$D$19)","v":{"$error":"#DIV/0!"}},{"$f":"(BB677-273.15)/Heterogenität!$D$4","v":{"$error":"#DIV/0!"}},{"$f":"IF(AI677<Berechnung!$D$7,AI677,#N/A)","v":{"$error":"#N/A"}}]
[null,null,null,null,null,null,null,null,null,null,null,null,null,null,null,null,null,null,null,null,null,null,null,null,null,null,null,null,null,null,null,null,{"$f":"Sanierungsdesign!$E$12*AH678*Sanierungsdesign!$E$10/1000000","v":31449.599999999999},4838400,56,{"$f":"$D$5+((-Sanierungsdesign!$E$12)/4*PI()*$D$3)*(-LN((4*$D$4*AH678)/(Sanierungsdesign!$E$13^2))-$D$19)","v":3371.313850120604},3098.1638501206039,6173.0465506163282,{"$f":"$D$3*$T$7*$AH$7*(AK678-$D$5)*(1/Sanierungsdesign!$E$15)/1000000","v":393.12397480607518},{"$f":"$D$5+(-Sanierungsdesign!$E$12/(4*PI()*$D$3))*(-LN((4*$D$4*AH678)/(Sanierungsdesign!$E$13+Sanierungsdesign!$E$15)^2)-$D$19)","v":405.99021984985069},132.84021984985071,{"$f":"(2*PI()*Sanierungsdesign!$E$10*$D$3)*(LN((Sanierungsdesign!$E$13+Sanierungsdesign!$E$15)/Sanierungsdesign!$E$13)*(AJ678-AN678))*$AH$7/1000000","v":264.74110525081505},8336.7575524053354,18816.061795778842,{"$f":"AU678/Sanierungsdesign!$E$11","v":2.2331481619472684},3870720,17.865185295578147,{"$error":"#DIV/0!"},{"$error":"#DIV/0!"},{"$error":"#DIV/0!"},{"$error":"#DIV/0!"},{"$f":"(AY678/(AH678*Sanierungsdesign!$E$10))*1000000","v":{"$error":"#DIV/0!"}},{"$f":"AZ678/Sanierungsdesign!$E$12","v":{"$error":"#DIV/0!"}},{"$f":"$D$5+((-(Sanierungsdesign!$E$12)*MIN($BA$7:$BA$932))/(4*PI()*$D$3))*(-LN((4*$D$4*AH678)/(Sanierungsdesign!$E$13)^2)-$D$19)","v":{"$error":"#DIV/0!"}},{"$f":"(BB678-273.15)/Heterogenität!$D$4","v":{"$error":"#DIV/0!"}},{"$f":"IF(AI678<Berechnung!$D$7,AI678,#N/A)","v":{"$error":"#N/A"}}]
[null,null,null,null,null,null,null,null,null,null,null,null,null,null,null,null,null,null,null,null,null,null,null,null,null,null,null,null,null,null,null,null,{"$f":"Sanierungsdesign!$E$12*AH679*Sanierungsdesign!$E$10/1000000","v":31496.400000000001},4845600,56.083333333333336,{"$f":"$D$5+((-Sanierungsdesign!$E$12)/4*PI()*$D$3)*(-LN((4*$D$4*AH679)/(Sanierungsdesign!$E$13^2))-$D$19)","v":3373.3968782579359},3100.2468782579358,6177.213092084141,{"$f":"$D$3*$T$7*$AH$7*(AK679-$D$5)*(1/Sanierungsdesign!$E$15)/1000000","v":393.41487508031207},{"$f":"$D$5+(-Sanierungsdesign!$E$12/(4*PI()*$D$3))*(-LN((4*$D$4*AH679)/(Sanierungsdesign!$E$13+Sanierungsdesign!$E$15)^2)-$D$19)","v":406.10234090295927},132.95234090295929,{"$f":"(2*PI()*Sanierungsdesign!$E$10*$D$3)*(LN((Sanierungsdesign!$E$13+Sanierungsdesign!$E$15)/Sanierungsdesign!$E$13)*(AJ679-AN679))*$AH$7/1000000","v":264.91706584900999},8349.1634416202251,18844.061887736847,{"$f":"AU679/Sanierungsdesign!$E$11","v":2.2346554411074422},3876480,17.877243528859537,{"$error":"#DIV/0!"},{"$error":"#DIV/0!"},{"$error":"#DIV/0!"},{"$error":"#DIV/0!"},{"$f":"(AY679/(AH679*Sanierungsdesign!$E$10))*1000000","v":{"$error":"#DIV/0!"}},{"$f":"AZ679/Sanierungsdesign!$E$12","v":{"$error":"#DIV/0!"}},{"$f":"$D$5+((-(Sanierungsdesign!$E$12)*MIN($BA$7:$BA$932))/(4*PI()*$D$3))*(-LN((4*$D$4*AH679)/(Sanierungsdesign!$E$13)^2)-$D$19)","v":{"$error":"#DIV/0!"}},{"$f":"(BB679-273.15)/Heterogenität!$D$4","v":{"$error":"#DIV/0!"}},{"$f":"IF(AI679<Berechnung!$D$7,AI679,#N/A)","v":{"$error":"#N/A"}}]
[null,null,null,null,null,null,null,null,null,null,null,null,null,null,null,null,null,null,null,null,null,null,null,null,null,null,null,null,null,null,null,null,{"$f":"Sanierungsdesign!$E$12*AH680*Sanierungsdesign!$E$10/1000000","v":31543.200000000001},4852800,56.166666666666664,{"$f":"$D$5+((-Sanierungsdesign!$E$12)/4*PI()*$D$3)*(-LN((4*$D$4*AH680)/(Sanierungsdesign!$E$13^2))-$D$19)","v":3375.4768135535405},3102.3268135535404,6181.3734471480939,{"$f":"$D$3*$T$7*$AH$7*(AK680-$D$5)*(1/Sanierungsdesign!$E$15)/1000000","v":393.70534343119158},{"$f":"$D$5+(-Sanierungsdesign!$E$12/(4*PI()*$D$3))*(-LN((4*$D$4*AH680)/(Sanierungsdesign!$E$13+Sanierungsdesign!$E$15)^2)-$D$19)","v":406.21429548079789},133.06429548079791,{"$f":"(2*PI()*Sanierungsdesign!$E$10*$D$3)*(LN((Sanierungsdesign!$E$13+Sanierungsdesign!$E$15)/Sanierungsdesign!$E$13)*(AJ680-AN680))*$AH$7/1000000","v":265.09276518415675},8361.5693308351129,18872.061979694852,{"$f":"AU680/Sanierungsdesign!$E$11","v":2.2361604822873415},3882240,17.889283858298732,{"$error":"#DIV/0!"},{"$error":"#DIV/0!"},{"$error":"#DIV/0!"},{"$error":"#DIV/0!"},{"$f":"(AY680/(AH680*Sanierungsdesign!$E$10))*1000000","v":{"$error":"#DIV/0!"}},{"$f":"AZ680/Sanierungsdesign!$E$12","v":{"$error":"#DIV/0!"}},{"$f":"$D$5+((-(Sanierungsdesign!$E$12)*MIN($BA$7:$BA$932))/(4*PI()*$D$3))*(-LN((4*$D$4*AH680)/(Sanierungsdesign!$E$13)^2)-$D$19)","v":{"$error":"#DIV/0!"}},{"$f":"(BB680-273.15)/Heterogenität!$D$4","v":{"$error":"#DIV/0!"}},{"$f":"IF(AI680<Berechnung!$D$7,AI680,#N/A)","v":{"$error":"#N/A"}}]
[null,null,null,null,null,null,null,null,null,null,null,null,null,null,null,null,null,null,null,null,null,null,null,null,null,null,null,null,null,null,null,null,{"$f":"Sanierungsdesign!$E$12*AH681*Sanierungsdesign!$E$10/1000000","v":31590},4860000,56.25,{"$f":"$D$5+((-Sanierungsdesign!$E$12)/4*PI()*$D$3)*(-LN((4*$D$4*AH681)/(Sanierungsdesign!$E$13^2))-$D$19)","v":3377.5536651781913},3104.4036651781912,6185.5276341518684,{"$f":"$D$3*$T$7*$AH$7*(AK681-$D$5)*(1/Sanierungsdesign!$E$15)/1000000","v":393.99538113943595},{"$f":"$D$5+(-Sanierungsdesign!$E$12/(4*PI()*$D$3))*(-LN((4*$D$4*AH681)/(Sanierungsdesign!$E$13+Sanierungsdesign!$E$15)^2)-$D$19)","v":406.32608407699246},133.17608407699248,{"$f":"(2*PI()*Sanierungsdesign!$E$10*$D$3)*(LN((Sanierungsdesign!$E$13+Sanierungsdesign!$E$15)/Sanierungsdesign!$E$13)*(AJ681-AN681))*$AH$7/1000000","v":265.2682040309424},8373.9752200500025,18900.062071652854,{"$f":"AU681/Sanierungsdesign!$E$11","v":2.2376632921229387},3888000,17.901306336983509,{"$error":"#DIV/0!"},{"$error":"#DIV/0!"},{"$error":"#DIV/0!"},{"$error":"#DIV/0!"},{"$f":"(AY681/(AH681*Sanierungsdesign!$E$10))*1000000","v":{"$error":"#DIV/0!"}},{"$f":"AZ681/Sanierungsdesign!$E$12","v":{"$error":"#DIV/0!"}},{"$f":"$D$5+((-(Sanierungsdesign!$E$12)*MIN($BA$7:$BA$932))/(4*PI()*$D$3))*(-LN((4*$D$4*AH681)/(Sanierungsdesign!$E$13)^2)-$D$19)","v":{"$error":"#DIV/0!"}},{"$f":"(BB681-273.15)/Heterogenität!$D$4","v":{"$error":"#DIV/0!"}},{"$f":"IF(AI681<Berechnung!$D$7,AI681,#N/A)","v":{"$error":"#N/A"}}]
[null,null,null,null,null,null,null,null,null,null,null,null,null,null,null,null,null,null,null,null,null,null,null,null,null,null,null,null,null,null,null,null,{"$f":"Sanierungsdesign!$E$12*AH682*Sanierungsdesign!$E$10/1000000","v":31636.799999999999},4867200,56.333333333333336,{"$f":"$D$5+((-Sanierungsdesign!$E$12)/4*PI()*$D$3)*(-LN((4*$D$4*AH682)/(Sanierungsdesign!$E$13^2))-$D$19)","v":3379.6274422619344},3106.4774422619344,6189.675671357686,{"$f":"$D$3*$T$7*$AH$7*(AK682-$D$5)*(1/Sanierungsdesign!$E$15)/1000000","v":394.28498948007984},{"$f":"$D$5+(-Sanierungsdesign!$E$12/(4*PI()*$D$3))*(-LN((4*$D$4*AH682)/(Sanierungsdesign!$E$13+Sanierungsdesign!$E$15)^2)-$D$19)","v":406.43770718297679},133.28770718297682,{"$f":"(2*PI()*Sanierungsdesign!$E$10*$D$3)*(LN((Sanierungsdesign!$E$13+Sanierungsdesign!$E$15)/Sanierungsdesign!$E$13)*(AJ682-AN682))*$AH$7/1000000","v":265.44338316061356},8386.3811092648903,18928.062163610859,{"$f":"AU682/Sanierungsdesign!$E$11","v":2.2391638772207356},3893760,17.913311017765885,{"$error":"#DIV/0!"},{"$error":"#DIV/0!"},{"$error":"#DIV/0!"},{"$error":"#DIV/0!"},{"$f":"(AY682/(AH682*Sanierungsdesign!$E$10))*1000000","v":{"$error":"#DIV/0!"}},{"$f":"AZ682/Sanierungsdesign!$E$12","v":{"$error":"#DIV/0!"}},{"$f":"$D$5+((-(Sanierungsdesign!$E$12)*MIN($BA$7:$BA$932))/(4*PI()*$D$3))*(-LN((4*$D$4*AH682)/(Sanierungsdesign!$E$13)^2)-$D$19)","v":{"$error":"#DIV/0!"}},{"$f":"(BB682-273.15)/Heterogenität!$D$4","v":{"$error":"#DIV/0!"}},{"$f":"IF(AI682<Berechnung!$D$7,AI682,#N/A)","v":{"$error":"#N/A"}}]
[null,null,null,null,null,null,null,null,null,null,null,null,null,null,null,null,null,null,null,null,null,null,null,null,null,null,null,null,null,null,null,null,{"$f":"Sanierungsdesign!$E$12*AH683*Sanierungsdesign!$E$10/1000000","v":31683.599999999999},4874400,56.416666666666664,{"$f":"$D$5+((-Sanierungsdesign!$E$12)/4*PI()*$D$3)*(-LN((4*$D$4*AH683)/(Sanierungsdesign!$E$13^2))-$D$19)","v":3381.6981538943251},3108.548153894325,6193.8175769467725,{"$f":"$D$3*$T$7*$AH$7*(AK683-$D$5)*(1/Sanierungsdesign!$E$15)/1000000","v":394.57416972250303},{"$f":"$D$5+(-Sanierungsdesign!$E$12/(4*PI()*$D$3))*(-LN((4*$D$4*AH683)/(Sanierungsdesign!$E$13+Sanierungsdesign!$E$15)^2)-$D$19)","v":406.54916528800516},133.39916528800518,{"$f":"(2*PI()*Sanierungsdesign!$E$10*$D$3)*(LN((Sanierungsdesign!$E$13+Sanierungsdesign!$E$15)/Sanierungsdesign!$E$13)*(AJ683-AN683))*$AH$7/1000000","v":265.61830334099642},8398.7869984797799,18956.062255568864,{"$f":"AU683/Sanierungsdesign!$E$11","v":2.2406622441579334},3899520,17.925297953263467,{"$error":"#DIV/0!"},{"$error":"#DIV/0!"},{"$error":"#DIV/0!"},{"$error":"#DIV/0!"},{"$f":"(AY683/(AH683*Sanierungsdesign!$E$10))*1000000","v":{"$error":"#DIV/0!"}},{"$f":"AZ683/Sanierungsdesign!$E$12","v":{"$error":"#DIV/0!"}},{"$f":"$D$5+((-(Sanierungsdesign!$E$12)*MIN($BA$7:$BA$932))/(4*PI()*$D$3))*(-LN((4*$D$4*AH683)/(Sanierungsdesign!$E$13)^2)-$D$19)","v":{"$error":"#DIV/0!"}},{"$f":"(BB683-273.15)/Heterogenität!$D$4","v":{"$error":"#DIV/0!"}},{"$f":"IF(AI683<Berechnung!$D$7,AI683,#N/A)","v":{"$error":"#N/A"}}]
[null,null,null,null,null,null,null,null,null,null,null,null,null,null,null,null,null,null,null,null,null,null,null,null,null,null,null,null,null,null,null,null,{"$f":"Sanierungsdesign!$E$12*AH684*Sanierungsdesign!$E$10/1000000","v":31730.400000000001},4881600,56.5,{"$f":"$D$5+((-Sanierungsdesign!$E$12)/4*PI()*$D$3)*(-LN((4*$D$4*AH684)/(Sanierungsdesign!$E$13^2))-$D$19)","v":3383.7658091246713},3110.6158091246712,6197.9533690198514,{"$f":"$D$3*$T$7*$AH$7*(AK684-$D$5)*(1/Sanierungsdesign!$E$15)/1000000","v":394.86292313046494},{"$f":"$D$5+(-Sanierungsdesign!$E$12/(4*PI()*$D$3))*(-LN((4*$D$4*AH684)/(Sanierungsdesign!$E$13+Sanierungsdesign!$E$15)^2)-$D$19)","v":406.66045887916562},133.51045887916564,{"$f":"(2*PI()*Sanierungsdesign!$E$10*$D$3)*(LN((Sanierungsdesign!$E$13+Sanierungsdesign!$E$15)/Sanierungsdesign!$E$13)*(AJ684-AN684))*$AH$7/1000000","v":265.79296533651734},8411.1928876946695,18984.062347526869,{"$f":"AU684/Sanierungsdesign!$E$11","v":2.2421583994826118},3905280,17.937267195860894,{"$error":"#DIV/0!"},{"$error":"#DIV/0!"},{"$error":"#DIV/0!"},{"$error":"#DIV/0!"},{"$f":"(AY684/(AH684*Sanierungsdesign!$E$10))*1000000","v":{"$error":"#DIV/0!"}},{"$f":"AZ684/Sanierungsdesign!$E$12","v":{"$error":"#DIV/0!"}},{"$f":"$D$5+((-(Sanierungsdesign!$E$12)*MIN($BA$7:$BA$932))/(4*PI()*$D$3))*(-LN((4*$D$4*AH684)/(Sanierungsdesign!$E$13)^2)-$D$19)","v":{"$error":"#DIV/0!"}},{"$f":"(BB684-273.15)/Heterogenität!$D$4","v":{"$error":"#DIV/0!"}},{"$f":"IF(AI684<Berechnung!$D$7,AI684,#N/A)","v":{"$error":"#N/A"}}]
[null,null,null,null,null,null,null,null,null,null,null,null,null,null,null,null,null,null,null,null,null,null,null,null,null,null,null,null,null,null,null,null,{"$f":"Sanierungsdesign!$E$12*AH685*Sanierungsdesign!$E$10/1000000","v":31777.200000000001},4888800,56.583333333333336,{"$f":"$D$5+((-Sanierungsdesign!$E$12)/4*PI()*$D$3)*(-LN((4*$D$4*AH685)/(Sanierungsdesign!$E$13^2))-$D$19)","v":3385.8304169622706},3112.6804169622706,6202.083065597617,{"$f":"$D$3*$T$7*$AH$7*(AK685-$D$5)*(1/Sanierungsdesign!$E$15)/1000000","v":395.15125096213723},{"$f":"$D$5+(-Sanierungsdesign!$E$12/(4*PI()*$D$3))*(-LN((4*$D$4*AH685)/(Sanierungsdesign!$E$13+Sanierungsdesign!$E$15)^2)-$D$19)","v":406.77158844139245},133.62158844139248,{"$f":"(2*PI()*Sanierungsdesign!$E$10*$D$3)*(LN((Sanierungsdesign!$E$13+Sanierungsdesign!$E$15)/Sanierungsdesign!$E$13)*(AJ685-AN685))*$AH$7/1000000","v":265.96736990822285},8423.5987769095573,19012.062439484871,{"$f":"AU685/Sanierungsdesign!$E$11","v":2.2436523497138987},3911040,17.94921879771119,{"$error":"#DIV/0!"},{"$error":"#DIV/0!"},{"$error":"#DIV/0!"},{"$error":"#DIV/0!"},{"$f":"(AY685/(AH685*Sanierungsdesign!$E$10))*1000000","v":{"$error":"#DIV/0!"}},{"$f":"AZ685/Sanierungsdesign!$E$12","v":{"$error":"#DIV/0!"}},{"$f":"$D$5+((-(Sanierungsdesign!$E$12)*MIN($BA$7:$BA$932))/(4*PI()*$D$3))*(-LN((4*$D$4*AH685)/(Sanierungsdesign!$E$13)^2)-$D$19)","v":{"$error":"#DIV/0!"}},{"$f":"(BB685-273.15)/Heterogenität!$D$4","v":{"$error":"#DIV/0!"}},{"$f":"IF(AI685<Berechnung!$D$7,AI685,#N/A)","v":{"$error":"#N/A"}}]
[null,null,null,null,null,null,null,null,null,null,null,null,null,null,null,null,null,null,null,null,null,null,null,null,null,null,null,null,null,null,null,null,{"$f":"Sanierungsdesign!$E$12*AH686*Sanierungsdesign!$E$10/1000000","v":31824},4896000,56.666666666666664,{"$f":"$D$5+((-Sanierungsdesign!$E$12)/4*PI()*$D$3)*(-LN((4*$D$4*AH686)/(Sanierungsdesign!$E$13^2))-$D$19)","v":3387.8919863766405},3114.7419863766404,6206.2066846211937,{"$f":"$D$3*$T$7*$AH$7*(AK686-$D$5)*(1/Sanierungsdesign!$E$15)/1000000","v":395.43915447013637},{"$f":"$D$5+(-Sanierungsdesign!$E$12/(4*PI()*$D$3))*(-LN((4*$D$4*AH686)/(Sanierungsdesign!$E$13+Sanierungsdesign!$E$15)^2)-$D$19)","v":406.88255445747888},133.7325544574789,{"$f":"(2*PI()*Sanierungsdesign!$E$10*$D$3)*(LN((Sanierungsdesign!$E$13+Sanierungsdesign!$E$15)/Sanierungsdesign!$E$13)*(AJ686-AN686))*$AH$7/1000000","v":266.14151781379911},8436.0046661244469,19040.062531442876,{"$f":"AU686/Sanierungsdesign!$E$11","v":2.2451441013421367},3916800,17.961152810737094,{"$error":"#DIV/0!"},{"$error":"#DIV/0!"},{"$error":"#DIV/0!"},{"$error":"#DIV/0!"},{"$f":"(AY686/(AH686*Sanierungsdesign!$E$10))*1000000","v":{"$error":"#DIV/0!"}},{"$f":"AZ686/Sanierungsdesign!$E$12","v":{"$error":"#DIV/0!"}},{"$f":"$D$5+((-(Sanierungsdesign!$E$12)*MIN($BA$7:$BA$932))/(4*PI()*$D$3))*(-LN((4*$D$4*AH686)/(Sanierungsdesign!$E$13)^2)-$D$19)","v":{"$error":"#DIV/0!"}},{"$f":"(BB686-273.15)/Heterogenität!$D$4","v":{"$error":"#DIV/0!"}},{"$f":"IF(AI686<Berechnung!$D$7,AI686,#N/A)","v":{"$error":"#N/A"}}]
[null,null,null,null,null,null,null,null,null,null,null,null,null,null,null,null,null,null,null,null,null,null,null,null,null,null,null,null,null,null,null,null,{"$f":"Sanierungsdesign!$E$12*AH687*Sanierungsdesign!$E$10/1000000","v":31870.799999999999},4903200,56.75,{"$f":"$D$5+((-Sanierungsdesign!$E$12)/4*PI()*$D$3)*(-LN((4*$D$4*AH687)/(Sanierungsdesign!$E$13^2))-$D$19)","v":3389.9505262977609},3116.8005262977608,6210.3242439526211,{"$f":"$D$3*$T$7*$AH$7*(AK687-$D$5)*(1/Sanierungsdesign!$E$15)/1000000","v":395.72663490155696},{"$f":"$D$5+(-Sanierungsdesign!$E$12/(4*PI()*$D$3))*(-LN((4*$D$4*AH687)/(Sanierungsdesign!$E$13+Sanierungsdesign!$E$15)^2)-$D$19)","v":406.99335740808988},133.8433574080899,{"$f":"(2*PI()*Sanierungsdesign!$E$10*$D$3)*(LN((Sanierungsdesign!$E$13+Sanierungsdesign!$E$15)/Sanierungsdesign!$E$13)*(AJ687-AN687))*$AH$7/1000000","v":266.31540980759252},8448.4105553393347,19068.062623400878,{"$f":"AU687/Sanierungsdesign!$E$11","v":2.2466336608290591},3922560,17.973069286632473,{"$error":"#DIV/0!"},{"$error":"#DIV/0!"},{"$error":"#DIV/0!"},{"$error":"#DIV/0!"},{"$f":"(AY687/(AH687*Sanierungsdesign!$E$10))*1000000","v":{"$error":"#DIV/0!"}},{"$f":"AZ687/Sanierungsdesign!$E$12","v":{"$error":"#DIV/0!"}},{"$f":"$D$5+((-(Sanierungsdesign!$E$12)*MIN($BA$7:$BA$932))/(4*PI()*$D$3))*(-LN((4*$D$4*AH687)/(Sanierungsdesign!$E$13)^2)-$D$19)","v":{"$error":"#DIV/0!"}},{"$f":"(BB687-273.15)/Heterogenität!$D$4","v":{"$error":"#DIV/0!"}},{"$f":"IF(AI687<Berechnung!$D$7,AI687,#N/A)","v":{"$error":"#N/A"}}]
[null,null,null,null,null,null,null,null,null,null,null,null,null,null,null,null,null,null,null,null,null,null,null,null,null,null,null,null,null,null,null,null,{"$f":"Sanierungsdesign!$E$12*AH688*Sanierungsdesign!$E$10/1000000","v":31917.599999999999},4910400,56.833333333333336,{"$f":"$D$5+((-Sanierungsdesign!$E$12)/4*PI()*$D$3)*(-LN((4*$D$4*AH688)/(Sanierungsdesign!$E$13^2))-$D$19)","v":3392.0060456162983},3118.8560456162982,6214.4357613753045,{"$f":"$D$3*$T$7*$AH$7*(AK688-$D$5)*(1/Sanierungsdesign!$E$15)/1000000","v":396.01369349800382},{"$f":"$D$5+(-Sanierungsdesign!$E$12/(4*PI()*$D$3))*(-LN((4*$D$4*AH688)/(Sanierungsdesign!$E$13+Sanierungsdesign!$E$15)^2)-$D$19)","v":407.1039977717744},133.95399777177443,{"$f":"(2*PI()*Sanierungsdesign!$E$10*$D$3)*(LN((Sanierungsdesign!$E$13+Sanierungsdesign!$E$15)/Sanierungsdesign!$E$13)*(AJ688-AN688))*$AH$7/1000000","v":266.48904664062843},8460.8164445542243,19096.062715358883,{"$f":"AU688/Sanierungsdesign!$E$11","v":2.2481210346079528},3928320,17.984968276863622,{"$error":"#DIV/0!"},{"$error":"#DIV/0!"},{"$error":"#DIV/0!"},{"$error":"#DIV/0!"},{"$f":"(AY688/(AH688*Sanierungsdesign!$E$10))*1000000","v":{"$error":"#DIV/0!"}},{"$f":"AZ688/Sanierungsdesign!$E$12","v":{"$error":"#DIV/0!"}},{"$f":"$D$5+((-(Sanierungsdesign!$E$12)*MIN($BA$7:$BA$932))/(4*PI()*$D$3))*(-LN((4*$D$4*AH688)/(Sanierungsdesign!$E$13)^2)-$D$19)","v":{"$error":"#DIV/0!"}},{"$f":"(BB688-273.15)/Heterogenität!$D$4","v":{"$error":"#DIV/0!"}},{"$f":"IF(AI688<Berechnung!$D$7,AI688,#N/A)","v":{"$error":"#N/A"}}]
[null,null,null,null,null,null,null,null,null,null,null,null,null,null,null,null,null,null,null,null,null,null,null,null,null,null,null,null,null,null,null,null,{"$f":"Sanierungsdesign!$E$12*AH689*Sanierungsdesign!$E$10/1000000","v":31964.400000000001},4917600,56.916666666666664,{"$f":"$D$5+((-Sanierungsdesign!$E$12)/4*PI()*$D$3)*(-LN((4*$D$4*AH689)/(Sanierungsdesign!$E$13^2))-$D$19)","v":3394.0585531838406},3120.9085531838405,6218.5412545944773,{"$f":"$D$3*$T$7*$AH$7*(AK689-$D$5)*(1/Sanierungsdesign!$E$15)/1000000","v":396.30033149562405},{"$f":"$D$5+(-Sanierungsdesign!$E$12/(4*PI()*$D$3))*(-LN((4*$D$4*AH689)/(Sanierungsdesign!$E$13+Sanierungsdesign!$E$15)^2)-$D$19)","v":407.2144760249779},134.06447602497792,{"$f":"(2*PI()*Sanierungsdesign!$E$10*$D$3)*(LN((Sanierungsdesign!$E$13+Sanierungsdesign!$E$15)/Sanierungsdesign!$E$13)*(AJ689-AN689))*$AH$7/1000000","v":266.66242906063115},8473.2223337691139,19124.062807316892,{"$f":"AU689/Sanierungsdesign!$E$11","v":2.2496062290838266},3934080,17.996849832670613,{"$error":"#DIV/0!"},{"$error":"#DIV/0!"},{"$error":"#DIV/0!"},{"$error":"#DIV/0!"},{"$f":"(AY689/(AH689*Sanierungsdesign!$E$10))*1000000","v":{"$error":"#DIV/0!"}},{"$f":"AZ689/Sanierungsdesign!$E$12","v":{"$error":"#DIV/0!"}},{"$f":"$D$5+((-(Sanierungsdesign!$E$12)*MIN($BA$7:$BA$932))/(4*PI()*$D$3))*(-LN((4*$D$4*AH689)/(Sanierungsdesign!$E$13)^2)-$D$19)","v":{"$error":"#DIV/0!"}},{"$f":"(BB689-273.15)/Heterogenität!$D$4","v":{"$error":"#DIV/0!"}},{"$f":"IF(AI689<Berechnung!$D$7,AI689,#N/A)","v":{"$error":"#N/A"}}]
[null,null,null,null,null,null,null,null,null,null,null,null,null,null,null,null,null,null,null,null,null,null,null,null,null,null,null,null,null,null,null,null,{"$f":"Sanierungsdesign!$E$12*AH690*Sanierungsdesign!$E$10/1000000","v":32011.200000000001},4924800,57,{"$f":"$D$5+((-Sanierungsdesign!$E$12)/4*PI()*$D$3)*(-LN((4*$D$4*AH690)/(Sanierungsdesign!$E$13^2))-$D$19)","v":3396.1080578131223},3122.9580578131222,6222.6407412376657,{"$f":"$D$3*$T$7*$AH$7*(AK690-$D$5)*(1/Sanierungsdesign!$E$15)/1000000","v":396.5865501251389},{"$f":"$D$5+(-Sanierungsdesign!$E$12/(4*PI()*$D$3))*(-LN((4*$D$4*AH690)/(Sanierungsdesign!$E$13+Sanierungsdesign!$E$15)^2)-$D$19)","v":407.32479264205455},134.17479264205457,{"$f":"(2*PI()*Sanierungsdesign!$E$10*$D$3)*(LN((Sanierungsdesign!$E$13+Sanierungsdesign!$E$15)/Sanierungsdesign!$E$13)*(AJ690-AN690))*$AH$7/1000000","v":266.83555781204285},8485.6282229840017,19152.06289927489,{"$f":"AU690/Sanierungsdesign!$E$11","v":2.2510892506335751},3939840,18.008714005068601,{"$error":"#DIV/0!"},{"$error":"#DIV/0!"},{"$error":"#DIV/0!"},{"$error":"#DIV/0!"},{"$f":"(AY690/(AH690*Sanierungsdesign!$E$10))*1000000","v":{"$error":"#DIV/0!"}},{"$f":"AZ690/Sanierungsdesign!$E$12","v":{"$error":"#DIV/0!"}},{"$f":"$D$5+((-(Sanierungsdesign!$E$12)*MIN($BA$7:$BA$932))/(4*PI()*$D$3))*(-LN((4*$D$4*AH690)/(Sanierungsdesign!$E$13)^2)-$D$19)","v":{"$error":"#DIV/0!"}},{"$f":"(BB690-273.15)/Heterogenität!$D$4","v":{"$error":"#DIV/0!"}},{"$f":"IF(AI690<Berechnung!$D$7,AI690,#N/A)","v":{"$error":"#N/A"}}]
[null,null,null,null,null,null,null,null,null,null,null,null,null,null,null,null,null,null,null,null,null,null,null,null,null,null,null,null,null,null,null,null,{"$f":"Sanierungsdesign!$E$12*AH691*Sanierungsdesign!$E$10/1000000","v":32058},4932000,57.083333333333336,{"$f":"$D$5+((-Sanierungsdesign!$E$12)/4*PI()*$D$3)*(-LN((4*$D$4*AH691)/(Sanierungsdesign!$E$13^2))-$D$19)","v":3398.1545682782576},3125.0045682782575,6226.7342388551406,{"$f":"$D$3*$T$7*$AH$7*(AK691-$D$5)*(1/Sanierungsdesign!$E$15)/1000000","v":396.87235061187602},{"$f":"$D$5+(-Sanierungsdesign!$E$12/(4*PI()*$D$3))*(-LN((4*$D$4*AH691)/(Sanierungsdesign!$E$13+Sanierungsdesign!$E$15)^2)-$D$19)","v":407.43494809527976},134.28494809527979,{"$f":"(2*PI()*Sanierungsdesign!$E$10*$D$3)*(LN((Sanierungsdesign!$E$13+Sanierungsdesign!$E$15)/Sanierungsdesign!$E$13)*(AJ691-AN691))*$AH$7/1000000","v":267.00843363604326},8498.0341121988913,19180.062991232899,{"$f":"AU691/Sanierungsdesign!$E$11","v":2.2525701056061465},3945600,18.020560844849172,{"$error":"#DIV/0!"},{"$error":"#DIV/0!"},{"$error":"#DIV/0!"},{"$error":"#DIV/0!"},{"$f":"(AY691/(AH691*Sanierungsdesign!$E$10))*1000000","v":{"$error":"#DIV/0!"}},{"$f":"AZ691/Sanierungsdesign!$E$12","v":{"$error":"#DIV/0!"}},{"$f":"$D$5+((-(Sanierungsdesign!$E$12)*MIN($BA$7:$BA$932))/(4*PI()*$D$3))*(-LN((4*$D$4*AH691)/(Sanierungsdesign!$E$13)^2)-$D$19)","v":{"$error":"#DIV/0!"}},{"$f":"(BB691-273.15)/Heterogenität!$D$4","v":{"$error":"#DIV/0!"}},{"$f":"IF(AI691<Berechnung!$D$7,AI691,#N/A)","v":{"$error":"#N/A"}}]
[null,null,null,null,null,null,null,null,null,null,null,null,null,null,null,null,null,null,null,null,null,null,null,null,null,null,null,null,null,null,null,null,{"$f":"Sanierungsdesign!$E$12*AH692*Sanierungsdesign!$E$10/1000000","v":32104.799999999999},4939200,57.166666666666664,{"$f":"$D$5+((-Sanierungsdesign!$E$12)/4*PI()*$D$3)*(-LN((4*$D$4*AH692)/(Sanierungsdesign!$E$13^2))-$D$19)","v":3400.1980933149575},3127.0480933149574,6230.821764920358,{"$f":"$D$3*$T$7*$AH$7*(AK692-$D$5)*(1/Sanierungsdesign!$E$15)/1000000","v":397.15773417580016},{"$f":"$D$5+(-Sanierungsdesign!$E$12/(4*PI()*$D$3))*(-LN((4*$D$4*AH692)/(Sanierungsdesign!$E$13+Sanierungsdesign!$E$15)^2)-$D$19)","v":407.54494285486192},134.39494285486194,{"$f":"(2*PI()*Sanierungsdesign!$E$10*$D$3)*(LN((Sanierungsdesign!$E$13+Sanierungsdesign!$E$15)/Sanierungsdesign!$E$13)*(AJ692-AN692))*$AH$7/1000000","v":267.18105727056826},8510.4400014137791,19208.0630831909,{"$f":"AU692/Sanierungsdesign!$E$11","v":2.2540488003227033},3951360,18.032390402581626,{"$error":"#DIV/0!"},{"$error":"#DIV/0!"},{"$error":"#DIV/0!"},{"$error":"#DIV/0!"},{"$f":"(AY692/(AH692*Sanierungsdesign!$E$10))*1000000","v":{"$error":"#DIV/0!"}},{"$f":"AZ692/Sanierungsdesign!$E$12","v":{"$error":"#DIV/0!"}},{"$f":"$D$5+((-(Sanierungsdesign!$E$12)*MIN($BA$7:$BA$932))/(4*PI()*$D$3))*(-LN((4*$D$4*AH692)/(Sanierungsdesign!$E$13)^2)-$D$19)","v":{"$error":"#DIV/0!"}},{"$f":"(BB692-273.15)/Heterogenität!$D$4","v":{"$error":"#DIV/0!"}},{"$f":"IF(AI692<Berechnung!$D$7,AI692,#N/A)","v":{"$error":"#N/A"}}]
[null,null,null,null,null,null,null,null,null,null,null,null,null,null,null,null,null,null,null,null,null,null,null,null,null,null,null,null,null,null,null,null,{"$f":"Sanierungsdesign!$E$12*AH693*Sanierungsdesign!$E$10/1000000","v":32151.599999999999},4946400,57.25,{"$f":"$D$5+((-Sanierungsdesign!$E$12)/4*PI()*$D$3)*(-LN((4*$D$4*AH693)/(Sanierungsdesign!$E$13^2))-$D$19)","v":3402.2386416207628},3129.0886416207627,6234.9033368304254,{"$f":"$D$3*$T$7*$AH$7*(AK693-$D$5)*(1/Sanierungsdesign!$E$15)/1000000","v":397.44270203154537},{"$f":"$D$5+(-Sanierungsdesign!$E$12/(4*PI()*$D$3))*(-LN((4*$D$4*AH693)/(Sanierungsdesign!$E$13+Sanierungsdesign!$E$15)^2)-$D$19)","v":407.65477738895464},134.50477738895466,{"$f":"(2*PI()*Sanierungsdesign!$E$10*$D$3)*(LN((Sanierungsdesign!$E$13+Sanierungsdesign!$E$15)/Sanierungsdesign!$E$13)*(AJ693-AN693))*$AH$7/1000000","v":267.35342945032909},8522.8458906286687,19236.063175148905,{"$f":"AU693/Sanierungsdesign!$E$11","v":2.2555253410767837},3957120,18.04420272861427,{"$error":"#DIV/0!"},{"$error":"#DIV/0!"},{"$error":"#DIV/0!"},{"$error":"#DIV/0!"},{"$f":"(AY693/(AH693*Sanierungsdesign!$E$10))*1000000","v":{"$error":"#DIV/0!"}},{"$f":"AZ693/Sanierungsdesign!$E$12","v":{"$error":"#DIV/0!"}},{"$f":"$D$5+((-(Sanierungsdesign!$E$12)*MIN($BA$7:$BA$932))/(4*PI()*$D$3))*(-LN((4*$D$4*AH693)/(Sanierungsdesign!$E$13)^2)-$D$19)","v":{"$error":"#DIV/0!"}},{"$f":"(BB693-273.15)/Heterogenität!$D$4","v":{"$error":"#DIV/0!"}},{"$f":"IF(AI693<Berechnung!$D$7,AI693,#N/A)","v":{"$error":"#N/A"}}]
[null,null,null,null,null,null,null,null,null,null,null,null,null,null,null,null,null,null,null,null,null,null,null,null,null,null,null,null,null,null,null,null,{"$f":"Sanierungsdesign!$E$12*AH694*Sanierungsdesign!$E$10/1000000","v":32198.400000000001},4953600,57.333333333333336,{"$f":"$D$5+((-Sanierungsdesign!$E$12)/4*PI()*$D$3)*(-LN((4*$D$4*AH694)/(Sanierungsdesign!$E$13^2))-$D$19)","v":3404.276221855258},3131.1262218552579,6238.9789719065284,{"$f":"$D$3*$T$7*$AH$7*(AK694-$D$5)*(1/Sanierungsdesign!$E$15)/1000000","v":397.72725538844509},{"$f":"$D$5+(-Sanierungsdesign!$E$12/(4*PI()*$D$3))*(-LN((4*$D$4*AH694)/(Sanierungsdesign!$E$13+Sanierungsdesign!$E$15)^2)-$D$19)","v":407.76445216366864},134.61445216366866,{"$f":"(2*PI()*Sanierungsdesign!$E$10*$D$3)*(LN((Sanierungsdesign!$E$13+Sanierungsdesign!$E$15)/Sanierungsdesign!$E$13)*(AJ694-AN694))*$AH$7/1000000","v":267.52555090683086},8535.2517798435583,19264.063267106911,{"$f":"AU694/Sanierungsdesign!$E$11","v":2.2569997341344643},3962880,18.055997873075714,{"$error":"#DIV/0!"},{"$error":"#DIV/0!"},{"$error":"#DIV/0!"},{"$error":"#DIV/0!"},{"$f":"(AY694/(AH694*Sanierungsdesign!$E$10))*1000000","v":{"$error":"#DIV/0!"}},{"$f":"AZ694/Sanierungsdesign!$E$12","v":{"$error":"#DIV/0!"}},{"$f":"$D$5+((-(Sanierungsdesign!$E$12)*MIN($BA$7:$BA$932))/(4*PI()*$D$3))*(-LN((4*$D$4*AH694)/(Sanierungsdesign!$E$13)^2)-$D$19)","v":{"$error":"#DIV/0!"}},{"$f":"(BB694-273.15)/Heterogenität!$D$4","v":{"$error":"#DIV/0!"}},{"$f":"IF(AI694<Berechnung!$D$7,AI694,#N/A)","v":{"$error":"#N/A"}}]
[null,null,null,null,null,null,null,null,null,null,null,null,null,null,null,null,null,null,null,null,null,null,null,null,null,null,null,null,null,null,null,null,{"$f":"Sanierungsdesign!$E$12*AH695*Sanierungsdesign!$E$10/1000000","v":32245.200000000001},4960800,57.416666666666664,{"$f":"$D$5+((-Sanierungsdesign!$E$12)/4*PI()*$D$3)*(-LN((4*$D$4*AH695)/(Sanierungsdesign!$E$13^2))-$D$19)","v":3406.3108426402955},3133.1608426402954,6243.0486873943819,{"$f":"$D$3*$T$7*$AH$7*(AK695-$D$5)*(1/Sanierungsdesign!$E$15)/1000000","v":398.01139545056333},{"$f":"$D$5+(-Sanierungsdesign!$E$12/(4*PI()*$D$3))*(-LN((4*$D$4*AH695)/(Sanierungsdesign!$E$13+Sanierungsdesign!$E$15)^2)-$D$19)","v":407.87396764308369},134.72396764308371,{"$f":"(2*PI()*Sanierungsdesign!$E$10*$D$3)*(LN((Sanierungsdesign!$E$13+Sanierungsdesign!$E$15)/Sanierungsdesign!$E$13)*(AJ695-AN695))*$AH$7/1000000","v":267.69742236839147},8547.6576690584461,19292.063359064916,{"$f":"AU695/Sanierungsdesign!$E$11","v":2.2584719857345177},3968640,18.067775885876141,{"$error":"#DIV/0!"},{"$error":"#DIV/0!"},{"$error":"#DIV/0!"},{"$error":"#DIV/0!"},{"$f":"(AY695/(AH695*Sanierungsdesign!$E$10))*1000000","v":{"$error":"#DIV/0!"}},{"$f":"AZ695/Sanierungsdesign!$E$12","v":{"$error":"#DIV/0!"}},{"$f":"$D$5+((-(Sanierungsdesign!$E$12)*MIN($BA$7:$BA$932))/(4*PI()*$D$3))*(-LN((4*$D$4*AH695)/(Sanierungsdesign!$E$13)^2)-$D$19)","v":{"$error":"#DIV/0!"}},{"$f":"(BB695-273.15)/Heterogenität!$D$4","v":{"$error":"#DIV/0!"}},{"$f":"IF(AI695<Berechnung!$D$7,AI695,#N/A)","v":{"$error":"#N/A"}}]
[null,null,null,null,null,null,null,null,null,null,null,null,null,null,null,null,null,null,null,null,null,null,null,null,null,null,null,null,null,null,null,null,{"$f":"Sanierungsdesign!$E$12*AH696*Sanierungsdesign!$E$10/1000000","v":32292},4968000,57.5,{"$f":"$D$5+((-Sanierungsdesign!$E$12)/4*PI()*$D$3)*(-LN((4*$D$4*AH696)/(Sanierungsdesign!$E$13^2))-$D$19)","v":3408.3425125602143},3135.1925125602143,6247.1125004646619,{"$f":"$D$3*$T$7*$AH$7*(AK696-$D$5)*(1/Sanierungsdesign!$E$15)/1000000","v":398.29512341672529},{"$f":"$D$5+(-Sanierungsdesign!$E$12/(4*PI()*$D$3))*(-LN((4*$D$4*AH696)/(Sanierungsdesign!$E$13+Sanierungsdesign!$E$15)^2)-$D$19)","v":407.98332428926045},134.83332428926047,{"$f":"(2*PI()*Sanierungsdesign!$E$10*$D$3)*(LN((Sanierungsdesign!$E$13+Sanierungsdesign!$E$15)/Sanierungsdesign!$E$13)*(AJ696-AN696))*$AH$7/1000000","v":267.86904456015958},8560.0635582733357,19320.063451022917,{"$f":"AU696/Sanierungsdesign!$E$11","v":2.2599421020885706},3974400,18.079536816708565,{"$error":"#DIV/0!"},{"$error":"#DIV/0!"},{"$error":"#DIV/0!"},{"$error":"#DIV/0!"},{"$f":"(AY696/(AH696*Sanierungsdesign!$E$10))*1000000","v":{"$error":"#DIV/0!"}},{"$f":"AZ696/Sanierungsdesign!$E$12","v":{"$error":"#DIV/0!"}},{"$f":"$D$5+((-(Sanierungsdesign!$E$12)*MIN($BA$7:$BA$932))/(4*PI()*$D$3))*(-LN((4*$D$4*AH696)/(Sanierungsdesign!$E$13)^2)-$D$19)","v":{"$error":"#DIV/0!"}},{"$f":"(BB696-273.15)/Heterogenität!$D$4","v":{"$error":"#DIV/0!"}},{"$f":"IF(AI696<Berechnung!$D$7,AI696,#N/A)","v":{"$error":"#N/A"}}]
[null,null,null,null,null,null,null,null,null,null,null,null,null,null,null,null,null,null,null,null,null,null,null,null,null,null,null,null,null,null,null,null,{"$f":"Sanierungsdesign!$E$12*AH697*Sanierungsdesign!$E$10/1000000","v":32338.799999999999},4975200,57.583333333333336,{"$f":"$D$5+((-Sanierungsdesign!$E$12)/4*PI()*$D$3)*(-LN((4*$D$4*AH697)/(Sanierungsdesign!$E$13^2))-$D$19)","v":3410.3712401620592},3137.2212401620591,6251.1704282134488,{"$f":"$D$3*$T$7*$AH$7*(AK697-$D$5)*(1/Sanierungsdesign!$E$15)/1000000","v":398.57844048054784},{"$f":"$D$5+(-Sanierungsdesign!$E$12/(4*PI()*$D$3))*(-LN((4*$D$4*AH697)/(Sanierungsdesign!$E$13+Sanierungsdesign!$E$15)^2)-$D$19)","v":408.09252256225193},134.94252256225195,{"$f":"(2*PI()*Sanierungsdesign!$E$10*$D$3)*(LN((Sanierungsdesign!$E$13+Sanierungsdesign!$E$15)/Sanierungsdesign!$E$13)*(AJ697-AN697))*$AH$7/1000000","v":268.04041820413363},8572.4694474882235,19348.063542980919,{"$f":"AU697/Sanierungsdesign!$E$11","v":2.2614100893812656},3980160,18.091280715050125,{"$error":"#DIV/0!"},{"$error":"#DIV/0!"},{"$error":"#DIV/0!"},{"$error":"#DIV/0!"},{"$f":"(AY697/(AH697*Sanierungsdesign!$E$10))*1000000","v":{"$error":"#DIV/0!"}},{"$f":"AZ697/Sanierungsdesign!$E$12","v":{"$error":"#DIV/0!"}},{"$f":"$D$5+((-(Sanierungsdesign!$E$12)*MIN($BA$7:$BA$932))/(4*PI()*$D$3))*(-LN((4*$D$4*AH697)/(Sanierungsdesign!$E$13)^2)-$D$19)","v":{"$error":"#DIV/0!"}},{"$f":"(BB697-273.15)/Heterogenität!$D$4","v":{"$error":"#DIV/0!"}},{"$f":"IF(AI697<Berechnung!$D$7,AI697,#N/A)","v":{"$error":"#N/A"}}]
[null,null,null,null,null,null,null,null,null,null,null,null,null,null,null,null,null,null,null,null,null,null,null,null,null,null,null,null,null,null,null,null,{"$f":"Sanierungsdesign!$E$12*AH698*Sanierungsdesign!$E$10/1000000","v":32385.599999999999},4982400,57.666666666666664,{"$f":"$D$5+((-Sanierungsdesign!$E$12)/4*PI()*$D$3)*(-LN((4*$D$4*AH698)/(Sanierungsdesign!$E$13^2))-$D$19)","v":3412.3970339557914},3139.2470339557913,6255.2224876626478,{"$f":"$D$3*$T$7*$AH$7*(AK698-$D$5)*(1/Sanierungsdesign!$E$15)/1000000","v":398.86134783046919},{"$f":"$D$5+(-Sanierungsdesign!$E$12/(4*PI()*$D$3))*(-LN((4*$D$4*AH698)/(Sanierungsdesign!$E$13+Sanierungsdesign!$E$15)^2)-$D$19)","v":408.20156292011529},135.05156292011532,{"$f":"(2*PI()*Sanierungsdesign!$E$10*$D$3)*(LN((Sanierungsdesign!$E$13+Sanierungsdesign!$E$15)/Sanierungsdesign!$E$13)*(AJ698-AN698))*$AH$7/1000000","v":268.2115440191796},8584.8753367031131,19376.063634938928,{"$f":"AU698/Sanierungsdesign!$E$11","v":2.2628759537704104},3985920,18.103007630163283,{"$error":"#DIV/0!"},{"$error":"#DIV/0!"},{"$error":"#DIV/0!"},{"$error":"#DIV/0!"},{"$f":"(AY698/(AH698*Sanierungsdesign!$E$10))*1000000","v":{"$error":"#DIV/0!"}},{"$f":"AZ698/Sanierungsdesign!$E$12","v":{"$error":"#DIV/0!"}},{"$f":"$D$5+((-(Sanierungsdesign!$E$12)*MIN($BA$7:$BA$932))/(4*PI()*$D$3))*(-LN((4*$D$4*AH698)/(Sanierungsdesign!$E$13)^2)-$D$19)","v":{"$error":"#DIV/0!"}},{"$f":"(BB698-273.15)/Heterogenität!$D$4","v":{"$error":"#DIV/0!"}},{"$f":"IF(AI698<Berechnung!$D$7,AI698,#N/A)","v":{"$error":"#N/A"}}]
[null,null,null,null,null,null,null,null,null,null,null,null,null,null,null,null,null,null,null,null,null,null,null,null,null,null,null,null,null,null,null,null,{"$f":"Sanierungsdesign!$E$12*AH699*Sanierungsdesign!$E$10/1000000","v":32432.400000000001},4989600,57.75,{"$f":"$D$5+((-Sanierungsdesign!$E$12)/4*PI()*$D$3)*(-LN((4*$D$4*AH699)/(Sanierungsdesign!$E$13^2))-$D$19)","v":3414.4199024145091},3141.269902414509,6259.2686957604292,{"$f":"$D$3*$T$7*$AH$7*(AK699-$D$5)*(1/Sanierungsdesign!$E$15)/1000000","v":399.14384664977939},{"$f":"$D$5+(-Sanierungsdesign!$E$12/(4*PI()*$D$3))*(-LN((4*$D$4*AH699)/(Sanierungsdesign!$E$13+Sanierungsdesign!$E$15)^2)-$D$19)","v":408.31044581892337},135.16044581892339,{"$f":"(2*PI()*Sanierungsdesign!$E$10*$D$3)*(LN((Sanierungsdesign!$E$13+Sanierungsdesign!$E$15)/Sanierungsdesign!$E$13)*(AJ699-AN699))*$AH$7/1000000","v":268.38242272104947},8597.2812259180027,19404.063726896929,{"$f":"AU699/Sanierungsdesign!$E$11","v":2.2643397013871387},3991680,18.11471761109711,{"$error":"#DIV/0!"},{"$error":"#DIV/0!"},{"$error":"#DIV/0!"},{"$error":"#DIV/0!"},{"$f":"(AY699/(AH699*Sanierungsdesign!$E$10))*1000000","v":{"$error":"#DIV/0!"}},{"$f":"AZ699/Sanierungsdesign!$E$12","v":{"$error":"#DIV/0!"}},{"$f":"$D$5+((-(Sanierungsdesign!$E$12)*MIN($BA$7:$BA$932))/(4*PI()*$D$3))*(-LN((4*$D$4*AH699)/(Sanierungsdesign!$E$13)^2)-$D$19)","v":{"$error":"#DIV/0!"}},{"$f":"(BB699-273.15)/Heterogenität!$D$4","v":{"$error":"#DIV/0!"}},{"$f":"IF(AI699<Berechnung!$D$7,AI699,#N/A)","v":{"$error":"#N/A"}}]
[null,null,null,null,null,null,null,null,null,null,null,null,null,null,null,null,null,null,null,null,null,null,null,null,null,null,null,null,null,null,null,null,{"$f":"Sanierungsdesign!$E$12*AH700*Sanierungsdesign!$E$10/1000000","v":32479.200000000001},4996800,57.833333333333336,{"$f":"$D$5+((-Sanierungsdesign!$E$12)/4*PI()*$D$3)*(-LN((4*$D$4*AH700)/(Sanierungsdesign!$E$13^2))-$D$19)","v":3416.4398539746535},3143.2898539746534,6263.3090693816403,{"$f":"$D$3*$T$7*$AH$7*(AK700-$D$5)*(1/Sanierungsdesign!$E$15)/1000000","v":399.42593811664932},{"$f":"$D$5+(-Sanierungsdesign!$E$12/(4*PI()*$D$3))*(-LN((4*$D$4*AH700)/(Sanierungsdesign!$E$13+Sanierungsdesign!$E$15)^2)-$D$19)","v":408.41917171277612},135.26917171277614,{"$f":"(2*PI()*Sanierungsdesign!$E$10*$D$3)*(LN((Sanierungsdesign!$E$13+Sanierungsdesign!$E$15)/Sanierungsdesign!$E$13)*(AJ700-AN700))*$AH$7/1000000","v":268.55305502239855},8609.6871151328905,19432.063818854935,{"$f":"AU700/Sanierungsdesign!$E$11","v":2.2658013383360589},3997440,18.126410706688471,{"$error":"#DIV/0!"},{"$error":"#DIV/0!"},{"$error":"#DIV/0!"},{"$error":"#DIV/0!"},{"$f":"(AY700/(AH700*Sanierungsdesign!$E$10))*1000000","v":{"$error":"#DIV/0!"}},{"$f":"AZ700/Sanierungsdesign!$E$12","v":{"$error":"#DIV/0!"}},{"$f":"$D$5+((-(Sanierungsdesign!$E$12)*MIN($BA$7:$BA$932))/(4*PI()*$D$3))*(-LN((4*$D$4*AH700)/(Sanierungsdesign!$E$13)^2)-$D$19)","v":{"$error":"#DIV/0!"}},{"$f":"(BB700-273.15)/Heterogenität!$D$4","v":{"$error":"#DIV/0!"}},{"$f":"IF(AI700<Berechnung!$D$7,AI700,#N/A)","v":{"$error":"#N/A"}}]
[null,null,null,null,null,null,null,null,null,null,null,null,null,null,null,null,null,null,null,null,null,null,null,null,null,null,null,null,null,null,null,null,{"$f":"Sanierungsdesign!$E$12*AH701*Sanierungsdesign!$E$10/1000000","v":32526},5004000,57.916666666666664,{"$f":"$D$5+((-Sanierungsdesign!$E$12)/4*PI()*$D$3)*(-LN((4*$D$4*AH701)/(Sanierungsdesign!$E$13^2))-$D$19)","v":3418.4568970362247},3145.3068970362247,6267.343625328238,{"$f":"$D$3*$T$7*$AH$7*(AK701-$D$5)*(1/Sanierungsdesign!$E$15)/1000000","v":399.70762340416076},{"$f":"$D$5+(-Sanierungsdesign!$E$12/(4*PI()*$D$3))*(-LN((4*$D$4*AH701)/(Sanierungsdesign!$E$13+Sanierungsdesign!$E$15)^2)-$D$19)","v":408.52774105381172},135.37774105381175,{"$f":"(2*PI()*Sanierungsdesign!$E$10*$D$3)*(LN((Sanierungsdesign!$E$13+Sanierungsdesign!$E$15)/Sanierungsdesign!$E$13)*(AJ701-AN701))*$AH$7/1000000","v":268.72344163280388},8622.0930043477802,19460.06391081294,{"$f":"AU701/Sanierungsdesign!$E$11","v":2.2672608706954116},4003200,18.138086965563293,{"$error":"#DIV/0!"},{"$error":"#DIV/0!"},{"$error":"#DIV/0!"},{"$error":"#DIV/0!"},{"$f":"(AY701/(AH701*Sanierungsdesign!$E$10))*1000000","v":{"$error":"#DIV/0!"}},{"$f":"AZ701/Sanierungsdesign!$E$12","v":{"$error":"#DIV/0!"}},{"$f":"$D$5+((-(Sanierungsdesign!$E$12)*MIN($BA$7:$BA$932))/(4*PI()*$D$3))*(-LN((4*$D$4*AH701)/(Sanierungsdesign!$E$13)^2)-$D$19)","v":{"$error":"#DIV/0!"}},{"$f":"(BB701-273.15)/Heterogenität!$D$4","v":{"$error":"#DIV/0!"}},{"$f":"IF(AI701<Berechnung!$D$7,AI701,#N/A)","v":{"$error":"#N/A"}}]
[null,null,null,null,null,null,null,null,null,null,null,null,null,null,null,null,null,null,null,null,null,null,null,null,null,null,null,null,null,null,null,null,{"$f":"Sanierungsdesign!$E$12*AH702*Sanierungsdesign!$E$10/1000000","v":32572.799999999999},5011200,58,{"$f":"$D$5+((-Sanierungsdesign!$E$12)/4*PI()*$D$3)*(-LN((4*$D$4*AH702)/(Sanierungsdesign!$E$13^2))-$D$19)","v":3420.4710399629912},3147.3210399629911,6271.3723803297053,{"$f":"$D$3*$T$7*$AH$7*(AK702-$D$5)*(1/Sanierungsdesign!$E$15)/1000000","v":399.98890368033562},{"$f":"$D$5+(-Sanierungsdesign!$E$12/(4*PI()*$D$3))*(-LN((4*$D$4*AH702)/(Sanierungsdesign!$E$13+Sanierungsdesign!$E$15)^2)-$D$19)","v":408.63615429221835},135.48615429221837,{"$f":"(2*PI()*Sanierungsdesign!$E$10*$D$3)*(LN((Sanierungsdesign!$E$13+Sanierungsdesign!$E$15)/Sanierungsdesign!$E$13)*(AJ702-AN702))*$AH$7/1000000","v":268.89358325878209},8634.4988935626679,19488.064002770941,{"$f":"AU702/Sanierungsdesign!$E$11","v":2.2687183045172201},4008960,18.149746436137761,{"$error":"#DIV/0!"},{"$error":"#DIV/0!"},{"$error":"#DIV/0!"},{"$error":"#DIV/0!"},{"$f":"(AY702/(AH702*Sanierungsdesign!$E$10))*1000000","v":{"$error":"#DIV/0!"}},{"$f":"AZ702/Sanierungsdesign!$E$12","v":{"$error":"#DIV/0!"}},{"$f":"$D$5+((-(Sanierungsdesign!$E$12)*MIN($BA$7:$BA$932))/(4*PI()*$D$3))*(-LN((4*$D$4*AH702)/(Sanierungsdesign!$E$13)^2)-$D$19)","v":{"$error":"#DIV/0!"}},{"$f":"(BB702-273.15)/Heterogenität!$D$4","v":{"$error":"#DIV/0!"}},{"$f":"IF(AI702<Berechnung!$D$7,AI702,#N/A)","v":{"$error":"#N/A"}}]
[null,null,null,null,null,null,null,null,null,null,null,null,null,null,null,null,null,null,null,null,null,null,null,null,null,null,null,null,null,null,null,null,{"$f":"Sanierungsdesign!$E$12*AH703*Sanierungsdesign!$E$10/1000000","v":32619.599999999999},5018400,58.083333333333336,{"$f":"$D$5+((-Sanierungsdesign!$E$12)/4*PI()*$D$3)*(-LN((4*$D$4*AH703)/(Sanierungsdesign!$E$13^2))-$D$19)","v":3422.4822910826952},3149.3322910826951,6275.3953510434694,{"$f":"$D$3*$T$7*$AH$7*(AK703-$D$5)*(1/Sanierungsdesign!$E$15)/1000000","v":400.2697801081647},{"$f":"$D$5+(-Sanierungsdesign!$E$12/(4*PI()*$D$3))*(-LN((4*$D$4*AH703)/(Sanierungsdesign!$E$13+Sanierungsdesign!$E$15)^2)-$D$19)","v":408.74441187624495},135.59441187624498,{"$f":"(2*PI()*Sanierungsdesign!$E$10*$D$3)*(LN((Sanierungsdesign!$E$13+Sanierungsdesign!$E$15)/Sanierungsdesign!$E$13)*(AJ703-AN703))*$AH$7/1000000","v":269.06348060380611},8646.9047827775576,19516.064094728947,{"$f":"AU703/Sanierungsdesign!$E$11","v":2.270173645827438},4014720,18.161389166619504,{"$error":"#DIV/0!"},{"$error":"#DIV/0!"},{"$error":"#DIV/0!"},{"$error":"#DIV/0!"},{"$f":"(AY703/(AH703*Sanierungsdesign!$E$10))*1000000","v":{"$error":"#DIV/0!"}},{"$f":"AZ703/Sanierungsdesign!$E$12","v":{"$error":"#DIV/0!"}},{"$f":"$D$5+((-(Sanierungsdesign!$E$12)*MIN($BA$7:$BA$932))/(4*PI()*$D$3))*(-LN((4*$D$4*AH703)/(Sanierungsdesign!$E$13)^2)-$D$19)","v":{"$error":"#DIV/0!"}},{"$f":"(BB703-273.15)/Heterogenität!$D$4","v":{"$error":"#DIV/0!"}},{"$f":"IF(AI703<Berechnung!$D$7,AI703,#N/A)","v":{"$error":"#N/A"}}]
[null,null,null,null,null,null,null,null,null,null,null,null,null,null,null,null,null,null,null,null,null,null,null,null,null,null,null,null,null,null,null,null,{"$f":"Sanierungsdesign!$E$12*AH704*Sanierungsdesign!$E$10/1000000","v":32666.400000000001},5025600,58.166666666666664,{"$f":"$D$5+((-Sanierungsdesign!$E$12)/4*PI()*$D$3)*(-LN((4*$D$4*AH704)/(Sanierungsdesign!$E$13^2))-$D$19)","v":3424.4906586872598},3151.3406586872597,6279.4125540553068,{"$f":"$D$3*$T$7*$AH$7*(AK704-$D$5)*(1/Sanierungsdesign!$E$15)/1000000","v":400.55025384563646},{"$f":"$D$5+(-Sanierungsdesign!$E$12/(4*PI()*$D$3))*(-LN((4*$D$4*AH704)/(Sanierungsdesign!$E$13+Sanierungsdesign!$E$15)^2)-$D$19)","v":408.85251425221259},135.70251425221261,{"$f":"(2*PI()*Sanierungsdesign!$E$10*$D$3)*(LN((Sanierungsdesign!$E$13+Sanierungsdesign!$E$15)/Sanierungsdesign!$E$13)*(AJ704-AN704))*$AH$7/1000000","v":269.23313436832382},8659.3106719924472,19544.064186686956,{"$f":"AU704/Sanierungsdesign!$E$11","v":2.2716269006261012},4020480,18.173015205008809,{"$error":"#DIV/0!"},{"$error":"#DIV/0!"},{"$error":"#DIV/0!"},{"$error":"#DIV/0!"},{"$f":"(AY704/(AH704*Sanierungsdesign!$E$10))*1000000","v":{"$error":"#DIV/0!"}},{"$f":"AZ704/Sanierungsdesign!$E$12","v":{"$error":"#DIV/0!"}},{"$f":"$D$5+((-(Sanierungsdesign!$E$12)*MIN($BA$7:$BA$932))/(4*PI()*$D$3))*(-LN((4*$D$4*AH704)/(Sanierungsdesign!$E$13)^2)-$D$19)","v":{"$error":"#DIV/0!"}},{"$f":"(BB704-273.15)/Heterogenität!$D$4","v":{"$error":"#DIV/0!"}},{"$f":"IF(AI704<Berechnung!$D$7,AI704,#N/A)","v":{"$error":"#N/A"}}]
[null,null,null,null,null,null,null,null,null,null,null,null,null,null,null,null,null,null,null,null,null,null,null,null,null,null,null,null,null,null,null,null,{"$f":"Sanierungsdesign!$E$12*AH705*Sanierungsdesign!$E$10/1000000","v":32713.200000000001},5032800,58.25,{"$f":"$D$5+((-Sanierungsdesign!$E$12)/4*PI()*$D$3)*(-LN((4*$D$4*AH705)/(Sanierungsdesign!$E$13^2))-$D$19)","v":3426.4961510329972},3153.3461510329971,6283.424005879765,{"$f":"$D$3*$T$7*$AH$7*(AK705-$D$5)*(1/Sanierungsdesign!$E$15)/1000000","v":400.83032604576641},{"$f":"$D$5+(-Sanierungsdesign!$E$12/(4*PI()*$D$3))*(-LN((4*$D$4*AH705)/(Sanierungsdesign!$E$13+Sanierungsdesign!$E$15)^2)-$D$19)","v":408.96046186452531},135.81046186452534,{"$f":"(2*PI()*Sanierungsdesign!$E$10*$D$3)*(LN((Sanierungsdesign!$E$13+Sanierungsdesign!$E$15)/Sanierungsdesign!$E$13)*(AJ705-AN705))*$AH$7/1000000","v":269.40254524977411},8671.716561207335,19572.064278644953,{"$f":"AU705/Sanierungsdesign!$E$11","v":2.2730780748874766},4026240,18.184624599099813,{"$error":"#DIV/0!"},{"$error":"#DIV/0!"},{"$error":"#DIV/0!"},{"$error":"#DIV/0!"},{"$f":"(AY705/(AH705*Sanierungsdesign!$E$10))*1000000","v":{"$error":"#DIV/0!"}},{"$f":"AZ705/Sanierungsdesign!$E$12","v":{"$error":"#DIV/0!"}},{"$f":"$D$5+((-(Sanierungsdesign!$E$12)*MIN($BA$7:$BA$932))/(4*PI()*$D$3))*(-LN((4*$D$4*AH705)/(Sanierungsdesign!$E$13)^2)-$D$19)","v":{"$error":"#DIV/0!"}},{"$f":"(BB705-273.15)/Heterogenität!$D$4","v":{"$error":"#DIV/0!"}},{"$f":"IF(AI705<Berechnung!$D$7,AI705,#N/A)","v":{"$error":"#N/A"}}]
[null,null,null,null,null,null,null,null,null,null,null,null,null,null,null,null,null,null,null,null,null,null,null,null,null,null,null,null,null,null,null,null,{"$f":"Sanierungsdesign!$E$12*AH706*Sanierungsdesign!$E$10/1000000","v":32760},5040000,58.333333333333336,{"$f":"$D$5+((-Sanierungsdesign!$E$12)/4*PI()*$D$3)*(-LN((4*$D$4*AH706)/(Sanierungsdesign!$E$13^2))-$D$19)","v":3428.498776340808},3155.3487763408079,6287.429722960559,{"$f":"$D$3*$T$7*$AH$7*(AK706-$D$5)*(1/Sanierungsdesign!$E$15)/1000000","v":401.10999785662449},{"$f":"$D$5+(-Sanierungsdesign!$E$12/(4*PI()*$D$3))*(-LN((4*$D$4*AH706)/(Sanierungsdesign!$E$13+Sanierungsdesign!$E$15)^2)-$D$19)","v":409.06825515568141},135.91825515568144,{"$f":"(2*PI()*Sanierungsdesign!$E$10*$D$3)*(LN((Sanierungsdesign!$E$13+Sanierungsdesign!$E$15)/Sanierungsdesign!$E$13)*(AJ706-AN706))*$AH$7/1000000","v":269.57171394260513},8684.1224504222246,19600.064370602962,{"$f":"AU706/Sanierungsdesign!$E$11","v":2.2745271745602085},4032000,18.196217396481668,{"$error":"#DIV/0!"},{"$error":"#DIV/0!"},{"$error":"#DIV/0!"},{"$error":"#DIV/0!"},{"$f":"(AY706/(AH706*Sanierungsdesign!$E$10))*1000000","v":{"$error":"#DIV/0!"}},{"$f":"AZ706/Sanierungsdesign!$E$12","v":{"$error":"#DIV/0!"}},{"$f":"$D$5+((-(Sanierungsdesign!$E$12)*MIN($BA$7:$BA$932))/(4*PI()*$D$3))*(-LN((4*$D$4*AH706)/(Sanierungsdesign!$E$13)^2)-$D$19)","v":{"$error":"#DIV/0!"}},{"$f":"(BB706-273.15)/Heterogenität!$D$4","v":{"$error":"#DIV/0!"}},{"$f":"IF(AI706<Berechnung!$D$7,AI706,#N/A)","v":{"$error":"#N/A"}}]
[null,null,null,null,null,null,null,null,null,null,null,null,null,null,null,null,null,null,null,null,null,null,null,null,null,null,null,null,null,null,null,null,{"$f":"Sanierungsdesign!$E$12*AH707*Sanierungsdesign!$E$10/1000000","v":32806.800000000003},5047200,58.416666666666664,{"$f":"$D$5+((-Sanierungsdesign!$E$12)/4*PI()*$D$3)*(-LN((4*$D$4*AH707)/(Sanierungsdesign!$E$13^2))-$D$19)","v":3430.4985427963875},3157.3485427963874,6291.4297216709874,{"$f":"$D$3*$T$7*$AH$7*(AK707-$D$5)*(1/Sanierungsdesign!$E$15)/1000000","v":401.3892704213643},{"$f":"$D$5+(-Sanierungsdesign!$E$12/(4*PI()*$D$3))*(-LN((4*$D$4*AH707)/(Sanierungsdesign!$E$13+Sanierungsdesign!$E$15)^2)-$D$19)","v":409.17589456628389},136.02589456628391,{"$f":"(2*PI()*Sanierungsdesign!$E$10*$D$3)*(LN((Sanierungsdesign!$E$13+Sanierungsdesign!$E$15)/Sanierungsdesign!$E$13)*(AJ707-AN707))*$AH$7/1000000","v":269.74064113829081},8696.5283396371124,19628.064462560964,{"$f":"AU707/Sanierungsdesign!$E$11","v":2.2759742055674654},4037760,18.207793644539723,{"$error":"#DIV/0!"},{"$error":"#DIV/0!"},{"$error":"#DIV/0!"},{"$error":"#DIV/0!"},{"$f":"(AY707/(AH707*Sanierungsdesign!$E$10))*1000000","v":{"$error":"#DIV/0!"}},{"$f":"AZ707/Sanierungsdesign!$E$12","v":{"$error":"#DIV/0!"}},{"$f":"$D$5+((-(Sanierungsdesign!$E$12)*MIN($BA$7:$BA$932))/(4*PI()*$D$3))*(-LN((4*$D$4*AH707)/(Sanierungsdesign!$E$13)^2)-$D$19)","v":{"$error":"#DIV/0!"}},{"$f":"(BB707-273.15)/Heterogenität!$D$4","v":{"$error":"#DIV/0!"}},{"$f":"IF(AI707<Berechnung!$D$7,AI707,#N/A)","v":{"$error":"#N/A"}}]
[null,null,null,null,null,null,null,null,null,null,null,null,null,null,null,null,null,null,null,null,null,null,null,null,null,null,null,null,null,null,null,null,{"$f":"Sanierungsdesign!$E$12*AH708*Sanierungsdesign!$E$10/1000000","v":32853.599999999999},5054400,58.5,{"$f":"$D$5+((-Sanierungsdesign!$E$12)/4*PI()*$D$3)*(-LN((4*$D$4*AH708)/(Sanierungsdesign!$E$13^2))-$D$19)","v":3432.495458550422},3159.3454585504219,6295.4240183143202,{"$f":"$D$3*$T$7*$AH$7*(AK708-$D$5)*(1/Sanierungsdesign!$E$15)/1000000","v":401.66814487825025},{"$f":"$D$5+(-Sanierungsdesign!$E$12/(4*PI()*$D$3))*(-LN((4*$D$4*AH708)/(Sanierungsdesign!$E$13+Sanierungsdesign!$E$15)^2)-$D$19)","v":409.28338053505161},136.13338053505163,{"$f":"(2*PI()*Sanierungsdesign!$E$10*$D$3)*(LN((Sanierungsdesign!$E$13+Sanierungsdesign!$E$15)/Sanierungsdesign!$E$13)*(AJ708-AN708))*$AH$7/1000000","v":269.90932752534786},8708.934228852002,19656.064554518965,{"$f":"AU708/Sanierungsdesign!$E$11","v":2.2774191738070848},4043520,18.219353390456678,{"$error":"#DIV/0!"},{"$error":"#DIV/0!"},{"$error":"#DIV/0!"},{"$error":"#DIV/0!"},{"$f":"(AY708/(AH708*Sanierungsdesign!$E$10))*1000000","v":{"$error":"#DIV/0!"}},{"$f":"AZ708/Sanierungsdesign!$E$12","v":{"$error":"#DIV/0!"}},{"$f":"$D$5+((-(Sanierungsdesign!$E$12)*MIN($BA$7:$BA$932))/(4*PI()*$D$3))*(-LN((4*$D$4*AH708)/(Sanierungsdesign!$E$13)^2)-$D$19)","v":{"$error":"#DIV/0!"}},{"$f":"(BB708-273.15)/Heterogenität!$D$4","v":{"$error":"#DIV/0!"}},{"$f":"IF(AI708<Berechnung!$D$7,AI708,#N/A)","v":{"$error":"#N/A"}}]
[null,null,null,null,null,null,null,null,null,null,null,null,null,null,null,null,null,null,null,null,null,null,null,null,null,null,null,null,null,null,null,null,{"$f":"Sanierungsdesign!$E$12*AH709*Sanierungsdesign!$E$10/1000000","v":32900.400000000001},5061600,58.583333333333336,{"$f":"$D$5+((-Sanierungsdesign!$E$12)/4*PI()*$D$3)*(-LN((4*$D$4*AH709)/(Sanierungsdesign!$E$13^2))-$D$19)","v":3434.4895317187934},3161.3395317187933,6299.4126291242128,{"$f":"$D$3*$T$7*$AH$7*(AK709-$D$5)*(1/Sanierungsdesign!$E$15)/1000000","v":401.94662236068638},{"$f":"$D$5+(-Sanierungsdesign!$E$12/(4*PI()*$D$3))*(-LN((4*$D$4*AH709)/(Sanierungsdesign!$E$13+Sanierungsdesign!$E$15)^2)-$D$19)","v":409.39071349882988},136.2407134988299,{"$f":"(2*PI()*Sanierungsdesign!$E$10*$D$3)*(LN((Sanierungsdesign!$E$13+Sanierungsdesign!$E$15)/Sanierungsdesign!$E$13)*(AJ709-AN709))*$AH$7/1000000","v":270.07777378935293},8721.3401180668916,19684.064646476974,{"$f":"AU709/Sanierungsdesign!$E$11","v":2.2788620851517183},4049280,18.230896681213746,{"$error":"#DIV/0!"},{"$error":"#DIV/0!"},{"$error":"#DIV/0!"},{"$error":"#DIV/0!"},{"$f":"(AY709/(AH709*Sanierungsdesign!$E$10))*1000000","v":{"$error":"#DIV/0!"}},{"$f":"AZ709/Sanierungsdesign!$E$12","v":{"$error":"#DIV/0!"}},{"$f":"$D$5+((-(Sanierungsdesign!$E$12)*MIN($BA$7:$BA$932))/(4*PI()*$D$3))*(-LN((4*$D$4*AH709)/(Sanierungsdesign!$E$13)^2)-$D$19)","v":{"$error":"#DIV/0!"}},{"$f":"(BB709-273.15)/Heterogenität!$D$4","v":{"$error":"#DIV/0!"}},{"$f":"IF(AI709<Berechnung!$D$7,AI709,#N/A)","v":{"$error":"#N/A"}}]
[null,null,null,null,null,null,null,null,null,null,null,null,null,null,null,null,null,null,null,null,null,null,null,null,null,null,null,null,null,null,null,null,{"$f":"Sanierungsdesign!$E$12*AH710*Sanierungsdesign!$E$10/1000000","v":32947.199999999997},5068800,58.666666666666664,{"$f":"$D$5+((-Sanierungsdesign!$E$12)/4*PI()*$D$3)*(-LN((4*$D$4*AH710)/(Sanierungsdesign!$E$13^2))-$D$19)","v":3436.480770382771},3163.3307703827709,6303.3955702650865,{"$f":"$D$3*$T$7*$AH$7*(AK710-$D$5)*(1/Sanierungsdesign!$E$15)/1000000","v":402.22470399724273},{"$f":"$D$5+(-Sanierungsdesign!$E$12/(4*PI()*$D$3))*(-LN((4*$D$4*AH710)/(Sanierungsdesign!$E$13+Sanierungsdesign!$E$15)^2)-$D$19)","v":409.4978938926011},136.34789389260112,{"$f":"(2*PI()*Sanierungsdesign!$E$10*$D$3)*(LN((Sanierungsdesign!$E$13+Sanierungsdesign!$E$15)/Sanierungsdesign!$E$13)*(AJ710-AN710))*$AH$7/1000000","v":270.24598061295893},8733.7460072817794,19712.064738434976,{"$f":"AU710/Sanierungsdesign!$E$11","v":2.2803029454489727},4055040,18.242423563591782,{"$error":"#DIV/0!"},{"$error":"#DIV/0!"},{"$error":"#DIV/0!"},{"$error":"#DIV/0!"},{"$f":"(AY710/(AH710*Sanierungsdesign!$E$10))*1000000","v":{"$error":"#DIV/0!"}},{"$f":"AZ710/Sanierungsdesign!$E$12","v":{"$error":"#DIV/0!"}},{"$f":"$D$5+((-(Sanierungsdesign!$E$12)*MIN($BA$7:$BA$932))/(4*PI()*$D$3))*(-LN((4*$D$4*AH710)/(Sanierungsdesign!$E$13)^2)-$D$19)","v":{"$error":"#DIV/0!"}},{"$f":"(BB710-273.15)/Heterogenität!$D$4","v":{"$error":"#DIV/0!"}},{"$f":"IF(AI710<Berechnung!$D$7,AI710,#N/A)","v":{"$error":"#N/A"}}]
[null,null,null,null,null,null,null,null,null,null,null,null,null,null,null,null,null,null,null,null,null,null,null,null,null,null,null,null,null,null,null,null,{"$f":"Sanierungsdesign!$E$12*AH711*Sanierungsdesign!$E$10/1000000","v":32994},5076000,{"$f":"AH711/86400","v":58.75},{"$f":"$D$5+((-Sanierungsdesign!$E$12)/4*PI()*$D$3)*(-LN((4*$D$4*AH711)/(Sanierungsdesign!$E$13^2))-$D$19)","v":3438.4691825892146},{"$f":"AJ711-273.15","v":3165.3191825892145},6307.3728578325336,{"$f":"$D$3*$T$7*$AH$7*(AK711-$D$5)*(1/Sanierungsdesign!$E$15)/1000000","v":402.50239091168419},{"$f":"$D$5+(-Sanierungsdesign!$E$12/(4*PI()*$D$3))*(-LN((4*$D$4*AH711)/(Sanierungsdesign!$E$13+Sanierungsdesign!$E$15)^2)-$D$19)","v":409.60492214949539},{"$f":"AN711-273.15","v":136.45492214949542},{"$f":"(2*PI()*Sanierungsdesign!$E$10*$D$3)*(LN((Sanierungsdesign!$E$13+Sanierungsdesign!$E$15)/Sanierungsdesign!$E$13)*(AJ711-AN711))*$AH$7/1000000","v":270.41394867591174},8746.151896496669,19740.064830392981,{"$f":"AU711/Sanierungsdesign!$E$11","v":2.2817417605215553},4060800,18.253934084172442,{"$error":"#DIV/0!"},{"$error":"#DIV/0!"},{"$error":"#DIV/0!"},{"$f":"AG711-AX711","v":{"$error":"#DIV/0!"}},{"$f":"(AY711/(AH711*Sanierungsdesign!$E$10))*1000000","v":{"$error":"#DIV/0!"}},{"$f":"AZ711/Sanierungsdesign!$E$12","v":{"$error":"#DIV/0!"}},{"$f":"$D$5+((-(Sanierungsdesign!$E$12)*MIN($BA$7:$BA$932))/(4*PI()*$D$3))*(-LN((4*$D$4*AH711)/(Sanierungsdesign!$E$13)^2)-$D$19)","v":{"$error":"#DIV/0!"}},{"$f":"(BB711-273.15)/Heterogenität!$D$4","v":{"$error":"#DIV/0!"}},{"$f":"IF(AI711<Berechnung!$D$7,AI711,#N/A)","v":{"$error":"#N/A"}}]
[null,null,null,null,null,null,null,null,null,null,null,null,null,null,null,null,null,null,null,null,null,null,null,null,null,null,null,null,null,null,null,null,{"$f":"Sanierungsdesign!$E$12*AH712*Sanierungsdesign!$E$10/1000000","v":33040.800000000003},5083200,58.833333333333336,{"$f":"$D$5+((-Sanierungsdesign!$E$12)/4*PI()*$D$3)*(-LN((4*$D$4*AH712)/(Sanierungsdesign!$E$13^2))-$D$19)","v":3440.4547763507644},3167.3047763507643,{"$f":"$T$4*$T$7*$AH$7*(AJ712-$D$2)/1000000","v":6311.3445078537025},{"$f":"$D$3*$T$7*$AH$7*(AK712-$D$5)*(1/Sanierungsdesign!$E$15)/1000000","v":402.77968422299676},{"$f":"$D$5+(-Sanierungsdesign!$E$12/(4*PI()*$D$3))*(-LN((4*$D$4*AH712)/(Sanierungsdesign!$E$13+Sanierungsdesign!$E$15)^2)-$D$19)","v":409.71179870080107},136.56179870080109,{"$f":"(2*PI()*Sanierungsdesign!$E$10*$D$3)*(LN((Sanierungsdesign!$E$13+Sanierungsdesign!$E$15)/Sanierungsdesign!$E$13)*(AJ712-AN712))*$AH$7/1000000","v":270.58167865506698},{"$f":"$T$20*AH712","v":8758.5577857115568},{"$f":"$D$12*AQ712/1000000","v":19768.064922350983},{"$f":"AU712/Sanierungsdesign!$E$11","v":2.2831785361674131},{"$f":"$T$18/$D$24*AH712","v":4066560},{"$f":"($D$10*$T$18)*(AJ712-$D$2)/1000000","v":18.265428289339305},{"$f":"($D$17*$L$10*$T$28+$L$2*$D$10*$T$28+$D$16*$L$4*$T$28+$D$18*$L$7*$T$28)*(AJ712-$D$5)/1000000","v":{"$error":"#DIV/0!"}},{"$f":"AV712*$D$28","v":{"$error":"#DIV/0!"}},{"$f":"AL712+AM712+AR712+(0.5*AP712)-(2*AW712)+AS712","v":{"$error":"#DIV/0!"}},{"$error":"#DIV/0!"},{"$f":"(AY712/(AH712*Sanierungsdesign!$E$10))*1000000","v":{"$error":"#DIV/0!"}},{"$f":"AZ712/Sanierungsdesign!$E$12","v":{"$error":"#DIV/0!"}},{"$f":"$D$5+((-(Sanierungsdesign!$E$12)*MIN($BA$7:$BA$932))/(4*PI()*$D$3))*(-LN((4*$D$4*AH712)/(Sanierungsdesign!$E$13)^2)-$D$19)","v":{"$error":"#DIV/0!"}},{"$f":"(BB712-273.15)/Heterogenität!$D$4","v":{"$error":"#DIV/0!"}},{"$f":"IF(AI712<Berechnung!$D$7,AI712,#N/A)","v":{"$error":"#N/A"}}]
[null,null,null,null,null,null,null,null,null,null,null,null,null,null,null,null,null,null,null,null,null,null,null,null,null,null,null,null,null,null,null,null,{"$f":"Sanierungsdesign!$E$12*AH713*Sanierungsdesign!$E$10/1000000","v":33087.599999999999},{"$f":"AH712+$D$24","v":5090400},58.916666666666664,{"$f":"$D$5+((-Sanierungsdesign!$E$12)/4*PI()*$D$3)*(-LN((4*$D$4*AH713)/(Sanierungsdesign!$E$13^2))-$D$19)","v":3442.4375596460363},3169.2875596460362,6315.3105362876813,{"$f":"$D$3*$T$7*$AH$7*(AK713-$D$5)*(1/Sanierungsdesign!$E$15)/1000000","v":403.05658504541475},{"$f":"$D$5+(-Sanierungsdesign!$E$12/(4*PI()*$D$3))*(-LN((4*$D$4*AH713)/(Sanierungsdesign!$E$13+Sanierungsdesign!$E$15)^2)-$D$19)","v":409.81852397597515},136.66852397597518,{"$f":"(2*PI()*Sanierungsdesign!$E$10*$D$3)*(LN((Sanierungsdesign!$E$13+Sanierungsdesign!$E$15)/Sanierungsdesign!$E$13)*(AJ713-AN713))*$AH$7/1000000","v":270.74917122440581},8770.9636749264464,19796.065014308992,{"$f":"AU713/Sanierungsdesign!$E$11","v":2.2846132781598718},4072320,18.276906225278974,{"$error":"#DIV/0!"},{"$error":"#DIV/0!"},{"$error":"#DIV/0!"},{"$error":"#DIV/0!"},{"$f":"(AY713/(AH713*Sanierungsdesign!$E$10))*1000000","v":{"$error":"#DIV/0!"}},{"$f":"AZ713/Sanierungsdesign!$E$12","v":{"$error":"#DIV/0!"}},{"$f":"$D$5+((-(Sanierungsdesign!$E$12)*MIN($BA$7:$BA$932))/(4*PI()*$D$3))*(-LN((4*$D$4*AH713)/(Sanierungsdesign!$E$13)^2)-$D$19)","v":{"$error":"#DIV/0!"}},{"$f":"(BB713-273.15)/Heterogenität!$D$4","v":{"$error":"#DIV/0!"}},{"$f":"IF(AI713<Berechnung!$D$7,AI713,#N/A)","v":{"$error":"#N/A"}}]
[null,null,null,null,null,null,null,null,null,null,null,null,null,null,null,null,null,null,null,null,null,null,null,null,null,null,null,null,null,null,null,null,{"$f":"Sanierungsdesign!$E$12*AH714*Sanierungsdesign!$E$10/1000000","v":33134.400000000001},5097600,59,{"$f":"$D$5+((-Sanierungsdesign!$E$12)/4*PI()*$D$3)*(-LN((4*$D$4*AH714)/(Sanierungsdesign!$E$13^2))-$D$19)","v":3444.4175404198159},3171.2675404198158,6319.2709590258937,{"$f":"$D$3*$T$7*$AH$7*(AK714-$D$5)*(1/Sanierungsdesign!$E$15)/1000000","v":403.33309448844801},{"$f":"$D$5+(-Sanierungsdesign!$E$12/(4*PI()*$D$3))*(-LN((4*$D$4*AH714)/(Sanierungsdesign!$E$13+Sanierungsdesign!$E$15)^2)-$D$19)","v":409.92509840265342},136.77509840265344,{"$f":"(2*PI()*Sanierungsdesign!$E$10*$D$3)*(LN((Sanierungsdesign!$E$13+Sanierungsdesign!$E$15)/Sanierungsdesign!$E$13)*(AJ714-AN714))*$AH$7/1000000","v":270.91642705505194},8783.369564141336,19824.065106266993,{"$f":"AU714/Sanierungsdesign!$E$11","v":2.2860459922477783},4078080,18.288367937982226,{"$error":"#DIV/0!"},{"$error":"#DIV/0!"},{"$error":"#DIV/0!"},{"$error":"#DIV/0!"},{"$f":"(AY714/(AH714*Sanierungsdesign!$E$10))*1000000","v":{"$error":"#DIV/0!"}},{"$f":"AZ714/Sanierungsdesign!$E$12","v":{"$error":"#DIV/0!"}},{"$f":"$D$5+((-(Sanierungsdesign!$E$12)*MIN($BA$7:$BA$932))/(4*PI()*$D$3))*(-LN((4*$D$4*AH714)/(Sanierungsdesign!$E$13)^2)-$D$19)","v":{"$error":"#DIV/0!"}},{"$f":"(BB714-273.15)/Heterogenität!$D$4","v":{"$error":"#DIV/0!"}},{"$f":"IF(AI714<Berechnung!$D$7,AI714,#N/A)","v":{"$error":"#N/A"}}]
[null,null,null,null,null,null,null,null,null,null,null,null,null,null,null,null,null,null,null,null,null,null,null,null,null,null,null,null,null,null,null,null,{"$f":"Sanierungsdesign!$E$12*AH715*Sanierungsdesign!$E$10/1000000","v":33181.199999999997},5104800,59.083333333333336,{"$f":"$D$5+((-Sanierungsdesign!$E$12)/4*PI()*$D$3)*(-LN((4*$D$4*AH715)/(Sanierungsdesign!$E$13^2))-$D$19)","v":3446.3947265832471},3173.244726583247,6323.2257918924706,{"$f":"$D$3*$T$7*$AH$7*(AK715-$D$5)*(1/Sanierungsdesign!$E$15)/1000000","v":403.60921365690837},{"$f":"$D$5+(-Sanierungsdesign!$E$12/(4*PI()*$D$3))*(-LN((4*$D$4*AH715)/(Sanierungsdesign!$E$13+Sanierungsdesign!$E$15)^2)-$D$19)","v":410.03152240666117},136.88152240666119,{"$f":"(2*PI()*Sanierungsdesign!$E$10*$D$3)*(LN((Sanierungsdesign!$E$13+Sanierungsdesign!$E$15)/Sanierungsdesign!$E$13)*(AJ715-AN715))*$AH$7/1000000","v":271.083446815287},8795.7754533562238,19852.065198224998,{"$f":"AU715/Sanierungsdesign!$E$11","v":2.2874766841556373},4083840,18.299813473245099,{"$error":"#DIV/0!"},{"$error":"#DIV/0!"},{"$error":"#DIV/0!"},{"$error":"#DIV/0!"},{"$f":"(AY715/(AH715*Sanierungsdesign!$E$10))*1000000","v":{"$error":"#DIV/0!"}},{"$f":"AZ715/Sanierungsdesign!$E$12","v":{"$error":"#DIV/0!"}},{"$f":"$D$5+((-(Sanierungsdesign!$E$12)*MIN($BA$7:$BA$932))/(4*PI()*$D$3))*(-LN((4*$D$4*AH715)/(Sanierungsdesign!$E$13)^2)-$D$19)","v":{"$error":"#DIV/0!"}},{"$f":"(BB715-273.15)/Heterogenität!$D$4","v":{"$error":"#DIV/0!"}},{"$f":"IF(AI715<Berechnung!$D$7,AI715,#N/A)","v":{"$error":"#N/A"}}]
[null,null,null,null,null,null,null,null,null,null,null,null,null,null,null,null,null,null,null,null,null,null,null,null,null,null,null,null,null,null,null,null,{"$f":"Sanierungsdesign!$E$12*AH716*Sanierungsdesign!$E$10/1000000","v":33228},5112000,59.166666666666664,{"$f":"$D$5+((-Sanierungsdesign!$E$12)/4*PI()*$D$3)*(-LN((4*$D$4*AH716)/(Sanierungsdesign!$E$13^2))-$D$19)","v":3448.3691260140235},3175.2191260140235,6327.1750506446315,{"$f":"$D$3*$T$7*$AH$7*(AK716-$D$5)*(1/Sanierungsdesign!$E$15)/1000000","v":403.88494365093607},{"$f":"$D$5+(-Sanierungsdesign!$E$12/(4*PI()*$D$3))*(-LN((4*$D$4*AH716)/(Sanierungsdesign!$E$13+Sanierungsdesign!$E$15)^2)-$D$19)","v":410.13779641202302},136.98779641202304,{"$f":"(2*PI()*Sanierungsdesign!$E$10*$D$3)*(LN((Sanierungsdesign!$E$13+Sanierungsdesign!$E$15)/Sanierungsdesign!$E$13)*(AJ716-AN716))*$AH$7/1000000","v":271.25023117056702},8808.1813425711134,19880.065290183004,{"$f":"AU716/Sanierungsdesign!$E$11","v":2.288905359583747},4089600,18.311242876669976,{"$error":"#DIV/0!"},{"$error":"#DIV/0!"},{"$error":"#DIV/0!"},{"$error":"#DIV/0!"},{"$f":"(AY716/(AH716*Sanierungsdesign!$E$10))*1000000","v":{"$error":"#DIV/0!"}},{"$f":"AZ716/Sanierungsdesign!$E$12","v":{"$error":"#DIV/0!"}},{"$f":"$D$5+((-(Sanierungsdesign!$E$12)*MIN($BA$7:$BA$932))/(4*PI()*$D$3))*(-LN((4*$D$4*AH716)/(Sanierungsdesign!$E$13)^2)-$D$19)","v":{"$error":"#DIV/0!"}},{"$f":"(BB716-273.15)/Heterogenität!$D$4","v":{"$error":"#DIV/0!"}},{"$f":"IF(AI716<Berechnung!$D$7,AI716,#N/A)","v":{"$error":"#N/A"}}]
[null,null,null,null,null,null,null,null,null,null,null,null,null,null,null,null,null,null,null,null,null,null,null,null,null,null,null,null,null,null,null,null,{"$f":"Sanierungsdesign!$E$12*AH717*Sanierungsdesign!$E$10/1000000","v":33274.800000000003},5119200,59.25,{"$f":"$D$5+((-Sanierungsdesign!$E$12)/4*PI()*$D$3)*(-LN((4*$D$4*AH717)/(Sanierungsdesign!$E$13^2))-$D$19)","v":3450.3407465565765},3177.1907465565764,6331.118750973068,{"$f":"$D$3*$T$7*$AH$7*(AK717-$D$5)*(1/Sanierungsdesign!$E$15)/1000000","v":404.16028556602635},{"$f":"$D$5+(-Sanierungsdesign!$E$12/(4*PI()*$D$3))*(-LN((4*$D$4*AH717)/(Sanierungsdesign!$E$13+Sanierungsdesign!$E$15)^2)-$D$19)","v":410.2439208409732},137.09392084097323,{"$f":"(2*PI()*Sanierungsdesign!$E$10*$D$3)*(LN((Sanierungsdesign!$E$13+Sanierungsdesign!$E$15)/Sanierungsdesign!$E$13)*(AJ717-AN717))*$AH$7/1000000","v":271.4167807835384},8820.587231786003,19908.065382141009,{"$f":"AU717/Sanierungsdesign!$E$11","v":2.2903320242083383},4095360,18.322656193666706,{"$error":"#DIV/0!"},{"$error":"#DIV/0!"},{"$error":"#DIV/0!"},{"$error":"#DIV/0!"},{"$f":"(AY717/(AH717*Sanierungsdesign!$E$10))*1000000","v":{"$error":"#DIV/0!"}},{"$f":"AZ717/Sanierungsdesign!$E$12","v":{"$error":"#DIV/0!"}},{"$f":"$D$5+((-(Sanierungsdesign!$E$12)*MIN($BA$7:$BA$932))/(4*PI()*$D$3))*(-LN((4*$D$4*AH717)/(Sanierungsdesign!$E$13)^2)-$D$19)","v":{"$error":"#DIV/0!"}},{"$f":"(BB717-273.15)/Heterogenität!$D$4","v":{"$error":"#DIV/0!"}},{"$f":"IF(AI717<Berechnung!$D$7,AI717,#N/A)","v":{"$error":"#N/A"}}]
[null,null,null,null,null,null,null,null,null,null,null,null,null,null,null,null,null,null,null,null,null,null,null,null,null,null,null,null,null,null,null,null,{"$f":"Sanierungsdesign!$E$12*AH718*Sanierungsdesign!$E$10/1000000","v":33321.599999999999},5126400,59.333333333333336,{"$f":"$D$5+((-Sanierungsdesign!$E$12)/4*PI()*$D$3)*(-LN((4*$D$4*AH718)/(Sanierungsdesign!$E$13^2))-$D$19)","v":3452.3095960222608},3179.1595960222608,6335.0569085023099,{"$f":"$D$3*$T$7*$AH$7*(AK718-$D$5)*(1/Sanierungsdesign!$E$15)/1000000","v":404.43524049305501},{"$f":"$D$5+(-Sanierungsdesign!$E$12/(4*PI()*$D$3))*(-LN((4*$D$4*AH718)/(Sanierungsdesign!$E$13+Sanierungsdesign!$E$15)^2)-$D$19)","v":410.34989611396571},137.19989611396574,{"$f":"(2*PI()*Sanierungsdesign!$E$10*$D$3)*(LN((Sanierungsdesign!$E$13+Sanierungsdesign!$E$15)/Sanierungsdesign!$E$13)*(AJ718-AN718))*$AH$7/1000000","v":271.58309631405314},8832.9931210008908,19936.06547409901,{"$f":"AU718/Sanierungsdesign!$E$11","v":2.2917566836817072},4101120,18.334053469453657,{"$error":"#DIV/0!"},{"$error":"#DIV/0!"},{"$error":"#DIV/0!"},{"$error":"#DIV/0!"},{"$f":"(AY718/(AH718*Sanierungsdesign!$E$10))*1000000","v":{"$error":"#DIV/0!"}},{"$f":"AZ718/Sanierungsdesign!$E$12","v":{"$error":"#DIV/0!"}},{"$f":"$D$5+((-(Sanierungsdesign!$E$12)*MIN($BA$7:$BA$932))/(4*PI()*$D$3))*(-LN((4*$D$4*AH718)/(Sanierungsdesign!$E$13)^2)-$D$19)","v":{"$error":"#DIV/0!"}},{"$f":"(BB718-273.15)/Heterogenität!$D$4","v":{"$error":"#DIV/0!"}},{"$f":"IF(AI718<Berechnung!$D$7,AI718,#N/A)","v":{"$error":"#N/A"}}]
[null,null,null,null,null,null,null,null,null,null,null,null,null,null,null,null,null,null,null,null,null,null,null,null,null,null,null,null,null,null,null,null,{"$f":"Sanierungsdesign!$E$12*AH719*Sanierungsdesign!$E$10/1000000","v":33368.400000000001},5133600,59.416666666666664,{"$f":"$D$5+((-Sanierungsdesign!$E$12)/4*PI()*$D$3)*(-LN((4*$D$4*AH719)/(Sanierungsdesign!$E$13^2))-$D$19)","v":3454.2756821895414},3181.1256821895413,6338.9895387910974,{"$f":"$D$3*$T$7*$AH$7*(AK719-$D$5)*(1/Sanierungsdesign!$E$15)/1000000","v":404.70980951830489},{"$f":"$D$5+(-Sanierungsdesign!$E$12/(4*PI()*$D$3))*(-LN((4*$D$4*AH719)/(Sanierungsdesign!$E$13+Sanierungsdesign!$E$15)^2)-$D$19)","v":410.45572264968405},137.30572264968407,{"$f":"(2*PI()*Sanierungsdesign!$E$10*$D$3)*(LN((Sanierungsdesign!$E$13+Sanierungsdesign!$E$15)/Sanierungsdesign!$E$13)*(AJ719-AN719))*$AH$7/1000000","v":271.74917841918523},8845.3990102157804,19964.065566057019,{"$f":"AU719/Sanierungsdesign!$E$11","v":2.2931793436323518},4106880,18.345434749058814,{"$error":"#DIV/0!"},{"$error":"#DIV/0!"},{"$error":"#DIV/0!"},{"$error":"#DIV/0!"},{"$f":"(AY719/(AH719*Sanierungsdesign!$E$10))*1000000","v":{"$error":"#DIV/0!"}},{"$f":"AZ719/Sanierungsdesign!$E$12","v":{"$error":"#DIV/0!"}},{"$f":"$D$5+((-(Sanierungsdesign!$E$12)*MIN($BA$7:$BA$932))/(4*PI()*$D$3))*(-LN((4*$D$4*AH719)/(Sanierungsdesign!$E$13)^2)-$D$19)","v":{"$error":"#DIV/0!"}},{"$f":"(BB719-273.15)/Heterogenität!$D$4","v":{"$error":"#DIV/0!"}},{"$f":"IF(AI719<Berechnung!$D$7,AI719,#N/A)","v":{"$error":"#N/A"}}]
[null,null,null,null,null,null,null,null,null,null,null,null,null,null,null,null,null,null,null,null,null,null,null,null,null,null,null,null,null,null,null,null,{"$f":"Sanierungsdesign!$E$12*AH720*Sanierungsdesign!$E$10/1000000","v":33415.199999999997},5140800,59.5,{"$f":"$D$5+((-Sanierungsdesign!$E$12)/4*PI()*$D$3)*(-LN((4*$D$4*AH720)/(Sanierungsdesign!$E$13^2))-$D$19)","v":3456.2390128041775},3183.0890128041774,6342.9166573327539,{"$f":"$D$3*$T$7*$AH$7*(AK720-$D$5)*(1/Sanierungsdesign!$E$15)/1000000","v":404.98399372349138},{"$f":"$D$5+(-Sanierungsdesign!$E$12/(4*PI()*$D$3))*(-LN((4*$D$4*AH720)/(Sanierungsdesign!$E$13+Sanierungsdesign!$E$15)^2)-$D$19)","v":410.5614008650515},137.41140086505152,{"$f":"(2*PI()*Sanierungsdesign!$E$10*$D$3)*(LN((Sanierungsdesign!$E$13+Sanierungsdesign!$E$15)/Sanierungsdesign!$E$13)*(AJ720-AN720))*$AH$7/1000000","v":271.91502775324574},8857.8048994306682,19992.065658015017,{"$f":"AU720/Sanierungsdesign!$E$11","v":2.2946000096651029},4112640,18.356800077320823,{"$error":"#DIV/0!"},{"$error":"#DIV/0!"},{"$error":"#DIV/0!"},{"$error":"#DIV/0!"},{"$f":"(AY720/(AH720*Sanierungsdesign!$E$10))*1000000","v":{"$error":"#DIV/0!"}},{"$f":"AZ720/Sanierungsdesign!$E$12","v":{"$error":"#DIV/0!"}},{"$f":"$D$5+((-(Sanierungsdesign!$E$12)*MIN($BA$7:$BA$932))/(4*PI()*$D$3))*(-LN((4*$D$4*AH720)/(Sanierungsdesign!$E$13)^2)-$D$19)","v":{"$error":"#DIV/0!"}},{"$f":"(BB720-273.15)/Heterogenität!$D$4","v":{"$error":"#DIV/0!"}},{"$f":"IF(AI720<Berechnung!$D$7,AI720,#N/A)","v":{"$error":"#N/A"}}]
[null,null,null,null,null,null,null,null,null,null,null,null,null,null,null,null,null,null,null,null,null,null,null,null,null,null,null,null,null,null,null,null,{"$f":"Sanierungsdesign!$E$12*AH721*Sanierungsdesign!$E$10/1000000","v":33462},5148000,59.583333333333336,{"$f":"$D$5+((-Sanierungsdesign!$E$12)/4*PI()*$D$3)*(-LN((4*$D$4*AH721)/(Sanierungsdesign!$E$13^2))-$D$19)","v":3458.1995955794073},3185.0495955794072,6346.8382795555526,{"$f":"$D$3*$T$7*$AH$7*(AK721-$D$5)*(1/Sanierungsdesign!$E$15)/1000000","v":405.25779418578804},{"$f":"$D$5+(-Sanierungsdesign!$E$12/(4*PI()*$D$3))*(-LN((4*$D$4*AH721)/(Sanierungsdesign!$E$13+Sanierungsdesign!$E$15)^2)-$D$19)","v":410.66693117524062},137.51693117524064,{"$f":"(2*PI()*Sanierungsdesign!$E$10*$D$3)*(LN((Sanierungsdesign!$E$13+Sanierungsdesign!$E$15)/Sanierungsdesign!$E$13)*(AJ721-AN721))*$AH$7/1000000","v":272.08064496779855},8870.2107886455578,20020.065749973022,{"$f":"AU721/Sanierungsdesign!$E$11","v":2.2960186873612587},4118400,18.36814949889007,{"$error":"#DIV/0!"},{"$error":"#DIV/0!"},{"$error":"#DIV/0!"},{"$error":"#DIV/0!"},{"$f":"(AY721/(AH721*Sanierungsdesign!$E$10))*1000000","v":{"$error":"#DIV/0!"}},{"$f":"AZ721/Sanierungsdesign!$E$12","v":{"$error":"#DIV/0!"}},{"$f":"$D$5+((-(Sanierungsdesign!$E$12)*MIN($BA$7:$BA$932))/(4*PI()*$D$3))*(-LN((4*$D$4*AH721)/(Sanierungsdesign!$E$13)^2)-$D$19)","v":{"$error":"#DIV/0!"}},{"$f":"(BB721-273.15)/Heterogenität!$D$4","v":{"$error":"#DIV/0!"}},{"$f":"IF(AI721<Berechnung!$D$7,AI721,#N/A)","v":{"$error":"#N/A"}}]
[null,null,null,null,null,null,null,null,null,null,null,null,null,null,null,null,null,null,null,null,null,null,null,null,null,null,null,null,null,null,null,null,{"$f":"Sanierungsdesign!$E$12*AH722*Sanierungsdesign!$E$10/1000000","v":33508.800000000003},5155200,59.666666666666664,{"$f":"$D$5+((-Sanierungsdesign!$E$12)/4*PI()*$D$3)*(-LN((4*$D$4*AH722)/(Sanierungsdesign!$E$13^2))-$D$19)","v":3460.1574381961277},3187.0074381961276,6350.7544208230756,{"$f":"$D$3*$T$7*$AH$7*(AK722-$D$5)*(1/Sanierungsdesign!$E$15)/1000000","v":405.53121197785214},{"$f":"$D$5+(-Sanierungsdesign!$E$12/(4*PI()*$D$3))*(-LN((4*$D$4*AH722)/(Sanierungsdesign!$E$13+Sanierungsdesign!$E$15)^2)-$D$19)","v":410.77231399368338},137.62231399368341,{"$f":"(2*PI()*Sanierungsdesign!$E$10*$D$3)*(LN((Sanierungsdesign!$E$13+Sanierungsdesign!$E$15)/Sanierungsdesign!$E$13)*(AJ722-AN722))*$AH$7/1000000","v":272.24603071167564},8882.6166778604475,20048.065841931031,{"$f":"AU722/Sanierungsdesign!$E$11","v":2.2974353822787177},4124160,18.379483058229741,{"$error":"#DIV/0!"},{"$error":"#DIV/0!"},{"$error":"#DIV/0!"},{"$error":"#DIV/0!"},{"$f":"(AY722/(AH722*Sanierungsdesign!$E$10))*1000000","v":{"$error":"#DIV/0!"}},{"$f":"AZ722/Sanierungsdesign!$E$12","v":{"$error":"#DIV/0!"}},{"$f":"$D$5+((-(Sanierungsdesign!$E$12)*MIN($BA$7:$BA$932))/(4*PI()*$D$3))*(-LN((4*$D$4*AH722)/(Sanierungsdesign!$E$13)^2)-$D$19)","v":{"$error":"#DIV/0!"}},{"$f":"(BB722-273.15)/Heterogenität!$D$4","v":{"$error":"#DIV/0!"}},{"$f":"IF(AI722<Berechnung!$D$7,AI722,#N/A)","v":{"$error":"#N/A"}}]
[null,null,null,null,null,null,null,null,null,null,null,null,null,null,null,null,null,null,null,null,null,null,null,null,null,null,null,null,null,null,null,null,{"$f":"Sanierungsdesign!$E$12*AH723*Sanierungsdesign!$E$10/1000000","v":33555.599999999999},5162400,59.75,{"$f":"$D$5+((-Sanierungsdesign!$E$12)/4*PI()*$D$3)*(-LN((4*$D$4*AH723)/(Sanierungsdesign!$E$13^2))-$D$19)","v":3462.1125483030733},3188.9625483030732,6354.6650964345745,{"$f":"$D$3*$T$7*$AH$7*(AK723-$D$5)*(1/Sanierungsdesign!$E$15)/1000000","v":405.80424816784927},{"$f":"$D$5+(-Sanierungsdesign!$E$12/(4*PI()*$D$3))*(-LN((4*$D$4*AH723)/(Sanierungsdesign!$E$13+Sanierungsdesign!$E$15)^2)-$D$19)","v":410.87754973208047},137.72754973208049,{"$f":"(2*PI()*Sanierungsdesign!$E$10*$D$3)*(LN((Sanierungsdesign!$E$13+Sanierungsdesign!$E$15)/Sanierungsdesign!$E$13)*(AJ723-AN723))*$AH$7/1000000","v":272.41118563099218},8895.0225670753352,20076.065933889029,{"$f":"AU723/Sanierungsdesign!$E$11","v":2.2988500999521038},4129920,18.39080079961683,{"$error":"#DIV/0!"},{"$error":"#DIV/0!"},{"$error":"#DIV/0!"},{"$error":"#DIV/0!"},{"$f":"(AY723/(AH723*Sanierungsdesign!$E$10))*1000000","v":{"$error":"#DIV/0!"}},{"$f":"AZ723/Sanierungsdesign!$E$12","v":{"$error":"#DIV/0!"}},{"$f":"$D$5+((-(Sanierungsdesign!$E$12)*MIN($BA$7:$BA$932))/(4*PI()*$D$3))*(-LN((4*$D$4*AH723)/(Sanierungsdesign!$E$13)^2)-$D$19)","v":{"$error":"#DIV/0!"}},{"$f":"(BB723-273.15)/Heterogenität!$D$4","v":{"$error":"#DIV/0!"}},{"$f":"IF(AI723<Berechnung!$D$7,AI723,#N/A)","v":{"$error":"#N/A"}}]
[null,null,null,null,null,null,null,null,null,null,null,null,null,null,null,null,null,null,null,null,null,null,null,null,null,null,null,null,null,null,null,null,{"$f":"Sanierungsdesign!$E$12*AH724*Sanierungsdesign!$E$10/1000000","v":33602.400000000001},5169600,59.833333333333336,{"$f":"$D$5+((-Sanierungsdesign!$E$12)/4*PI()*$D$3)*(-LN((4*$D$4*AH724)/(Sanierungsdesign!$E$13^2))-$D$19)","v":3464.0649335170019},3190.9149335170018,6358.5703216253387,{"$f":"$D$3*$T$7*$AH$7*(AK724-$D$5)*(1/Sanierungsdesign!$E$15)/1000000","v":406.0769038194793},{"$f":"$D$5+(-Sanierungsdesign!$E$12/(4*PI()*$D$3))*(-LN((4*$D$4*AH724)/(Sanierungsdesign!$E$13+Sanierungsdesign!$E$15)^2)-$D$19)","v":410.98263880041134},137.83263880041136,{"$f":"(2*PI()*Sanierungsdesign!$E$10*$D$3)*(LN((Sanierungsdesign!$E$13+Sanierungsdesign!$E$15)/Sanierungsdesign!$E$13)*(AJ724-AN724))*$AH$7/1000000","v":272.57611036916188},8907.4284562902249,20104.066025847038,{"$f":"AU724/Sanierungsdesign!$E$11","v":2.3002628458929024},4135680,18.402102767143219,{"$error":"#DIV/0!"},{"$error":"#DIV/0!"},{"$error":"#DIV/0!"},{"$error":"#DIV/0!"},{"$f":"(AY724/(AH724*Sanierungsdesign!$E$10))*1000000","v":{"$error":"#DIV/0!"}},{"$f":"AZ724/Sanierungsdesign!$E$12","v":{"$error":"#DIV/0!"}},{"$f":"$D$5+((-(Sanierungsdesign!$E$12)*MIN($BA$7:$BA$932))/(4*PI()*$D$3))*(-LN((4*$D$4*AH724)/(Sanierungsdesign!$E$13)^2)-$D$19)","v":{"$error":"#DIV/0!"}},{"$f":"(BB724-273.15)/Heterogenität!$D$4","v":{"$error":"#DIV/0!"}},{"$f":"IF(AI724<Berechnung!$D$7,AI724,#N/A)","v":{"$error":"#N/A"}}]
[null,null,null,null,null,null,null,null,null,null,null,null,null,null,null,null,null,null,null,null,null,null,null,null,null,null,null,null,null,null,null,null,{"$f":"Sanierungsdesign!$E$12*AH725*Sanierungsdesign!$E$10/1000000","v":33649.199999999997},5176800,59.916666666666664,{"$f":"$D$5+((-Sanierungsdesign!$E$12)/4*PI()*$D$3)*(-LN((4*$D$4*AH725)/(Sanierungsdesign!$E$13^2))-$D$19)","v":3466.0146014228653},3192.8646014228652,6362.4701115670387,{"$f":"$D$3*$T$7*$AH$7*(AK725-$D$5)*(1/Sanierungsdesign!$E$15)/1000000","v":406.34917999200047},{"$f":"$D$5+(-Sanierungsdesign!$E$12/(4*PI()*$D$3))*(-LN((4*$D$4*AH725)/(Sanierungsdesign!$E$13+Sanierungsdesign!$E$15)^2)-$D$19)","v":411.08758160694367},137.9375816069437,{"$f":"(2*PI()*Sanierungsdesign!$E$10*$D$3)*(LN((Sanierungsdesign!$E$13+Sanierungsdesign!$E$15)/Sanierungsdesign!$E$13)*(AJ725-AN725))*$AH$7/1000000","v":272.74080556691212},8919.8343455051127,20132.06611780504,{"$f":"AU725/Sanierungsdesign!$E$11","v":2.3016736255895851},4141440,18.413389004716681,{"$error":"#DIV/0!"},{"$error":"#DIV/0!"},{"$error":"#DIV/0!"},{"$error":"#DIV/0!"},{"$f":"(AY725/(AH725*Sanierungsdesign!$E$10))*1000000","v":{"$error":"#DIV/0!"}},{"$f":"AZ725/Sanierungsdesign!$E$12","v":{"$error":"#DIV/0!"}},{"$f":"$D$5+((-(Sanierungsdesign!$E$12)*MIN($BA$7:$BA$932))/(4*PI()*$D$3))*(-LN((4*$D$4*AH725)/(Sanierungsdesign!$E$13)^2)-$D$19)","v":{"$error":"#DIV/0!"}},{"$f":"(BB725-273.15)/Heterogenität!$D$4","v":{"$error":"#DIV/0!"}},{"$f":"IF(AI725<Berechnung!$D$7,AI725,#N/A)","v":{"$error":"#N/A"}}]
[null,null,null,null,null,null,null,null,null,null,null,null,null,null,null,null,null,null,null,null,null,null,null,null,null,null,null,null,null,null,null,null,{"$f":"Sanierungsdesign!$E$12*AH726*Sanierungsdesign!$E$10/1000000","v":33696},5184000,60,{"$f":"$D$5+((-Sanierungsdesign!$E$12)/4*PI()*$D$3)*(-LN((4*$D$4*AH726)/(Sanierungsdesign!$E$13^2))-$D$19)","v":3467.9615595739906},3194.8115595739905,6366.3644813680867,{"$f":"$D$3*$T$7*$AH$7*(AK726-$D$5)*(1/Sanierungsdesign!$E$15)/1000000","v":406.62107774025441},{"$f":"$D$5+(-Sanierungsdesign!$E$12/(4*PI()*$D$3))*(-LN((4*$D$4*AH726)/(Sanierungsdesign!$E$13+Sanierungsdesign!$E$15)^2)-$D$19)","v":411.19237855824275},138.04237855824277,{"$f":"(2*PI()*Sanierungsdesign!$E$10*$D$3)*(LN((Sanierungsdesign!$E$13+Sanierungsdesign!$E$15)/Sanierungsdesign!$E$13)*(AJ726-AN726))*$AH$7/1000000","v":272.90527186229849},8932.2402347200023,20160.066209763045,{"$f":"AU726/Sanierungsdesign!$E$11","v":2.3030824445077389},4147200,18.424659556061911,{"$error":"#DIV/0!"},{"$error":"#DIV/0!"},{"$error":"#DIV/0!"},{"$error":"#DIV/0!"},{"$f":"(AY726/(AH726*Sanierungsdesign!$E$10))*1000000","v":{"$error":"#DIV/0!"}},{"$f":"AZ726/Sanierungsdesign!$E$12","v":{"$error":"#DIV/0!"}},{"$f":"$D$5+((-(Sanierungsdesign!$E$12)*MIN($BA$7:$BA$932))/(4*PI()*$D$3))*(-LN((4*$D$4*AH726)/(Sanierungsdesign!$E$13)^2)-$D$19)","v":{"$error":"#DIV/0!"}},{"$f":"(BB726-273.15)/Heterogenität!$D$4","v":{"$error":"#DIV/0!"}},{"$f":"IF(AI726<Berechnung!$D$7,AI726,#N/A)","v":{"$error":"#N/A"}}]
[null,null,null,null,null,null,null,null,null,null,null,null,null,null,null,null,null,null,null,null,null,null,null,null,null,null,null,null,null,null,null,null,{"$f":"Sanierungsdesign!$E$12*AH727*Sanierungsdesign!$E$10/1000000","v":33742.800000000003},5191200,60.083333333333336,{"$f":"$D$5+((-Sanierungsdesign!$E$12)/4*PI()*$D$3)*(-LN((4*$D$4*AH727)/(Sanierungsdesign!$E$13^2))-$D$19)","v":3469.9058154922545},3196.7558154922544,6370.2534460739907,{"$f":"$D$3*$T$7*$AH$7*(AK727-$D$5)*(1/Sanierungsdesign!$E$15)/1000000","v":406.89259811469071},{"$f":"$D$5+(-Sanierungsdesign!$E$12/(4*PI()*$D$3))*(-LN((4*$D$4*AH727)/(Sanierungsdesign!$E$13+Sanierungsdesign!$E$15)^2)-$D$19)","v":411.297030059181},138.14703005918102,{"$f":"(2*PI()*Sanierungsdesign!$E$10*$D$3)*(LN((Sanierungsdesign!$E$13+Sanierungsdesign!$E$15)/Sanierungsdesign!$E$13)*(AJ727-AN727))*$AH$7/1000000","v":273.06950989071987},8944.6461239348919,20188.06630172105,{"$f":"AU727/Sanierungsdesign!$E$11","v":2.3044893080901949},4152960,18.435914464721559,{"$error":"#DIV/0!"},{"$error":"#DIV/0!"},{"$error":"#DIV/0!"},{"$error":"#DIV/0!"},{"$f":"(AY727/(AH727*Sanierungsdesign!$E$10))*1000000","v":{"$error":"#DIV/0!"}},{"$f":"AZ727/Sanierungsdesign!$E$12","v":{"$error":"#DIV/0!"}},{"$f":"$D$5+((-(Sanierungsdesign!$E$12)*MIN($BA$7:$BA$932))/(4*PI()*$D$3))*(-LN((4*$D$4*AH727)/(Sanierungsdesign!$E$13)^2)-$D$19)","v":{"$error":"#DIV/0!"}},{"$f":"(BB727-273.15)/Heterogenität!$D$4","v":{"$error":"#DIV/0!"}},{"$f":"IF(AI727<Berechnung!$D$7,AI727,#N/A)","v":{"$error":"#N/A"}}]
[null,null,null,null,null,null,null,null,null,null,null,null,null,null,null,null,null,null,null,null,null,null,null,null,null,null,null,null,null,null,null,null,{"$f":"Sanierungsdesign!$E$12*AH728*Sanierungsdesign!$E$10/1000000","v":33789.599999999999},5198400,60.166666666666664,{"$f":"$D$5+((-Sanierungsdesign!$E$12)/4*PI()*$D$3)*(-LN((4*$D$4*AH728)/(Sanierungsdesign!$E$13^2))-$D$19)","v":3471.8473766682573},3198.6973766682572,6374.1370206676938,{"$f":"$D$3*$T$7*$AH$7*(AK728-$D$5)*(1/Sanierungsdesign!$E$15)/1000000","v":407.1637421613911},{"$f":"$D$5+(-Sanierungsdesign!$E$12/(4*PI()*$D$3))*(-LN((4*$D$4*AH728)/(Sanierungsdesign!$E$13+Sanierungsdesign!$E$15)^2)-$D$19)","v":411.40153651294742},138.25153651294744,{"$f":"(2*PI()*Sanierungsdesign!$E$10*$D$3)*(LN((Sanierungsdesign!$E$13+Sanierungsdesign!$E$15)/Sanierungsdesign!$E$13)*(AJ728-AN728))*$AH$7/1000000","v":273.23352028493332},8957.0520131497797,20216.066393679055,{"$f":"AU728/Sanierungsdesign!$E$11","v":2.3058942217571508},4158720,18.447153774057206,{"$error":"#DIV/0!"},{"$error":"#DIV/0!"},{"$error":"#DIV/0!"},{"$error":"#DIV/0!"},{"$f":"(AY728/(AH728*Sanierungsdesign!$E$10))*1000000","v":{"$error":"#DIV/0!"}},{"$f":"AZ728/Sanierungsdesign!$E$12","v":{"$error":"#DIV/0!"}},{"$f":"$D$5+((-(Sanierungsdesign!$E$12)*MIN($BA$7:$BA$932))/(4*PI()*$D$3))*(-LN((4*$D$4*AH728)/(Sanierungsdesign!$E$13)^2)-$D$19)","v":{"$error":"#DIV/0!"}},{"$f":"(BB728-273.15)/Heterogenität!$D$4","v":{"$error":"#DIV/0!"}},{"$f":"IF(AI728<Berechnung!$D$7,AI728,#N/A)","v":{"$error":"#N/A"}}]
[null,null,null,null,null,null,null,null,null,null,null,null,null,null,null,null,null,null,null,null,null,null,null,null,null,null,null,null,null,null,null,null,{"$f":"Sanierungsdesign!$E$12*AH729*Sanierungsdesign!$E$10/1000000","v":33836.400000000001},5205600,60.25,{"$f":"$D$5+((-Sanierungsdesign!$E$12)/4*PI()*$D$3)*(-LN((4*$D$4*AH729)/(Sanierungsdesign!$E$13^2))-$D$19)","v":3473.786250561498},3200.6362505614979,6378.0152200699331,{"$f":"$D$3*$T$7*$AH$7*(AK729-$D$5)*(1/Sanierungsdesign!$E$15)/1000000","v":407.43451092209398},{"$f":"$D$5+(-Sanierungsdesign!$E$12/(4*PI()*$D$3))*(-LN((4*$D$4*AH729)/(Sanierungsdesign!$E$13+Sanierungsdesign!$E$15)^2)-$D$19)","v":411.50589832105686},138.35589832105688,{"$f":"(2*PI()*Sanierungsdesign!$E$10*$D$3)*(LN((Sanierungsdesign!$E$13+Sanierungsdesign!$E$15)/Sanierungsdesign!$E$13)*(AJ729-AN729))*$AH$7/1000000","v":273.39730367506843},8969.4579023646693,20244.066485637057,{"$f":"AU729/Sanierungsdesign!$E$11","v":2.3072971909062998},4164480,18.458377527250398,{"$error":"#DIV/0!"},{"$error":"#DIV/0!"},{"$error":"#DIV/0!"},{"$error":"#DIV/0!"},{"$f":"(AY729/(AH729*Sanierungsdesign!$E$10))*1000000","v":{"$error":"#DIV/0!"}},{"$f":"AZ729/Sanierungsdesign!$E$12","v":{"$error":"#DIV/0!"}},{"$f":"$D$5+((-(Sanierungsdesign!$E$12)*MIN($BA$7:$BA$932))/(4*PI()*$D$3))*(-LN((4*$D$4*AH729)/(Sanierungsdesign!$E$13)^2)-$D$19)","v":{"$error":"#DIV/0!"}},{"$f":"(BB729-273.15)/Heterogenität!$D$4","v":{"$error":"#DIV/0!"}},{"$f":"IF(AI729<Berechnung!$D$7,AI729,#N/A)","v":{"$error":"#N/A"}}]
[null,null,null,null,null,null,null,null,null,null,null,null,null,null,null,null,null,null,null,null,null,null,null,null,null,null,null,null,null,null,null,null,{"$f":"Sanierungsdesign!$E$12*AH730*Sanierungsdesign!$E$10/1000000","v":33883.199999999997},5212800,60.333333333333336,{"$f":"$D$5+((-Sanierungsdesign!$E$12)/4*PI()*$D$3)*(-LN((4*$D$4*AH730)/(Sanierungsdesign!$E$13^2))-$D$19)","v":3475.7224446005412},3202.5724446005411,6381.8880591395673,{"$f":"$D$3*$T$7*$AH$7*(AK730-$D$5)*(1/Sanierungsdesign!$E$15)/1000000","v":407.70490543421749},{"$f":"$D$5+(-Sanierungsdesign!$E$12/(4*PI()*$D$3))*(-LN((4*$D$4*AH730)/(Sanierungsdesign!$E$13+Sanierungsdesign!$E$15)^2)-$D$19)","v":411.6101158833593},138.46011588335932,{"$f":"(2*PI()*Sanierungsdesign!$E$10*$D$3)*(LN((Sanierungsdesign!$E$13+Sanierungsdesign!$E$15)/Sanierungsdesign!$E$13)*(AJ730-AN730))*$AH$7/1000000","v":273.56086068864187},8981.8637915795571,20272.066577595058,{"$f":"AU730/Sanierungsdesign!$E$11","v":2.3086982209129512},4170240,18.469585767303609,{"$error":"#DIV/0!"},{"$error":"#DIV/0!"},{"$error":"#DIV/0!"},{"$error":"#DIV/0!"},{"$f":"(AY730/(AH730*Sanierungsdesign!$E$10))*1000000","v":{"$error":"#DIV/0!"}},{"$f":"AZ730/Sanierungsdesign!$E$12","v":{"$error":"#DIV/0!"}},{"$f":"$D$5+((-(Sanierungsdesign!$E$12)*MIN($BA$7:$BA$932))/(4*PI()*$D$3))*(-LN((4*$D$4*AH730)/(Sanierungsdesign!$E$13)^2)-$D$19)","v":{"$error":"#DIV/0!"}},{"$f":"(BB730-273.15)/Heterogenität!$D$4","v":{"$error":"#DIV/0!"}},{"$f":"IF(AI730<Berechnung!$D$7,AI730,#N/A)","v":{"$error":"#N/A"}}]
[null,null,null,null,null,null,null,null,null,null,null,null,null,null,null,null,null,null,null,null,null,null,null,null,null,null,null,null,null,null,null,null,{"$f":"Sanierungsdesign!$E$12*AH731*Sanierungsdesign!$E$10/1000000","v":33930},5220000,60.416666666666664,{"$f":"$D$5+((-Sanierungsdesign!$E$12)/4*PI()*$D$3)*(-LN((4*$D$4*AH731)/(Sanierungsdesign!$E$13^2))-$D$19)","v":3477.6559661831957},3204.5059661831956,6385.755552673937,{"$f":"$D$3*$T$7*$AH$7*(AK731-$D$5)*(1/Sanierungsdesign!$E$15)/1000000","v":407.97492673088504},{"$f":"$D$5+(-Sanierungsdesign!$E$12/(4*PI()*$D$3))*(-LN((4*$D$4*AH731)/(Sanierungsdesign!$E$13+Sanierungsdesign!$E$15)^2)-$D$19)","v":411.71418959804907},138.5641895980491,{"$f":"(2*PI()*Sanierungsdesign!$E$10*$D$3)*(LN((Sanierungsdesign!$E$13+Sanierungsdesign!$E$15)/Sanierungsdesign!$E$13)*(AJ731-AN731))*$AH$7/1000000","v":273.72419195057211},8994.2696807944467,20300.066669553067,{"$f":"AU731/Sanierungsdesign!$E$11","v":2.3100973171301602},4176000,18.480778537041282,{"$error":"#DIV/0!"},{"$error":"#DIV/0!"},{"$error":"#DIV/0!"},{"$error":"#DIV/0!"},{"$f":"(AY731/(AH731*Sanierungsdesign!$E$10))*1000000","v":{"$error":"#DIV/0!"}},{"$f":"AZ731/Sanierungsdesign!$E$12","v":{"$error":"#DIV/0!"}},{"$f":"$D$5+((-(Sanierungsdesign!$E$12)*MIN($BA$7:$BA$932))/(4*PI()*$D$3))*(-LN((4*$D$4*AH731)/(Sanierungsdesign!$E$13)^2)-$D$19)","v":{"$error":"#DIV/0!"}},{"$f":"(BB731-273.15)/Heterogenität!$D$4","v":{"$error":"#DIV/0!"}},{"$f":"IF(AI731<Berechnung!$D$7,AI731,#N/A)","v":{"$error":"#N/A"}}]
[null,null,null,null,null,null,null,null,null,null,null,null,null,null,null,null,null,null,null,null,null,null,null,null,null,null,null,null,null,null,null,null,{"$f":"Sanierungsdesign!$E$12*AH732*Sanierungsdesign!$E$10/1000000","v":33976.800000000003},5227200,60.5,{"$f":"$D$5+((-Sanierungsdesign!$E$12)/4*PI()*$D$3)*(-LN((4*$D$4*AH732)/(Sanierungsdesign!$E$13^2))-$D$19)","v":3479.5868226766761},3206.436822676676,6389.6177154091883,{"$f":"$D$3*$T$7*$AH$7*(AK732-$D$5)*(1/Sanierungsdesign!$E$15)/1000000","v":408.24457584094699},{"$f":"$D$5+(-Sanierungsdesign!$E$12/(4*PI()*$D$3))*(-LN((4*$D$4*AH732)/(Sanierungsdesign!$E$13+Sanierungsdesign!$E$15)^2)-$D$19)","v":411.81811986167378},138.6681198616738,{"$f":"(2*PI()*Sanierungsdesign!$E$10*$D$3)*(LN((Sanierungsdesign!$E$13+Sanierungsdesign!$E$15)/Sanierungsdesign!$E$13)*(AJ732-AN732))*$AH$7/1000000","v":273.88729808319334},9006.6755700093363,20328.066761511069,{"$f":"AU732/Sanierungsdesign!$E$11","v":2.3114944848888421},4181760,18.491955879110737,{"$error":"#DIV/0!"},{"$error":"#DIV/0!"},{"$error":"#DIV/0!"},{"$error":"#DIV/0!"},{"$f":"(AY732/(AH732*Sanierungsdesign!$E$10))*1000000","v":{"$error":"#DIV/0!"}},{"$f":"AZ732/Sanierungsdesign!$E$12","v":{"$error":"#DIV/0!"}},{"$f":"$D$5+((-(Sanierungsdesign!$E$12)*MIN($BA$7:$BA$932))/(4*PI()*$D$3))*(-LN((4*$D$4*AH732)/(Sanierungsdesign!$E$13)^2)-$D$19)","v":{"$error":"#DIV/0!"}},{"$f":"(BB732-273.15)/Heterogenität!$D$4","v":{"$error":"#DIV/0!"}},{"$f":"IF(AI732<Berechnung!$D$7,AI732,#N/A)","v":{"$error":"#N/A"}}]
[null,null,null,null,null,null,null,null,null,null,null,null,null,null,null,null,null,null,null,null,null,null,null,null,null,null,null,null,null,null,null,null,{"$f":"Sanierungsdesign!$E$12*AH733*Sanierungsdesign!$E$10/1000000","v":34023.599999999999},5234400,60.583333333333336,{"$f":"$D$5+((-Sanierungsdesign!$E$12)/4*PI()*$D$3)*(-LN((4*$D$4*AH733)/(Sanierungsdesign!$E$13^2))-$D$19)","v":3481.5150214177779},3208.3650214177778,6393.4745620206204,{"$f":"$D$3*$T$7*$AH$7*(AK733-$D$5)*(1/Sanierungsdesign!$E$15)/1000000","v":408.51385378900591},{"$f":"$D$5+(-Sanierungsdesign!$E$12/(4*PI()*$D$3))*(-LN((4*$D$4*AH733)/(Sanierungsdesign!$E$13+Sanierungsdesign!$E$15)^2)-$D$19)","v":411.92190706914369},138.77190706914371,{"$f":"(2*PI()*Sanierungsdesign!$E$10*$D$3)*(LN((Sanierungsdesign!$E$13+Sanierungsdesign!$E$15)/Sanierungsdesign!$E$13)*(AJ733-AN733))*$AH$7/1000000","v":274.05017970627},9019.0814592242241,20356.066853469074,{"$f":"AU733/Sanierungsdesign!$E$11","v":2.3128897294979041},4187520,18.503117835983232,{"$error":"#DIV/0!"},{"$error":"#DIV/0!"},{"$error":"#DIV/0!"},{"$error":"#DIV/0!"},{"$f":"(AY733/(AH733*Sanierungsdesign!$E$10))*1000000","v":{"$error":"#DIV/0!"}},{"$f":"AZ733/Sanierungsdesign!$E$12","v":{"$error":"#DIV/0!"}},{"$f":"$D$5+((-(Sanierungsdesign!$E$12)*MIN($BA$7:$BA$932))/(4*PI()*$D$3))*(-LN((4*$D$4*AH733)/(Sanierungsdesign!$E$13)^2)-$D$19)","v":{"$error":"#DIV/0!"}},{"$f":"(BB733-273.15)/Heterogenität!$D$4","v":{"$error":"#DIV/0!"}},{"$f":"IF(AI733<Berechnung!$D$7,AI733,#N/A)","v":{"$error":"#N/A"}}]
[null,null,null,null,null,null,null,null,null,null,null,null,null,null,null,null,null,null,null,null,null,null,null,null,null,null,null,null,null,null,null,null,{"$f":"Sanierungsdesign!$E$12*AH734*Sanierungsdesign!$E$10/1000000","v":34070.400000000001},5241600,60.666666666666664,{"$f":"$D$5+((-Sanierungsdesign!$E$12)/4*PI()*$D$3)*(-LN((4*$D$4*AH734)/(Sanierungsdesign!$E$13^2))-$D$19)","v":3483.4405697130392},3210.2905697130391,6397.3261071230108,{"$f":"$D$3*$T$7*$AH$7*(AK734-$D$5)*(1/Sanierungsdesign!$E$15)/1000000","v":408.78276159543884},{"$f":"$D$5+(-Sanierungsdesign!$E$12/(4*PI()*$D$3))*(-LN((4*$D$4*AH734)/(Sanierungsdesign!$E$13+Sanierungsdesign!$E$15)^2)-$D$19)","v":412.0255516137405},138.87555161374053,{"$f":"(2*PI()*Sanierungsdesign!$E$10*$D$3)*(LN((Sanierungsdesign!$E$13+Sanierungsdesign!$E$15)/Sanierungsdesign!$E$13)*(AJ734-AN734))*$AH$7/1000000","v":274.21283743701071},9031.4873484391137,20384.066945427079,{"$f":"AU734/Sanierungsdesign!$E$11","v":2.3142830562443546},4193280,18.514264449954837,{"$error":"#DIV/0!"},{"$error":"#DIV/0!"},{"$error":"#DIV/0!"},{"$error":"#DIV/0!"},{"$f":"(AY734/(AH734*Sanierungsdesign!$E$10))*1000000","v":{"$error":"#DIV/0!"}},{"$f":"AZ734/Sanierungsdesign!$E$12","v":{"$error":"#DIV/0!"}},{"$f":"$D$5+((-(Sanierungsdesign!$E$12)*MIN($BA$7:$BA$932))/(4*PI()*$D$3))*(-LN((4*$D$4*AH734)/(Sanierungsdesign!$E$13)^2)-$D$19)","v":{"$error":"#DIV/0!"}},{"$f":"(BB734-273.15)/Heterogenität!$D$4","v":{"$error":"#DIV/0!"}},{"$f":"IF(AI734<Berechnung!$D$7,AI734,#N/A)","v":{"$error":"#N/A"}}]
[null,null,null,null,null,null,null,null,null,null,null,null,null,null,null,null,null,null,null,null,null,null,null,null,null,null,null,null,null,null,null,null,{"$f":"Sanierungsdesign!$E$12*AH735*Sanierungsdesign!$E$10/1000000","v":34117.199999999997},5248800,60.75,{"$f":"$D$5+((-Sanierungsdesign!$E$12)/4*PI()*$D$3)*(-LN((4*$D$4*AH735)/(Sanierungsdesign!$E$13^2))-$D$19)","v":3485.3634748389109},3212.2134748389108,6401.172365270957,{"$f":"$D$3*$T$7*$AH$7*(AK735-$D$5)*(1/Sanierungsdesign!$E$15)/1000000","v":409.05130027642087},{"$f":"$D$5+(-Sanierungsdesign!$E$12/(4*PI()*$D$3))*(-LN((4*$D$4*AH735)/(Sanierungsdesign!$E$13+Sanierungsdesign!$E$15)^2)-$D$19)","v":412.12905388712642},138.97905388712644,{"$f":"(2*PI()*Sanierungsdesign!$E$10*$D$3)*(LN((Sanierungsdesign!$E$13+Sanierungsdesign!$E$15)/Sanierungsdesign!$E$13)*(AJ735-AN735))*$AH$7/1000000","v":274.37527189008233},9043.8932376540015,20412.067037385081,{"$f":"AU735/Sanierungsdesign!$E$11","v":2.3156744703934358},4199040,18.525395763147486,{"$error":"#DIV/0!"},{"$error":"#DIV/0!"},{"$error":"#DIV/0!"},{"$error":"#DIV/0!"},{"$f":"(AY735/(AH735*Sanierungsdesign!$E$10))*1000000","v":{"$error":"#DIV/0!"}},{"$f":"AZ735/Sanierungsdesign!$E$12","v":{"$error":"#DIV/0!"}},{"$f":"$D$5+((-(Sanierungsdesign!$E$12)*MIN($BA$7:$BA$932))/(4*PI()*$D$3))*(-LN((4*$D$4*AH735)/(Sanierungsdesign!$E$13)^2)-$D$19)","v":{"$error":"#DIV/0!"}},{"$f":"(BB735-273.15)/Heterogenität!$D$4","v":{"$error":"#DIV/0!"}},{"$f":"IF(AI735<Berechnung!$D$7,AI735,#N/A)","v":{"$error":"#N/A"}}]
[null,null,null,null,null,null,null,null,null,null,null,null,null,null,null,null,null,null,null,null,null,null,null,null,null,null,null,null,null,null,null,null,{"$f":"Sanierungsdesign!$E$12*AH736*Sanierungsdesign!$E$10/1000000","v":34164},5256000,60.833333333333336,{"$f":"$D$5+((-Sanierungsdesign!$E$12)/4*PI()*$D$3)*(-LN((4*$D$4*AH736)/(Sanierungsdesign!$E$13^2))-$D$19)","v":3487.2837440419194},3214.1337440419193,6405.0133509592006,{"$f":"$D$3*$T$7*$AH$7*(AK736-$D$5)*(1/Sanierungsdesign!$E$15)/1000000","v":409.31947084394835},{"$f":"$D$5+(-Sanierungsdesign!$E$12/(4*PI()*$D$3))*(-LN((4*$D$4*AH736)/(Sanierungsdesign!$E$13+Sanierungsdesign!$E$15)^2)-$D$19)","v":412.23241427935284},139.08241427935286,{"$f":"(2*PI()*Sanierungsdesign!$E$10*$D$3)*(LN((Sanierungsdesign!$E$13+Sanierungsdesign!$E$15)/Sanierungsdesign!$E$13)*(AJ736-AN736))*$AH$7/1000000","v":274.53748367762415},9056.2991268688911,20440.067129343086,{"$f":"AU736/Sanierungsdesign!$E$11","v":2.3170639771887327},4204800,18.536511817509862,{"$error":"#DIV/0!"},{"$error":"#DIV/0!"},{"$error":"#DIV/0!"},{"$error":"#DIV/0!"},{"$f":"(AY736/(AH736*Sanierungsdesign!$E$10))*1000000","v":{"$error":"#DIV/0!"}},{"$f":"AZ736/Sanierungsdesign!$E$12","v":{"$error":"#DIV/0!"}},{"$f":"$D$5+((-(Sanierungsdesign!$E$12)*MIN($BA$7:$BA$932))/(4*PI()*$D$3))*(-LN((4*$D$4*AH736)/(Sanierungsdesign!$E$13)^2)-$D$19)","v":{"$error":"#DIV/0!"}},{"$f":"(BB736-273.15)/Heterogenität!$D$4","v":{"$error":"#DIV/0!"}},{"$f":"IF(AI736<Berechnung!$D$7,AI736,#N/A)","v":{"$error":"#N/A"}}]
[null,null,null,null,null,null,null,null,null,null,null,null,null,null,null,null,null,null,null,null,null,null,null,null,null,null,null,null,null,null,null,null,{"$f":"Sanierungsdesign!$E$12*AH737*Sanierungsdesign!$E$10/1000000","v":34210.800000000003},5263200,60.916666666666664,{"$f":"$D$5+((-Sanierungsdesign!$E$12)/4*PI()*$D$3)*(-LN((4*$D$4*AH737)/(Sanierungsdesign!$E$13^2))-$D$19)","v":3489.2013845388319},3216.0513845388318,6408.8490786229549,{"$f":"$D$3*$T$7*$AH$7*(AK737-$D$5)*(1/Sanierungsdesign!$E$15)/1000000","v":409.58727430586134},{"$f":"$D$5+(-Sanierungsdesign!$E$12/(4*PI()*$D$3))*(-LN((4*$D$4*AH737)/(Sanierungsdesign!$E$13+Sanierungsdesign!$E$15)^2)-$D$19)","v":412.33563317886944},139.18563317886947,{"$f":"(2*PI()*Sanierungsdesign!$E$10*$D$3)*(LN((Sanierungsdesign!$E$13+Sanierungsdesign!$E$15)/Sanierungsdesign!$E$13)*(AJ737-AN737))*$AH$7/1000000","v":274.6994734092616},9068.7050160837807,20468.067221301095,{"$f":"AU737/Sanierungsdesign!$E$11","v":2.3184515818522984},4210560,18.547612654818387,{"$error":"#DIV/0!"},{"$error":"#DIV/0!"},{"$error":"#DIV/0!"},{"$error":"#DIV/0!"},{"$f":"(AY737/(AH737*Sanierungsdesign!$E$10))*1000000","v":{"$error":"#DIV/0!"}},{"$f":"AZ737/Sanierungsdesign!$E$12","v":{"$error":"#DIV/0!"}},{"$f":"$D$5+((-(Sanierungsdesign!$E$12)*MIN($BA$7:$BA$932))/(4*PI()*$D$3))*(-LN((4*$D$4*AH737)/(Sanierungsdesign!$E$13)^2)-$D$19)","v":{"$error":"#DIV/0!"}},{"$f":"(BB737-273.15)/Heterogenität!$D$4","v":{"$error":"#DIV/0!"}},{"$f":"IF(AI737<Berechnung!$D$7,AI737,#N/A)","v":{"$error":"#N/A"}}]
[null,null,null,null,null,null,null,null,null,null,null,null,null,null,null,null,null,null,null,null,null,null,null,null,null,null,null,null,null,null,null,null,{"$f":"Sanierungsdesign!$E$12*AH738*Sanierungsdesign!$E$10/1000000","v":34257.599999999999},5270400,61,{"$f":"$D$5+((-Sanierungsdesign!$E$12)/4*PI()*$D$3)*(-LN((4*$D$4*AH738)/(Sanierungsdesign!$E$13^2))-$D$19)","v":3491.1164035168176},3217.9664035168175,6412.6795626382354,{"$f":"$D$3*$T$7*$AH$7*(AK738-$D$5)*(1/Sanierungsdesign!$E$15)/1000000","v":409.85471166586672},{"$f":"$D$5+(-Sanierungsdesign!$E$12/(4*PI()*$D$3))*(-LN((4*$D$4*AH738)/(Sanierungsdesign!$E$13+Sanierungsdesign!$E$15)^2)-$D$19)","v":412.43871097253276},139.28871097253278,{"$f":"(2*PI()*Sanierungsdesign!$E$10*$D$3)*(LN((Sanierungsdesign!$E$13+Sanierungsdesign!$E$15)/Sanierungsdesign!$E$13)*(AJ738-AN738))*$AH$7/1000000","v":274.86124169211956},9081.1109052986685,20496.067313259093,{"$f":"AU738/Sanierungsdesign!$E$11","v":2.3198372895847688},4216320,18.55869831667815,{"$error":"#DIV/0!"},{"$error":"#DIV/0!"},{"$error":"#DIV/0!"},{"$error":"#DIV/0!"},{"$f":"(AY738/(AH738*Sanierungsdesign!$E$10))*1000000","v":{"$error":"#DIV/0!"}},{"$f":"AZ738/Sanierungsdesign!$E$12","v":{"$error":"#DIV/0!"}},{"$f":"$D$5+((-(Sanierungsdesign!$E$12)*MIN($BA$7:$BA$932))/(4*PI()*$D$3))*(-LN((4*$D$4*AH738)/(Sanierungsdesign!$E$13)^2)-$D$19)","v":{"$error":"#DIV/0!"}},{"$f":"(BB738-273.15)/Heterogenität!$D$4","v":{"$error":"#DIV/0!"}},{"$f":"IF(AI738<Berechnung!$D$7,AI738,#N/A)","v":{"$error":"#N/A"}}]
[null,null,null,null,null,null,null,null,null,null,null,null,null,null,null,null,null,null,null,null,null,null,null,null,null,null,null,null,null,null,null,null,{"$f":"Sanierungsdesign!$E$12*AH739*Sanierungsdesign!$E$10/1000000","v":34304.400000000001},5277600,61.083333333333336,{"$f":"$D$5+((-Sanierungsdesign!$E$12)/4*PI()*$D$3)*(-LN((4*$D$4*AH739)/(Sanierungsdesign!$E$13^2))-$D$19)","v":3493.0288081336121},3219.878808133612,6416.5048173221767,{"$f":"$D$3*$T$7*$AH$7*(AK739-$D$5)*(1/Sanierungsdesign!$E$15)/1000000","v":410.12178392356071},{"$f":"$D$5+(-Sanierungsdesign!$E$12/(4*PI()*$D$3))*(-LN((4*$D$4*AH739)/(Sanierungsdesign!$E$13+Sanierungsdesign!$E$15)^2)-$D$19)","v":412.54164804561492},139.39164804561494,{"$f":"(2*PI()*Sanierungsdesign!$E$10*$D$3)*(LN((Sanierungsdesign!$E$13+Sanierungsdesign!$E$15)/Sanierungsdesign!$E$13)*(AJ739-AN739))*$AH$7/1000000","v":275.02278913083671},9093.5167945135581,20524.067405217102,{"$f":"AU739/Sanierungsdesign!$E$11","v":2.3212211055654812},4222080,18.56976884452385,{"$error":"#DIV/0!"},{"$error":"#DIV/0!"},{"$error":"#DIV/0!"},{"$error":"#DIV/0!"},{"$f":"(AY739/(AH739*Sanierungsdesign!$E$10))*1000000","v":{"$error":"#DIV/0!"}},{"$f":"AZ739/Sanierungsdesign!$E$12","v":{"$error":"#DIV/0!"}},{"$f":"$D$5+((-(Sanierungsdesign!$E$12)*MIN($BA$7:$BA$932))/(4*PI()*$D$3))*(-LN((4*$D$4*AH739)/(Sanierungsdesign!$E$13)^2)-$D$19)","v":{"$error":"#DIV/0!"}},{"$f":"(BB739-273.15)/Heterogenität!$D$4","v":{"$error":"#DIV/0!"}},{"$f":"IF(AI739<Berechnung!$D$7,AI739,#N/A)","v":{"$error":"#N/A"}}]
[null,null,null,null,null,null,null,null,null,null,null,null,null,null,null,null,null,null,null,null,null,null,null,null,null,null,null,null,null,null,null,null,{"$f":"Sanierungsdesign!$E$12*AH740*Sanierungsdesign!$E$10/1000000","v":34351.199999999997},5284800,61.166666666666664,{"$f":"$D$5+((-Sanierungsdesign!$E$12)/4*PI()*$D$3)*(-LN((4*$D$4*AH740)/(Sanierungsdesign!$E$13^2))-$D$19)","v":3494.9386055176733},3221.7886055176732,6420.3248569333573,{"$f":"$D$3*$T$7*$AH$7*(AK740-$D$5)*(1/Sanierungsdesign!$E$15)/1000000","v":410.38849207445111},{"$f":"$D$5+(-Sanierungsdesign!$E$12/(4*PI()*$D$3))*(-LN((4*$D$4*AH740)/(Sanierungsdesign!$E$13+Sanierungsdesign!$E$15)^2)-$D$19)","v":412.64444478181224},139.49444478181226,{"$f":"(2*PI()*Sanierungsdesign!$E$10*$D$3)*(LN((Sanierungsdesign!$E$13+Sanierungsdesign!$E$15)/Sanierungsdesign!$E$13)*(AJ740-AN740))*$AH$7/1000000","v":275.18411632757875},9105.9226837284459,20552.067497175103,{"$f":"AU740/Sanierungsdesign!$E$11","v":2.3226030349525879},4227840,18.580824279620703,{"$error":"#DIV/0!"},{"$error":"#DIV/0!"},{"$error":"#DIV/0!"},{"$error":"#DIV/0!"},{"$f":"(AY740/(AH740*Sanierungsdesign!$E$10))*1000000","v":{"$error":"#DIV/0!"}},{"$f":"AZ740/Sanierungsdesign!$E$12","v":{"$error":"#DIV/0!"}},{"$f":"$D$5+((-(Sanierungsdesign!$E$12)*MIN($BA$7:$BA$932))/(4*PI()*$D$3))*(-LN((4*$D$4*AH740)/(Sanierungsdesign!$E$13)^2)-$D$19)","v":{"$error":"#DIV/0!"}},{"$f":"(BB740-273.15)/Heterogenität!$D$4","v":{"$error":"#DIV/0!"}},{"$f":"IF(AI740<Berechnung!$D$7,AI740,#N/A)","v":{"$error":"#N/A"}}]
[null,null,null,null,null,null,null,null,null,null,null,null,null,null,null,null,null,null,null,null,null,null,null,null,null,null,null,null,null,null,null,null,{"$f":"Sanierungsdesign!$E$12*AH741*Sanierungsdesign!$E$10/1000000","v":34398},5292000,61.25,{"$f":"$D$5+((-Sanierungsdesign!$E$12)/4*PI()*$D$3)*(-LN((4*$D$4*AH741)/(Sanierungsdesign!$E$13^2))-$D$19)","v":3496.845802768345},3223.6958027683449,6424.1396956721183,{"$f":"$D$3*$T$7*$AH$7*(AK741-$D$5)*(1/Sanierungsdesign!$E$15)/1000000","v":410.6548371099795},{"$f":"$D$5+(-Sanierungsdesign!$E$12/(4*PI()*$D$3))*(-LN((4*$D$4*AH741)/(Sanierungsdesign!$E$13+Sanierungsdesign!$E$15)^2)-$D$19)","v":412.74710156325398},139.597101563254,{"$f":"(2*PI()*Sanierungsdesign!$E$10*$D$3)*(LN((Sanierungsdesign!$E$13+Sanierungsdesign!$E$15)/Sanierungsdesign!$E$13)*(AJ741-AN741))*$AH$7/1000000","v":275.3452238820517},9118.3285729433355,20580.067589133108,{"$f":"AU741/Sanierungsdesign!$E$11","v":2.3239830828831742},4233600,18.591864663065394,{"$error":"#DIV/0!"},{"$error":"#DIV/0!"},{"$error":"#DIV/0!"},{"$error":"#DIV/0!"},{"$f":"(AY741/(AH741*Sanierungsdesign!$E$10))*1000000","v":{"$error":"#DIV/0!"}},{"$f":"AZ741/Sanierungsdesign!$E$12","v":{"$error":"#DIV/0!"}},{"$f":"$D$5+((-(Sanierungsdesign!$E$12)*MIN($BA$7:$BA$932))/(4*PI()*$D$3))*(-LN((4*$D$4*AH741)/(Sanierungsdesign!$E$13)^2)-$D$19)","v":{"$error":"#DIV/0!"}},{"$f":"(BB741-273.15)/Heterogenität!$D$4","v":{"$error":"#DIV/0!"}},{"$f":"IF(AI741<Berechnung!$D$7,AI741,#N/A)","v":{"$error":"#N/A"}}]
[null,null,null,null,null,null,null,null,null,null,null,null,null,null,null,null,null,null,null,null,null,null,null,null,null,null,null,null,null,null,null,null,{"$f":"Sanierungsdesign!$E$12*AH742*Sanierungsdesign!$E$10/1000000","v":34444.800000000003},5299200,61.333333333333336,{"$f":"$D$5+((-Sanierungsdesign!$E$12)/4*PI()*$D$3)*(-LN((4*$D$4*AH742)/(Sanierungsdesign!$E$13^2))-$D$19)","v":3498.7504069560132},3225.6004069560131,6427.9493476808784,{"$f":"$D$3*$T$7*$AH$7*(AK742-$D$5)*(1/Sanierungsdesign!$E$15)/1000000","v":410.92082001754369},{"$f":"$D$5+(-Sanierungsdesign!$E$12/(4*PI()*$D$3))*(-LN((4*$D$4*AH742)/(Sanierungsdesign!$E$13+Sanierungsdesign!$E$15)^2)-$D$19)","v":412.84961877051074},139.69961877051077,{"$f":"(2*PI()*Sanierungsdesign!$E$10*$D$3)*(LN((Sanierungsdesign!$E$13+Sanierungsdesign!$E$15)/Sanierungsdesign!$E$13)*(AJ742-AN742))*$AH$7/1000000","v":275.50611239151556},9130.7344621582251,20608.067681091114,{"$f":"AU742/Sanierungsdesign!$E$11","v":2.3253612544733708},4239360,18.602890035786967,{"$error":"#DIV/0!"},{"$error":"#DIV/0!"},{"$error":"#DIV/0!"},{"$error":"#DIV/0!"},{"$f":"(AY742/(AH742*Sanierungsdesign!$E$10))*1000000","v":{"$error":"#DIV/0!"}},{"$f":"AZ742/Sanierungsdesign!$E$12","v":{"$error":"#DIV/0!"}},{"$f":"$D$5+((-(Sanierungsdesign!$E$12)*MIN($BA$7:$BA$932))/(4*PI()*$D$3))*(-LN((4*$D$4*AH742)/(Sanierungsdesign!$E$13)^2)-$D$19)","v":{"$error":"#DIV/0!"}},{"$f":"(BB742-273.15)/Heterogenität!$D$4","v":{"$error":"#DIV/0!"}},{"$f":"IF(AI742<Berechnung!$D$7,AI742,#N/A)","v":{"$error":"#N/A"}}]
[null,null,null,null,null,null,null,null,null,null,null,null,null,null,null,null,null,null,null,null,null,null,null,null,null,null,null,null,null,null,null,null,{"$f":"Sanierungsdesign!$E$12*AH743*Sanierungsdesign!$E$10/1000000","v":34491.599999999999},5306400,61.416666666666664,{"$f":"$D$5+((-Sanierungsdesign!$E$12)/4*PI()*$D$3)*(-LN((4*$D$4*AH743)/(Sanierungsdesign!$E$13^2))-$D$19)","v":3500.6524251222659},3227.5024251222658,6431.7538270444538,{"$f":"$D$3*$T$7*$AH$7*(AK743-$D$5)*(1/Sanierungsdesign!$E$15)/1000000","v":411.18644178051954},{"$f":"$D$5+(-Sanierungsdesign!$E$12/(4*PI()*$D$3))*(-LN((4*$D$4*AH743)/(Sanierungsdesign!$E$13+Sanierungsdesign!$E$15)^2)-$D$19)","v":412.95199678260281},139.80199678260283,{"$f":"(2*PI()*Sanierungsdesign!$E$10*$D$3)*(LN((Sanierungsdesign!$E$13+Sanierungsdesign!$E$15)/Sanierungsdesign!$E$13)*(AJ743-AN743))*$AH$7/1000000","v":275.66678245079765},9143.1403513731129,20636.067773049115,{"$f":"AU743/Sanierungsdesign!$E$11","v":2.3267375548184712},4245120,18.61390043854777,{"$error":"#DIV/0!"},{"$error":"#DIV/0!"},{"$error":"#DIV/0!"},{"$error":"#DIV/0!"},{"$f":"(AY743/(AH743*Sanierungsdesign!$E$10))*1000000","v":{"$error":"#DIV/0!"}},{"$f":"AZ743/Sanierungsdesign!$E$12","v":{"$error":"#DIV/0!"}},{"$f":"$D$5+((-(Sanierungsdesign!$E$12)*MIN($BA$7:$BA$932))/(4*PI()*$D$3))*(-LN((4*$D$4*AH743)/(Sanierungsdesign!$E$13)^2)-$D$19)","v":{"$error":"#DIV/0!"}},{"$f":"(BB743-273.15)/Heterogenität!$D$4","v":{"$error":"#DIV/0!"}},{"$f":"IF(AI743<Berechnung!$D$7,AI743,#N/A)","v":{"$error":"#N/A"}}]
[null,null,null,null,null,null,null,null,null,null,null,null,null,null,null,null,null,null,null,null,null,null,null,null,null,null,null,null,null,null,null,null,{"$f":"Sanierungsdesign!$E$12*AH744*Sanierungsdesign!$E$10/1000000","v":34538.400000000001},5313600,61.5,{"$f":"$D$5+((-Sanierungsdesign!$E$12)/4*PI()*$D$3)*(-LN((4*$D$4*AH744)/(Sanierungsdesign!$E$13^2))-$D$19)","v":3502.5518642800448},3229.4018642800447,6435.5531477903614,{"$f":"$D$3*$T$7*$AH$7*(AK744-$D$5)*(1/Sanierungsdesign!$E$15)/1000000","v":411.45170337828267},{"$f":"$D$5+(-Sanierungsdesign!$E$12/(4*PI()*$D$3))*(-LN((4*$D$4*AH744)/(Sanierungsdesign!$E$13+Sanierungsdesign!$E$15)^2)-$D$19)","v":413.05423597700883},139.90423597700885,{"$f":"(2*PI()*Sanierungsdesign!$E$10*$D$3)*(LN((Sanierungsdesign!$E$13+Sanierungsdesign!$E$15)/Sanierungsdesign!$E$13)*(AJ744-AN744))*$AH$7/1000000","v":275.82723465230549},9155.5462405880025,20664.06786500712,{"$f":"AU744/Sanierungsdesign!$E$11","v":2.3281119889930402},4250880,18.624895911944321,{"$error":"#DIV/0!"},{"$error":"#DIV/0!"},{"$error":"#DIV/0!"},{"$error":"#DIV/0!"},{"$f":"(AY744/(AH744*Sanierungsdesign!$E$10))*1000000","v":{"$error":"#DIV/0!"}},{"$f":"AZ744/Sanierungsdesign!$E$12","v":{"$error":"#DIV/0!"}},{"$f":"$D$5+((-(Sanierungsdesign!$E$12)*MIN($BA$7:$BA$932))/(4*PI()*$D$3))*(-LN((4*$D$4*AH744)/(Sanierungsdesign!$E$13)^2)-$D$19)","v":{"$error":"#DIV/0!"}},{"$f":"(BB744-273.15)/Heterogenität!$D$4","v":{"$error":"#DIV/0!"}},{"$f":"IF(AI744<Berechnung!$D$7,AI744,#N/A)","v":{"$error":"#N/A"}}]
[null,null,null,null,null,null,null,null,null,null,null,null,null,null,null,null,null,null,null,null,null,null,null,null,null,null,null,null,null,null,null,null,{"$f":"Sanierungsdesign!$E$12*AH745*Sanierungsdesign!$E$10/1000000","v":34585.199999999997},5320800,61.583333333333336,{"$f":"$D$5+((-Sanierungsdesign!$E$12)/4*PI()*$D$3)*(-LN((4*$D$4*AH745)/(Sanierungsdesign!$E$13^2))-$D$19)","v":3504.4487314138028},3231.2987314138027,6439.3473238891338,{"$f":"$D$3*$T$7*$AH$7*(AK745-$D$5)*(1/Sanierungsdesign!$E$15)/1000000","v":411.71660578622999},{"$f":"$D$5+(-Sanierungsdesign!$E$12/(4*PI()*$D$3))*(-LN((4*$D$4*AH745)/(Sanierungsdesign!$E$13+Sanierungsdesign!$E$15)^2)-$D$19)","v":413.15633672967385},140.00633672967388,{"$f":"(2*PI()*Sanierungsdesign!$E$10*$D$3)*(LN((Sanierungsdesign!$E$13+Sanierungsdesign!$E$15)/Sanierungsdesign!$E$13)*(AJ745-AN745))*$AH$7/1000000","v":275.98746958603988},9167.9521298028903,20692.067956965122,{"$f":"AU745/Sanierungsdesign!$E$11","v":2.3294845620510274},4256640,18.635876496408219,{"$error":"#DIV/0!"},{"$error":"#DIV/0!"},{"$error":"#DIV/0!"},{"$error":"#DIV/0!"},{"$f":"(AY745/(AH745*Sanierungsdesign!$E$10))*1000000","v":{"$error":"#DIV/0!"}},{"$f":"AZ745/Sanierungsdesign!$E$12","v":{"$error":"#DIV/0!"}},{"$f":"$D$5+((-(Sanierungsdesign!$E$12)*MIN($BA$7:$BA$932))/(4*PI()*$D$3))*(-LN((4*$D$4*AH745)/(Sanierungsdesign!$E$13)^2)-$D$19)","v":{"$error":"#DIV/0!"}},{"$f":"(BB745-273.15)/Heterogenität!$D$4","v":{"$error":"#DIV/0!"}},{"$f":"IF(AI745<Berechnung!$D$7,AI745,#N/A)","v":{"$error":"#N/A"}}]
[null,null,null,null,null,null,null,null,null,null,null,null,null,null,null,null,null,null,null,null,null,null,null,null,null,null,null,null,null,null,null,null,{"$f":"Sanierungsdesign!$E$12*AH746*Sanierungsdesign!$E$10/1000000","v":34632},5328000,61.666666666666664,{"$f":"$D$5+((-Sanierungsdesign!$E$12)/4*PI()*$D$3)*(-LN((4*$D$4*AH746)/(Sanierungsdesign!$E$13^2))-$D$19)","v":3506.3430334796612},3233.1930334796612,6443.1363692546329,{"$f":"$D$3*$T$7*$AH$7*(AK746-$D$5)*(1/Sanierungsdesign!$E$15)/1000000","v":411.98114997580183},{"$f":"$D$5+(-Sanierungsdesign!$E$12/(4*PI()*$D$3))*(-LN((4*$D$4*AH746)/(Sanierungsdesign!$E$13+Sanierungsdesign!$E$15)^2)-$D$19)","v":413.25829941501809},140.10829941501811,{"$f":"(2*PI()*Sanierungsdesign!$E$10*$D$3)*(LN((Sanierungsdesign!$E$13+Sanierungsdesign!$E$15)/Sanierungsdesign!$E$13)*(AJ746-AN746))*$AH$7/1000000","v":276.14748783960869},9180.35801901778,20720.068048923131,{"$f":"AU746/Sanierungsdesign!$E$11","v":2.3308552790258825},4262400,18.64684223220706,{"$error":"#DIV/0!"},{"$error":"#DIV/0!"},{"$error":"#DIV/0!"},{"$error":"#DIV/0!"},{"$f":"(AY746/(AH746*Sanierungsdesign!$E$10))*1000000","v":{"$error":"#DIV/0!"}},{"$f":"AZ746/Sanierungsdesign!$E$12","v":{"$error":"#DIV/0!"}},{"$f":"$D$5+((-(Sanierungsdesign!$E$12)*MIN($BA$7:$BA$932))/(4*PI()*$D$3))*(-LN((4*$D$4*AH746)/(Sanierungsdesign!$E$13)^2)-$D$19)","v":{"$error":"#DIV/0!"}},{"$f":"(BB746-273.15)/Heterogenität!$D$4","v":{"$error":"#DIV/0!"}},{"$f":"IF(AI746<Berechnung!$D$7,AI746,#N/A)","v":{"$error":"#N/A"}}]
[null,null,null,null,null,null,null,null,null,null,null,null,null,null,null,null,null,null,null,null,null,null,null,null,null,null,null,null,null,null,null,null,{"$f":"Sanierungsdesign!$E$12*AH747*Sanierungsdesign!$E$10/1000000","v":34678.800000000003},5335200,61.75,{"$f":"$D$5+((-Sanierungsdesign!$E$12)/4*PI()*$D$3)*(-LN((4*$D$4*AH747)/(Sanierungsdesign!$E$13^2))-$D$19)","v":3508.2347774055575},3235.0847774055574,6446.9202977443492,{"$f":"$D$3*$T$7*$AH$7*(AK747-$D$5)*(1/Sanierungsdesign!$E$15)/1000000","v":412.24533691450256},{"$f":"$D$5+(-Sanierungsdesign!$E$12/(4*PI()*$D$3))*(-LN((4*$D$4*AH747)/(Sanierungsdesign!$E$13+Sanierungsdesign!$E$15)^2)-$D$19)","v":413.36012440594448},140.2101244059445,{"$f":"(2*PI()*Sanierungsdesign!$E$10*$D$3)*(LN((Sanierungsdesign!$E$13+Sanierungsdesign!$E$15)/Sanierungsdesign!$E$13)*(AJ747-AN747))*$AH$7/1000000","v":276.30728999823845},9192.7639082326696,20748.068140881132,{"$f":"AU747/Sanierungsdesign!$E$11","v":2.3322241449306613},4268160,18.657793159445291,{"$error":"#DIV/0!"},{"$error":"#DIV/0!"},{"$error":"#DIV/0!"},{"$error":"#DIV/0!"},{"$f":"(AY747/(AH747*Sanierungsdesign!$E$10))*1000000","v":{"$error":"#DIV/0!"}},{"$f":"AZ747/Sanierungsdesign!$E$12","v":{"$error":"#DIV/0!"}},{"$f":"$D$5+((-(Sanierungsdesign!$E$12)*MIN($BA$7:$BA$932))/(4*PI()*$D$3))*(-LN((4*$D$4*AH747)/(Sanierungsdesign!$E$13)^2)-$D$19)","v":{"$error":"#DIV/0!"}},{"$f":"(BB747-273.15)/Heterogenität!$D$4","v":{"$error":"#DIV/0!"}},{"$f":"IF(AI747<Berechnung!$D$7,AI747,#N/A)","v":{"$error":"#N/A"}}]
[null,null,null,null,null,null,null,null,null,null,null,null,null,null,null,null,null,null,null,null,null,null,null,null,null,null,null,null,null,null,null,null,{"$f":"Sanierungsdesign!$E$12*AH748*Sanierungsdesign!$E$10/1000000","v":34725.599999999999},5342400,61.833333333333336,{"$f":"$D$5+((-Sanierungsdesign!$E$12)/4*PI()*$D$3)*(-LN((4*$D$4*AH748)/(Sanierungsdesign!$E$13^2))-$D$19)","v":3510.1239700914002},3236.9739700914001,6450.6991231597058,{"$f":"$D$3*$T$7*$AH$7*(AK748-$D$5)*(1/Sanierungsdesign!$E$15)/1000000","v":412.50916756592238},{"$f":"$D$5+(-Sanierungsdesign!$E$12/(4*PI()*$D$3))*(-LN((4*$D$4*AH748)/(Sanierungsdesign!$E$13+Sanierungsdesign!$E$15)^2)-$D$19)","v":413.46181207384745},140.31181207384748,{"$f":"(2*PI()*Sanierungsdesign!$E$10*$D$3)*(LN((Sanierungsdesign!$E$13+Sanierungsdesign!$E$15)/Sanierungsdesign!$E$13)*(AJ748-AN748))*$AH$7/1000000","v":276.46687664478856},9205.1697974475574,20776.068232839138,{"$f":"AU748/Sanierungsdesign!$E$11","v":2.3335911647581371},4273920,18.668729318065097,{"$error":"#DIV/0!"},{"$error":"#DIV/0!"},{"$error":"#DIV/0!"},{"$error":"#DIV/0!"},{"$f":"(AY748/(AH748*Sanierungsdesign!$E$10))*1000000","v":{"$error":"#DIV/0!"}},{"$f":"AZ748/Sanierungsdesign!$E$12","v":{"$error":"#DIV/0!"}},{"$f":"$D$5+((-(Sanierungsdesign!$E$12)*MIN($BA$7:$BA$932))/(4*PI()*$D$3))*(-LN((4*$D$4*AH748)/(Sanierungsdesign!$E$13)^2)-$D$19)","v":{"$error":"#DIV/0!"}},{"$f":"(BB748-273.15)/Heterogenität!$D$4","v":{"$error":"#DIV/0!"}},{"$f":"IF(AI748<Berechnung!$D$7,AI748,#N/A)","v":{"$error":"#N/A"}}]
[null,null,null,null,null,null,null,null,null,null,null,null,null,null,null,null,null,null,null,null,null,null,null,null,null,null,null,null,null,null,null,null,{"$f":"Sanierungsdesign!$E$12*AH749*Sanierungsdesign!$E$10/1000000","v":34772.400000000001},5349600,61.916666666666664,{"$f":"$D$5+((-Sanierungsdesign!$E$12)/4*PI()*$D$3)*(-LN((4*$D$4*AH749)/(Sanierungsdesign!$E$13^2))-$D$19)","v":3512.0106184092197},3238.8606184092196,6454.4728592463644,{"$f":"$D$3*$T$7*$AH$7*(AK749-$D$5)*(1/Sanierungsdesign!$E$15)/1000000","v":412.772642889758},{"$f":"$D$5+(-Sanierungsdesign!$E$12/(4*PI()*$D$3))*(-LN((4*$D$4*AH749)/(Sanierungsdesign!$E$13+Sanierungsdesign!$E$15)^2)-$D$19)","v":413.56336278862102},140.41336278862104,{"$f":"(2*PI()*Sanierungsdesign!$E$10*$D$3)*(LN((Sanierungsdesign!$E$13+Sanierungsdesign!$E$15)/Sanierungsdesign!$E$13)*(AJ749-AN749))*$AH$7/1000000","v":276.62624835976322},9217.575686662447,20804.068324797143,{"$f":"AU749/Sanierungsdesign!$E$11","v":2.3349563434809113},4279680,18.67965074784729,{"$error":"#DIV/0!"},{"$error":"#DIV/0!"},{"$error":"#DIV/0!"},{"$error":"#DIV/0!"},{"$f":"(AY749/(AH749*Sanierungsdesign!$E$10))*1000000","v":{"$error":"#DIV/0!"}},{"$f":"AZ749/Sanierungsdesign!$E$12","v":{"$error":"#DIV/0!"}},{"$f":"$D$5+((-(Sanierungsdesign!$E$12)*MIN($BA$7:$BA$932))/(4*PI()*$D$3))*(-LN((4*$D$4*AH749)/(Sanierungsdesign!$E$13)^2)-$D$19)","v":{"$error":"#DIV/0!"}},{"$f":"(BB749-273.15)/Heterogenität!$D$4","v":{"$error":"#DIV/0!"}},{"$f":"IF(AI749<Berechnung!$D$7,AI749,#N/A)","v":{"$error":"#N/A"}}]
[null,null,null,null,null,null,null,null,null,null,null,null,null,null,null,null,null,null,null,null,null,null,null,null,null,null,null,null,null,null,null,null,{"$f":"Sanierungsdesign!$E$12*AH750*Sanierungsdesign!$E$10/1000000","v":34819.199999999997},5356800,62,{"$f":"$D$5+((-Sanierungsdesign!$E$12)/4*PI()*$D$3)*(-LN((4*$D$4*AH750)/(Sanierungsdesign!$E$13^2))-$D$19)","v":3513.8947292033167},3240.7447292033166,6458.2415196945212,{"$f":"$D$3*$T$7*$AH$7*(AK750-$D$5)*(1/Sanierungsdesign!$E$15)/1000000","v":413.0357638418339},{"$f":"$D$5+(-Sanierungsdesign!$E$12/(4*PI()*$D$3))*(-LN((4*$D$4*AH750)/(Sanierungsdesign!$E$13+Sanierungsdesign!$E$15)^2)-$D$19)","v":413.66477691866635},140.51477691866637,{"$f":"(2*PI()*Sanierungsdesign!$E$10*$D$3)*(LN((Sanierungsdesign!$E$13+Sanierungsdesign!$E$15)/Sanierungsdesign!$E$13)*(AJ750-AN750))*$AH$7/1000000","v":276.78540572132408},9229.9815758773348,20832.068416755144,{"$f":"AU750/Sanierungsdesign!$E$11","v":2.3363196860515196},4285440,18.690557488412157,{"$error":"#DIV/0!"},{"$error":"#DIV/0!"},{"$error":"#DIV/0!"},{"$error":"#DIV/0!"},{"$f":"(AY750/(AH750*Sanierungsdesign!$E$10))*1000000","v":{"$error":"#DIV/0!"}},{"$f":"AZ750/Sanierungsdesign!$E$12","v":{"$error":"#DIV/0!"}},{"$f":"$D$5+((-(Sanierungsdesign!$E$12)*MIN($BA$7:$BA$932))/(4*PI()*$D$3))*(-LN((4*$D$4*AH750)/(Sanierungsdesign!$E$13)^2)-$D$19)","v":{"$error":"#DIV/0!"}},{"$f":"(BB750-273.15)/Heterogenität!$D$4","v":{"$error":"#DIV/0!"}},{"$f":"IF(AI750<Berechnung!$D$7,AI750,#N/A)","v":{"$error":"#N/A"}}]
[null,null,null,null,null,null,null,null,null,null,null,null,null,null,null,null,null,null,null,null,null,null,null,null,null,null,null,null,null,null,null,null,{"$f":"Sanierungsdesign!$E$12*AH751*Sanierungsdesign!$E$10/1000000","v":34866},5364000,62.083333333333336,{"$f":"$D$5+((-Sanierungsdesign!$E$12)/4*PI()*$D$3)*(-LN((4*$D$4*AH751)/(Sanierungsdesign!$E$13^2))-$D$19)","v":3515.7763092904152},3242.6263092904151,6462.0051181392109,{"$f":"$D$3*$T$7*$AH$7*(AK751-$D$5)*(1/Sanierungsdesign!$E$15)/1000000","v":413.29853137412312},{"$f":"$D$5+(-Sanierungsdesign!$E$12/(4*PI()*$D$3))*(-LN((4*$D$4*AH751)/(Sanierungsdesign!$E$13+Sanierungsdesign!$E$15)^2)-$D$19)","v":413.76605483090032},140.61605483090034,{"$f":"(2*PI()*Sanierungsdesign!$E$10*$D$3)*(LN((Sanierungsdesign!$E$13+Sanierungsdesign!$E$15)/Sanierungsdesign!$E$13)*(AJ751-AN751))*$AH$7/1000000","v":276.94434930530338},9242.3874650922244,20860.06850871315,{"$f":"AU751/Sanierungsdesign!$E$11","v":2.337681197402544},4291200,18.701449579220352,{"$error":"#DIV/0!"},{"$error":"#DIV/0!"},{"$error":"#DIV/0!"},{"$error":"#DIV/0!"},{"$f":"(AY751/(AH751*Sanierungsdesign!$E$10))*1000000","v":{"$error":"#DIV/0!"}},{"$f":"AZ751/Sanierungsdesign!$E$12","v":{"$error":"#DIV/0!"}},{"$f":"$D$5+((-(Sanierungsdesign!$E$12)*MIN($BA$7:$BA$932))/(4*PI()*$D$3))*(-LN((4*$D$4*AH751)/(Sanierungsdesign!$E$13)^2)-$D$19)","v":{"$error":"#DIV/0!"}},{"$f":"(BB751-273.15)/Heterogenität!$D$4","v":{"$error":"#DIV/0!"}},{"$f":"IF(AI751<Berechnung!$D$7,AI751,#N/A)","v":{"$error":"#N/A"}}]
[null,null,null,null,null,null,null,null,null,null,null,null,null,null,null,null,null,null,null,null,null,null,null,null,null,null,null,null,null,null,null,null,{"$f":"Sanierungsdesign!$E$12*AH752*Sanierungsdesign!$E$10/1000000","v":34912.800000000003},5371200,62.166666666666664,{"$f":"$D$5+((-Sanierungsdesign!$E$12)/4*PI()*$D$3)*(-LN((4*$D$4*AH752)/(Sanierungsdesign!$E$13^2))-$D$19)","v":3517.6553654598047},3244.5053654598046,6465.7636681605945,{"$f":"$D$3*$T$7*$AH$7*(AK752-$D$5)*(1/Sanierungsdesign!$E$15)/1000000","v":413.56094643476746},{"$f":"$D$5+(-Sanierungsdesign!$E$12/(4*PI()*$D$3))*(-LN((4*$D$4*AH752)/(Sanierungsdesign!$E$13+Sanierungsdesign!$E$15)^2)-$D$19)","v":413.86719689076324},140.71719689076326,{"$f":"(2*PI()*Sanierungsdesign!$E$10*$D$3)*(LN((Sanierungsdesign!$E$13+Sanierungsdesign!$E$15)/Sanierungsdesign!$E$13)*(AJ752-AN752))*$AH$7/1000000","v":277.10307968521613},9254.793354307114,20888.068600671158,{"$f":"AU752/Sanierungsdesign!$E$11","v":2.3390408824467142},4296960,18.712327059573713,{"$error":"#DIV/0!"},{"$error":"#DIV/0!"},{"$error":"#DIV/0!"},{"$error":"#DIV/0!"},{"$f":"(AY752/(AH752*Sanierungsdesign!$E$10))*1000000","v":{"$error":"#DIV/0!"}},{"$f":"AZ752/Sanierungsdesign!$E$12","v":{"$error":"#DIV/0!"}},{"$f":"$D$5+((-(Sanierungsdesign!$E$12)*MIN($BA$7:$BA$932))/(4*PI()*$D$3))*(-LN((4*$D$4*AH752)/(Sanierungsdesign!$E$13)^2)-$D$19)","v":{"$error":"#DIV/0!"}},{"$f":"(BB752-273.15)/Heterogenität!$D$4","v":{"$error":"#DIV/0!"}},{"$f":"IF(AI752<Berechnung!$D$7,AI752,#N/A)","v":{"$error":"#N/A"}}]
[null,null,null,null,null,null,null,null,null,null,null,null,null,null,null,null,null,null,null,null,null,null,null,null,null,null,null,null,null,null,null,null,{"$f":"Sanierungsdesign!$E$12*AH753*Sanierungsdesign!$E$10/1000000","v":34959.599999999999},5378400,62.25,{"$f":"$D$5+((-Sanierungsdesign!$E$12)/4*PI()*$D$3)*(-LN((4*$D$4*AH753)/(Sanierungsdesign!$E$13^2))-$D$19)","v":3519.5319044734924},3246.3819044734923,6469.5171832842616,{"$f":"$D$3*$T$7*$AH$7*(AK753-$D$5)*(1/Sanierungsdesign!$E$15)/1000000","v":413.82300996809892},{"$f":"$D$5+(-Sanierungsdesign!$E$12/(4*PI()*$D$3))*(-LN((4*$D$4*AH753)/(Sanierungsdesign!$E$13+Sanierungsdesign!$E$15)^2)-$D$19)","v":413.96820346222682},140.81820346222685,{"$f":"(2*PI()*Sanierungsdesign!$E$10*$D$3)*(LN((Sanierungsdesign!$E$13+Sanierungsdesign!$E$15)/Sanierungsdesign!$E$13)*(AJ753-AN753))*$AH$7/1000000","v":277.26159743227237},9267.1992435220018,20916.068692629156,{"$f":"AU753/Sanierungsdesign!$E$11","v":2.3403987460770188},4302720,18.72318996861615,{"$error":"#DIV/0!"},{"$error":"#DIV/0!"},{"$error":"#DIV/0!"},{"$error":"#DIV/0!"},{"$f":"(AY753/(AH753*Sanierungsdesign!$E$10))*1000000","v":{"$error":"#DIV/0!"}},{"$f":"AZ753/Sanierungsdesign!$E$12","v":{"$error":"#DIV/0!"}},{"$f":"$D$5+((-(Sanierungsdesign!$E$12)*MIN($BA$7:$BA$932))/(4*PI()*$D$3))*(-LN((4*$D$4*AH753)/(Sanierungsdesign!$E$13)^2)-$D$19)","v":{"$error":"#DIV/0!"}},{"$f":"(BB753-273.15)/Heterogenität!$D$4","v":{"$error":"#DIV/0!"}},{"$f":"IF(AI753<Berechnung!$D$7,AI753,#N/A)","v":{"$error":"#N/A"}}]
[null,null,null,null,null,null,null,null,null,null,null,null,null,null,null,null,null,null,null,null,null,null,null,null,null,null,null,null,null,null,null,null,{"$f":"Sanierungsdesign!$E$12*AH754*Sanierungsdesign!$E$10/1000000","v":35006.400000000001},5385600,62.333333333333336,{"$f":"$D$5+((-Sanierungsdesign!$E$12)/4*PI()*$D$3)*(-LN((4*$D$4*AH754)/(Sanierungsdesign!$E$13^2))-$D$19)","v":3521.4059330663454},3248.2559330663453,6473.2656769815148,{"$f":"$D$3*$T$7*$AH$7*(AK754-$D$5)*(1/Sanierungsdesign!$E$15)/1000000","v":414.0847229146591},{"$f":"$D$5+(-Sanierungsdesign!$E$12/(4*PI()*$D$3))*(-LN((4*$D$4*AH754)/(Sanierungsdesign!$E$13+Sanierungsdesign!$E$15)^2)-$D$19)","v":414.06907490780191},140.91907490780193,{"$f":"(2*PI()*Sanierungsdesign!$E$10*$D$3)*(LN((Sanierungsdesign!$E$13+Sanierungsdesign!$E$15)/Sanierungsdesign!$E$13)*(AJ754-AN754))*$AH$7/1000000","v":277.41990311538967},9279.6051327368914,20944.068784587162,{"$f":"AU754/Sanierungsdesign!$E$11","v":2.3417547931668068},4308480,18.734038345334454,{"$error":"#DIV/0!"},{"$error":"#DIV/0!"},{"$error":"#DIV/0!"},{"$error":"#DIV/0!"},{"$f":"(AY754/(AH754*Sanierungsdesign!$E$10))*1000000","v":{"$error":"#DIV/0!"}},{"$f":"AZ754/Sanierungsdesign!$E$12","v":{"$error":"#DIV/0!"}},{"$f":"$D$5+((-(Sanierungsdesign!$E$12)*MIN($BA$7:$BA$932))/(4*PI()*$D$3))*(-LN((4*$D$4*AH754)/(Sanierungsdesign!$E$13)^2)-$D$19)","v":{"$error":"#DIV/0!"}},{"$f":"(BB754-273.15)/Heterogenität!$D$4","v":{"$error":"#DIV/0!"}},{"$f":"IF(AI754<Berechnung!$D$7,AI754,#N/A)","v":{"$error":"#N/A"}}]
[null,null,null,null,null,null,null,null,null,null,null,null,null,null,null,null,null,null,null,null,null,null,null,null,null,null,null,null,null,null,null,null,{"$f":"Sanierungsdesign!$E$12*AH755*Sanierungsdesign!$E$10/1000000","v":35053.199999999997},5392800,62.416666666666664,{"$f":"$D$5+((-Sanierungsdesign!$E$12)/4*PI()*$D$3)*(-LN((4*$D$4*AH755)/(Sanierungsdesign!$E$13^2))-$D$19)","v":3523.2774579462375},3250.1274579462374,6477.009162669664,{"$f":"$D$3*$T$7*$AH$7*(AK755-$D$5)*(1/Sanierungsdesign!$E$15)/1000000","v":414.34608621121981},{"$f":"$D$5+(-Sanierungsdesign!$E$12/(4*PI()*$D$3))*(-LN((4*$D$4*AH755)/(Sanierungsdesign!$E$13+Sanierungsdesign!$E$15)^2)-$D$19)","v":414.16981158854651},141.01981158854653,{"$f":"(2*PI()*Sanierungsdesign!$E$10*$D$3)*(LN((Sanierungsdesign!$E$13+Sanierungsdesign!$E$15)/Sanierungsdesign!$E$13)*(AJ755-AN755))*$AH$7/1000000","v":277.57799730120524},9292.0110219517792,20972.068876545167,{"$f":"AU755/Sanierungsdesign!$E$11","v":2.3431090285698972},4314240,18.744872228559178,{"$error":"#DIV/0!"},{"$error":"#DIV/0!"},{"$error":"#DIV/0!"},{"$error":"#DIV/0!"},{"$f":"(AY755/(AH755*Sanierungsdesign!$E$10))*1000000","v":{"$error":"#DIV/0!"}},{"$f":"AZ755/Sanierungsdesign!$E$12","v":{"$error":"#DIV/0!"}},{"$f":"$D$5+((-(Sanierungsdesign!$E$12)*MIN($BA$7:$BA$932))/(4*PI()*$D$3))*(-LN((4*$D$4*AH755)/(Sanierungsdesign!$E$13)^2)-$D$19)","v":{"$error":"#DIV/0!"}},{"$f":"(BB755-273.15)/Heterogenität!$D$4","v":{"$error":"#DIV/0!"}},{"$f":"IF(AI755<Berechnung!$D$7,AI755,#N/A)","v":{"$error":"#N/A"}}]
[null,null,null,null,null,null,null,null,null,null,null,null,null,null,null,null,null,null,null,null,null,null,null,null,null,null,null,null,null,null,null,null,{"$f":"Sanierungsdesign!$E$12*AH756*Sanierungsdesign!$E$10/1000000","v":35100},5400000,62.5,{"$f":"$D$5+((-Sanierungsdesign!$E$12)/4*PI()*$D$3)*(-LN((4*$D$4*AH756)/(Sanierungsdesign!$E$13^2))-$D$19)","v":3525.1464857941951},3251.996485794195,6480.7476537123184,{"$f":"$D$3*$T$7*$AH$7*(AK756-$D$5)*(1/Sanierungsdesign!$E$15)/1000000","v":414.60710079080377},{"$f":"$D$5+(-Sanierungsdesign!$E$12/(4*PI()*$D$3))*(-LN((4*$D$4*AH756)/(Sanierungsdesign!$E$13+Sanierungsdesign!$E$15)^2)-$D$19)","v":414.27041386407348},141.1204138640735,{"$f":"(2*PI()*Sanierungsdesign!$E$10*$D$3)*(LN((Sanierungsdesign!$E$13+Sanierungsdesign!$E$15)/Sanierungsdesign!$E$13)*(AJ756-AN756))*$AH$7/1000000","v":277.73588055408862},9304.4169111666688,21000.068968503168,{"$f":"AU756/Sanierungsdesign!$E$11","v":2.3444614571206794},4320000,18.755691656965435,{"$error":"#DIV/0!"},{"$error":"#DIV/0!"},{"$error":"#DIV/0!"},{"$error":"#DIV/0!"},{"$f":"(AY756/(AH756*Sanierungsdesign!$E$10))*1000000","v":{"$error":"#DIV/0!"}},{"$f":"AZ756/Sanierungsdesign!$E$12","v":{"$error":"#DIV/0!"}},{"$f":"$D$5+((-(Sanierungsdesign!$E$12)*MIN($BA$7:$BA$932))/(4*PI()*$D$3))*(-LN((4*$D$4*AH756)/(Sanierungsdesign!$E$13)^2)-$D$19)","v":{"$error":"#DIV/0!"}},{"$f":"(BB756-273.15)/Heterogenität!$D$4","v":{"$error":"#DIV/0!"}},{"$f":"IF(AI756<Berechnung!$D$7,AI756,#N/A)","v":{"$error":"#N/A"}}]
[null,null,null,null,null,null,null,null,null,null,null,null,null,null,null,null,null,null,null,null,null,null,null,null,null,null,null,null,null,null,null,null,{"$f":"Sanierungsdesign!$E$12*AH757*Sanierungsdesign!$E$10/1000000","v":35146.800000000003},5407200,62.583333333333336,{"$f":"$D$5+((-Sanierungsdesign!$E$12)/4*PI()*$D$3)*(-LN((4*$D$4*AH757)/(Sanierungsdesign!$E$13^2))-$D$19)","v":3527.0130232645356},3253.8630232645355,6484.4811634196631,{"$f":"$D$3*$T$7*$AH$7*(AK757-$D$5)*(1/Sanierungsdesign!$E$15)/1000000","v":414.86776758270372},{"$f":"$D$5+(-Sanierungsdesign!$E$12/(4*PI()*$D$3))*(-LN((4*$D$4*AH757)/(Sanierungsdesign!$E$13+Sanierungsdesign!$E$15)^2)-$D$19)","v":414.37088209255808},141.2208820925581,{"$f":"(2*PI()*Sanierungsdesign!$E$10*$D$3)*(LN((Sanierungsdesign!$E$13+Sanierungsdesign!$E$15)/Sanierungsdesign!$E$13)*(AJ757-AN757))*$AH$7/1000000","v":277.89355343615301},9316.8228003815584,21028.069060461177,{"$f":"AU757/Sanierungsdesign!$E$11","v":2.3458120836342178},4325760,18.766496669073742,{"$error":"#DIV/0!"},{"$error":"#DIV/0!"},{"$error":"#DIV/0!"},{"$error":"#DIV/0!"},{"$f":"(AY757/(AH757*Sanierungsdesign!$E$10))*1000000","v":{"$error":"#DIV/0!"}},{"$f":"AZ757/Sanierungsdesign!$E$12","v":{"$error":"#DIV/0!"}},{"$f":"$D$5+((-(Sanierungsdesign!$E$12)*MIN($BA$7:$BA$932))/(4*PI()*$D$3))*(-LN((4*$D$4*AH757)/(Sanierungsdesign!$E$13)^2)-$D$19)","v":{"$error":"#DIV/0!"}},{"$f":"(BB757-273.15)/Heterogenität!$D$4","v":{"$error":"#DIV/0!"}},{"$f":"IF(AI757<Berechnung!$D$7,AI757,#N/A)","v":{"$error":"#N/A"}}]
[null,null,null,null,null,null,null,null,null,null,null,null,null,null,null,null,null,null,null,null,null,null,null,null,null,null,null,null,null,null,null,null,{"$f":"Sanierungsdesign!$E$12*AH758*Sanierungsdesign!$E$10/1000000","v":35193.599999999999},5414400,62.666666666666664,{"$f":"$D$5+((-Sanierungsdesign!$E$12)/4*PI()*$D$3)*(-LN((4*$D$4*AH758)/(Sanierungsdesign!$E$13^2))-$D$19)","v":3528.8770769850139},3255.7270769850138,6488.2097050487519,{"$f":"$D$3*$T$7*$AH$7*(AK758-$D$5)*(1/Sanierungsdesign!$E$15)/1000000","v":415.12808751250265},{"$f":"$D$5+(-Sanierungsdesign!$E$12/(4*PI()*$D$3))*(-LN((4*$D$4*AH758)/(Sanierungsdesign!$E$13+Sanierungsdesign!$E$15)^2)-$D$19)","v":414.47121663074563},141.32121663074565,{"$f":"(2*PI()*Sanierungsdesign!$E$10*$D$3)*(LN((Sanierungsdesign!$E$13+Sanierungsdesign!$E$15)/Sanierungsdesign!$E$13)*(AJ758-AN758))*$AH$7/1000000","v":278.05101650726778},9329.2286895964462,21056.069152419179,{"$f":"AU758/Sanierungsdesign!$E$11","v":2.3471609129063555},4331520,18.777287303250844,{"$error":"#DIV/0!"},{"$error":"#DIV/0!"},{"$error":"#DIV/0!"},{"$error":"#DIV/0!"},{"$f":"(AY758/(AH758*Sanierungsdesign!$E$10))*1000000","v":{"$error":"#DIV/0!"}},{"$f":"AZ758/Sanierungsdesign!$E$12","v":{"$error":"#DIV/0!"}},{"$f":"$D$5+((-(Sanierungsdesign!$E$12)*MIN($BA$7:$BA$932))/(4*PI()*$D$3))*(-LN((4*$D$4*AH758)/(Sanierungsdesign!$E$13)^2)-$D$19)","v":{"$error":"#DIV/0!"}},{"$f":"(BB758-273.15)/Heterogenität!$D$4","v":{"$error":"#DIV/0!"}},{"$f":"IF(AI758<Berechnung!$D$7,AI758,#N/A)","v":{"$error":"#N/A"}}]
[null,null,null,null,null,null,null,null,null,null,null,null,null,null,null,null,null,null,null,null,null,null,null,null,null,null,null,null,null,null,null,null,{"$f":"Sanierungsdesign!$E$12*AH759*Sanierungsdesign!$E$10/1000000","v":35240.400000000001},5421600,62.75,{"$f":"$D$5+((-Sanierungsdesign!$E$12)/4*PI()*$D$3)*(-LN((4*$D$4*AH759)/(Sanierungsdesign!$E$13^2))-$D$19)","v":3530.7386535569613},3257.5886535569612,6491.9332918037835,{"$f":"$D$3*$T$7*$AH$7*(AK759-$D$5)*(1/Sanierungsdesign!$E$15)/1000000","v":415.38806150209365},{"$f":"$D$5+(-Sanierungsdesign!$E$12/(4*PI()*$D$3))*(-LN((4*$D$4*AH759)/(Sanierungsdesign!$E$13+Sanierungsdesign!$E$15)^2)-$D$19)","v":414.57141783395957},141.42141783395959,{"$f":"(2*PI()*Sanierungsdesign!$E$10*$D$3)*(LN((Sanierungsdesign!$E$13+Sanierungsdesign!$E$15)/Sanierungsdesign!$E$13)*(AJ759-AN759))*$AH$7/1000000","v":278.20827032507032},9341.6345788113358,21084.069244377184,{"$f":"AU759/Sanierungsdesign!$E$11","v":2.348507949713817},4337280,18.788063597710536,{"$error":"#DIV/0!"},{"$error":"#DIV/0!"},{"$error":"#DIV/0!"},{"$error":"#DIV/0!"},{"$f":"(AY759/(AH759*Sanierungsdesign!$E$10))*1000000","v":{"$error":"#DIV/0!"}},{"$f":"AZ759/Sanierungsdesign!$E$12","v":{"$error":"#DIV/0!"}},{"$f":"$D$5+((-(Sanierungsdesign!$E$12)*MIN($BA$7:$BA$932))/(4*PI()*$D$3))*(-LN((4*$D$4*AH759)/(Sanierungsdesign!$E$13)^2)-$D$19)","v":{"$error":"#DIV/0!"}},{"$f":"(BB759-273.15)/Heterogenität!$D$4","v":{"$error":"#DIV/0!"}},{"$f":"IF(AI759<Berechnung!$D$7,AI759,#N/A)","v":{"$error":"#N/A"}}]
[null,null,null,null,null,null,null,null,null,null,null,null,null,null,null,null,null,null,null,null,null,null,null,null,null,null,null,null,null,null,null,null,{"$f":"Sanierungsdesign!$E$12*AH760*Sanierungsdesign!$E$10/1000000","v":35287.199999999997},5428800,62.833333333333336,{"$f":"$D$5+((-Sanierungsdesign!$E$12)/4*PI()*$D$3)*(-LN((4*$D$4*AH760)/(Sanierungsdesign!$E$13^2))-$D$19)","v":3532.5977595554264},3259.4477595554263,6495.6519368363888,{"$f":"$D$3*$T$7*$AH$7*(AK760-$D$5)*(1/Sanierungsdesign!$E$15)/1000000","v":415.64769046969934},{"$f":"$D$5+(-Sanierungsdesign!$E$12/(4*PI()*$D$3))*(-LN((4*$D$4*AH760)/(Sanierungsdesign!$E$13+Sanierungsdesign!$E$15)^2)-$D$19)","v":414.67148605610817},141.52148605610819,{"$f":"(2*PI()*Sanierungsdesign!$E$10*$D$3)*(LN((Sanierungsdesign!$E$13+Sanierungsdesign!$E$15)/Sanierungsdesign!$E$13)*(AJ760-AN760))*$AH$7/1000000","v":278.36531544497757},9354.0404680262236,21112.069336335186,{"$f":"AU760/Sanierungsdesign!$E$11","v":2.3498531988143059},4343040,18.798825590514447,{"$error":"#DIV/0!"},{"$error":"#DIV/0!"},{"$error":"#DIV/0!"},{"$error":"#DIV/0!"},{"$f":"(AY760/(AH760*Sanierungsdesign!$E$10))*1000000","v":{"$error":"#DIV/0!"}},{"$f":"AZ760/Sanierungsdesign!$E$12","v":{"$error":"#DIV/0!"}},{"$f":"$D$5+((-(Sanierungsdesign!$E$12)*MIN($BA$7:$BA$932))/(4*PI()*$D$3))*(-LN((4*$D$4*AH760)/(Sanierungsdesign!$E$13)^2)-$D$19)","v":{"$error":"#DIV/0!"}},{"$f":"(BB760-273.15)/Heterogenität!$D$4","v":{"$error":"#DIV/0!"}},{"$f":"IF(AI760<Berechnung!$D$7,AI760,#N/A)","v":{"$error":"#N/A"}}]
[null,null,null,null,null,null,null,null,null,null,null,null,null,null,null,null,null,null,null,null,null,null,null,null,null,null,null,null,null,null,null,null,{"$f":"Sanierungsdesign!$E$12*AH761*Sanierungsdesign!$E$10/1000000","v":35334},5436000,62.916666666666664,{"$f":"$D$5+((-Sanierungsdesign!$E$12)/4*PI()*$D$3)*(-LN((4*$D$4*AH761)/(Sanierungsdesign!$E$13^2))-$D$19)","v":3534.4544015293154},3261.3044015293153,6499.3656532459036,{"$f":"$D$3*$T$7*$AH$7*(AK761-$D$5)*(1/Sanierungsdesign!$E$15)/1000000","v":415.90697532989134},{"$f":"$D$5+(-Sanierungsdesign!$E$12/(4*PI()*$D$3))*(-LN((4*$D$4*AH761)/(Sanierungsdesign!$E$13+Sanierungsdesign!$E$15)^2)-$D$19)","v":414.77142164969291},141.62142164969293,{"$f":"(2*PI()*Sanierungsdesign!$E$10*$D$3)*(LN((Sanierungsdesign!$E$13+Sanierungsdesign!$E$15)/Sanierungsdesign!$E$13)*(AJ761-AN761))*$AH$7/1000000","v":278.52215242019855},9366.4463572411132,21140.069428293195,{"$f":"AU761/Sanierungsdesign!$E$11","v":2.3511966649466123},4348800,18.809573319572898,{"$error":"#DIV/0!"},{"$error":"#DIV/0!"},{"$error":"#DIV/0!"},{"$error":"#DIV/0!"},{"$f":"(AY761/(AH761*Sanierungsdesign!$E$10))*1000000","v":{"$error":"#DIV/0!"}},{"$f":"AZ761/Sanierungsdesign!$E$12","v":{"$error":"#DIV/0!"}},{"$f":"$D$5+((-(Sanierungsdesign!$E$12)*MIN($BA$7:$BA$932))/(4*PI()*$D$3))*(-LN((4*$D$4*AH761)/(Sanierungsdesign!$E$13)^2)-$D$19)","v":{"$error":"#DIV/0!"}},{"$f":"(BB761-273.15)/Heterogenität!$D$4","v":{"$error":"#DIV/0!"}},{"$f":"IF(AI761<Berechnung!$D$7,AI761,#N/A)","v":{"$error":"#N/A"}}]
[null,null,null,null,null,null,null,null,null,null,null,null,null,null,null,null,null,null,null,null,null,null,null,null,null,null,null,null,null,null,null,null,{"$f":"Sanierungsdesign!$E$12*AH762*Sanierungsdesign!$E$10/1000000","v":35380.800000000003},5443200,63,{"$f":"$D$5+((-Sanierungsdesign!$E$12)/4*PI()*$D$3)*(-LN((4*$D$4*AH762)/(Sanierungsdesign!$E$13^2))-$D$19)","v":3536.3085860015271},3263.1585860015271,6503.0744540796459,{"$f":"$D$3*$T$7*$AH$7*(AK762-$D$5)*(1/Sanierungsdesign!$E$15)/1000000","v":416.16591699360936},{"$f":"$D$5+(-Sanierungsdesign!$E$12/(4*PI()*$D$3))*(-LN((4*$D$4*AH762)/(Sanierungsdesign!$E$13+Sanierungsdesign!$E$15)^2)-$D$19)","v":414.87122496581537},141.7212249658154,{"$f":"(2*PI()*Sanierungsdesign!$E$10*$D$3)*(LN((Sanierungsdesign!$E$13+Sanierungsdesign!$E$15)/Sanierungsdesign!$E$13)*(AJ762-AN762))*$AH$7/1000000","v":278.678781801745},9378.8522464560028,21168.069520251196,{"$f":"AU762/Sanierungsdesign!$E$11","v":2.3525383528307047},4354560,18.820306822645637,{"$error":"#DIV/0!"},{"$error":"#DIV/0!"},{"$error":"#DIV/0!"},{"$error":"#DIV/0!"},{"$f":"(AY762/(AH762*Sanierungsdesign!$E$10))*1000000","v":{"$error":"#DIV/0!"}},{"$f":"AZ762/Sanierungsdesign!$E$12","v":{"$error":"#DIV/0!"}},{"$f":"$D$5+((-(Sanierungsdesign!$E$12)*MIN($BA$7:$BA$932))/(4*PI()*$D$3))*(-LN((4*$D$4*AH762)/(Sanierungsdesign!$E$13)^2)-$D$19)","v":{"$error":"#DIV/0!"}},{"$f":"(BB762-273.15)/Heterogenität!$D$4","v":{"$error":"#DIV/0!"}},{"$f":"IF(AI762<Berechnung!$D$7,AI762,#N/A)","v":{"$error":"#N/A"}}]
[null,null,null,null,null,null,null,null,null,null,null,null,null,null,null,null,null,null,null,null,null,null,null,null,null,null,null,null,null,null,null,null,{"$f":"Sanierungsdesign!$E$12*AH763*Sanierungsdesign!$E$10/1000000","v":35427.599999999999},5450400,63.083333333333336,{"$f":"$D$5+((-Sanierungsdesign!$E$12)/4*PI()*$D$3)*(-LN((4*$D$4*AH763)/(Sanierungsdesign!$E$13^2))-$D$19)","v":3538.1603194690961},3265.010319469096,6506.7783523331973,{"$f":"$D$3*$T$7*$AH$7*(AK763-$D$5)*(1/Sanierungsdesign!$E$15)/1000000","v":416.42451636818117},{"$f":"$D$5+(-Sanierungsdesign!$E$12/(4*PI()*$D$3))*(-LN((4*$D$4*AH763)/(Sanierungsdesign!$E$13+Sanierungsdesign!$E$15)^2)-$D$19)","v":414.97089635418467},141.8208963541847,{"$f":"(2*PI()*Sanierungsdesign!$E$10*$D$3)*(LN((Sanierungsdesign!$E$13+Sanierungsdesign!$E$15)/Sanierungsdesign!$E$13)*(AJ763-AN763))*$AH$7/1000000","v":278.83520413844388},9391.2581356708906,21196.069612209201,{"$f":"AU763/Sanierungsdesign!$E$11","v":2.3538782671678375},4360320,18.8310261373427,{"$error":"#DIV/0!"},{"$error":"#DIV/0!"},{"$error":"#DIV/0!"},{"$error":"#DIV/0!"},{"$f":"(AY763/(AH763*Sanierungsdesign!$E$10))*1000000","v":{"$error":"#DIV/0!"}},{"$f":"AZ763/Sanierungsdesign!$E$12","v":{"$error":"#DIV/0!"}},{"$f":"$D$5+((-(Sanierungsdesign!$E$12)*MIN($BA$7:$BA$932))/(4*PI()*$D$3))*(-LN((4*$D$4*AH763)/(Sanierungsdesign!$E$13)^2)-$D$19)","v":{"$error":"#DIV/0!"}},{"$f":"(BB763-273.15)/Heterogenität!$D$4","v":{"$error":"#DIV/0!"}},{"$f":"IF(AI763<Berechnung!$D$7,AI763,#N/A)","v":{"$error":"#N/A"}}]
[null,null,null,null,null,null,null,null,null,null,null,null,null,null,null,null,null,null,null,null,null,null,null,null,null,null,null,null,null,null,null,null,{"$f":"Sanierungsdesign!$E$12*AH764*Sanierungsdesign!$E$10/1000000","v":35474.400000000001},5457600,63.166666666666664,{"$f":"$D$5+((-Sanierungsdesign!$E$12)/4*PI()*$D$3)*(-LN((4*$D$4*AH764)/(Sanierungsdesign!$E$13^2))-$D$19)","v":3540.0096084033248},3266.8596084033247,6510.4773609506719,{"$f":"$D$3*$T$7*$AH$7*(AK764-$D$5)*(1/Sanierungsdesign!$E$15)/1000000","v":416.68277435734086},{"$f":"$D$5+(-Sanierungsdesign!$E$12/(4*PI()*$D$3))*(-LN((4*$D$4*AH764)/(Sanierungsdesign!$E$13+Sanierungsdesign!$E$15)^2)-$D$19)","v":415.07043616312524},141.92043616312526,{"$f":"(2*PI()*Sanierungsdesign!$E$10*$D$3)*(LN((Sanierungsdesign!$E$13+Sanierungsdesign!$E$15)/Sanierungsdesign!$E$13)*(AJ764-AN764))*$AH$7/1000000","v":278.99141997694858},9403.6640248857802,21224.069704167207,{"$f":"AU764/Sanierungsdesign!$E$11","v":2.3552164126406456},4366080,18.841731301125165,{"$error":"#DIV/0!"},{"$error":"#DIV/0!"},{"$error":"#DIV/0!"},{"$error":"#DIV/0!"},{"$f":"(AY764/(AH764*Sanierungsdesign!$E$10))*1000000","v":{"$error":"#DIV/0!"}},{"$f":"AZ764/Sanierungsdesign!$E$12","v":{"$error":"#DIV/0!"}},{"$f":"$D$5+((-(Sanierungsdesign!$E$12)*MIN($BA$7:$BA$932))/(4*PI()*$D$3))*(-LN((4*$D$4*AH764)/(Sanierungsdesign!$E$13)^2)-$D$19)","v":{"$error":"#DIV/0!"}},{"$f":"(BB764-273.15)/Heterogenität!$D$4","v":{"$error":"#DIV/0!"}},{"$f":"IF(AI764<Berechnung!$D$7,AI764,#N/A)","v":{"$error":"#N/A"}}]
[null,null,null,null,null,null,null,null,null,null,null,null,null,null,null,null,null,null,null,null,null,null,null,null,null,null,null,null,null,null,null,null,{"$f":"Sanierungsdesign!$E$12*AH765*Sanierungsdesign!$E$10/1000000","v":35521.199999999997},5464800,63.25,{"$f":"$D$5+((-Sanierungsdesign!$E$12)/4*PI()*$D$3)*(-LN((4*$D$4*AH765)/(Sanierungsdesign!$E$13^2))-$D$19)","v":3541.8564592499188},3268.7064592499187,6514.1714928249803,{"$f":"$D$3*$T$7*$AH$7*(AK765-$D$5)*(1/Sanierungsdesign!$E$15)/1000000","v":416.94069186124796},{"$f":"$D$5+(-Sanierungsdesign!$E$12/(4*PI()*$D$3))*(-LN((4*$D$4*AH765)/(Sanierungsdesign!$E$13+Sanierungsdesign!$E$15)^2)-$D$19)","v":415.16984473958348},142.0198447395835,{"$f":"(2*PI()*Sanierungsdesign!$E$10*$D$3)*(LN((Sanierungsdesign!$E$13+Sanierungsdesign!$E$15)/Sanierungsdesign!$E$13)*(AJ765-AN765))*$AH$7/1000000","v":279.14742986175008},9416.0699141006698,21252.069796125215,{"$f":"AU765/Sanierungsdesign!$E$11","v":2.3565527939132411},4371840,18.852422351305929,{"$error":"#DIV/0!"},{"$error":"#DIV/0!"},{"$error":"#DIV/0!"},{"$error":"#DIV/0!"},{"$f":"(AY765/(AH765*Sanierungsdesign!$E$10))*1000000","v":{"$error":"#DIV/0!"}},{"$f":"AZ765/Sanierungsdesign!$E$12","v":{"$error":"#DIV/0!"}},{"$f":"$D$5+((-(Sanierungsdesign!$E$12)*MIN($BA$7:$BA$932))/(4*PI()*$D$3))*(-LN((4*$D$4*AH765)/(Sanierungsdesign!$E$13)^2)-$D$19)","v":{"$error":"#DIV/0!"}},{"$f":"(BB765-273.15)/Heterogenität!$D$4","v":{"$error":"#DIV/0!"}},{"$f":"IF(AI765<Berechnung!$D$7,AI765,#N/A)","v":{"$error":"#N/A"}}]
[null,null,null,null,null,null,null,null,null,null,null,null,null,null,null,null,null,null,null,null,null,null,null,null,null,null,null,null,null,null,null,null,{"$f":"Sanierungsdesign!$E$12*AH766*Sanierungsdesign!$E$10/1000000","v":35568},5472000,63.333333333333336,{"$f":"$D$5+((-Sanierungsdesign!$E$12)/4*PI()*$D$3)*(-LN((4*$D$4*AH766)/(Sanierungsdesign!$E$13^2))-$D$19)","v":3543.7008784291265},3270.5508784291264,6517.8607607981166,{"$f":"$D$3*$T$7*$AH$7*(AK766-$D$5)*(1/Sanierungsdesign!$E$15)/1000000","v":417.19826977650678},{"$f":"$D$5+(-Sanierungsdesign!$E$12/(4*PI()*$D$3))*(-LN((4*$D$4*AH766)/(Sanierungsdesign!$E$13+Sanierungsdesign!$E$15)^2)-$D$19)","v":415.26912242913556},142.11912242913559,{"$f":"(2*PI()*Sanierungsdesign!$E$10*$D$3)*(LN((Sanierungsdesign!$E$13+Sanierungsdesign!$E$15)/Sanierungsdesign!$E$13)*(AJ766-AN766))*$AH$7/1000000","v":279.30323433518902},9428.4758033155576,21280.069888083213,{"$f":"AU766/Sanierungsdesign!$E$11","v":2.3578874156313159},4377600,18.863099325050527,{"$error":"#DIV/0!"},{"$error":"#DIV/0!"},{"$error":"#DIV/0!"},{"$error":"#DIV/0!"},{"$f":"(AY766/(AH766*Sanierungsdesign!$E$10))*1000000","v":{"$error":"#DIV/0!"}},{"$f":"AZ766/Sanierungsdesign!$E$12","v":{"$error":"#DIV/0!"}},{"$f":"$D$5+((-(Sanierungsdesign!$E$12)*MIN($BA$7:$BA$932))/(4*PI()*$D$3))*(-LN((4*$D$4*AH766)/(Sanierungsdesign!$E$13)^2)-$D$19)","v":{"$error":"#DIV/0!"}},{"$f":"(BB766-273.15)/Heterogenität!$D$4","v":{"$error":"#DIV/0!"}},{"$f":"IF(AI766<Berechnung!$D$7,AI766,#N/A)","v":{"$error":"#N/A"}}]
[null,null,null,null,null,null,null,null,null,null,null,null,null,null,null,null,null,null,null,null,null,null,null,null,null,null,null,null,null,null,null,null,{"$f":"Sanierungsdesign!$E$12*AH767*Sanierungsdesign!$E$10/1000000","v":35614.800000000003},5479200,63.416666666666664,{"$f":"$D$5+((-Sanierungsdesign!$E$12)/4*PI()*$D$3)*(-LN((4*$D$4*AH767)/(Sanierungsdesign!$E$13^2))-$D$19)","v":3545.5428723358659},3272.3928723358658,6521.5451776614045,{"$f":"$D$3*$T$7*$AH$7*(AK767-$D$5)*(1/Sanierungsdesign!$E$15)/1000000","v":417.45550899618411},{"$f":"$D$5+(-Sanierungsdesign!$E$12/(4*PI()*$D$3))*(-LN((4*$D$4*AH767)/(Sanierungsdesign!$E$13+Sanierungsdesign!$E$15)^2)-$D$19)","v":415.36826957599453},142.21826957599455,{"$f":"(2*PI()*Sanierungsdesign!$E$10*$D$3)*(LN((Sanierungsdesign!$E$13+Sanierungsdesign!$E$15)/Sanierungsdesign!$E$13)*(AJ767-AN767))*$AH$7/1000000","v":279.45883393746641},9440.8816925304473,21308.069980041219,{"$f":"AU767/Sanierungsdesign!$E$11","v":2.3592202824222324},4383360,18.873762259377859,{"$error":"#DIV/0!"},{"$error":"#DIV/0!"},{"$error":"#DIV/0!"},{"$error":"#DIV/0!"},{"$f":"(AY767/(AH767*Sanierungsdesign!$E$10))*1000000","v":{"$error":"#DIV/0!"}},{"$f":"AZ767/Sanierungsdesign!$E$12","v":{"$error":"#DIV/0!"}},{"$f":"$D$5+((-(Sanierungsdesign!$E$12)*MIN($BA$7:$BA$932))/(4*PI()*$D$3))*(-LN((4*$D$4*AH767)/(Sanierungsdesign!$E$13)^2)-$D$19)","v":{"$error":"#DIV/0!"}},{"$f":"(BB767-273.15)/Heterogenität!$D$4","v":{"$error":"#DIV/0!"}},{"$f":"IF(AI767<Berechnung!$D$7,AI767,#N/A)","v":{"$error":"#N/A"}}]
[null,null,null,null,null,null,null,null,null,null,null,null,null,null,null,null,null,null,null,null,null,null,null,null,null,null,null,null,null,null,null,null,{"$f":"Sanierungsdesign!$E$12*AH768*Sanierungsdesign!$E$10/1000000","v":35661.599999999999},5486400,63.5,{"$f":"$D$5+((-Sanierungsdesign!$E$12)/4*PI()*$D$3)*(-LN((4*$D$4*AH768)/(Sanierungsdesign!$E$13^2))-$D$19)","v":3547.3824473398663},3274.2324473398662,6525.2247561557879,{"$f":"$D$3*$T$7*$AH$7*(AK768-$D$5)*(1/Sanierungsdesign!$E$15)/1000000","v":417.7124104098292},{"$f":"$D$5+(-Sanierungsdesign!$E$12/(4*PI()*$D$3))*(-LN((4*$D$4*AH768)/(Sanierungsdesign!$E$13+Sanierungsdesign!$E$15)^2)-$D$19)","v":415.46728652301715},142.31728652301717,{"$f":"(2*PI()*Sanierungsdesign!$E$10*$D$3)*(LN((Sanierungsdesign!$E$13+Sanierungsdesign!$E$15)/Sanierungsdesign!$E$13)*(AJ768-AN768))*$AH$7/1000000","v":279.61422920665501},9453.287581745335,21336.07007199922,{"$f":"AU768/Sanierungsdesign!$E$11","v":2.3605513988951268},4389120,18.884411191161014,{"$error":"#DIV/0!"},{"$error":"#DIV/0!"},{"$error":"#DIV/0!"},{"$error":"#DIV/0!"},{"$f":"(AY768/(AH768*Sanierungsdesign!$E$10))*1000000","v":{"$error":"#DIV/0!"}},{"$f":"AZ768/Sanierungsdesign!$E$12","v":{"$error":"#DIV/0!"}},{"$f":"$D$5+((-(Sanierungsdesign!$E$12)*MIN($BA$7:$BA$932))/(4*PI()*$D$3))*(-LN((4*$D$4*AH768)/(Sanierungsdesign!$E$13)^2)-$D$19)","v":{"$error":"#DIV/0!"}},{"$f":"(BB768-273.15)/Heterogenität!$D$4","v":{"$error":"#DIV/0!"}},{"$f":"IF(AI768<Berechnung!$D$7,AI768,#N/A)","v":{"$error":"#N/A"}}]
[null,null,null,null,null,null,null,null,null,null,null,null,null,null,null,null,null,null,null,null,null,null,null,null,null,null,null,null,null,null,null,null,{"$f":"Sanierungsdesign!$E$12*AH769*Sanierungsdesign!$E$10/1000000","v":35708.400000000001},5493600,63.583333333333336,{"$f":"$D$5+((-Sanierungsdesign!$E$12)/4*PI()*$D$3)*(-LN((4*$D$4*AH769)/(Sanierungsdesign!$E$13^2))-$D$19)","v":3549.2196097857923},3276.0696097857922,6528.899508972072,{"$f":"$D$3*$T$7*$AH$7*(AK769-$D$5)*(1/Sanierungsdesign!$E$15)/1000000","v":417.9689749034909},{"$f":"$D$5+(-Sanierungsdesign!$E$12/(4*PI()*$D$3))*(-LN((4*$D$4*AH769)/(Sanierungsdesign!$E$13+Sanierungsdesign!$E$15)^2)-$D$19)","v":415.56617361171129},142.41617361171132,{"$f":"(2*PI()*Sanierungsdesign!$E$10*$D$3)*(LN((Sanierungsdesign!$E$13+Sanierungsdesign!$E$15)/Sanierungsdesign!$E$13)*(AJ769-AN769))*$AH$7/1000000","v":279.7694206787109},9465.6934709602247,21364.070163957225,{"$f":"AU769/Sanierungsdesign!$E$11","v":2.3618807696409991},4394880,18.895046157127993,{"$error":"#DIV/0!"},{"$error":"#DIV/0!"},{"$error":"#DIV/0!"},{"$error":"#DIV/0!"},{"$f":"(AY769/(AH769*Sanierungsdesign!$E$10))*1000000","v":{"$error":"#DIV/0!"}},{"$f":"AZ769/Sanierungsdesign!$E$12","v":{"$error":"#DIV/0!"}},{"$f":"$D$5+((-(Sanierungsdesign!$E$12)*MIN($BA$7:$BA$932))/(4*PI()*$D$3))*(-LN((4*$D$4*AH769)/(Sanierungsdesign!$E$13)^2)-$D$19)","v":{"$error":"#DIV/0!"}},{"$f":"(BB769-273.15)/Heterogenität!$D$4","v":{"$error":"#DIV/0!"}},{"$f":"IF(AI769<Berechnung!$D$7,AI769,#N/A)","v":{"$error":"#N/A"}}]
[null,null,null,null,null,null,null,null,null,null,null,null,null,null,null,null,null,null,null,null,null,null,null,null,null,null,null,null,null,null,null,null,{"$f":"Sanierungsdesign!$E$12*AH770*Sanierungsdesign!$E$10/1000000","v":35755.199999999997},5500800,63.666666666666664,{"$f":"$D$5+((-Sanierungsdesign!$E$12)/4*PI()*$D$3)*(-LN((4*$D$4*AH770)/(Sanierungsdesign!$E$13^2))-$D$19)","v":3551.0543659933792},3277.9043659933791,6532.5694487512001,{"$f":"$D$3*$T$7*$AH$7*(AK770-$D$5)*(1/Sanierungsdesign!$E$15)/1000000","v":418.22520335973661},{"$f":"$D$5+(-Sanierungsdesign!$E$12/(4*PI()*$D$3))*(-LN((4*$D$4*AH770)/(Sanierungsdesign!$E$13+Sanierungsdesign!$E$15)^2)-$D$19)","v":415.66493118224304},142.51493118224306,{"$f":"(2*PI()*Sanierungsdesign!$E$10*$D$3)*(LN((Sanierungsdesign!$E$13+Sanierungsdesign!$E$15)/Sanierungsdesign!$E$13)*(AJ770-AN770))*$AH$7/1000000","v":279.92440888748388},9478.0993601751143,21392.070255915234,{"$f":"AU770/Sanierungsdesign!$E$11","v":2.3632083992328088},4400640,18.90566719386247,{"$error":"#DIV/0!"},{"$error":"#DIV/0!"},{"$error":"#DIV/0!"},{"$error":"#DIV/0!"},{"$f":"(AY770/(AH770*Sanierungsdesign!$E$10))*1000000","v":{"$error":"#DIV/0!"}},{"$f":"AZ770/Sanierungsdesign!$E$12","v":{"$error":"#DIV/0!"}},{"$f":"$D$5+((-(Sanierungsdesign!$E$12)*MIN($BA$7:$BA$932))/(4*PI()*$D$3))*(-LN((4*$D$4*AH770)/(Sanierungsdesign!$E$13)^2)-$D$19)","v":{"$error":"#DIV/0!"}},{"$f":"(BB770-273.15)/Heterogenität!$D$4","v":{"$error":"#DIV/0!"}},{"$f":"IF(AI770<Berechnung!$D$7,AI770,#N/A)","v":{"$error":"#N/A"}}]
[null,null,null,null,null,null,null,null,null,null,null,null,null,null,null,null,null,null,null,null,null,null,null,null,null,null,null,null,null,null,null,null,{"$f":"Sanierungsdesign!$E$12*AH771*Sanierungsdesign!$E$10/1000000","v":35802},5508000,63.75,{"$f":"$D$5+((-Sanierungsdesign!$E$12)/4*PI()*$D$3)*(-LN((4*$D$4*AH771)/(Sanierungsdesign!$E$13^2))-$D$19)","v":3552.8867222575645},3279.7367222575645,6536.2345880845151,{"$f":"$D$3*$T$7*$AH$7*(AK771-$D$5)*(1/Sanierungsdesign!$E$15)/1000000","v":418.48109665767066},{"$f":"$D$5+(-Sanierungsdesign!$E$12/(4*PI()*$D$3))*(-LN((4*$D$4*AH771)/(Sanierungsdesign!$E$13+Sanierungsdesign!$E$15)^2)-$D$19)","v":415.76355957344356},142.61355957344358,{"$f":"(2*PI()*Sanierungsdesign!$E$10*$D$3)*(LN((Sanierungsdesign!$E$13+Sanierungsdesign!$E$15)/Sanierungsdesign!$E$13)*(AJ771-AN771))*$AH$7/1000000","v":280.07919436472912},9490.5052493900021,21420.070347873232,{"$f":"AU771/Sanierungsdesign!$E$11","v":2.3645342922255734},4406400,18.916274337804587,{"$error":"#DIV/0!"},{"$error":"#DIV/0!"},{"$error":"#DIV/0!"},{"$error":"#DIV/0!"},{"$f":"(AY771/(AH771*Sanierungsdesign!$E$10))*1000000","v":{"$error":"#DIV/0!"}},{"$f":"AZ771/Sanierungsdesign!$E$12","v":{"$error":"#DIV/0!"}},{"$f":"$D$5+((-(Sanierungsdesign!$E$12)*MIN($BA$7:$BA$932))/(4*PI()*$D$3))*(-LN((4*$D$4*AH771)/(Sanierungsdesign!$E$13)^2)-$D$19)","v":{"$error":"#DIV/0!"}},{"$f":"(BB771-273.15)/Heterogenität!$D$4","v":{"$error":"#DIV/0!"}},{"$f":"IF(AI771<Berechnung!$D$7,AI771,#N/A)","v":{"$error":"#N/A"}}]
[null,null,null,null,null,null,null,null,null,null,null,null,null,null,null,null,null,null,null,null,null,null,null,null,null,null,null,null,null,null,null,null,{"$f":"Sanierungsdesign!$E$12*AH772*Sanierungsdesign!$E$10/1000000","v":35848.800000000003},5515200,63.833333333333336,{"$f":"$D$5+((-Sanierungsdesign!$E$12)/4*PI()*$D$3)*(-LN((4*$D$4*AH772)/(Sanierungsdesign!$E$13^2))-$D$19)","v":3554.7166848486131},3281.566684848613,6539.8949395140035,{"$f":"$D$3*$T$7*$AH$7*(AK772-$D$5)*(1/Sanierungsdesign!$E$15)/1000000","v":418.73665567295177},{"$f":"$D$5+(-Sanierungsdesign!$E$12/(4*PI()*$D$3))*(-LN((4*$D$4*AH772)/(Sanierungsdesign!$E$13+Sanierungsdesign!$E$15)^2)-$D$19)","v":415.86205912281622},142.71205912281624,{"$f":"(2*PI()*Sanierungsdesign!$E$10*$D$3)*(LN((Sanierungsdesign!$E$13+Sanierungsdesign!$E$15)/Sanierungsdesign!$E$13)*(AJ772-AN772))*$AH$7/1000000","v":280.23377764011769},9502.9111386048917,21448.070439831241,{"$f":"AU772/Sanierungsdesign!$E$11","v":2.3658584531564557},4412160,18.926867625251646,{"$error":"#DIV/0!"},{"$error":"#DIV/0!"},{"$error":"#DIV/0!"},{"$error":"#DIV/0!"},{"$f":"(AY772/(AH772*Sanierungsdesign!$E$10))*1000000","v":{"$error":"#DIV/0!"}},{"$f":"AZ772/Sanierungsdesign!$E$12","v":{"$error":"#DIV/0!"}},{"$f":"$D$5+((-(Sanierungsdesign!$E$12)*MIN($BA$7:$BA$932))/(4*PI()*$D$3))*(-LN((4*$D$4*AH772)/(Sanierungsdesign!$E$13)^2)-$D$19)","v":{"$error":"#DIV/0!"}},{"$f":"(BB772-273.15)/Heterogenität!$D$4","v":{"$error":"#DIV/0!"}},{"$f":"IF(AI772<Berechnung!$D$7,AI772,#N/A)","v":{"$error":"#N/A"}}]
[null,null,null,null,null,null,null,null,null,null,null,null,null,null,null,null,null,null,null,null,null,null,null,null,null,null,null,null,null,null,null,null,{"$f":"Sanierungsdesign!$E$12*AH773*Sanierungsdesign!$E$10/1000000","v":35895.599999999999},5522400,63.916666666666664,{"$f":"$D$5+((-Sanierungsdesign!$E$12)/4*PI()*$D$3)*(-LN((4*$D$4*AH773)/(Sanierungsdesign!$E$13^2))-$D$19)","v":3556.544260012251},3283.3942600122509,6543.5505155325764,{"$f":"$D$3*$T$7*$AH$7*(AK773-$D$5)*(1/Sanierungsdesign!$E$15)/1000000","v":418.99188127781173},{"$f":"$D$5+(-Sanierungsdesign!$E$12/(4*PI()*$D$3))*(-LN((4*$D$4*AH773)/(Sanierungsdesign!$E$13+Sanierungsdesign!$E$15)^2)-$D$19)","v":415.96043016654329},142.81043016654331,{"$f":"(2*PI()*Sanierungsdesign!$E$10*$D$3)*(LN((Sanierungsdesign!$E$13+Sanierungsdesign!$E$15)/Sanierungsdesign!$E$13)*(AJ773-AN773))*$AH$7/1000000","v":280.38815924124759},9515.3170278197795,21476.070531789243,{"$f":"AU773/Sanierungsdesign!$E$11","v":2.3671808865448645},4417920,18.937447092358916,{"$error":"#DIV/0!"},{"$error":"#DIV/0!"},{"$error":"#DIV/0!"},{"$error":"#DIV/0!"},{"$f":"(AY773/(AH773*Sanierungsdesign!$E$10))*1000000","v":{"$error":"#DIV/0!"}},{"$f":"AZ773/Sanierungsdesign!$E$12","v":{"$error":"#DIV/0!"}},{"$f":"$D$5+((-(Sanierungsdesign!$E$12)*MIN($BA$7:$BA$932))/(4*PI()*$D$3))*(-LN((4*$D$4*AH773)/(Sanierungsdesign!$E$13)^2)-$D$19)","v":{"$error":"#DIV/0!"}},{"$f":"(BB773-273.15)/Heterogenität!$D$4","v":{"$error":"#DIV/0!"}},{"$f":"IF(AI773<Berechnung!$D$7,AI773,#N/A)","v":{"$error":"#N/A"}}]
[null,null,null,null,null,null,null,null,null,null,null,null,null,null,null,null,null,null,null,null,null,null,null,null,null,null,null,null,null,null,null,null,{"$f":"Sanierungsdesign!$E$12*AH774*Sanierungsdesign!$E$10/1000000","v":35942.400000000001},5529600,64,{"$f":"$D$5+((-Sanierungsdesign!$E$12)/4*PI()*$D$3)*(-LN((4*$D$4*AH774)/(Sanierungsdesign!$E$13^2))-$D$19)","v":3558.3694539697899},3285.2194539697898,6547.201328584305,{"$f":"$D$3*$T$7*$AH$7*(AK774-$D$5)*(1/Sanierungsdesign!$E$15)/1000000","v":419.24677434107281},{"$f":"$D$5+(-Sanierungsdesign!$E$12/(4*PI()*$D$3))*(-LN((4*$D$4*AH774)/(Sanierungsdesign!$E$13+Sanierungsdesign!$E$15)^2)-$D$19)","v":416.05867303949304},142.90867303949307,{"$f":"(2*PI()*Sanierungsdesign!$E$10*$D$3)*(LN((Sanierungsdesign!$E$13+Sanierungsdesign!$E$15)/Sanierungsdesign!$E$13)*(AJ774-AN774))*$AH$7/1000000","v":280.54233969365453},9527.7229170346691,21504.070623747251,{"$f":"AU774/Sanierungsdesign!$E$11","v":2.3685015968925396},4423680,18.948012775140317,{"$error":"#DIV/0!"},{"$error":"#DIV/0!"},{"$error":"#DIV/0!"},{"$error":"#DIV/0!"},{"$f":"(AY774/(AH774*Sanierungsdesign!$E$10))*1000000","v":{"$error":"#DIV/0!"}},{"$f":"AZ774/Sanierungsdesign!$E$12","v":{"$error":"#DIV/0!"}},{"$f":"$D$5+((-(Sanierungsdesign!$E$12)*MIN($BA$7:$BA$932))/(4*PI()*$D$3))*(-LN((4*$D$4*AH774)/(Sanierungsdesign!$E$13)^2)-$D$19)","v":{"$error":"#DIV/0!"}},{"$f":"(BB774-273.15)/Heterogenität!$D$4","v":{"$error":"#DIV/0!"}},{"$f":"IF(AI774<Berechnung!$D$7,AI774,#N/A)","v":{"$error":"#N/A"}}]
[null,null,null,null,null,null,null,null,null,null,null,null,null,null,null,null,null,null,null,null,null,null,null,null,null,null,null,null,null,null,null,null,{"$f":"Sanierungsdesign!$E$12*AH775*Sanierungsdesign!$E$10/1000000","v":35989.199999999997},5536800,{"$f":"AH775/86400","v":64.083333333333329},{"$f":"$D$5+((-Sanierungsdesign!$E$12)/4*PI()*$D$3)*(-LN((4*$D$4*AH775)/(Sanierungsdesign!$E$13^2))-$D$19)","v":3560.1922729182552},{"$f":"AJ775-273.15","v":3287.0422729182551},6550.8473910646817,{"$f":"$D$3*$T$7*$AH$7*(AK775-$D$5)*(1/Sanierungsdesign!$E$15)/1000000","v":419.50133572816577},{"$f":"$D$5+(-Sanierungsdesign!$E$12/(4*PI()*$D$3))*(-LN((4*$D$4*AH775)/(Sanierungsdesign!$E$13+Sanierungsdesign!$E$15)^2)-$D$19)","v":416.15678807522659},{"$f":"AN775-273.15","v":143.00678807522661},{"$f":"(2*PI()*Sanierungsdesign!$E$10*$D$3)*(LN((Sanierungsdesign!$E$13+Sanierungsdesign!$E$15)/Sanierungsdesign!$E$13)*(AJ775-AN775))*$AH$7/1000000","v":280.69631952082278},9540.1288062495587,21532.070715705253,{"$f":"AU775/Sanierungsdesign!$E$11","v":2.3698205886836488},4429440,18.95856470946919,{"$error":"#DIV/0!"},{"$error":"#DIV/0!"},{"$error":"#DIV/0!"},{"$f":"AG775-AX775","v":{"$error":"#DIV/0!"}},{"$f":"(AY775/(AH775*Sanierungsdesign!$E$10))*1000000","v":{"$error":"#DIV/0!"}},{"$f":"AZ775/Sanierungsdesign!$E$12","v":{"$error":"#DIV/0!"}},{"$f":"$D$5+((-(Sanierungsdesign!$E$12)*MIN($BA$7:$BA$932))/(4*PI()*$D$3))*(-LN((4*$D$4*AH775)/(Sanierungsdesign!$E$13)^2)-$D$19)","v":{"$error":"#DIV/0!"}},{"$f":"(BB775-273.15)/Heterogenität!$D$4","v":{"$error":"#DIV/0!"}},{"$f":"IF(AI775<Berechnung!$D$7,AI775,#N/A)","v":{"$error":"#N/A"}}]
[null,null,null,null,null,null,null,null,null,null,null,null,null,null,null,null,null,null,null,null,null,null,null,null,null,null,null,null,null,null,null,null,{"$f":"Sanierungsdesign!$E$12*AH776*Sanierungsdesign!$E$10/1000000","v":36036},5544000,64.166666666666671,{"$f":"$D$5+((-Sanierungsdesign!$E$12)/4*PI()*$D$3)*(-LN((4*$D$4*AH776)/(Sanierungsdesign!$E$13^2))-$D$19)","v":3562.012723030512},3288.8627230305119,{"$f":"$T$4*$T$7*$AH$7*(AJ776-$D$2)/1000000","v":6554.4887153208774},{"$f":"$D$3*$T$7*$AH$7*(AK776-$D$5)*(1/Sanierungsdesign!$E$15)/1000000","v":419.7555663011471},{"$f":"$D$5+(-Sanierungsdesign!$E$12/(4*PI()*$D$3))*(-LN((4*$D$4*AH776)/(Sanierungsdesign!$E$13+Sanierungsdesign!$E$15)^2)-$D$19)","v":416.25477560600439},143.10477560600441,{"$f":"(2*PI()*Sanierungsdesign!$E$10*$D$3)*(LN((Sanierungsdesign!$E$13+Sanierungsdesign!$E$15)/Sanierungsdesign!$E$13)*(AJ776-AN776))*$AH$7/1000000","v":280.85009924419558},{"$f":"$T$20*AH776","v":9552.5346954644465},{"$f":"$D$12*AQ776/1000000","v":21560.070807663258},{"$f":"AU776/Sanierungsdesign!$E$11","v":2.3711378663848781},{"$f":"$T$18/$D$24*AH776","v":4435200},{"$f":"($D$10*$T$18)*(AJ776-$D$2)/1000000","v":18.969102931079025},{"$f":"($D$17*$L$10*$T$28+$L$2*$D$10*$T$28+$D$16*$L$4*$T$28+$D$18*$L$7*$T$28)*(AJ776-$D$5)/1000000","v":{"$error":"#DIV/0!"}},{"$f":"AV776*$D$28","v":{"$error":"#DIV/0!"}},{"$f":"AL776+AM776+AR776+(0.5*AP776)-(2*AW776)+AS776","v":{"$error":"#DIV/0!"}},{"$error":"#DIV/0!"},{"$f":"(AY776/(AH776*Sanierungsdesign!$E$10))*1000000","v":{"$error":"#DIV/0!"}},{"$f":"AZ776/Sanierungsdesign!$E$12","v":{"$error":"#DIV/0!"}},{"$f":"$D$5+((-(Sanierungsdesign!$E$12)*MIN($BA$7:$BA$932))/(4*PI()*$D$3))*(-LN((4*$D$4*AH776)/(Sanierungsdesign!$E$13)^2)-$D$19)","v":{"$error":"#DIV/0!"}},{"$f":"(BB776-273.15)/Heterogenität!$D$4","v":{"$error":"#DIV/0!"}},{"$f":"IF(AI776<Berechnung!$D$7,AI776,#N/A)","v":{"$error":"#N/A"}}]
[null,null,null,null,null,null,null,null,null,null,null,null,null,null,null,null,null,null,null,null,null,null,null,null,null,null,null,null,null,null,null,null,{"$f":"Sanierungsdesign!$E$12*AH777*Sanierungsdesign!$E$10/1000000","v":36082.800000000003},{"$f":"AH776+$D$24","v":5551200},64.25,{"$f":"$D$5+((-Sanierungsdesign!$E$12)/4*PI()*$D$3)*(-LN((4*$D$4*AH777)/(Sanierungsdesign!$E$13^2))-$D$19)","v":3563.830810455393},3290.6808104553929,6558.1253136519872,{"$f":"$D$3*$T$7*$AH$7*(AK777-$D$5)*(1/Sanierungsdesign!$E$15)/1000000","v":420.00946691871724},{"$f":"$D$5+(-Sanierungsdesign!$E$12/(4*PI()*$D$3))*(-LN((4*$D$4*AH777)/(Sanierungsdesign!$E$13+Sanierungsdesign!$E$15)^2)-$D$19)","v":416.35263596279356},143.20263596279358,{"$f":"(2*PI()*Sanierungsdesign!$E$10*$D$3)*(LN((Sanierungsdesign!$E$13+Sanierungsdesign!$E$15)/Sanierungsdesign!$E$13)*(AJ777-AN777))*$AH$7/1000000","v":281.00367938318624},9564.9405846793361,21588.070899621263,{"$f":"AU777/Sanierungsdesign!$E$11","v":2.3724534344455219},4440960,18.979627475564175,{"$error":"#DIV/0!"},{"$error":"#DIV/0!"},{"$error":"#DIV/0!"},{"$error":"#DIV/0!"},{"$f":"(AY777/(AH777*Sanierungsdesign!$E$10))*1000000","v":{"$error":"#DIV/0!"}},{"$f":"AZ777/Sanierungsdesign!$E$12","v":{"$error":"#DIV/0!"}},{"$f":"$D$5+((-(Sanierungsdesign!$E$12)*MIN($BA$7:$BA$932))/(4*PI()*$D$3))*(-LN((4*$D$4*AH777)/(Sanierungsdesign!$E$13)^2)-$D$19)","v":{"$error":"#DIV/0!"}},{"$f":"(BB777-273.15)/Heterogenität!$D$4","v":{"$error":"#DIV/0!"}},{"$f":"IF(AI777<Berechnung!$D$7,AI777,#N/A)","v":{"$error":"#N/A"}}]
[null,null,null,null,null,null,null,null,null,null,null,null,null,null,null,null,null,null,null,null,null,null,null,null,null,null,null,null,null,null,null,null,{"$f":"Sanierungsdesign!$E$12*AH778*Sanierungsdesign!$E$10/1000000","v":36129.599999999999},5558400,64.333333333333329,{"$f":"$D$5+((-Sanierungsdesign!$E$12)/4*PI()*$D$3)*(-LN((4*$D$4*AH778)/(Sanierungsdesign!$E$13^2))-$D$19)","v":3565.6465413178189},3292.4965413178188,6561.7571983092803,{"$f":"$D$3*$T$7*$AH$7*(AK778-$D$5)*(1/Sanierungsdesign!$E$15)/1000000","v":420.26303843623725},{"$f":"$D$5+(-Sanierungsdesign!$E$12/(4*PI()*$D$3))*(-LN((4*$D$4*AH778)/(Sanierungsdesign!$E$13+Sanierungsdesign!$E$15)^2)-$D$19)","v":416.45036947527399},143.30036947527401,{"$f":"(2*PI()*Sanierungsdesign!$E$10*$D$3)*(LN((Sanierungsdesign!$E$13+Sanierungsdesign!$E$15)/Sanierungsdesign!$E$13)*(AJ778-AN778))*$AH$7/1000000","v":281.15706045518772},9577.3464738942239,21616.070991579261,{"$f":"AU778/Sanierungsdesign!$E$11","v":2.3737672972975732},4446720,18.990138378380585,{"$error":"#DIV/0!"},{"$error":"#DIV/0!"},{"$error":"#DIV/0!"},{"$error":"#DIV/0!"},{"$f":"(AY778/(AH778*Sanierungsdesign!$E$10))*1000000","v":{"$error":"#DIV/0!"}},{"$f":"AZ778/Sanierungsdesign!$E$12","v":{"$error":"#DIV/0!"}},{"$f":"$D$5+((-(Sanierungsdesign!$E$12)*MIN($BA$7:$BA$932))/(4*PI()*$D$3))*(-LN((4*$D$4*AH778)/(Sanierungsdesign!$E$13)^2)-$D$19)","v":{"$error":"#DIV/0!"}},{"$f":"(BB778-273.15)/Heterogenität!$D$4","v":{"$error":"#DIV/0!"}},{"$f":"IF(AI778<Berechnung!$D$7,AI778,#N/A)","v":{"$error":"#N/A"}}]
[null,null,null,null,null,null,null,null,null,null,null,null,null,null,null,null,null,null,null,null,null,null,null,null,null,null,null,null,null,null,null,null,{"$f":"Sanierungsdesign!$E$12*AH779*Sanierungsdesign!$E$10/1000000","v":36176.400000000001},5565600,64.416666666666671,{"$f":"$D$5+((-Sanierungsdesign!$E$12)/4*PI()*$D$3)*(-LN((4*$D$4*AH779)/(Sanierungsdesign!$E$13^2))-$D$19)","v":3567.4599217189239},3294.3099217189238,6565.3843814964457,{"$f":"$D$3*$T$7*$AH$7*(AK779-$D$5)*(1/Sanierungsdesign!$E$15)/1000000","v":420.51628170574628},{"$f":"$D$5+(-Sanierungsdesign!$E$12/(4*PI()*$D$3))*(-LN((4*$D$4*AH779)/(Sanierungsdesign!$E$13+Sanierungsdesign!$E$15)^2)-$D$19)","v":416.54797647184523},143.39797647184525,{"$f":"(2*PI()*Sanierungsdesign!$E$10*$D$3)*(LN((Sanierungsdesign!$E$13+Sanierungsdesign!$E$15)/Sanierungsdesign!$E$13)*(AJ779-AN779))*$AH$7/1000000","v":281.31024297558423},9589.7523631091135,21644.07108353727,{"$f":"AU779/Sanierungsdesign!$E$11","v":2.3750794593558129},4452480,19.000635674846503,{"$error":"#DIV/0!"},{"$error":"#DIV/0!"},{"$error":"#DIV/0!"},{"$error":"#DIV/0!"},{"$f":"(AY779/(AH779*Sanierungsdesign!$E$10))*1000000","v":{"$error":"#DIV/0!"}},{"$f":"AZ779/Sanierungsdesign!$E$12","v":{"$error":"#DIV/0!"}},{"$f":"$D$5+((-(Sanierungsdesign!$E$12)*MIN($BA$7:$BA$932))/(4*PI()*$D$3))*(-LN((4*$D$4*AH779)/(Sanierungsdesign!$E$13)^2)-$D$19)","v":{"$error":"#DIV/0!"}},{"$f":"(BB779-273.15)/Heterogenität!$D$4","v":{"$error":"#DIV/0!"}},{"$f":"IF(AI779<Berechnung!$D$7,AI779,#N/A)","v":{"$error":"#N/A"}}]
[null,null,null,null,null,null,null,null,null,null,null,null,null,null,null,null,null,null,null,null,null,null,null,null,null,null,null,null,null,null,null,null,{"$f":"Sanierungsdesign!$E$12*AH780*Sanierungsdesign!$E$10/1000000","v":36223.199999999997},5572800,64.5,{"$f":"$D$5+((-Sanierungsdesign!$E$12)/4*PI()*$D$3)*(-LN((4*$D$4*AH780)/(Sanierungsdesign!$E$13^2))-$D$19)","v":3569.2709577361811},3296.120957736181,6569.0068753698461,{"$f":"$D$3*$T$7*$AH$7*(AK780-$D$5)*(1/Sanierungsdesign!$E$15)/1000000","v":420.76919757597932},{"$f":"$D$5+(-Sanierungsdesign!$E$12/(4*PI()*$D$3))*(-LN((4*$D$4*AH780)/(Sanierungsdesign!$E$13+Sanierungsdesign!$E$15)^2)-$D$19)","v":416.64545727963332},143.49545727963334,{"$f":"(2*PI()*Sanierungsdesign!$E$10*$D$3)*(LN((Sanierungsdesign!$E$13+Sanierungsdesign!$E$15)/Sanierungsdesign!$E$13)*(AJ780-AN780))*$AH$7/1000000","v":281.46322745776087},9602.1582523240031,21672.071175495275,{"$f":"AU780/Sanierungsdesign!$E$11","v":2.3763899250179001},4458240,19.011119400143201,{"$error":"#DIV/0!"},{"$error":"#DIV/0!"},{"$error":"#DIV/0!"},{"$error":"#DIV/0!"},{"$f":"(AY780/(AH780*Sanierungsdesign!$E$10))*1000000","v":{"$error":"#DIV/0!"}},{"$f":"AZ780/Sanierungsdesign!$E$12","v":{"$error":"#DIV/0!"}},{"$f":"$D$5+((-(Sanierungsdesign!$E$12)*MIN($BA$7:$BA$932))/(4*PI()*$D$3))*(-LN((4*$D$4*AH780)/(Sanierungsdesign!$E$13)^2)-$D$19)","v":{"$error":"#DIV/0!"}},{"$f":"(BB780-273.15)/Heterogenität!$D$4","v":{"$error":"#DIV/0!"}},{"$f":"IF(AI780<Berechnung!$D$7,AI780,#N/A)","v":{"$error":"#N/A"}}]
[null,null,null,null,null,null,null,null,null,null,null,null,null,null,null,null,null,null,null,null,null,null,null,null,null,null,null,null,null,null,null,null,{"$f":"Sanierungsdesign!$E$12*AH781*Sanierungsdesign!$E$10/1000000","v":36270},5580000,64.583333333333329,{"$f":"$D$5+((-Sanierungsdesign!$E$12)/4*PI()*$D$3)*(-LN((4*$D$4*AH781)/(Sanierungsdesign!$E$13^2))-$D$19)","v":3571.0796554235221},3297.929655423522,6572.6246920387548,{"$f":"$D$3*$T$7*$AH$7*(AK781-$D$5)*(1/Sanierungsdesign!$E$15)/1000000","v":421.02178689238337},{"$f":"$D$5+(-Sanierungsdesign!$E$12/(4*PI()*$D$3))*(-LN((4*$D$4*AH781)/(Sanierungsdesign!$E$13+Sanierungsdesign!$E$15)^2)-$D$19)","v":416.74281222449713},143.59281222449715,{"$f":"(2*PI()*Sanierungsdesign!$E$10*$D$3)*(LN((Sanierungsdesign!$E$13+Sanierungsdesign!$E$15)/Sanierungsdesign!$E$13)*(AJ781-AN781))*$AH$7/1000000","v":281.61601441311427},9614.5641415388909,21700.071267453277,{"$f":"AU781/Sanierungsdesign!$E$11","v":2.3776986986644602},4464000,19.021589589315681,{"$error":"#DIV/0!"},{"$error":"#DIV/0!"},{"$error":"#DIV/0!"},{"$error":"#DIV/0!"},{"$f":"(AY781/(AH781*Sanierungsdesign!$E$10))*1000000","v":{"$error":"#DIV/0!"}},{"$f":"AZ781/Sanierungsdesign!$E$12","v":{"$error":"#DIV/0!"}},{"$f":"$D$5+((-(Sanierungsdesign!$E$12)*MIN($BA$7:$BA$932))/(4*PI()*$D$3))*(-LN((4*$D$4*AH781)/(Sanierungsdesign!$E$13)^2)-$D$19)","v":{"$error":"#DIV/0!"}},{"$f":"(BB781-273.15)/Heterogenität!$D$4","v":{"$error":"#DIV/0!"}},{"$f":"IF(AI781<Berechnung!$D$7,AI781,#N/A)","v":{"$error":"#N/A"}}]
[null,null,null,null,null,null,null,null,null,null,null,null,null,null,null,null,null,null,null,null,null,null,null,null,null,null,null,null,null,null,null,null,{"$f":"Sanierungsdesign!$E$12*AH782*Sanierungsdesign!$E$10/1000000","v":36316.800000000003},5587200,64.666666666666671,{"$f":"$D$5+((-Sanierungsdesign!$E$12)/4*PI()*$D$3)*(-LN((4*$D$4*AH782)/(Sanierungsdesign!$E$13^2))-$D$19)","v":3572.8860208114561},3299.736020811456,6576.2378435655937,{"$f":"$D$3*$T$7*$AH$7*(AK782-$D$5)*(1/Sanierungsdesign!$E$15)/1000000","v":421.27405049713485},{"$f":"$D$5+(-Sanierungsdesign!$E$12/(4*PI()*$D$3))*(-LN((4*$D$4*AH782)/(Sanierungsdesign!$E$13+Sanierungsdesign!$E$15)^2)-$D$19)","v":416.84004163103481},143.69004163103483,{"$f":"(2*PI()*Sanierungsdesign!$E$10*$D$3)*(LN((Sanierungsdesign!$E$13+Sanierungsdesign!$E$15)/Sanierungsdesign!$E$13)*(AJ782-AN782))*$AH$7/1000000","v":281.76860435106227},9626.9700307537805,21728.071359411282,{"$f":"AU782/Sanierungsdesign!$E$11","v":2.379005784659169},4469760,19.032046277273352,{"$error":"#DIV/0!"},{"$error":"#DIV/0!"},{"$error":"#DIV/0!"},{"$error":"#DIV/0!"},{"$f":"(AY782/(AH782*Sanierungsdesign!$E$10))*1000000","v":{"$error":"#DIV/0!"}},{"$f":"AZ782/Sanierungsdesign!$E$12","v":{"$error":"#DIV/0!"}},{"$f":"$D$5+((-(Sanierungsdesign!$E$12)*MIN($BA$7:$BA$932))/(4*PI()*$D$3))*(-LN((4*$D$4*AH782)/(Sanierungsdesign!$E$13)^2)-$D$19)","v":{"$error":"#DIV/0!"}},{"$f":"(BB782-273.15)/Heterogenität!$D$4","v":{"$error":"#DIV/0!"}},{"$f":"IF(AI782<Berechnung!$D$7,AI782,#N/A)","v":{"$error":"#N/A"}}]
[null,null,null,null,null,null,null,null,null,null,null,null,null,null,null,null,null,null,null,null,null,null,null,null,null,null,null,null,null,null,null,null,{"$f":"Sanierungsdesign!$E$12*AH783*Sanierungsdesign!$E$10/1000000","v":36363.599999999999},5594400,64.75,{"$f":"$D$5+((-Sanierungsdesign!$E$12)/4*PI()*$D$3)*(-LN((4*$D$4*AH783)/(Sanierungsdesign!$E$13^2))-$D$19)","v":3574.6900599071982},3301.5400599071982,6579.846341966193,{"$f":"$D$3*$T$7*$AH$7*(AK783-$D$5)*(1/Sanierungsdesign!$E$15)/1000000","v":421.52598922915683},{"$f":"$D$5+(-Sanierungsdesign!$E$12/(4*PI()*$D$3))*(-LN((4*$D$4*AH783)/(Sanierungsdesign!$E$13+Sanierungsdesign!$E$15)^2)-$D$19)","v":416.93714582259065},143.78714582259067,{"$f":"(2*PI()*Sanierungsdesign!$E$10*$D$3)*(LN((Sanierungsdesign!$E$13+Sanierungsdesign!$E$15)/Sanierungsdesign!$E$13)*(AJ783-AN783))*$AH$7/1000000","v":281.9209977790552},9639.3759199686683,21756.071451369287,{"$f":"AU783/Sanierungsdesign!$E$11","v":2.3803111873488483},4475520,19.042489498790786,{"$error":"#DIV/0!"},{"$error":"#DIV/0!"},{"$error":"#DIV/0!"},{"$error":"#DIV/0!"},{"$f":"(AY783/(AH783*Sanierungsdesign!$E$10))*1000000","v":{"$error":"#DIV/0!"}},{"$f":"AZ783/Sanierungsdesign!$E$12","v":{"$error":"#DIV/0!"}},{"$f":"$D$5+((-(Sanierungsdesign!$E$12)*MIN($BA$7:$BA$932))/(4*PI()*$D$3))*(-LN((4*$D$4*AH783)/(Sanierungsdesign!$E$13)^2)-$D$19)","v":{"$error":"#DIV/0!"}},{"$f":"(BB783-273.15)/Heterogenität!$D$4","v":{"$error":"#DIV/0!"}},{"$f":"IF(AI783<Berechnung!$D$7,AI783,#N/A)","v":{"$error":"#N/A"}}]
[null,null,null,null,null,null,null,null,null,null,null,null,null,null,null,null,null,null,null,null,null,null,null,null,null,null,null,null,null,null,null,null,{"$f":"Sanierungsdesign!$E$12*AH784*Sanierungsdesign!$E$10/1000000","v":36410.400000000001},5601600,64.833333333333329,{"$f":"$D$5+((-Sanierungsdesign!$E$12)/4*PI()*$D$3)*(-LN((4*$D$4*AH784)/(Sanierungsdesign!$E$13^2))-$D$19)","v":3576.4917786947813},3303.3417786947812,6583.4501992100122,{"$f":"$D$3*$T$7*$AH$7*(AK784-$D$5)*(1/Sanierungsdesign!$E$15)/1000000","v":421.77760392413501},{"$f":"$D$5+(-Sanierungsdesign!$E$12/(4*PI()*$D$3))*(-LN((4*$D$4*AH784)/(Sanierungsdesign!$E$13+Sanierungsdesign!$E$15)^2)-$D$19)","v":417.03412512126113},143.88412512126115,{"$f":"(2*PI()*Sanierungsdesign!$E$10*$D$3)*(LN((Sanierungsdesign!$E$13+Sanierungsdesign!$E$15)/Sanierungsdesign!$E$13)*(AJ784-AN784))*$AH$7/1000000","v":282.07319520258505},9651.7818091835579,21784.071543327289,{"$f":"AU784/Sanierungsdesign!$E$11","v":2.3816149110635436},4481280,19.052919288508349,{"$error":"#DIV/0!"},{"$error":"#DIV/0!"},{"$error":"#DIV/0!"},{"$error":"#DIV/0!"},{"$f":"(AY784/(AH784*Sanierungsdesign!$E$10))*1000000","v":{"$error":"#DIV/0!"}},{"$f":"AZ784/Sanierungsdesign!$E$12","v":{"$error":"#DIV/0!"}},{"$f":"$D$5+((-(Sanierungsdesign!$E$12)*MIN($BA$7:$BA$932))/(4*PI()*$D$3))*(-LN((4*$D$4*AH784)/(Sanierungsdesign!$E$13)^2)-$D$19)","v":{"$error":"#DIV/0!"}},{"$f":"(BB784-273.15)/Heterogenität!$D$4","v":{"$error":"#DIV/0!"}},{"$f":"IF(AI784<Berechnung!$D$7,AI784,#N/A)","v":{"$error":"#N/A"}}]
[null,null,null,null,null,null,null,null,null,null,null,null,null,null,null,null,null,null,null,null,null,null,null,null,null,null,null,null,null,null,null,null,{"$f":"Sanierungsdesign!$E$12*AH785*Sanierungsdesign!$E$10/1000000","v":36457.199999999997},5608800,64.916666666666671,{"$f":"$D$5+((-Sanierungsdesign!$E$12)/4*PI()*$D$3)*(-LN((4*$D$4*AH785)/(Sanierungsdesign!$E$13^2))-$D$19)","v":3578.2911831351798},3305.1411831351797,6587.0494272203896,{"$f":"$D$3*$T$7*$AH$7*(AK785-$D$5)*(1/Sanierungsdesign!$E$15)/1000000","v":422.02889541453493},{"$f":"$D$5+(-Sanierungsdesign!$E$12/(4*PI()*$D$3))*(-LN((4*$D$4*AH785)/(Sanierungsdesign!$E$13+Sanierungsdesign!$E$15)^2)-$D$19)","v":417.13097984790164},143.98097984790166,{"$f":"(2*PI()*Sanierungsdesign!$E$10*$D$3)*(LN((Sanierungsdesign!$E$13+Sanierungsdesign!$E$15)/Sanierungsdesign!$E$13)*(AJ785-AN785))*$AH$7/1000000","v":282.22519712519602},9664.1876983984475,21812.071635285298,{"$f":"AU785/Sanierungsdesign!$E$11","v":2.3829169601166158},4487040,19.063335680932926,{"$error":"#DIV/0!"},{"$error":"#DIV/0!"},{"$error":"#DIV/0!"},{"$error":"#DIV/0!"},{"$f":"(AY785/(AH785*Sanierungsdesign!$E$10))*1000000","v":{"$error":"#DIV/0!"}},{"$f":"AZ785/Sanierungsdesign!$E$12","v":{"$error":"#DIV/0!"}},{"$f":"$D$5+((-(Sanierungsdesign!$E$12)*MIN($BA$7:$BA$932))/(4*PI()*$D$3))*(-LN((4*$D$4*AH785)/(Sanierungsdesign!$E$13)^2)-$D$19)","v":{"$error":"#DIV/0!"}},{"$f":"(BB785-273.15)/Heterogenität!$D$4","v":{"$error":"#DIV/0!"}},{"$f":"IF(AI785<Berechnung!$D$7,AI785,#N/A)","v":{"$error":"#N/A"}}]
[null,null,null,null,null,null,null,null,null,null,null,null,null,null,null,null,null,null,null,null,null,null,null,null,null,null,null,null,null,null,null,null,{"$f":"Sanierungsdesign!$E$12*AH786*Sanierungsdesign!$E$10/1000000","v":36504},5616000,65,{"$f":"$D$5+((-Sanierungsdesign!$E$12)/4*PI()*$D$3)*(-LN((4*$D$4*AH786)/(Sanierungsdesign!$E$13^2))-$D$19)","v":3580.0882791664258},3306.9382791664257,6590.6440378747702,{"$f":"$D$3*$T$7*$AH$7*(AK786-$D$5)*(1/Sanierungsdesign!$E$15)/1000000","v":422.27986452961807},{"$f":"$D$5+(-Sanierungsdesign!$E$12/(4*PI()*$D$3))*(-LN((4*$D$4*AH786)/(Sanierungsdesign!$E$13+Sanierungsdesign!$E$15)^2)-$D$19)","v":417.22771032213262},144.07771032213265,{"$f":"(2*PI()*Sanierungsdesign!$E$10*$D$3)*(LN((Sanierungsdesign!$E$13+Sanierungsdesign!$E$15)/Sanierungsdesign!$E$13)*(AJ786-AN786))*$AH$7/1000000","v":282.37700404849409},9676.5935876133353,21840.071727243299,{"$f":"AU786/Sanierungsdesign!$E$11","v":2.3842173388048251},4492800,19.073738710438601,{"$error":"#DIV/0!"},{"$error":"#DIV/0!"},{"$error":"#DIV/0!"},{"$error":"#DIV/0!"},{"$f":"(AY786/(AH786*Sanierungsdesign!$E$10))*1000000","v":{"$error":"#DIV/0!"}},{"$f":"AZ786/Sanierungsdesign!$E$12","v":{"$error":"#DIV/0!"}},{"$f":"$D$5+((-(Sanierungsdesign!$E$12)*MIN($BA$7:$BA$932))/(4*PI()*$D$3))*(-LN((4*$D$4*AH786)/(Sanierungsdesign!$E$13)^2)-$D$19)","v":{"$error":"#DIV/0!"}},{"$f":"(BB786-273.15)/Heterogenität!$D$4","v":{"$error":"#DIV/0!"}},{"$f":"IF(AI786<Berechnung!$D$7,AI786,#N/A)","v":{"$error":"#N/A"}}]
[null,null,null,null,null,null,null,null,null,null,null,null,null,null,null,null,null,null,null,null,null,null,null,null,null,null,null,null,null,null,null,null,{"$f":"Sanierungsdesign!$E$12*AH787*Sanierungsdesign!$E$10/1000000","v":36550.800000000003},5623200,65.083333333333329,{"$f":"$D$5+((-Sanierungsdesign!$E$12)/4*PI()*$D$3)*(-LN((4*$D$4*AH787)/(Sanierungsdesign!$E$13^2))-$D$19)","v":3581.8830727037284},3308.7330727037283,6594.2340430049517,{"$f":"$D$3*$T$7*$AH$7*(AK787-$D$5)*(1/Sanierungsdesign!$E$15)/1000000","v":422.53051209545879},{"$f":"$D$5+(-Sanierungsdesign!$E$12/(4*PI()*$D$3))*(-LN((4*$D$4*AH787)/(Sanierungsdesign!$E$13+Sanierungsdesign!$E$15)^2)-$D$19)","v":417.324316862346},144.17431686234602,{"$f":"(2*PI()*Sanierungsdesign!$E$10*$D$3)*(LN((Sanierungsdesign!$E$13+Sanierungsdesign!$E$15)/Sanierungsdesign!$E$13)*(AJ787-AN787))*$AH$7/1000000","v":282.52861647215758},9688.9994768282249,21868.071819201305,{"$f":"AU787/Sanierungsdesign!$E$11","v":2.3855160514084175},4498560,19.08412841126734,{"$error":"#DIV/0!"},{"$error":"#DIV/0!"},{"$error":"#DIV/0!"},{"$error":"#DIV/0!"},{"$f":"(AY787/(AH787*Sanierungsdesign!$E$10))*1000000","v":{"$error":"#DIV/0!"}},{"$f":"AZ787/Sanierungsdesign!$E$12","v":{"$error":"#DIV/0!"}},{"$f":"$D$5+((-(Sanierungsdesign!$E$12)*MIN($BA$7:$BA$932))/(4*PI()*$D$3))*(-LN((4*$D$4*AH787)/(Sanierungsdesign!$E$13)^2)-$D$19)","v":{"$error":"#DIV/0!"}},{"$f":"(BB787-273.15)/Heterogenität!$D$4","v":{"$error":"#DIV/0!"}},{"$f":"IF(AI787<Berechnung!$D$7,AI787,#N/A)","v":{"$error":"#N/A"}}]
[null,null,null,null,null,null,null,null,null,null,null,null,null,null,null,null,null,null,null,null,null,null,null,null,null,null,null,null,null,null,null,null,{"$f":"Sanierungsdesign!$E$12*AH788*Sanierungsdesign!$E$10/1000000","v":36597.599999999999},5630400,65.166666666666671,{"$f":"$D$5+((-Sanierungsdesign!$E$12)/4*PI()*$D$3)*(-LN((4*$D$4*AH788)/(Sanierungsdesign!$E$13^2))-$D$19)","v":3583.675569639588},3310.525569639588,6597.8194543973077,{"$f":"$D$3*$T$7*$AH$7*(AK788-$D$5)*(1/Sanierungsdesign!$E$15)/1000000","v":422.78083893496},{"$f":"$D$5+(-Sanierungsdesign!$E$12/(4*PI()*$D$3))*(-LN((4*$D$4*AH788)/(Sanierungsdesign!$E$13+Sanierungsdesign!$E$15)^2)-$D$19)","v":417.42079978571155},144.27079978571157,{"$f":"(2*PI()*Sanierungsdesign!$E$10*$D$3)*(LN((Sanierungsdesign!$E$13+Sanierungsdesign!$E$15)/Sanierungsdesign!$E$13)*(AJ788-AN788))*$AH$7/1000000","v":282.68003489394636},9701.4053660431127,21896.071911159306,{"$f":"AU788/Sanierungsdesign!$E$11","v":2.3868131021912058},4504320,19.094504817529646,{"$error":"#DIV/0!"},{"$error":"#DIV/0!"},{"$error":"#DIV/0!"},{"$error":"#DIV/0!"},{"$f":"(AY788/(AH788*Sanierungsdesign!$E$10))*1000000","v":{"$error":"#DIV/0!"}},{"$f":"AZ788/Sanierungsdesign!$E$12","v":{"$error":"#DIV/0!"}},{"$f":"$D$5+((-(Sanierungsdesign!$E$12)*MIN($BA$7:$BA$932))/(4*PI()*$D$3))*(-LN((4*$D$4*AH788)/(Sanierungsdesign!$E$13)^2)-$D$19)","v":{"$error":"#DIV/0!"}},{"$f":"(BB788-273.15)/Heterogenität!$D$4","v":{"$error":"#DIV/0!"}},{"$f":"IF(AI788<Berechnung!$D$7,AI788,#N/A)","v":{"$error":"#N/A"}}]
[null,null,null,null,null,null,null,null,null,null,null,null,null,null,null,null,null,null,null,null,null,null,null,null,null,null,null,null,null,null,null,null,{"$f":"Sanierungsdesign!$E$12*AH789*Sanierungsdesign!$E$10/1000000","v":36644.400000000001},5637600,65.25,{"$f":"$D$5+((-Sanierungsdesign!$E$12)/4*PI()*$D$3)*(-LN((4*$D$4*AH789)/(Sanierungsdesign!$E$13^2))-$D$19)","v":3585.4657758439143},3312.3157758439143,6601.4002837930229,{"$f":"$D$3*$T$7*$AH$7*(AK789-$D$5)*(1/Sanierungsdesign!$E$15)/1000000","v":423.03084586786986},{"$f":"$D$5+(-Sanierungsdesign!$E$12/(4*PI()*$D$3))*(-LN((4*$D$4*AH789)/(Sanierungsdesign!$E$13+Sanierungsdesign!$E$15)^2)-$D$19)","v":417.51715940818303},144.36715940818306,{"$f":"(2*PI()*Sanierungsdesign!$E$10*$D$3)*(LN((Sanierungsdesign!$E$13+Sanierungsdesign!$E$15)/Sanierungsdesign!$E$13)*(AJ789-AN789))*$AH$7/1000000","v":282.83125980971198},9713.8112552580023,21924.072003117308,{"$f":"AU789/Sanierungsdesign!$E$11","v":2.388108495400656},4510080,19.104867963205248,{"$error":"#DIV/0!"},{"$error":"#DIV/0!"},{"$error":"#DIV/0!"},{"$error":"#DIV/0!"},{"$f":"(AY789/(AH789*Sanierungsdesign!$E$10))*1000000","v":{"$error":"#DIV/0!"}},{"$f":"AZ789/Sanierungsdesign!$E$12","v":{"$error":"#DIV/0!"}},{"$f":"$D$5+((-(Sanierungsdesign!$E$12)*MIN($BA$7:$BA$932))/(4*PI()*$D$3))*(-LN((4*$D$4*AH789)/(Sanierungsdesign!$E$13)^2)-$D$19)","v":{"$error":"#DIV/0!"}},{"$f":"(BB789-273.15)/Heterogenität!$D$4","v":{"$error":"#DIV/0!"}},{"$f":"IF(AI789<Berechnung!$D$7,AI789,#N/A)","v":{"$error":"#N/A"}}]
[null,null,null,null,null,null,null,null,null,null,null,null,null,null,null,null,null,null,null,null,null,null,null,null,null,null,null,null,null,null,null,null,{"$f":"Sanierungsdesign!$E$12*AH790*Sanierungsdesign!$E$10/1000000","v":36691.199999999997},5644800,65.333333333333329,{"$f":"$D$5+((-Sanierungsdesign!$E$12)/4*PI()*$D$3)*(-LN((4*$D$4*AH790)/(Sanierungsdesign!$E$13^2))-$D$19)","v":3587.2536971641439},3314.1036971641438,6604.9765428883356,{"$f":"$D$3*$T$7*$AH$7*(AK790-$D$5)*(1/Sanierungsdesign!$E$15)/1000000","v":423.28053371079784},{"$f":"$D$5+(-Sanierungsdesign!$E$12/(4*PI()*$D$3))*(-LN((4*$D$4*AH790)/(Sanierungsdesign!$E$13+Sanierungsdesign!$E$15)^2)-$D$19)","v":417.61339604450433},144.46339604450435,{"$f":"(2*PI()*Sanierungsdesign!$E$10*$D$3)*(LN((Sanierungsdesign!$E$13+Sanierungsdesign!$E$15)/Sanierungsdesign!$E$13)*(AJ790-AN790))*$AH$7/1000000","v":282.98229171340773},9726.217144472892,21952.072095075317,{"$f":"AU790/Sanierungsdesign!$E$11","v":2.389402235267974},4515840,19.115217882143792,{"$error":"#DIV/0!"},{"$error":"#DIV/0!"},{"$error":"#DIV/0!"},{"$error":"#DIV/0!"},{"$f":"(AY790/(AH790*Sanierungsdesign!$E$10))*1000000","v":{"$error":"#DIV/0!"}},{"$f":"AZ790/Sanierungsdesign!$E$12","v":{"$error":"#DIV/0!"}},{"$f":"$D$5+((-(Sanierungsdesign!$E$12)*MIN($BA$7:$BA$932))/(4*PI()*$D$3))*(-LN((4*$D$4*AH790)/(Sanierungsdesign!$E$13)^2)-$D$19)","v":{"$error":"#DIV/0!"}},{"$f":"(BB790-273.15)/Heterogenität!$D$4","v":{"$error":"#DIV/0!"}},{"$f":"IF(AI790<Berechnung!$D$7,AI790,#N/A)","v":{"$error":"#N/A"}}]
[null,null,null,null,null,null,null,null,null,null,null,null,null,null,null,null,null,null,null,null,null,null,null,null,null,null,null,null,null,null,null,null,{"$f":"Sanierungsdesign!$E$12*AH791*Sanierungsdesign!$E$10/1000000","v":36738},5652000,65.416666666666671,{"$f":"$D$5+((-Sanierungsdesign!$E$12)/4*PI()*$D$3)*(-LN((4*$D$4*AH791)/(Sanierungsdesign!$E$13^2))-$D$19)","v":3589.0393394253488},3315.8893394253487,6608.5482433347433,{"$f":"$D$3*$T$7*$AH$7*(AK791-$D$5)*(1/Sanierungsdesign!$E$15)/1000000","v":423.52990327723057},{"$f":"$D$5+(-Sanierungsdesign!$E$12/(4*PI()*$D$3))*(-LN((4*$D$4*AH791)/(Sanierungsdesign!$E$13+Sanierungsdesign!$E$15)^2)-$D$19)","v":417.70951000821577},144.5595100082158,{"$f":"(2*PI()*Sanierungsdesign!$E$10*$D$3)*(LN((Sanierungsdesign!$E$13+Sanierungsdesign!$E$15)/Sanierungsdesign!$E$13)*(AJ791-AN791))*$AH$7/1000000","v":283.13313109709759},9738.6230336877798,21980.072187033318,{"$f":"AU791/Sanierungsdesign!$E$11","v":2.3906943260081821},4521600,19.125554608065457,{"$error":"#DIV/0!"},{"$error":"#DIV/0!"},{"$error":"#DIV/0!"},{"$error":"#DIV/0!"},{"$f":"(AY791/(AH791*Sanierungsdesign!$E$10))*1000000","v":{"$error":"#DIV/0!"}},{"$f":"AZ791/Sanierungsdesign!$E$12","v":{"$error":"#DIV/0!"}},{"$f":"$D$5+((-(Sanierungsdesign!$E$12)*MIN($BA$7:$BA$932))/(4*PI()*$D$3))*(-LN((4*$D$4*AH791)/(Sanierungsdesign!$E$13)^2)-$D$19)","v":{"$error":"#DIV/0!"}},{"$f":"(BB791-273.15)/Heterogenität!$D$4","v":{"$error":"#DIV/0!"}},{"$f":"IF(AI791<Berechnung!$D$7,AI791,#N/A)","v":{"$error":"#N/A"}}]
[null,null,null,null,null,null,null,null,null,null,null,null,null,null,null,null,null,null,null,null,null,null,null,null,null,null,null,null,null,null,null,null,{"$f":"Sanierungsdesign!$E$12*AH792*Sanierungsdesign!$E$10/1000000","v":36784.800000000003},5659200,65.5,{"$f":"$D$5+((-Sanierungsdesign!$E$12)/4*PI()*$D$3)*(-LN((4*$D$4*AH792)/(Sanierungsdesign!$E$13^2))-$D$19)","v":3590.8227084303553},3317.6727084303552,6612.1153967392529,{"$f":"$D$3*$T$7*$AH$7*(AK792-$D$5)*(1/Sanierungsdesign!$E$15)/1000000","v":423.77895537754762},{"$f":"$D$5+(-Sanierungsdesign!$E$12/(4*PI()*$D$3))*(-LN((4*$D$4*AH792)/(Sanierungsdesign!$E$13+Sanierungsdesign!$E$15)^2)-$D$19)","v":417.8055016116603},144.65550161166033,{"$f":"(2*PI()*Sanierungsdesign!$E$10*$D$3)*(LN((Sanierungsdesign!$E$13+Sanierungsdesign!$E$15)/Sanierungsdesign!$E$13)*(AJ792-AN792))*$AH$7/1000000","v":283.28377845096622},9751.0289229026694,22008.072278991327,{"$f":"AU792/Sanierungsdesign!$E$11","v":2.391984771820205},4527360,19.13587817456164,{"$error":"#DIV/0!"},{"$error":"#DIV/0!"},{"$error":"#DIV/0!"},{"$error":"#DIV/0!"},{"$f":"(AY792/(AH792*Sanierungsdesign!$E$10))*1000000","v":{"$error":"#DIV/0!"}},{"$f":"AZ792/Sanierungsdesign!$E$12","v":{"$error":"#DIV/0!"}},{"$f":"$D$5+((-(Sanierungsdesign!$E$12)*MIN($BA$7:$BA$932))/(4*PI()*$D$3))*(-LN((4*$D$4*AH792)/(Sanierungsdesign!$E$13)^2)-$D$19)","v":{"$error":"#DIV/0!"}},{"$f":"(BB792-273.15)/Heterogenität!$D$4","v":{"$error":"#DIV/0!"}},{"$f":"IF(AI792<Berechnung!$D$7,AI792,#N/A)","v":{"$error":"#N/A"}}]
[null,null,null,null,null,null,null,null,null,null,null,null,null,null,null,null,null,null,null,null,null,null,null,null,null,null,null,null,null,null,null,null,{"$f":"Sanierungsdesign!$E$12*AH793*Sanierungsdesign!$E$10/1000000","v":36831.599999999999},5666400,65.583333333333329,{"$f":"$D$5+((-Sanierungsdesign!$E$12)/4*PI()*$D$3)*(-LN((4*$D$4*AH793)/(Sanierungsdesign!$E$13^2))-$D$19)","v":3592.603809959855},3319.4538099598549,6615.6780146645924,{"$f":"$D$3*$T$7*$AH$7*(AK793-$D$5)*(1/Sanierungsdesign!$E$15)/1000000","v":424.02769081903756},{"$f":"$D$5+(-Sanierungsdesign!$E$12/(4*PI()*$D$3))*(-LN((4*$D$4*AH793)/(Sanierungsdesign!$E$13+Sanierungsdesign!$E$15)^2)-$D$19)","v":417.9013711659893},144.75137116598933,{"$f":"(2*PI()*Sanierungsdesign!$E$10*$D$3)*(LN((Sanierungsdesign!$E$13+Sanierungsdesign!$E$15)/Sanierungsdesign!$E$13)*(AJ793-AN793))*$AH$7/1000000","v":283.43423426332896},9763.4348121175572,22036.072370949325,{"$f":"AU793/Sanierungsdesign!$E$11","v":2.3932735768869504},4533120,19.146188615095603,{"$error":"#DIV/0!"},{"$error":"#DIV/0!"},{"$error":"#DIV/0!"},{"$error":"#DIV/0!"},{"$f":"(AY793/(AH793*Sanierungsdesign!$E$10))*1000000","v":{"$error":"#DIV/0!"}},{"$f":"AZ793/Sanierungsdesign!$E$12","v":{"$error":"#DIV/0!"}},{"$f":"$D$5+((-(Sanierungsdesign!$E$12)*MIN($BA$7:$BA$932))/(4*PI()*$D$3))*(-LN((4*$D$4*AH793)/(Sanierungsdesign!$E$13)^2)-$D$19)","v":{"$error":"#DIV/0!"}},{"$f":"(BB793-273.15)/Heterogenität!$D$4","v":{"$error":"#DIV/0!"}},{"$f":"IF(AI793<Berechnung!$D$7,AI793,#N/A)","v":{"$error":"#N/A"}}]
[null,null,null,null,null,null,null,null,null,null,null,null,null,null,null,null,null,null,null,null,null,null,null,null,null,null,null,null,null,null,null,null,{"$f":"Sanierungsdesign!$E$12*AH794*Sanierungsdesign!$E$10/1000000","v":36878.400000000001},5673600,65.666666666666671,{"$f":"$D$5+((-Sanierungsdesign!$E$12)/4*PI()*$D$3)*(-LN((4*$D$4*AH794)/(Sanierungsdesign!$E$13^2))-$D$19)","v":3594.3826497725195},3321.2326497725194,6619.2361086294477,{"$f":"$D$3*$T$7*$AH$7*(AK794-$D$5)*(1/Sanierungsdesign!$E$15)/1000000","v":424.27611040591381},{"$f":"$D$5+(-Sanierungsdesign!$E$12/(4*PI()*$D$3))*(-LN((4*$D$4*AH794)/(Sanierungsdesign!$E$13+Sanierungsdesign!$E$15)^2)-$D$19)","v":417.99711898116902},144.84711898116905,{"$f":"(2*PI()*Sanierungsdesign!$E$10*$D$3)*(LN((Sanierungsdesign!$E$13+Sanierungsdesign!$E$15)/Sanierungsdesign!$E$13)*(AJ794-AN794))*$AH$7/1000000","v":283.58449902064058},9775.8407013324468,22064.072462907334,{"$f":"AU794/Sanierungsdesign!$E$11","v":2.394560745375395},4538880,19.15648596300316,{"$error":"#DIV/0!"},{"$error":"#DIV/0!"},{"$error":"#DIV/0!"},{"$error":"#DIV/0!"},{"$f":"(AY794/(AH794*Sanierungsdesign!$E$10))*1000000","v":{"$error":"#DIV/0!"}},{"$f":"AZ794/Sanierungsdesign!$E$12","v":{"$error":"#DIV/0!"}},{"$f":"$D$5+((-(Sanierungsdesign!$E$12)*MIN($BA$7:$BA$932))/(4*PI()*$D$3))*(-LN((4*$D$4*AH794)/(Sanierungsdesign!$E$13)^2)-$D$19)","v":{"$error":"#DIV/0!"}},{"$f":"(BB794-273.15)/Heterogenität!$D$4","v":{"$error":"#DIV/0!"}},{"$f":"IF(AI794<Berechnung!$D$7,AI794,#N/A)","v":{"$error":"#N/A"}}]
[null,null,null,null,null,null,null,null,null,null,null,null,null,null,null,null,null,null,null,null,null,null,null,null,null,null,null,null,null,null,null,null,{"$f":"Sanierungsdesign!$E$12*AH795*Sanierungsdesign!$E$10/1000000","v":36925.199999999997},5680800,65.75,{"$f":"$D$5+((-Sanierungsdesign!$E$12)/4*PI()*$D$3)*(-LN((4*$D$4*AH795)/(Sanierungsdesign!$E$13^2))-$D$19)","v":3596.1592336051062},3323.0092336051061,6622.7896901086697,{"$f":"$D$3*$T$7*$AH$7*(AK795-$D$5)*(1/Sanierungsdesign!$E$15)/1000000","v":424.52421493932945},{"$f":"$D$5+(-Sanierungsdesign!$E$12/(4*PI()*$D$3))*(-LN((4*$D$4*AH795)/(Sanierungsdesign!$E$13+Sanierungsdesign!$E$15)^2)-$D$19)","v":418.09274536598616},144.94274536598618,{"$f":"(2*PI()*Sanierungsdesign!$E$10*$D$3)*(LN((Sanierungsdesign!$E$13+Sanierungsdesign!$E$15)/Sanierungsdesign!$E$13)*(AJ795-AN795))*$AH$7/1000000","v":283.73457320750481},9788.2465905473364,22092.072554865339,{"$f":"AU795/Sanierungsdesign!$E$11","v":2.3958462814366546},4544640,19.166770251493237,{"$error":"#DIV/0!"},{"$error":"#DIV/0!"},{"$error":"#DIV/0!"},{"$error":"#DIV/0!"},{"$f":"(AY795/(AH795*Sanierungsdesign!$E$10))*1000000","v":{"$error":"#DIV/0!"}},{"$f":"AZ795/Sanierungsdesign!$E$12","v":{"$error":"#DIV/0!"}},{"$f":"$D$5+((-(Sanierungsdesign!$E$12)*MIN($BA$7:$BA$932))/(4*PI()*$D$3))*(-LN((4*$D$4*AH795)/(Sanierungsdesign!$E$13)^2)-$D$19)","v":{"$error":"#DIV/0!"}},{"$f":"(BB795-273.15)/Heterogenität!$D$4","v":{"$error":"#DIV/0!"}},{"$f":"IF(AI795<Berechnung!$D$7,AI795,#N/A)","v":{"$error":"#N/A"}}]
[null,null,null,null,null,null,null,null,null,null,null,null,null,null,null,null,null,null,null,null,null,null,null,null,null,null,null,null,null,null,null,null,{"$f":"Sanierungsdesign!$E$12*AH796*Sanierungsdesign!$E$10/1000000","v":36972},5688000,65.833333333333329,{"$f":"$D$5+((-Sanierungsdesign!$E$12)/4*PI()*$D$3)*(-LN((4*$D$4*AH796)/(Sanierungsdesign!$E$13^2))-$D$19)","v":3597.9335671725808},3324.7835671725807,6626.338770533519,{"$f":"$D$3*$T$7*$AH$7*(AK796-$D$5)*(1/Sanierungsdesign!$E$15)/1000000","v":424.77200521739417},{"$f":"$D$5+(-Sanierungsdesign!$E$12/(4*PI()*$D$3))*(-LN((4*$D$4*AH796)/(Sanierungsdesign!$E$13+Sanierungsdesign!$E$15)^2)-$D$19)","v":418.18825062805422},145.03825062805424,{"$f":"(2*PI()*Sanierungsdesign!$E$10*$D$3)*(LN((Sanierungsdesign!$E$13+Sanierungsdesign!$E$15)/Sanierungsdesign!$E$13)*(AJ796-AN796))*$AH$7/1000000","v":283.88445730668468},9800.6524797622242,22120.072646823341,{"$f":"AU796/Sanierungsdesign!$E$11","v":2.397130189206079},4550400,19.177041513648632,{"$error":"#DIV/0!"},{"$error":"#DIV/0!"},{"$error":"#DIV/0!"},{"$error":"#DIV/0!"},{"$f":"(AY796/(AH796*Sanierungsdesign!$E$10))*1000000","v":{"$error":"#DIV/0!"}},{"$f":"AZ796/Sanierungsdesign!$E$12","v":{"$error":"#DIV/0!"}},{"$f":"$D$5+((-(Sanierungsdesign!$E$12)*MIN($BA$7:$BA$932))/(4*PI()*$D$3))*(-LN((4*$D$4*AH796)/(Sanierungsdesign!$E$13)^2)-$D$19)","v":{"$error":"#DIV/0!"}},{"$f":"(BB796-273.15)/Heterogenität!$D$4","v":{"$error":"#DIV/0!"}},{"$f":"IF(AI796<Berechnung!$D$7,AI796,#N/A)","v":{"$error":"#N/A"}}]
[null,null,null,null,null,null,null,null,null,null,null,null,null,null,null,null,null,null,null,null,null,null,null,null,null,null,null,null,null,null,null,null,{"$f":"Sanierungsdesign!$E$12*AH797*Sanierungsdesign!$E$10/1000000","v":37018.800000000003},5695200,65.916666666666671,{"$f":"$D$5+((-Sanierungsdesign!$E$12)/4*PI()*$D$3)*(-LN((4*$D$4*AH797)/(Sanierungsdesign!$E$13^2))-$D$19)","v":3599.7056561682116},3326.5556561682115,6629.8833612918597,{"$f":"$D$3*$T$7*$AH$7*(AK797-$D$5)*(1/Sanierungsdesign!$E$15)/1000000","v":425.01948203518771},{"$f":"$D$5+(-Sanierungsdesign!$E$12/(4*PI()*$D$3))*(-LN((4*$D$4*AH797)/(Sanierungsdesign!$E$13+Sanierungsdesign!$E$15)^2)-$D$19)","v":418.28363507381926},145.13363507381928,{"$f":"(2*PI()*Sanierungsdesign!$E$10*$D$3)*(LN((Sanierungsdesign!$E$13+Sanierungsdesign!$E$15)/Sanierungsdesign!$E$13)*(AJ797-AN797))*$AH$7/1000000","v":284.03415179911008},9813.0583689771138,22148.072738781346,{"$f":"AU797/Sanierungsdesign!$E$11","v":2.3984124728033174},4556160,19.187299782426539,{"$error":"#DIV/0!"},{"$error":"#DIV/0!"},{"$error":"#DIV/0!"},{"$error":"#DIV/0!"},{"$f":"(AY797/(AH797*Sanierungsdesign!$E$10))*1000000","v":{"$error":"#DIV/0!"}},{"$f":"AZ797/Sanierungsdesign!$E$12","v":{"$error":"#DIV/0!"}},{"$f":"$D$5+((-(Sanierungsdesign!$E$12)*MIN($BA$7:$BA$932))/(4*PI()*$D$3))*(-LN((4*$D$4*AH797)/(Sanierungsdesign!$E$13)^2)-$D$19)","v":{"$error":"#DIV/0!"}},{"$f":"(BB797-273.15)/Heterogenität!$D$4","v":{"$error":"#DIV/0!"}},{"$f":"IF(AI797<Berechnung!$D$7,AI797,#N/A)","v":{"$error":"#N/A"}}]
[null,null,null,null,null,null,null,null,null,null,null,null,null,null,null,null,null,null,null,null,null,null,null,null,null,null,null,null,null,null,null,null,{"$f":"Sanierungsdesign!$E$12*AH798*Sanierungsdesign!$E$10/1000000","v":37065.599999999999},5702400,66,{"$f":"$D$5+((-Sanierungsdesign!$E$12)/4*PI()*$D$3)*(-LN((4*$D$4*AH798)/(Sanierungsdesign!$E$13^2))-$D$19)","v":3601.4755062636946},3328.3255062636945,6633.423473728406,{"$f":"$D$3*$T$7*$AH$7*(AK798-$D$5)*(1/Sanierungsdesign!$E$15)/1000000","v":425.26664618477702},{"$f":"$D$5+(-Sanierungsdesign!$E$12/(4*PI()*$D$3))*(-LN((4*$D$4*AH798)/(Sanierungsdesign!$E$13+Sanierungsdesign!$E$15)^2)-$D$19)","v":418.37889900856578},145.2288990085658,{"$f":"(2*PI()*Sanierungsdesign!$E$10*$D$3)*(LN((Sanierungsdesign!$E$13+Sanierungsdesign!$E$15)/Sanierungsdesign!$E$13)*(AJ798-AN798))*$AH$7/1000000","v":284.18365716388894},9825.4642581920016,22176.072830739351,{"$f":"AU798/Sanierungsdesign!$E$11","v":2.399693136332409},4561920,19.197545090659272,{"$error":"#DIV/0!"},{"$error":"#DIV/0!"},{"$error":"#DIV/0!"},{"$error":"#DIV/0!"},{"$f":"(AY798/(AH798*Sanierungsdesign!$E$10))*1000000","v":{"$error":"#DIV/0!"}},{"$f":"AZ798/Sanierungsdesign!$E$12","v":{"$error":"#DIV/0!"}},{"$f":"$D$5+((-(Sanierungsdesign!$E$12)*MIN($BA$7:$BA$932))/(4*PI()*$D$3))*(-LN((4*$D$4*AH798)/(Sanierungsdesign!$E$13)^2)-$D$19)","v":{"$error":"#DIV/0!"}},{"$f":"(BB798-273.15)/Heterogenität!$D$4","v":{"$error":"#DIV/0!"}},{"$f":"IF(AI798<Berechnung!$D$7,AI798,#N/A)","v":{"$error":"#N/A"}}]
[null,null,null,null,null,null,null,null,null,null,null,null,null,null,null,null,null,null,null,null,null,null,null,null,null,null,null,null,null,null,null,null,{"$f":"Sanierungsdesign!$E$12*AH799*Sanierungsdesign!$E$10/1000000","v":37112.400000000001},5709600,66.083333333333329,{"$f":"$D$5+((-Sanierungsdesign!$E$12)/4*PI()*$D$3)*(-LN((4*$D$4*AH799)/(Sanierungsdesign!$E$13^2))-$D$19)","v":3603.2431231092528},3330.0931231092527,6636.9591191449172,{"$f":"$D$3*$T$7*$AH$7*(AK799-$D$5)*(1/Sanierungsdesign!$E$15)/1000000","v":425.51349845523043},{"$f":"$D$5+(-Sanierungsdesign!$E$12/(4*PI()*$D$3))*(-LN((4*$D$4*AH799)/(Sanierungsdesign!$E$13+Sanierungsdesign!$E$15)^2)-$D$19)","v":418.47404273642263},145.32404273642265,{"$f":"(2*PI()*Sanierungsdesign!$E$10*$D$3)*(LN((Sanierungsdesign!$E$13+Sanierungsdesign!$E$15)/Sanierungsdesign!$E$13)*(AJ799-AN799))*$AH$7/1000000","v":284.33297387831516},9837.8701474068912,22204.072922697353,{"$f":"AU799/Sanierungsdesign!$E$11","v":2.400972183881855},4567680,19.20777747105484,{"$error":"#DIV/0!"},{"$error":"#DIV/0!"},{"$error":"#DIV/0!"},{"$error":"#DIV/0!"},{"$f":"(AY799/(AH799*Sanierungsdesign!$E$10))*1000000","v":{"$error":"#DIV/0!"}},{"$f":"AZ799/Sanierungsdesign!$E$12","v":{"$error":"#DIV/0!"}},{"$f":"$D$5+((-(Sanierungsdesign!$E$12)*MIN($BA$7:$BA$932))/(4*PI()*$D$3))*(-LN((4*$D$4*AH799)/(Sanierungsdesign!$E$13)^2)-$D$19)","v":{"$error":"#DIV/0!"}},{"$f":"(BB799-273.15)/Heterogenität!$D$4","v":{"$error":"#DIV/0!"}},{"$f":"IF(AI799<Berechnung!$D$7,AI799,#N/A)","v":{"$error":"#N/A"}}]
[null,null,null,null,null,null,null,null,null,null,null,null,null,null,null,null,null,null,null,null,null,null,null,null,null,null,null,null,null,null,null,null,{"$f":"Sanierungsdesign!$E$12*AH800*Sanierungsdesign!$E$10/1000000","v":37159.199999999997},5716800,66.166666666666671,{"$f":"$D$5+((-Sanierungsdesign!$E$12)/4*PI()*$D$3)*(-LN((4*$D$4*AH800)/(Sanierungsdesign!$E$13^2))-$D$19)","v":3605.0085123337485},3331.8585123337484,6640.4903088004321,{"$f":"$D$3*$T$7*$AH$7*(AK800-$D$5)*(1/Sanierungsdesign!$E$15)/1000000","v":425.7600396326331},{"$f":"$D$5+(-Sanierungsdesign!$E$12/(4*PI()*$D$3))*(-LN((4*$D$4*AH800)/(Sanierungsdesign!$E$13+Sanierungsdesign!$E$15)^2)-$D$19)","v":418.56906656036892},145.41906656036895,{"$f":"(2*PI()*Sanierungsdesign!$E$10*$D$3)*(LN((Sanierungsdesign!$E$13+Sanierungsdesign!$E$15)/Sanierungsdesign!$E$13)*(AJ800-AN800))*$AH$7/1000000","v":284.48210241787825},9850.2760366217808,22232.073014655361,{"$f":"AU800/Sanierungsdesign!$E$11","v":2.4022496195247003},4573440,19.217996956197602,{"$error":"#DIV/0!"},{"$error":"#DIV/0!"},{"$error":"#DIV/0!"},{"$error":"#DIV/0!"},{"$f":"(AY800/(AH800*Sanierungsdesign!$E$10))*1000000","v":{"$error":"#DIV/0!"}},{"$f":"AZ800/Sanierungsdesign!$E$12","v":{"$error":"#DIV/0!"}},{"$f":"$D$5+((-(Sanierungsdesign!$E$12)*MIN($BA$7:$BA$932))/(4*PI()*$D$3))*(-LN((4*$D$4*AH800)/(Sanierungsdesign!$E$13)^2)-$D$19)","v":{"$error":"#DIV/0!"}},{"$f":"(BB800-273.15)/Heterogenität!$D$4","v":{"$error":"#DIV/0!"}},{"$f":"IF(AI800<Berechnung!$D$7,AI800,#N/A)","v":{"$error":"#N/A"}}]
[null,null,null,null,null,null,null,null,null,null,null,null,null,null,null,null,null,null,null,null,null,null,null,null,null,null,null,null,null,null,null,null,{"$f":"Sanierungsdesign!$E$12*AH801*Sanierungsdesign!$E$10/1000000","v":37206},5724000,66.25,{"$f":"$D$5+((-Sanierungsdesign!$E$12)/4*PI()*$D$3)*(-LN((4*$D$4*AH801)/(Sanierungsdesign!$E$13^2))-$D$19)","v":3606.7716795447873},3333.6216795447872,6644.0170539114661,{"$f":"$D$3*$T$7*$AH$7*(AK801-$D$5)*(1/Sanierungsdesign!$E$15)/1000000","v":426.00627050010166},{"$f":"$D$5+(-Sanierungsdesign!$E$12/(4*PI()*$D$3))*(-LN((4*$D$4*AH801)/(Sanierungsdesign!$E$13+Sanierungsdesign!$E$15)^2)-$D$19)","v":418.66397078223957},145.5139707822396,{"$f":"(2*PI()*Sanierungsdesign!$E$10*$D$3)*(LN((Sanierungsdesign!$E$13+Sanierungsdesign!$E$15)/Sanierungsdesign!$E$13)*(AJ801-AN801))*$AH$7/1000000","v":284.63104325627199},9862.6819258366686,22260.073106613363,{"$f":"AU801/Sanierungsdesign!$E$11","v":2.4035254473186076},4579200,19.228203578548861,{"$error":"#DIV/0!"},{"$error":"#DIV/0!"},{"$error":"#DIV/0!"},{"$error":"#DIV/0!"},{"$f":"(AY801/(AH801*Sanierungsdesign!$E$10))*1000000","v":{"$error":"#DIV/0!"}},{"$f":"AZ801/Sanierungsdesign!$E$12","v":{"$error":"#DIV/0!"}},{"$f":"$D$5+((-(Sanierungsdesign!$E$12)*MIN($BA$7:$BA$932))/(4*PI()*$D$3))*(-LN((4*$D$4*AH801)/(Sanierungsdesign!$E$13)^2)-$D$19)","v":{"$error":"#DIV/0!"}},{"$f":"(BB801-273.15)/Heterogenität!$D$4","v":{"$error":"#DIV/0!"}},{"$f":"IF(AI801<Berechnung!$D$7,AI801,#N/A)","v":{"$error":"#N/A"}}]
[null,null,null,null,null,null,null,null,null,null,null,null,null,null,null,null,null,null,null,null,null,null,null,null,null,null,null,null,null,null,null,null,{"$f":"Sanierungsdesign!$E$12*AH802*Sanierungsdesign!$E$10/1000000","v":37252.800000000003},5731200,66.333333333333329,{"$f":"$D$5+((-Sanierungsdesign!$E$12)/4*PI()*$D$3)*(-LN((4*$D$4*AH802)/(Sanierungsdesign!$E$13^2))-$D$19)","v":3608.5326303288298},3335.3826303288297,6647.5393656522429,{"$f":"$D$3*$T$7*$AH$7*(AK802-$D$5)*(1/Sanierungsdesign!$E$15)/1000000","v":426.2521918377999},{"$f":"$D$5+(-Sanierungsdesign!$E$12/(4*PI()*$D$3))*(-LN((4*$D$4*AH802)/(Sanierungsdesign!$E$13+Sanierungsdesign!$E$15)^2)-$D$19)","v":418.75875570273138},145.6087557027314,{"$f":"(2*PI()*Sanierungsdesign!$E$10*$D$3)*(LN((Sanierungsdesign!$E$13+Sanierungsdesign!$E$15)/Sanierungsdesign!$E$13)*(AJ802-AN802))*$AH$7/1000000","v":284.77979686540419},9875.0878150515582,22288.073198571365,{"$f":"AU802/Sanierungsdesign!$E$11","v":2.4047996713059407},4584960,19.238397370447526,{"$error":"#DIV/0!"},{"$error":"#DIV/0!"},{"$error":"#DIV/0!"},{"$error":"#DIV/0!"},{"$f":"(AY802/(AH802*Sanierungsdesign!$E$10))*1000000","v":{"$error":"#DIV/0!"}},{"$f":"AZ802/Sanierungsdesign!$E$12","v":{"$error":"#DIV/0!"}},{"$f":"$D$5+((-(Sanierungsdesign!$E$12)*MIN($BA$7:$BA$932))/(4*PI()*$D$3))*(-LN((4*$D$4*AH802)/(Sanierungsdesign!$E$13)^2)-$D$19)","v":{"$error":"#DIV/0!"}},{"$f":"(BB802-273.15)/Heterogenität!$D$4","v":{"$error":"#DIV/0!"}},{"$f":"IF(AI802<Berechnung!$D$7,AI802,#N/A)","v":{"$error":"#N/A"}}]
[null,null,null,null,null,null,null,null,null,null,null,null,null,null,null,null,null,null,null,null,null,null,null,null,null,null,null,null,null,null,null,null,{"$f":"Sanierungsdesign!$E$12*AH803*Sanierungsdesign!$E$10/1000000","v":37299.599999999999},5738400,66.416666666666671,{"$f":"$D$5+((-Sanierungsdesign!$E$12)/4*PI()*$D$3)*(-LN((4*$D$4*AH803)/(Sanierungsdesign!$E$13^2))-$D$19)","v":3610.2913702512942},3337.1413702512941,6651.057255154893,{"$f":"$D$3*$T$7*$AH$7*(AK803-$D$5)*(1/Sanierungsdesign!$E$15)/1000000","v":426.49780442295275},{"$f":"$D$5+(-Sanierungsdesign!$E$12/(4*PI()*$D$3))*(-LN((4*$D$4*AH803)/(Sanierungsdesign!$E$13+Sanierungsdesign!$E$15)^2)-$D$19)","v":418.85342162140853},145.70342162140855,{"$f":"(2*PI()*Sanierungsdesign!$E$10*$D$3)*(LN((Sanierungsdesign!$E$13+Sanierungsdesign!$E$15)/Sanierungsdesign!$E$13)*(AJ803-AN803))*$AH$7/1000000","v":284.92836371540483},9887.493704266446,22316.07329052937,{"$f":"AU803/Sanierungsdesign!$E$11","v":2.4060722955138361},4590720,19.248578364110688,{"$error":"#DIV/0!"},{"$error":"#DIV/0!"},{"$error":"#DIV/0!"},{"$error":"#DIV/0!"},{"$f":"(AY803/(AH803*Sanierungsdesign!$E$10))*1000000","v":{"$error":"#DIV/0!"}},{"$f":"AZ803/Sanierungsdesign!$E$12","v":{"$error":"#DIV/0!"}},{"$f":"$D$5+((-(Sanierungsdesign!$E$12)*MIN($BA$7:$BA$932))/(4*PI()*$D$3))*(-LN((4*$D$4*AH803)/(Sanierungsdesign!$E$13)^2)-$D$19)","v":{"$error":"#DIV/0!"}},{"$f":"(BB803-273.15)/Heterogenität!$D$4","v":{"$error":"#DIV/0!"}},{"$f":"IF(AI803<Berechnung!$D$7,AI803,#N/A)","v":{"$error":"#N/A"}}]
[null,null,null,null,null,null,null,null,null,null,null,null,null,null,null,null,null,null,null,null,null,null,null,null,null,null,null,null,null,null,null,null,{"$f":"Sanierungsdesign!$E$12*AH804*Sanierungsdesign!$E$10/1000000","v":37346.400000000001},5745600,66.5,{"$f":"$D$5+((-Sanierungsdesign!$E$12)/4*PI()*$D$3)*(-LN((4*$D$4*AH804)/(Sanierungsdesign!$E$13^2))-$D$19)","v":3612.0479048566626},3338.8979048566625,6654.5707335096749,{"$f":"$D$3*$T$7*$AH$7*(AK804-$D$5)*(1/Sanierungsdesign!$E$15)/1000000","v":426.74310902986161},{"$f":"$D$5+(-Sanierungsdesign!$E$12/(4*PI()*$D$3))*(-LN((4*$D$4*AH804)/(Sanierungsdesign!$E$13+Sanierungsdesign!$E$15)^2)-$D$19)","v":418.94796883670824},145.79796883670826,{"$f":"(2*PI()*Sanierungsdesign!$E$10*$D$3)*(LN((Sanierungsdesign!$E$13+Sanierungsdesign!$E$15)/Sanierungsdesign!$E$13)*(AJ804-AN804))*$AH$7/1000000","v":285.07674427463553},9899.8995934813356,22344.073382487375,{"$f":"AU804/Sanierungsdesign!$E$11","v":2.4073433239542807},4596480,19.258746591634246,{"$error":"#DIV/0!"},{"$error":"#DIV/0!"},{"$error":"#DIV/0!"},{"$error":"#DIV/0!"},{"$f":"(AY804/(AH804*Sanierungsdesign!$E$10))*1000000","v":{"$error":"#DIV/0!"}},{"$f":"AZ804/Sanierungsdesign!$E$12","v":{"$error":"#DIV/0!"}},{"$f":"$D$5+((-(Sanierungsdesign!$E$12)*MIN($BA$7:$BA$932))/(4*PI()*$D$3))*(-LN((4*$D$4*AH804)/(Sanierungsdesign!$E$13)^2)-$D$19)","v":{"$error":"#DIV/0!"}},{"$f":"(BB804-273.15)/Heterogenität!$D$4","v":{"$error":"#DIV/0!"}},{"$f":"IF(AI804<Berechnung!$D$7,AI804,#N/A)","v":{"$error":"#N/A"}}]
[null,null,null,null,null,null,null,null,null,null,null,null,null,null,null,null,null,null,null,null,null,null,null,null,null,null,null,null,null,null,null,null,{"$f":"Sanierungsdesign!$E$12*AH805*Sanierungsdesign!$E$10/1000000","v":37393.199999999997},5752800,66.583333333333329,{"$f":"$D$5+((-Sanierungsdesign!$E$12)/4*PI()*$D$3)*(-LN((4*$D$4*AH805)/(Sanierungsdesign!$E$13^2))-$D$19)","v":3613.8022396685878},3340.6522396685878,6658.0798117651784,{"$f":"$D$3*$T$7*$AH$7*(AK805-$D$5)*(1/Sanierungsdesign!$E$15)/1000000","v":426.9881064299189},{"$f":"$D$5+(-Sanierungsdesign!$E$12/(4*PI()*$D$3))*(-LN((4*$D$4*AH805)/(Sanierungsdesign!$E$13+Sanierungsdesign!$E$15)^2)-$D$19)","v":419.04239764594649},145.89239764594652,{"$f":"(2*PI()*Sanierungsdesign!$E$10*$D$3)*(LN((Sanierungsdesign!$E$13+Sanierungsdesign!$E$15)/Sanierungsdesign!$E$13)*(AJ805-AN805))*$AH$7/1000000","v":285.22493900969846},9912.3054826962252,22372.07347444538,{"$f":"AU805/Sanierungsdesign!$E$11","v":2.4086127606241901},4602240,19.26890208499352,{"$error":"#DIV/0!"},{"$error":"#DIV/0!"},{"$error":"#DIV/0!"},{"$error":"#DIV/0!"},{"$f":"(AY805/(AH805*Sanierungsdesign!$E$10))*1000000","v":{"$error":"#DIV/0!"}},{"$f":"AZ805/Sanierungsdesign!$E$12","v":{"$error":"#DIV/0!"}},{"$f":"$D$5+((-(Sanierungsdesign!$E$12)*MIN($BA$7:$BA$932))/(4*PI()*$D$3))*(-LN((4*$D$4*AH805)/(Sanierungsdesign!$E$13)^2)-$D$19)","v":{"$error":"#DIV/0!"}},{"$f":"(BB805-273.15)/Heterogenität!$D$4","v":{"$error":"#DIV/0!"}},{"$f":"IF(AI805<Berechnung!$D$7,AI805,#N/A)","v":{"$error":"#N/A"}}]
[null,null,null,null,null,null,null,null,null,null,null,null,null,null,null,null,null,null,null,null,null,null,null,null,null,null,null,null,null,null,null,null,{"$f":"Sanierungsdesign!$E$12*AH806*Sanierungsdesign!$E$10/1000000","v":37440},5760000,66.666666666666671,{"$f":"$D$5+((-Sanierungsdesign!$E$12)/4*PI()*$D$3)*(-LN((4*$D$4*AH806)/(Sanierungsdesign!$E$13^2))-$D$19)","v":3615.5543801899939},3342.4043801899938,6661.5845009285358,{"$f":"$D$3*$T$7*$AH$7*(AK806-$D$5)*(1/Sanierungsdesign!$E$15)/1000000","v":427.23279739162211},{"$f":"$D$5+(-Sanierungsdesign!$E$12/(4*PI()*$D$3))*(-LN((4*$D$4*AH806)/(Sanierungsdesign!$E$13+Sanierungsdesign!$E$15)^2)-$D$19)","v":419.13670834532377},145.98670834532379,{"$f":"(2*PI()*Sanierungsdesign!$E$10*$D$3)*(LN((Sanierungsdesign!$E$13+Sanierungsdesign!$E$15)/Sanierungsdesign!$E$13)*(AJ806-AN806))*$AH$7/1000000","v":285.3729483854446},9924.711371911113,22400.073566403382,{"$f":"AU806/Sanierungsdesign!$E$11","v":2.4098806095054792},4608000,19.279044876043834,{"$error":"#DIV/0!"},{"$error":"#DIV/0!"},{"$error":"#DIV/0!"},{"$error":"#DIV/0!"},{"$f":"(AY806/(AH806*Sanierungsdesign!$E$10))*1000000","v":{"$error":"#DIV/0!"}},{"$f":"AZ806/Sanierungsdesign!$E$12","v":{"$error":"#DIV/0!"}},{"$f":"$D$5+((-(Sanierungsdesign!$E$12)*MIN($BA$7:$BA$932))/(4*PI()*$D$3))*(-LN((4*$D$4*AH806)/(Sanierungsdesign!$E$13)^2)-$D$19)","v":{"$error":"#DIV/0!"}},{"$f":"(BB806-273.15)/Heterogenität!$D$4","v":{"$error":"#DIV/0!"}},{"$f":"IF(AI806<Berechnung!$D$7,AI806,#N/A)","v":{"$error":"#N/A"}}]
[null,null,null,null,null,null,null,null,null,null,null,null,null,null,null,null,null,null,null,null,null,null,null,null,null,null,null,null,null,null,null,null,{"$f":"Sanierungsdesign!$E$12*AH807*Sanierungsdesign!$E$10/1000000","v":37486.800000000003},5767200,66.75,{"$f":"$D$5+((-Sanierungsdesign!$E$12)/4*PI()*$D$3)*(-LN((4*$D$4*AH807)/(Sanierungsdesign!$E$13^2))-$D$19)","v":3617.3043319031835},3344.1543319031834,6665.0848119656266,{"$f":"$D$3*$T$7*$AH$7*(AK807-$D$5)*(1/Sanierungsdesign!$E$15)/1000000","v":427.47718268058912},{"$f":"$D$5+(-Sanierungsdesign!$E$12/(4*PI()*$D$3))*(-LN((4*$D$4*AH807)/(Sanierungsdesign!$E$13+Sanierungsdesign!$E$15)^2)-$D$19)","v":419.2309012299304},146.08090122993042,{"$f":"(2*PI()*Sanierungsdesign!$E$10*$D$3)*(LN((Sanierungsdesign!$E$13+Sanierungsdesign!$E$15)/Sanierungsdesign!$E$13)*(AJ807-AN807))*$AH$7/1000000","v":285.52077286498309},9937.1172611260026,22428.073658361391,{"$f":"AU807/Sanierungsdesign!$E$11","v":2.411146874565143},4613760,19.289174996521144,{"$error":"#DIV/0!"},{"$error":"#DIV/0!"},{"$error":"#DIV/0!"},{"$error":"#DIV/0!"},{"$f":"(AY807/(AH807*Sanierungsdesign!$E$10))*1000000","v":{"$error":"#DIV/0!"}},{"$f":"AZ807/Sanierungsdesign!$E$12","v":{"$error":"#DIV/0!"}},{"$f":"$D$5+((-(Sanierungsdesign!$E$12)*MIN($BA$7:$BA$932))/(4*PI()*$D$3))*(-LN((4*$D$4*AH807)/(Sanierungsdesign!$E$13)^2)-$D$19)","v":{"$error":"#DIV/0!"}},{"$f":"(BB807-273.15)/Heterogenität!$D$4","v":{"$error":"#DIV/0!"}},{"$f":"IF(AI807<Berechnung!$D$7,AI807,#N/A)","v":{"$error":"#N/A"}}]
[null,null,null,null,null,null,null,null,null,null,null,null,null,null,null,null,null,null,null,null,null,null,null,null,null,null,null,null,null,null,null,null,{"$f":"Sanierungsdesign!$E$12*AH808*Sanierungsdesign!$E$10/1000000","v":37533.599999999999},5774400,66.833333333333329,{"$f":"$D$5+((-Sanierungsdesign!$E$12)/4*PI()*$D$3)*(-LN((4*$D$4*AH808)/(Sanierungsdesign!$E$13^2))-$D$19)","v":3619.0521002699388},3345.9021002699387,6668.5807558012903,{"$f":"$D$3*$T$7*$AH$7*(AK808-$D$5)*(1/Sanierungsdesign!$E$15)/1000000","v":427.72126305957192},{"$f":"$D$5+(-Sanierungsdesign!$E$12/(4*PI()*$D$3))*(-LN((4*$D$4*AH808)/(Sanierungsdesign!$E$13+Sanierungsdesign!$E$15)^2)-$D$19)","v":419.32497659375213},146.17497659375215,{"$f":"(2*PI()*Sanierungsdesign!$E$10*$D$3)*(LN((Sanierungsdesign!$E$13+Sanierungsdesign!$E$15)/Sanierungsdesign!$E$13)*(AJ808-AN808))*$AH$7/1000000","v":285.66841290968949},9949.5231503408904,22456.073750319389,{"$f":"AU808/Sanierungsdesign!$E$11","v":2.4124115597553271},4619520,19.299292478042616,{"$error":"#DIV/0!"},{"$error":"#DIV/0!"},{"$error":"#DIV/0!"},{"$error":"#DIV/0!"},{"$f":"(AY808/(AH808*Sanierungsdesign!$E$10))*1000000","v":{"$error":"#DIV/0!"}},{"$f":"AZ808/Sanierungsdesign!$E$12","v":{"$error":"#DIV/0!"}},{"$f":"$D$5+((-(Sanierungsdesign!$E$12)*MIN($BA$7:$BA$932))/(4*PI()*$D$3))*(-LN((4*$D$4*AH808)/(Sanierungsdesign!$E$13)^2)-$D$19)","v":{"$error":"#DIV/0!"}},{"$f":"(BB808-273.15)/Heterogenität!$D$4","v":{"$error":"#DIV/0!"}},{"$f":"IF(AI808<Berechnung!$D$7,AI808,#N/A)","v":{"$error":"#N/A"}}]
[null,null,null,null,null,null,null,null,null,null,null,null,null,null,null,null,null,null,null,null,null,null,null,null,null,null,null,null,null,null,null,null,{"$f":"Sanierungsdesign!$E$12*AH809*Sanierungsdesign!$E$10/1000000","v":37580.400000000001},5781600,66.916666666666671,{"$f":"$D$5+((-Sanierungsdesign!$E$12)/4*PI()*$D$3)*(-LN((4*$D$4*AH809)/(Sanierungsdesign!$E$13^2))-$D$19)","v":3620.7976907316233},3347.6476907316232,6672.072343319519,{"$f":"$D$3*$T$7*$AH$7*(AK809-$D$5)*(1/Sanierungsdesign!$E$15)/1000000","v":427.9650392884709},{"$f":"$D$5+(-Sanierungsdesign!$E$12/(4*PI()*$D$3))*(-LN((4*$D$4*AH809)/(Sanierungsdesign!$E$13+Sanierungsdesign!$E$15)^2)-$D$19)","v":419.41893472967587},146.26893472967589,{"$f":"(2*PI()*Sanierungsdesign!$E$10*$D$3)*(LN((Sanierungsdesign!$E$13+Sanierungsdesign!$E$15)/Sanierungsdesign!$E$13)*(AJ809-AN809))*$AH$7/1000000","v":285.81586897921466},9961.92903955578,22484.073842277397,{"$f":"AU809/Sanierungsdesign!$E$11","v":2.4136746690134023},4625280,19.309397352107219,{"$error":"#DIV/0!"},{"$error":"#DIV/0!"},{"$error":"#DIV/0!"},{"$error":"#DIV/0!"},{"$f":"(AY809/(AH809*Sanierungsdesign!$E$10))*1000000","v":{"$error":"#DIV/0!"}},{"$f":"AZ809/Sanierungsdesign!$E$12","v":{"$error":"#DIV/0!"}},{"$f":"$D$5+((-(Sanierungsdesign!$E$12)*MIN($BA$7:$BA$932))/(4*PI()*$D$3))*(-LN((4*$D$4*AH809)/(Sanierungsdesign!$E$13)^2)-$D$19)","v":{"$error":"#DIV/0!"}},{"$f":"(BB809-273.15)/Heterogenität!$D$4","v":{"$error":"#DIV/0!"}},{"$f":"IF(AI809<Berechnung!$D$7,AI809,#N/A)","v":{"$error":"#N/A"}}]
[null,null,null,null,null,null,null,null,null,null,null,null,null,null,null,null,null,null,null,null,null,null,null,null,null,null,null,null,null,null,null,null,{"$f":"Sanierungsdesign!$E$12*AH810*Sanierungsdesign!$E$10/1000000","v":37627.199999999997},5788800,67,{"$f":"$D$5+((-Sanierungsdesign!$E$12)/4*PI()*$D$3)*(-LN((4*$D$4*AH810)/(Sanierungsdesign!$E$13^2))-$D$19)","v":3622.5411087092848},3349.3911087092847,6675.5595853636723,{"$f":"$D$3*$T$7*$AH$7*(AK810-$D$5)*(1/Sanierungsdesign!$E$15)/1000000","v":428.20851212434968},{"$f":"$D$5+(-Sanierungsdesign!$E$12/(4*PI()*$D$3))*(-LN((4*$D$4*AH810)/(Sanierungsdesign!$E$13+Sanierungsdesign!$E$15)^2)-$D$19)","v":419.51277592949481},146.36277592949483,{"$f":"(2*PI()*Sanierungsdesign!$E$10*$D$3)*(LN((Sanierungsdesign!$E$13+Sanierungsdesign!$E$15)/Sanierungsdesign!$E$13)*(AJ810-AN810))*$AH$7/1000000","v":285.96314153149336},9974.3349287706696,22512.073934235403,{"$f":"AU810/Sanierungsdesign!$E$11","v":2.4149362062620381},4631040,19.319489650096305,{"$error":"#DIV/0!"},{"$error":"#DIV/0!"},{"$error":"#DIV/0!"},{"$error":"#DIV/0!"},{"$f":"(AY810/(AH810*Sanierungsdesign!$E$10))*1000000","v":{"$error":"#DIV/0!"}},{"$f":"AZ810/Sanierungsdesign!$E$12","v":{"$error":"#DIV/0!"}},{"$f":"$D$5+((-(Sanierungsdesign!$E$12)*MIN($BA$7:$BA$932))/(4*PI()*$D$3))*(-LN((4*$D$4*AH810)/(Sanierungsdesign!$E$13)^2)-$D$19)","v":{"$error":"#DIV/0!"}},{"$f":"(BB810-273.15)/Heterogenität!$D$4","v":{"$error":"#DIV/0!"}},{"$f":"IF(AI810<Berechnung!$D$7,AI810,#N/A)","v":{"$error":"#N/A"}}]
[null,null,null,null,null,null,null,null,null,null,null,null,null,null,null,null,null,null,null,null,null,null,null,null,null,null,null,null,null,null,null,null,{"$f":"Sanierungsdesign!$E$12*AH811*Sanierungsdesign!$E$10/1000000","v":37674},5796000,67.083333333333329,{"$f":"$D$5+((-Sanierungsdesign!$E$12)/4*PI()*$D$3)*(-LN((4*$D$4*AH811)/(Sanierungsdesign!$E$13^2))-$D$19)","v":3624.2823596037547},3351.1323596037546,6679.0424927366694,{"$f":"$D$3*$T$7*$AH$7*(AK811-$D$5)*(1/Sanierungsdesign!$E$15)/1000000","v":428.45168232144806},{"$f":"$D$5+(-Sanierungsdesign!$E$12/(4*PI()*$D$3))*(-LN((4*$D$4*AH811)/(Sanierungsdesign!$E$13+Sanierungsdesign!$E$15)^2)-$D$19)","v":419.60650048391409},146.45650048391411,{"$f":"(2*PI()*Sanierungsdesign!$E$10*$D$3)*(LN((Sanierungsdesign!$E$13+Sanierungsdesign!$E$15)/Sanierungsdesign!$E$13)*(AJ811-AN811))*$AH$7/1000000","v":286.11023102275226},9986.7408179855574,22540.074026193401,{"$f":"AU811/Sanierungsdesign!$E$11","v":2.4161961754092767},4636800,19.329569403274213,{"$error":"#DIV/0!"},{"$error":"#DIV/0!"},{"$error":"#DIV/0!"},{"$error":"#DIV/0!"},{"$f":"(AY811/(AH811*Sanierungsdesign!$E$10))*1000000","v":{"$error":"#DIV/0!"}},{"$f":"AZ811/Sanierungsdesign!$E$12","v":{"$error":"#DIV/0!"}},{"$f":"$D$5+((-(Sanierungsdesign!$E$12)*MIN($BA$7:$BA$932))/(4*PI()*$D$3))*(-LN((4*$D$4*AH811)/(Sanierungsdesign!$E$13)^2)-$D$19)","v":{"$error":"#DIV/0!"}},{"$f":"(BB811-273.15)/Heterogenität!$D$4","v":{"$error":"#DIV/0!"}},{"$f":"IF(AI811<Berechnung!$D$7,AI811,#N/A)","v":{"$error":"#N/A"}}]
[null,null,null,null,null,null,null,null,null,null,null,null,null,null,null,null,null,null,null,null,null,null,null,null,null,null,null,null,null,null,null,null,{"$f":"Sanierungsdesign!$E$12*AH812*Sanierungsdesign!$E$10/1000000","v":37720.800000000003},5803200,67.166666666666671,{"$f":"$D$5+((-Sanierungsdesign!$E$12)/4*PI()*$D$3)*(-LN((4*$D$4*AH812)/(Sanierungsdesign!$E$13^2))-$D$19)","v":3626.0214487957519},3352.8714487957518,6682.5210762012039,{"$f":"$D$3*$T$7*$AH$7*(AK812-$D$5)*(1/Sanierungsdesign!$E$15)/1000000","v":428.69455063119756},{"$f":"$D$5+(-Sanierungsdesign!$E$12/(4*PI()*$D$3))*(-LN((4*$D$4*AH812)/(Sanierungsdesign!$E$13+Sanierungsdesign!$E$15)^2)-$D$19)","v":419.70010868255622},146.55010868255624,{"$f":"(2*PI()*Sanierungsdesign!$E$10*$D$3)*(LN((Sanierungsdesign!$E$13+Sanierungsdesign!$E$15)/Sanierungsdesign!$E$13)*(AJ812-AN812))*$AH$7/1000000","v":286.25713790751962},9999.1467072004471,22568.074118151409,{"$f":"AU812/Sanierungsdesign!$E$11","v":2.4174545803486058},4642560,19.339636642788847,{"$error":"#DIV/0!"},{"$error":"#DIV/0!"},{"$error":"#DIV/0!"},{"$error":"#DIV/0!"},{"$f":"(AY812/(AH812*Sanierungsdesign!$E$10))*1000000","v":{"$error":"#DIV/0!"}},{"$f":"AZ812/Sanierungsdesign!$E$12","v":{"$error":"#DIV/0!"}},{"$f":"$D$5+((-(Sanierungsdesign!$E$12)*MIN($BA$7:$BA$932))/(4*PI()*$D$3))*(-LN((4*$D$4*AH812)/(Sanierungsdesign!$E$13)^2)-$D$19)","v":{"$error":"#DIV/0!"}},{"$f":"(BB812-273.15)/Heterogenität!$D$4","v":{"$error":"#DIV/0!"}},{"$f":"IF(AI812<Berechnung!$D$7,AI812,#N/A)","v":{"$error":"#N/A"}}]
[null,null,null,null,null,null,null,null,null,null,null,null,null,null,null,null,null,null,null,null,null,null,null,null,null,null,null,null,null,null,null,null,{"$f":"Sanierungsdesign!$E$12*AH813*Sanierungsdesign!$E$10/1000000","v":37767.599999999999},5810400,67.25,{"$f":"$D$5+((-Sanierungsdesign!$E$12)/4*PI()*$D$3)*(-LN((4*$D$4*AH813)/(Sanierungsdesign!$E$13^2))-$D$19)","v":3627.7583816459792},3354.6083816459791,6685.9953464799291,{"$f":"$D$3*$T$7*$AH$7*(AK813-$D$5)*(1/Sanierungsdesign!$E$15)/1000000","v":428.93711780223418},{"$f":"$D$5+(-Sanierungsdesign!$E$12/(4*PI()*$D$3))*(-LN((4*$D$4*AH813)/(Sanierungsdesign!$E$13+Sanierungsdesign!$E$15)^2)-$D$19)","v":419.79360081396635},146.64360081396637,{"$f":"(2*PI()*Sanierungsdesign!$E$10*$D$3)*(LN((Sanierungsdesign!$E$13+Sanierungsdesign!$E$15)/Sanierungsdesign!$E$13)*(AJ813-AN813))*$AH$7/1000000","v":286.4038626386324},10011.552596415337,22596.074210109415,{"$f":"AU813/Sanierungsdesign!$E$11","v":2.4187114249590298},4648320,19.349691399672238,{"$error":"#DIV/0!"},{"$error":"#DIV/0!"},{"$error":"#DIV/0!"},{"$error":"#DIV/0!"},{"$f":"(AY813/(AH813*Sanierungsdesign!$E$10))*1000000","v":{"$error":"#DIV/0!"}},{"$f":"AZ813/Sanierungsdesign!$E$12","v":{"$error":"#DIV/0!"}},{"$f":"$D$5+((-(Sanierungsdesign!$E$12)*MIN($BA$7:$BA$932))/(4*PI()*$D$3))*(-LN((4*$D$4*AH813)/(Sanierungsdesign!$E$13)^2)-$D$19)","v":{"$error":"#DIV/0!"}},{"$f":"(BB813-273.15)/Heterogenität!$D$4","v":{"$error":"#DIV/0!"}},{"$f":"IF(AI813<Berechnung!$D$7,AI813,#N/A)","v":{"$error":"#N/A"}}]
[null,null,null,null,null,null,null,null,null,null,null,null,null,null,null,null,null,null,null,null,null,null,null,null,null,null,null,null,null,null,null,null,{"$f":"Sanierungsdesign!$E$12*AH814*Sanierungsdesign!$E$10/1000000","v":37814.400000000001},5817600,67.333333333333329,{"$f":"$D$5+((-Sanierungsdesign!$E$12)/4*PI()*$D$3)*(-LN((4*$D$4*AH814)/(Sanierungsdesign!$E$13^2))-$D$19)","v":3629.4931634952218},3356.3431634952217,6689.4653142556581,{"$f":"$D$3*$T$7*$AH$7*(AK814-$D$5)*(1/Sanierungsdesign!$E$15)/1000000","v":429.17938458041232},{"$f":"$D$5+(-Sanierungsdesign!$E$12/(4*PI()*$D$3))*(-LN((4*$D$4*AH814)/(Sanierungsdesign!$E$13+Sanierungsdesign!$E$15)^2)-$D$19)","v":419.88697716561751},146.73697716561753,{"$f":"(2*PI()*Sanierungsdesign!$E$10*$D$3)*(LN((Sanierungsdesign!$E$13+Sanierungsdesign!$E$15)/Sanierungsdesign!$E$13)*(AJ814-AN814))*$AH$7/1000000","v":286.55040566724529},10023.958485630224,22624.074302067416,{"$f":"AU814/Sanierungsdesign!$E$11","v":2.4199667131051421},4654080,19.359733704841137,{"$error":"#DIV/0!"},{"$error":"#DIV/0!"},{"$error":"#DIV/0!"},{"$error":"#DIV/0!"},{"$f":"(AY814/(AH814*Sanierungsdesign!$E$10))*1000000","v":{"$error":"#DIV/0!"}},{"$f":"AZ814/Sanierungsdesign!$E$12","v":{"$error":"#DIV/0!"}},{"$f":"$D$5+((-(Sanierungsdesign!$E$12)*MIN($BA$7:$BA$932))/(4*PI()*$D$3))*(-LN((4*$D$4*AH814)/(Sanierungsdesign!$E$13)^2)-$D$19)","v":{"$error":"#DIV/0!"}},{"$f":"(BB814-273.15)/Heterogenität!$D$4","v":{"$error":"#DIV/0!"}},{"$f":"IF(AI814<Berechnung!$D$7,AI814,#N/A)","v":{"$error":"#N/A"}}]
[null,null,null,null,null,null,null,null,null,null,null,null,null,null,null,null,null,null,null,null,null,null,null,null,null,null,null,null,null,null,null,null,{"$f":"Sanierungsdesign!$E$12*AH815*Sanierungsdesign!$E$10/1000000","v":37861.199999999997},5824800,67.416666666666671,{"$f":"$D$5+((-Sanierungsdesign!$E$12)/4*PI()*$D$3)*(-LN((4*$D$4*AH815)/(Sanierungsdesign!$E$13^2))-$D$19)","v":3631.2257996644503},3358.0757996644502,6692.9309901715724,{"$f":"$D$3*$T$7*$AH$7*(AK815-$D$5)*(1/Sanierungsdesign!$E$15)/1000000","v":429.42135170881943},{"$f":"$D$5+(-Sanierungsdesign!$E$12/(4*PI()*$D$3))*(-LN((4*$D$4*AH815)/(Sanierungsdesign!$E$13+Sanierungsdesign!$E$15)^2)-$D$19)","v":419.98023802391617},146.83023802391619,{"$f":"(2*PI()*Sanierungsdesign!$E$10*$D$3)*(LN((Sanierungsdesign!$E$13+Sanierungsdesign!$E$15)/Sanierungsdesign!$E$13)*(AJ815-AN815))*$AH$7/1000000","v":286.69676744283896},10036.364374845114,22652.074394025421,{"$f":"AU815/Sanierungsdesign!$E$11","v":2.4212204486371958},4659840,19.369763589097566,{"$error":"#DIV/0!"},{"$error":"#DIV/0!"},{"$error":"#DIV/0!"},{"$error":"#DIV/0!"},{"$f":"(AY815/(AH815*Sanierungsdesign!$E$10))*1000000","v":{"$error":"#DIV/0!"}},{"$f":"AZ815/Sanierungsdesign!$E$12","v":{"$error":"#DIV/0!"}},{"$f":"$D$5+((-(Sanierungsdesign!$E$12)*MIN($BA$7:$BA$932))/(4*PI()*$D$3))*(-LN((4*$D$4*AH815)/(Sanierungsdesign!$E$13)^2)-$D$19)","v":{"$error":"#DIV/0!"}},{"$f":"(BB815-273.15)/Heterogenität!$D$4","v":{"$error":"#DIV/0!"}},{"$f":"IF(AI815<Berechnung!$D$7,AI815,#N/A)","v":{"$error":"#N/A"}}]
[null,null,null,null,null,null,null,null,null,null,null,null,null,null,null,null,null,null,null,null,null,null,null,null,null,null,null,null,null,null,null,null,{"$f":"Sanierungsdesign!$E$12*AH816*Sanierungsdesign!$E$10/1000000","v":37908},5832000,67.5,{"$f":"$D$5+((-Sanierungsdesign!$E$12)/4*PI()*$D$3)*(-LN((4*$D$4*AH816)/(Sanierungsdesign!$E$13^2))-$D$19)","v":3632.9562954549137},3359.8062954549137,6696.3923848314043,{"$f":"$D$3*$T$7*$AH$7*(AK816-$D$5)*(1/Sanierungsdesign!$E$15)/1000000","v":429.66301992778864},{"$f":"$D$5+(-Sanierungsdesign!$E$12/(4*PI()*$D$3))*(-LN((4*$D$4*AH816)/(Sanierungsdesign!$E$13+Sanierungsdesign!$E$15)^2)-$D$19)","v":420.07338367420743},146.92338367420746,{"$f":"(2*PI()*Sanierungsdesign!$E$10*$D$3)*(LN((Sanierungsdesign!$E$13+Sanierungsdesign!$E$15)/Sanierungsdesign!$E$13)*(AJ816-AN816))*$AH$7/1000000","v":286.84294841322844},10048.770264060002,22680.074485983427,{"$f":"AU816/Sanierungsdesign!$E$11","v":2.4224726353911752},4665600,19.379781083129402,{"$error":"#DIV/0!"},{"$error":"#DIV/0!"},{"$error":"#DIV/0!"},{"$error":"#DIV/0!"},{"$f":"(AY816/(AH816*Sanierungsdesign!$E$10))*1000000","v":{"$error":"#DIV/0!"}},{"$f":"AZ816/Sanierungsdesign!$E$12","v":{"$error":"#DIV/0!"}},{"$f":"$D$5+((-(Sanierungsdesign!$E$12)*MIN($BA$7:$BA$932))/(4*PI()*$D$3))*(-LN((4*$D$4*AH816)/(Sanierungsdesign!$E$13)^2)-$D$19)","v":{"$error":"#DIV/0!"}},{"$f":"(BB816-273.15)/Heterogenität!$D$4","v":{"$error":"#DIV/0!"}},{"$f":"IF(AI816<Berechnung!$D$7,AI816,#N/A)","v":{"$error":"#N/A"}}]
[null,null,null,null,null,null,null,null,null,null,null,null,null,null,null,null,null,null,null,null,null,null,null,null,null,null,null,null,null,null,null,null,{"$f":"Sanierungsdesign!$E$12*AH817*Sanierungsdesign!$E$10/1000000","v":37954.800000000003},5839200,67.583333333333329,{"$f":"$D$5+((-Sanierungsdesign!$E$12)/4*PI()*$D$3)*(-LN((4*$D$4*AH817)/(Sanierungsdesign!$E$13^2))-$D$19)","v":3634.6846561482407},3361.5346561482406,6699.8495087996434,{"$f":"$D$3*$T$7*$AH$7*(AK817-$D$5)*(1/Sanierungsdesign!$E$15)/1000000","v":429.90438997491293},{"$f":"$D$5+(-Sanierungsdesign!$E$12/(4*PI()*$D$3))*(-LN((4*$D$4*AH817)/(Sanierungsdesign!$E$13+Sanierungsdesign!$E$15)^2)-$D$19)","v":420.16641440078007},147.01641440078009,{"$f":"(2*PI()*Sanierungsdesign!$E$10*$D$3)*(LN((Sanierungsdesign!$E$13+Sanierungsdesign!$E$15)/Sanierungsdesign!$E$13)*(AJ817-AN817))*$AH$7/1000000","v":286.98894902457113},10061.176153274891,22708.074577941428,{"$f":"AU817/Sanierungsdesign!$E$11","v":2.4237232771888664},4671360,19.389786217510931,{"$error":"#DIV/0!"},{"$error":"#DIV/0!"},{"$error":"#DIV/0!"},{"$error":"#DIV/0!"},{"$f":"(AY817/(AH817*Sanierungsdesign!$E$10))*1000000","v":{"$error":"#DIV/0!"}},{"$f":"AZ817/Sanierungsdesign!$E$12","v":{"$error":"#DIV/0!"}},{"$f":"$D$5+((-(Sanierungsdesign!$E$12)*MIN($BA$7:$BA$932))/(4*PI()*$D$3))*(-LN((4*$D$4*AH817)/(Sanierungsdesign!$E$13)^2)-$D$19)","v":{"$error":"#DIV/0!"}},{"$f":"(BB817-273.15)/Heterogenität!$D$4","v":{"$error":"#DIV/0!"}},{"$f":"IF(AI817<Berechnung!$D$7,AI817,#N/A)","v":{"$error":"#N/A"}}]
[null,null,null,null,null,null,null,null,null,null,null,null,null,null,null,null,null,null,null,null,null,null,null,null,null,null,null,null,null,null,null,null,{"$f":"Sanierungsdesign!$E$12*AH818*Sanierungsdesign!$E$10/1000000","v":38001.599999999999},5846400,67.666666666666671,{"$f":"$D$5+((-Sanierungsdesign!$E$12)/4*PI()*$D$3)*(-LN((4*$D$4*AH818)/(Sanierungsdesign!$E$13^2))-$D$19)","v":3636.4108870065315},3363.2608870065314,6703.3023726017145,{"$f":"$D$3*$T$7*$AH$7*(AK818-$D$5)*(1/Sanierungsdesign!$E$15)/1000000","v":430.1454625850584},{"$f":"$D$5+(-Sanierungsdesign!$E$12/(4*PI()*$D$3))*(-LN((4*$D$4*AH818)/(Sanierungsdesign!$E$13+Sanierungsdesign!$E$15)^2)-$D$19)","v":420.25933048687193},147.10933048687195,{"$f":"(2*PI()*Sanierungsdesign!$E$10*$D$3)*(LN((Sanierungsdesign!$E$13+Sanierungsdesign!$E$15)/Sanierungsdesign!$E$13)*(AJ818-AN818))*$AH$7/1000000","v":287.13476972137477},10073.582042489781,22736.074669899437,{"$f":"AU818/Sanierungsdesign!$E$11","v":2.4249723778379257},4677120,19.399779022703406,{"$error":"#DIV/0!"},{"$error":"#DIV/0!"},{"$error":"#DIV/0!"},{"$error":"#DIV/0!"},{"$f":"(AY818/(AH818*Sanierungsdesign!$E$10))*1000000","v":{"$error":"#DIV/0!"}},{"$f":"AZ818/Sanierungsdesign!$E$12","v":{"$error":"#DIV/0!"}},{"$f":"$D$5+((-(Sanierungsdesign!$E$12)*MIN($BA$7:$BA$932))/(4*PI()*$D$3))*(-LN((4*$D$4*AH818)/(Sanierungsdesign!$E$13)^2)-$D$19)","v":{"$error":"#DIV/0!"}},{"$f":"(BB818-273.15)/Heterogenität!$D$4","v":{"$error":"#DIV/0!"}},{"$f":"IF(AI818<Berechnung!$D$7,AI818,#N/A)","v":{"$error":"#N/A"}}]
[null,null,null,null,null,null,null,null,null,null,null,null,null,null,null,null,null,null,null,null,null,null,null,null,null,null,null,null,null,null,null,null,{"$f":"Sanierungsdesign!$E$12*AH819*Sanierungsdesign!$E$10/1000000","v":38048.400000000001},5853600,67.75,{"$f":"$D$5+((-Sanierungsdesign!$E$12)/4*PI()*$D$3)*(-LN((4*$D$4*AH819)/(Sanierungsdesign!$E$13^2))-$D$19)","v":3638.1349932724602},3364.9849932724601,6706.7509867241852,{"$f":"$D$3*$T$7*$AH$7*(AK819-$D$5)*(1/Sanierungsdesign!$E$15)/1000000","v":430.38623849037793},{"$f":"$D$5+(-Sanierungsdesign!$E$12/(4*PI()*$D$3))*(-LN((4*$D$4*AH819)/(Sanierungsdesign!$E$13+Sanierungsdesign!$E$15)^2)-$D$19)","v":420.35213221467518},147.2021322146752,{"$f":"(2*PI()*Sanierungsdesign!$E$10*$D$3)*(LN((Sanierungsdesign!$E$13+Sanierungsdesign!$E$15)/Sanierungsdesign!$E$13)*(AJ819-AN819))*$AH$7/1000000","v":287.28041094650621},10085.987931704669,22764.074761857439,{"$f":"AU819/Sanierungsdesign!$E$11","v":2.4262199411319516},4682880,19.409759529055613,{"$error":"#DIV/0!"},{"$error":"#DIV/0!"},{"$error":"#DIV/0!"},{"$error":"#DIV/0!"},{"$f":"(AY819/(AH819*Sanierungsdesign!$E$10))*1000000","v":{"$error":"#DIV/0!"}},{"$f":"AZ819/Sanierungsdesign!$E$12","v":{"$error":"#DIV/0!"}},{"$f":"$D$5+((-(Sanierungsdesign!$E$12)*MIN($BA$7:$BA$932))/(4*PI()*$D$3))*(-LN((4*$D$4*AH819)/(Sanierungsdesign!$E$13)^2)-$D$19)","v":{"$error":"#DIV/0!"}},{"$f":"(BB819-273.15)/Heterogenität!$D$4","v":{"$error":"#DIV/0!"}},{"$f":"IF(AI819<Berechnung!$D$7,AI819,#N/A)","v":{"$error":"#N/A"}}]
[null,null,null,null,null,null,null,null,null,null,null,null,null,null,null,null,null,null,null,null,null,null,null,null,null,null,null,null,null,null,null,null,{"$f":"Sanierungsdesign!$E$12*AH820*Sanierungsdesign!$E$10/1000000","v":38095.199999999997},5860800,67.833333333333329,{"$f":"$D$5+((-Sanierungsdesign!$E$12)/4*PI()*$D$3)*(-LN((4*$D$4*AH820)/(Sanierungsdesign!$E$13^2))-$D$19)","v":3639.8569801693652},3366.7069801693651,6710.1953616149522,{"$f":"$D$3*$T$7*$AH$7*(AK820-$D$5)*(1/Sanierungsdesign!$E$15)/1000000","v":430.62671842032444},{"$f":"$D$5+(-Sanierungsdesign!$E$12/(4*PI()*$D$3))*(-LN((4*$D$4*AH820)/(Sanierungsdesign!$E$13+Sanierungsdesign!$E$15)^2)-$D$19)","v":420.44481986534106},147.29481986534108,{"$f":"(2*PI()*Sanierungsdesign!$E$10*$D$3)*(LN((Sanierungsdesign!$E$13+Sanierungsdesign!$E$15)/Sanierungsdesign!$E$13)*(AJ820-AN820))*$AH$7/1000000","v":287.42587314119902},10098.393820919558,22792.074853815444,{"$f":"AU820/Sanierungsdesign!$E$11","v":2.4274659708505526},4688640,19.419727766804421,{"$error":"#DIV/0!"},{"$error":"#DIV/0!"},{"$error":"#DIV/0!"},{"$error":"#DIV/0!"},{"$f":"(AY820/(AH820*Sanierungsdesign!$E$10))*1000000","v":{"$error":"#DIV/0!"}},{"$f":"AZ820/Sanierungsdesign!$E$12","v":{"$error":"#DIV/0!"}},{"$f":"$D$5+((-(Sanierungsdesign!$E$12)*MIN($BA$7:$BA$932))/(4*PI()*$D$3))*(-LN((4*$D$4*AH820)/(Sanierungsdesign!$E$13)^2)-$D$19)","v":{"$error":"#DIV/0!"}},{"$f":"(BB820-273.15)/Heterogenität!$D$4","v":{"$error":"#DIV/0!"}},{"$f":"IF(AI820<Berechnung!$D$7,AI820,#N/A)","v":{"$error":"#N/A"}}]
[null,null,null,null,null,null,null,null,null,null,null,null,null,null,null,null,null,null,null,null,null,null,null,null,null,null,null,null,null,null,null,null,{"$f":"Sanierungsdesign!$E$12*AH821*Sanierungsdesign!$E$10/1000000","v":38142},5868000,67.916666666666671,{"$f":"$D$5+((-Sanierungsdesign!$E$12)/4*PI()*$D$3)*(-LN((4*$D$4*AH821)/(Sanierungsdesign!$E$13^2))-$D$19)","v":3641.5768529013485},3368.4268529013484,6713.6355076834288,{"$f":"$D$3*$T$7*$AH$7*(AK821-$D$5)*(1/Sanierungsdesign!$E$15)/1000000","v":430.86690310166409},{"$f":"$D$5+(-Sanierungsdesign!$E$12/(4*PI()*$D$3))*(-LN((4*$D$4*AH821)/(Sanierungsdesign!$E$13+Sanierungsdesign!$E$15)^2)-$D$19)","v":420.53739371898553},147.38739371898555,{"$f":"(2*PI()*Sanierungsdesign!$E$10*$D$3)*(LN((Sanierungsdesign!$E$13+Sanierungsdesign!$E$15)/Sanierungsdesign!$E$13)*(AJ821-AN821))*$AH$7/1000000","v":287.57115674506167},10110.799710134446,22820.074945773446,{"$f":"AU821/Sanierungsdesign!$E$11","v":2.4287104707594156},4694400,19.429683766075325,{"$error":"#DIV/0!"},{"$error":"#DIV/0!"},{"$error":"#DIV/0!"},{"$error":"#DIV/0!"},{"$f":"(AY821/(AH821*Sanierungsdesign!$E$10))*1000000","v":{"$error":"#DIV/0!"}},{"$f":"AZ821/Sanierungsdesign!$E$12","v":{"$error":"#DIV/0!"}},{"$f":"$D$5+((-(Sanierungsdesign!$E$12)*MIN($BA$7:$BA$932))/(4*PI()*$D$3))*(-LN((4*$D$4*AH821)/(Sanierungsdesign!$E$13)^2)-$D$19)","v":{"$error":"#DIV/0!"}},{"$f":"(BB821-273.15)/Heterogenität!$D$4","v":{"$error":"#DIV/0!"}},{"$f":"IF(AI821<Berechnung!$D$7,AI821,#N/A)","v":{"$error":"#N/A"}}]
[null,null,null,null,null,null,null,null,null,null,null,null,null,null,null,null,null,null,null,null,null,null,null,null,null,null,null,null,null,null,null,null,{"$f":"Sanierungsdesign!$E$12*AH822*Sanierungsdesign!$E$10/1000000","v":38188.800000000003},5875200,68,{"$f":"$D$5+((-Sanierungsdesign!$E$12)/4*PI()*$D$3)*(-LN((4*$D$4*AH822)/(Sanierungsdesign!$E$13^2))-$D$19)","v":3643.2946166533634},3370.1446166533633,6717.0714353007306,{"$f":"$D$3*$T$7*$AH$7*(AK822-$D$5)*(1/Sanierungsdesign!$E$15)/1000000","v":431.10679325848901},{"$f":"$D$5+(-Sanierungsdesign!$E$12/(4*PI()*$D$3))*(-LN((4*$D$4*AH822)/(Sanierungsdesign!$E$13+Sanierungsdesign!$E$15)^2)-$D$19)","v":420.62985405469385},147.47985405469387,{"$f":"(2*PI()*Sanierungsdesign!$E$10*$D$3)*(LN((Sanierungsdesign!$E$13+Sanierungsdesign!$E$15)/Sanierungsdesign!$E$13)*(AJ822-AN822))*$AH$7/1000000","v":287.71626219608521},10123.205599349336,22848.075037731454,{"$f":"AU822/Sanierungsdesign!$E$11","v":2.4299534446103737},4700160,19.439627556882989,{"$error":"#DIV/0!"},{"$error":"#DIV/0!"},{"$error":"#DIV/0!"},{"$error":"#DIV/0!"},{"$f":"(AY822/(AH822*Sanierungsdesign!$E$10))*1000000","v":{"$error":"#DIV/0!"}},{"$f":"AZ822/Sanierungsdesign!$E$12","v":{"$error":"#DIV/0!"}},{"$f":"$D$5+((-(Sanierungsdesign!$E$12)*MIN($BA$7:$BA$932))/(4*PI()*$D$3))*(-LN((4*$D$4*AH822)/(Sanierungsdesign!$E$13)^2)-$D$19)","v":{"$error":"#DIV/0!"}},{"$f":"(BB822-273.15)/Heterogenität!$D$4","v":{"$error":"#DIV/0!"}},{"$f":"IF(AI822<Berechnung!$D$7,AI822,#N/A)","v":{"$error":"#N/A"}}]
[null,null,null,null,null,null,null,null,null,null,null,null,null,null,null,null,null,null,null,null,null,null,null,null,null,null,null,null,null,null,null,null,{"$f":"Sanierungsdesign!$E$12*AH823*Sanierungsdesign!$E$10/1000000","v":38235.599999999999},5882400,68.083333333333329,{"$f":"$D$5+((-Sanierungsdesign!$E$12)/4*PI()*$D$3)*(-LN((4*$D$4*AH823)/(Sanierungsdesign!$E$13^2))-$D$19)","v":3645.0102765913166},3371.8602765913165,6720.5031547998751,{"$f":"$D$3*$T$7*$AH$7*(AK823-$D$5)*(1/Sanierungsdesign!$E$15)/1000000","v":431.34638961223163},{"$f":"$D$5+(-Sanierungsdesign!$E$12/(4*PI()*$D$3))*(-LN((4*$D$4*AH823)/(Sanierungsdesign!$E$13+Sanierungsdesign!$E$15)^2)-$D$19)","v":420.72220115052619},147.57220115052621,{"$f":"(2*PI()*Sanierungsdesign!$E$10*$D$3)*(LN((Sanierungsdesign!$E$13+Sanierungsdesign!$E$15)/Sanierungsdesign!$E$13)*(AJ823-AN823))*$AH$7/1000000","v":287.86118993065151},10135.611488564226,22876.075129689456,{"$f":"AU823/Sanierungsdesign!$E$11","v":2.4311948961414767},4705920,19.449559169131813,{"$error":"#DIV/0!"},{"$error":"#DIV/0!"},{"$error":"#DIV/0!"},{"$error":"#DIV/0!"},{"$f":"(AY823/(AH823*Sanierungsdesign!$E$10))*1000000","v":{"$error":"#DIV/0!"}},{"$f":"AZ823/Sanierungsdesign!$E$12","v":{"$error":"#DIV/0!"}},{"$f":"$D$5+((-(Sanierungsdesign!$E$12)*MIN($BA$7:$BA$932))/(4*PI()*$D$3))*(-LN((4*$D$4*AH823)/(Sanierungsdesign!$E$13)^2)-$D$19)","v":{"$error":"#DIV/0!"}},{"$f":"(BB823-273.15)/Heterogenität!$D$4","v":{"$error":"#DIV/0!"}},{"$f":"IF(AI823<Berechnung!$D$7,AI823,#N/A)","v":{"$error":"#N/A"}}]
[null,null,null,null,null,null,null,null,null,null,null,null,null,null,null,null,null,null,null,null,null,null,null,null,null,null,null,null,null,null,null,null,{"$f":"Sanierungsdesign!$E$12*AH824*Sanierungsdesign!$E$10/1000000","v":38282.400000000001},5889600,68.166666666666671,{"$f":"$D$5+((-Sanierungsdesign!$E$12)/4*PI()*$D$3)*(-LN((4*$D$4*AH824)/(Sanierungsdesign!$E$13^2))-$D$19)","v":3646.7238378621551},3373.573837862155,6723.930676475954,{"$f":"$D$3*$T$7*$AH$7*(AK824-$D$5)*(1/Sanierungsdesign!$E$15)/1000000","v":431.58569288167621},{"$f":"$D$5+(-Sanierungsdesign!$E$12/(4*PI()*$D$3))*(-LN((4*$D$4*AH824)/(Sanierungsdesign!$E$13+Sanierungsdesign!$E$15)^2)-$D$19)","v":420.8144352835219},147.66443528352193,{"$f":"(2*PI()*Sanierungsdesign!$E$10*$D$3)*(LN((Sanierungsdesign!$E$13+Sanierungsdesign!$E$15)/Sanierungsdesign!$E$13)*(AJ824-AN824))*$AH$7/1000000","v":288.00594038354086},10148.017377779113,22904.075221647458,{"$f":"AU824/Sanierungsdesign!$E$11","v":2.4324348290770552},4711680,19.459478632616442,{"$error":"#DIV/0!"},{"$error":"#DIV/0!"},{"$error":"#DIV/0!"},{"$error":"#DIV/0!"},{"$f":"(AY824/(AH824*Sanierungsdesign!$E$10))*1000000","v":{"$error":"#DIV/0!"}},{"$f":"AZ824/Sanierungsdesign!$E$12","v":{"$error":"#DIV/0!"}},{"$f":"$D$5+((-(Sanierungsdesign!$E$12)*MIN($BA$7:$BA$932))/(4*PI()*$D$3))*(-LN((4*$D$4*AH824)/(Sanierungsdesign!$E$13)^2)-$D$19)","v":{"$error":"#DIV/0!"}},{"$f":"(BB824-273.15)/Heterogenität!$D$4","v":{"$error":"#DIV/0!"}},{"$f":"IF(AI824<Berechnung!$D$7,AI824,#N/A)","v":{"$error":"#N/A"}}]
[null,null,null,null,null,null,null,null,null,null,null,null,null,null,null,null,null,null,null,null,null,null,null,null,null,null,null,null,null,null,null,null,{"$f":"Sanierungsdesign!$E$12*AH825*Sanierungsdesign!$E$10/1000000","v":38329.199999999997},5896800,68.25,{"$f":"$D$5+((-Sanierungsdesign!$E$12)/4*PI()*$D$3)*(-LN((4*$D$4*AH825)/(Sanierungsdesign!$E$13^2))-$D$19)","v":3648.4353055939628},3375.2853055939627,6727.3540105863294,{"$f":"$D$3*$T$7*$AH$7*(AK825-$D$5)*(1/Sanierungsdesign!$E$15)/1000000","v":431.82470378297313},{"$f":"$D$5+(-Sanierungsdesign!$E$12/(4*PI()*$D$3))*(-LN((4*$D$4*AH825)/(Sanierungsdesign!$E$13+Sanierungsdesign!$E$15)^2)-$D$19)","v":420.90655672970524},147.75655672970527,{"$f":"(2*PI()*Sanierungsdesign!$E$10*$D$3)*(LN((Sanierungsdesign!$E$13+Sanierungsdesign!$E$15)/Sanierungsdesign!$E$13)*(AJ825-AN825))*$AH$7/1000000","v":288.15051398794066},10160.423266994003,22932.075313605466,{"$f":"AU825/Sanierungsdesign!$E$11","v":2.4336732471277909},4717440,19.469385977022327,{"$error":"#DIV/0!"},{"$error":"#DIV/0!"},{"$error":"#DIV/0!"},{"$error":"#DIV/0!"},{"$f":"(AY825/(AH825*Sanierungsdesign!$E$10))*1000000","v":{"$error":"#DIV/0!"}},{"$f":"AZ825/Sanierungsdesign!$E$12","v":{"$error":"#DIV/0!"}},{"$f":"$D$5+((-(Sanierungsdesign!$E$12)*MIN($BA$7:$BA$932))/(4*PI()*$D$3))*(-LN((4*$D$4*AH825)/(Sanierungsdesign!$E$13)^2)-$D$19)","v":{"$error":"#DIV/0!"}},{"$f":"(BB825-273.15)/Heterogenität!$D$4","v":{"$error":"#DIV/0!"}},{"$f":"IF(AI825<Berechnung!$D$7,AI825,#N/A)","v":{"$error":"#N/A"}}]
[null,null,null,null,null,null,null,null,null,null,null,null,null,null,null,null,null,null,null,null,null,null,null,null,null,null,null,null,null,null,null,null,{"$f":"Sanierungsdesign!$E$12*AH826*Sanierungsdesign!$E$10/1000000","v":38376},5904000,68.333333333333329,{"$f":"$D$5+((-Sanierungsdesign!$E$12)/4*PI()*$D$3)*(-LN((4*$D$4*AH826)/(Sanierungsdesign!$E$13^2))-$D$19)","v":3650.1446848960481},3376.9946848960481,6730.7731673508097,{"$f":"$D$3*$T$7*$AH$7*(AK826-$D$5)*(1/Sanierungsdesign!$E$15)/1000000","v":432.06342302965044},{"$f":"$D$5+(-Sanierungsdesign!$E$12/(4*PI()*$D$3))*(-LN((4*$D$4*AH826)/(Sanierungsdesign!$E$13+Sanierungsdesign!$E$15)^2)-$D$19)","v":420.99856576408979},147.84856576408981,{"$f":"(2*PI()*Sanierungsdesign!$E$10*$D$3)*(LN((Sanierungsdesign!$E$13+Sanierungsdesign!$E$15)/Sanierungsdesign!$E$13)*(AJ826-AN826))*$AH$7/1000000","v":288.29491117545172},10172.829156208891,22960.075405563464,{"$f":"AU826/Sanierungsdesign!$E$11","v":2.43491015399078},4723200,19.47928123192624,{"$error":"#DIV/0!"},{"$error":"#DIV/0!"},{"$error":"#DIV/0!"},{"$error":"#DIV/0!"},{"$f":"(AY826/(AH826*Sanierungsdesign!$E$10))*1000000","v":{"$error":"#DIV/0!"}},{"$f":"AZ826/Sanierungsdesign!$E$12","v":{"$error":"#DIV/0!"}},{"$f":"$D$5+((-(Sanierungsdesign!$E$12)*MIN($BA$7:$BA$932))/(4*PI()*$D$3))*(-LN((4*$D$4*AH826)/(Sanierungsdesign!$E$13)^2)-$D$19)","v":{"$error":"#DIV/0!"}},{"$f":"(BB826-273.15)/Heterogenität!$D$4","v":{"$error":"#DIV/0!"}},{"$f":"IF(AI826<Berechnung!$D$7,AI826,#N/A)","v":{"$error":"#N/A"}}]
[null,null,null,null,null,null,null,null,null,null,null,null,null,null,null,null,null,null,null,null,null,null,null,null,null,null,null,null,null,null,null,null,{"$f":"Sanierungsdesign!$E$12*AH827*Sanierungsdesign!$E$10/1000000","v":38422.800000000003},5911200,68.416666666666671,{"$f":"$D$5+((-Sanierungsdesign!$E$12)/4*PI()*$D$3)*(-LN((4*$D$4*AH827)/(Sanierungsdesign!$E$13^2))-$D$19)","v":3651.8519808590404},3378.7019808590403,6734.1881569518373,{"$f":"$D$3*$T$7*$AH$7*(AK827-$D$5)*(1/Sanierungsdesign!$E$15)/1000000","v":432.30185133262779},{"$f":"$D$5+(-Sanierungsdesign!$E$12/(4*PI()*$D$3))*(-LN((4*$D$4*AH827)/(Sanierungsdesign!$E$13+Sanierungsdesign!$E$15)^2)-$D$19)","v":421.09046266068384},147.94046266068386,{"$f":"(2*PI()*Sanierungsdesign!$E$10*$D$3)*(LN((Sanierungsdesign!$E$13+Sanierungsdesign!$E$15)/Sanierungsdesign!$E$13)*(AJ827-AN827))*$AH$7/1000000","v":288.43913237609689},10185.23504542378,22988.075497521473,{"$f":"AU827/Sanierungsdesign!$E$11","v":2.436145553349601},4728960,19.489164426796808,{"$error":"#DIV/0!"},{"$error":"#DIV/0!"},{"$error":"#DIV/0!"},{"$error":"#DIV/0!"},{"$f":"(AY827/(AH827*Sanierungsdesign!$E$10))*1000000","v":{"$error":"#DIV/0!"}},{"$f":"AZ827/Sanierungsdesign!$E$12","v":{"$error":"#DIV/0!"}},{"$f":"$D$5+((-(Sanierungsdesign!$E$12)*MIN($BA$7:$BA$932))/(4*PI()*$D$3))*(-LN((4*$D$4*AH827)/(Sanierungsdesign!$E$13)^2)-$D$19)","v":{"$error":"#DIV/0!"}},{"$f":"(BB827-273.15)/Heterogenität!$D$4","v":{"$error":"#DIV/0!"}},{"$f":"IF(AI827<Berechnung!$D$7,AI827,#N/A)","v":{"$error":"#N/A"}}]
[null,null,null,null,null,null,null,null,null,null,null,null,null,null,null,null,null,null,null,null,null,null,null,null,null,null,null,null,null,null,null,null,{"$f":"Sanierungsdesign!$E$12*AH828*Sanierungsdesign!$E$10/1000000","v":38469.599999999999},5918400,68.5,{"$f":"$D$5+((-Sanierungsdesign!$E$12)/4*PI()*$D$3)*(-LN((4*$D$4*AH828)/(Sanierungsdesign!$E$13^2))-$D$19)","v":3653.5571985549795},3380.4071985549795,6737.5989895346756,{"$f":"$D$3*$T$7*$AH$7*(AK828-$D$5)*(1/Sanierungsdesign!$E$15)/1000000","v":432.53998940022854},{"$f":"$D$5+(-Sanierungsdesign!$E$12/(4*PI()*$D$3))*(-LN((4*$D$4*AH828)/(Sanierungsdesign!$E$13+Sanierungsdesign!$E$15)^2)-$D$19)","v":421.1822476924948},148.03224769249482,{"$f":"(2*PI()*Sanierungsdesign!$E$10*$D$3)*(LN((Sanierungsdesign!$E$13+Sanierungsdesign!$E$15)/Sanierungsdesign!$E$13)*(AJ828-AN828))*$AH$7/1000000","v":288.58317801832919},10197.64093463867,23016.075589479478,{"$f":"AU828/Sanierungsdesign!$E$11","v":2.437379448874383},4734720,19.499035590995064,{"$error":"#DIV/0!"},{"$error":"#DIV/0!"},{"$error":"#DIV/0!"},{"$error":"#DIV/0!"},{"$f":"(AY828/(AH828*Sanierungsdesign!$E$10))*1000000","v":{"$error":"#DIV/0!"}},{"$f":"AZ828/Sanierungsdesign!$E$12","v":{"$error":"#DIV/0!"}},{"$f":"$D$5+((-(Sanierungsdesign!$E$12)*MIN($BA$7:$BA$932))/(4*PI()*$D$3))*(-LN((4*$D$4*AH828)/(Sanierungsdesign!$E$13)^2)-$D$19)","v":{"$error":"#DIV/0!"}},{"$f":"(BB828-273.15)/Heterogenität!$D$4","v":{"$error":"#DIV/0!"}},{"$f":"IF(AI828<Berechnung!$D$7,AI828,#N/A)","v":{"$error":"#N/A"}}]
[null,null,null,null,null,null,null,null,null,null,null,null,null,null,null,null,null,null,null,null,null,null,null,null,null,null,null,null,null,null,null,null,{"$f":"Sanierungsdesign!$E$12*AH829*Sanierungsdesign!$E$10/1000000","v":38516.400000000001},5925600,68.583333333333329,{"$f":"$D$5+((-Sanierungsdesign!$E$12)/4*PI()*$D$3)*(-LN((4*$D$4*AH829)/(Sanierungsdesign!$E$13^2))-$D$19)","v":3655.2603430374033},3382.1103430374033,6741.0056752075752,{"$f":"$D$3*$T$7*$AH$7*(AK829-$D$5)*(1/Sanierungsdesign!$E$15)/1000000","v":432.77783793819253},{"$f":"$D$5+(-Sanierungsdesign!$E$12/(4*PI()*$D$3))*(-LN((4*$D$4*AH829)/(Sanierungsdesign!$E$13+Sanierungsdesign!$E$15)^2)-$D$19)","v":421.27392113153434},148.12392113153436,{"$f":"(2*PI()*Sanierungsdesign!$E$10*$D$3)*(LN((Sanierungsdesign!$E$13+Sanierungsdesign!$E$15)/Sanierungsdesign!$E$13)*(AJ829-AN829))*$AH$7/1000000","v":288.72704852903848},10210.046823853558,23044.07568143748,{"$f":"AU829/Sanierungsdesign!$E$11","v":2.4386118442218647},4740480,19.508894753774918,{"$error":"#DIV/0!"},{"$error":"#DIV/0!"},{"$error":"#DIV/0!"},{"$error":"#DIV/0!"},{"$f":"(AY829/(AH829*Sanierungsdesign!$E$10))*1000000","v":{"$error":"#DIV/0!"}},{"$f":"AZ829/Sanierungsdesign!$E$12","v":{"$error":"#DIV/0!"}},{"$f":"$D$5+((-(Sanierungsdesign!$E$12)*MIN($BA$7:$BA$932))/(4*PI()*$D$3))*(-LN((4*$D$4*AH829)/(Sanierungsdesign!$E$13)^2)-$D$19)","v":{"$error":"#DIV/0!"}},{"$f":"(BB829-273.15)/Heterogenität!$D$4","v":{"$error":"#DIV/0!"}},{"$f":"IF(AI829<Berechnung!$D$7,AI829,#N/A)","v":{"$error":"#N/A"}}]
[null,null,null,null,null,null,null,null,null,null,null,null,null,null,null,null,null,null,null,null,null,null,null,null,null,null,null,null,null,null,null,null,{"$f":"Sanierungsdesign!$E$12*AH830*Sanierungsdesign!$E$10/1000000","v":38563.199999999997},5932800,68.666666666666671,{"$f":"$D$5+((-Sanierungsdesign!$E$12)/4*PI()*$D$3)*(-LN((4*$D$4*AH830)/(Sanierungsdesign!$E$13^2))-$D$19)","v":3656.9614193414404},3383.8114193414403,6744.4082240419675,{"$f":"$D$3*$T$7*$AH$7*(AK830-$D$5)*(1/Sanierungsdesign!$E$15)/1000000","v":433.01539764968834},{"$f":"$D$5+(-Sanierungsdesign!$E$12/(4*PI()*$D$3))*(-LN((4*$D$4*AH830)/(Sanierungsdesign!$E$13+Sanierungsdesign!$E$15)^2)-$D$19)","v":421.36548324882335},148.21548324882338,{"$f":"(2*PI()*Sanierungsdesign!$E$10*$D$3)*(LN((Sanierungsdesign!$E$13+Sanierungsdesign!$E$15)/Sanierungsdesign!$E$13)*(AJ830-AN830))*$AH$7/1000000","v":288.8707443335594},10222.452713068447,23072.075773395485,{"$f":"AU830/Sanierungsdesign!$E$11","v":2.4398427430354661},4746240,19.518741944283729,{"$error":"#DIV/0!"},{"$error":"#DIV/0!"},{"$error":"#DIV/0!"},{"$error":"#DIV/0!"},{"$f":"(AY830/(AH830*Sanierungsdesign!$E$10))*1000000","v":{"$error":"#DIV/0!"}},{"$f":"AZ830/Sanierungsdesign!$E$12","v":{"$error":"#DIV/0!"}},{"$f":"$D$5+((-(Sanierungsdesign!$E$12)*MIN($BA$7:$BA$932))/(4*PI()*$D$3))*(-LN((4*$D$4*AH830)/(Sanierungsdesign!$E$13)^2)-$D$19)","v":{"$error":"#DIV/0!"}},{"$f":"(BB830-273.15)/Heterogenität!$D$4","v":{"$error":"#DIV/0!"}},{"$f":"IF(AI830<Berechnung!$D$7,AI830,#N/A)","v":{"$error":"#N/A"}}]
[null,null,null,null,null,null,null,null,null,null,null,null,null,null,null,null,null,null,null,null,null,null,null,null,null,null,null,null,null,null,null,null,{"$f":"Sanierungsdesign!$E$12*AH831*Sanierungsdesign!$E$10/1000000","v":38610},5940000,68.75,{"$f":"$D$5+((-Sanierungsdesign!$E$12)/4*PI()*$D$3)*(-LN((4*$D$4*AH831)/(Sanierungsdesign!$E$13^2))-$D$19)","v":3658.6604324838991},3385.510432483899,6747.8066460726377,{"$f":"$D$3*$T$7*$AH$7*(AK831-$D$5)*(1/Sanierungsdesign!$E$15)/1000000","v":433.25266923532644},{"$f":"$D$5+(-Sanierungsdesign!$E$12/(4*PI()*$D$3))*(-LN((4*$D$4*AH831)/(Sanierungsdesign!$E$13+Sanierungsdesign!$E$15)^2)-$D$19)","v":421.45693431439651},148.30693431439653,{"$f":"(2*PI()*Sanierungsdesign!$E$10*$D$3)*(LN((Sanierungsdesign!$E$13+Sanierungsdesign!$E$15)/Sanierungsdesign!$E$13)*(AJ831-AN831))*$AH$7/1000000","v":289.01426585567901},10234.858602283335,23100.07586535349,{"$f":"AU831/Sanierungsdesign!$E$11","v":2.4410721489453486},4752000,19.528577191562789,{"$error":"#DIV/0!"},{"$error":"#DIV/0!"},{"$error":"#DIV/0!"},{"$error":"#DIV/0!"},{"$f":"(AY831/(AH831*Sanierungsdesign!$E$10))*1000000","v":{"$error":"#DIV/0!"}},{"$f":"AZ831/Sanierungsdesign!$E$12","v":{"$error":"#DIV/0!"}},{"$f":"$D$5+((-(Sanierungsdesign!$E$12)*MIN($BA$7:$BA$932))/(4*PI()*$D$3))*(-LN((4*$D$4*AH831)/(Sanierungsdesign!$E$13)^2)-$D$19)","v":{"$error":"#DIV/0!"}},{"$f":"(BB831-273.15)/Heterogenität!$D$4","v":{"$error":"#DIV/0!"}},{"$f":"IF(AI831<Berechnung!$D$7,AI831,#N/A)","v":{"$error":"#N/A"}}]
[null,null,null,null,null,null,null,null,null,null,null,null,null,null,null,null,null,null,null,null,null,null,null,null,null,null,null,null,null,null,null,null,{"$f":"Sanierungsdesign!$E$12*AH832*Sanierungsdesign!$E$10/1000000","v":38656.800000000003},5947200,68.833333333333329,{"$f":"$D$5+((-Sanierungsdesign!$E$12)/4*PI()*$D$3)*(-LN((4*$D$4*AH832)/(Sanierungsdesign!$E$13^2))-$D$19)","v":3660.3573874633557},3387.2073874633556,6751.2009512979012,{"$f":"$D$3*$T$7*$AH$7*(AK832-$D$5)*(1/Sanierungsdesign!$E$15)/1000000","v":433.48965339317073},{"$f":"$D$5+(-Sanierungsdesign!$E$12/(4*PI()*$D$3))*(-LN((4*$D$4*AH832)/(Sanierungsdesign!$E$13+Sanierungsdesign!$E$15)^2)-$D$19)","v":421.54827459730706},148.39827459730708,{"$f":"(2*PI()*Sanierungsdesign!$E$10*$D$3)*(LN((Sanierungsdesign!$E$13+Sanierungsdesign!$E$15)/Sanierungsdesign!$E$13)*(AJ832-AN832))*$AH$7/1000000","v":289.15761351764462},10247.264491498225,23128.075957311492,{"$f":"AU832/Sanierungsdesign!$E$11","v":2.4423000655684839},4757760,19.538400524547871,{"$error":"#DIV/0!"},{"$error":"#DIV/0!"},{"$error":"#DIV/0!"},{"$error":"#DIV/0!"},{"$f":"(AY832/(AH832*Sanierungsdesign!$E$10))*1000000","v":{"$error":"#DIV/0!"}},{"$f":"AZ832/Sanierungsdesign!$E$12","v":{"$error":"#DIV/0!"}},{"$f":"$D$5+((-(Sanierungsdesign!$E$12)*MIN($BA$7:$BA$932))/(4*PI()*$D$3))*(-LN((4*$D$4*AH832)/(Sanierungsdesign!$E$13)^2)-$D$19)","v":{"$error":"#DIV/0!"}},{"$f":"(BB832-273.15)/Heterogenität!$D$4","v":{"$error":"#DIV/0!"}},{"$f":"IF(AI832<Berechnung!$D$7,AI832,#N/A)","v":{"$error":"#N/A"}}]
[null,null,null,null,null,null,null,null,null,null,null,null,null,null,null,null,null,null,null,null,null,null,null,null,null,null,null,null,null,null,null,null,{"$f":"Sanierungsdesign!$E$12*AH833*Sanierungsdesign!$E$10/1000000","v":38703.599999999999},5954400,68.916666666666671,{"$f":"$D$5+((-Sanierungsdesign!$E$12)/4*PI()*$D$3)*(-LN((4*$D$4*AH833)/(Sanierungsdesign!$E$13^2))-$D$19)","v":3662.052289260243},3388.9022892602429,6754.5911496797853,{"$f":"$D$3*$T$7*$AH$7*(AK833-$D$5)*(1/Sanierungsdesign!$E$15)/1000000","v":433.72635081875171},{"$f":"$D$5+(-Sanierungsdesign!$E$12/(4*PI()*$D$3))*(-LN((4*$D$4*AH833)/(Sanierungsdesign!$E$13+Sanierungsdesign!$E$15)^2)-$D$19)","v":421.63950436563175},148.48950436563177,{"$f":"(2*PI()*Sanierungsdesign!$E$10*$D$3)*(LN((Sanierungsdesign!$E$13+Sanierungsdesign!$E$15)/Sanierungsdesign!$E$13)*(AJ833-AN833))*$AH$7/1000000","v":289.30078774017051},10259.670380713114,23156.076049269501,{"$f":"AU833/Sanierungsdesign!$E$11","v":2.4435264965087113},4763520,19.548211972069691,{"$error":"#DIV/0!"},{"$error":"#DIV/0!"},{"$error":"#DIV/0!"},{"$error":"#DIV/0!"},{"$f":"(AY833/(AH833*Sanierungsdesign!$E$10))*1000000","v":{"$error":"#DIV/0!"}},{"$f":"AZ833/Sanierungsdesign!$E$12","v":{"$error":"#DIV/0!"}},{"$f":"$D$5+((-(Sanierungsdesign!$E$12)*MIN($BA$7:$BA$932))/(4*PI()*$D$3))*(-LN((4*$D$4*AH833)/(Sanierungsdesign!$E$13)^2)-$D$19)","v":{"$error":"#DIV/0!"}},{"$f":"(BB833-273.15)/Heterogenität!$D$4","v":{"$error":"#DIV/0!"}},{"$f":"IF(AI833<Berechnung!$D$7,AI833,#N/A)","v":{"$error":"#N/A"}}]
[null,null,null,null,null,null,null,null,null,null,null,null,null,null,null,null,null,null,null,null,null,null,null,null,null,null,null,null,null,null,null,null,{"$f":"Sanierungsdesign!$E$12*AH834*Sanierungsdesign!$E$10/1000000","v":38750.400000000001},5961600,69,{"$f":"$D$5+((-Sanierungsdesign!$E$12)/4*PI()*$D$3)*(-LN((4*$D$4*AH834)/(Sanierungsdesign!$E$13^2))-$D$19)","v":3663.7451428369372},3390.5951428369372,6757.9772511441988,{"$f":"$D$3*$T$7*$AH$7*(AK834-$D$5)*(1/Sanierungsdesign!$E$15)/1000000","v":433.96276220507798},{"$f":"$D$5+(-Sanierungsdesign!$E$12/(4*PI()*$D$3))*(-LN((4*$D$4*AH834)/(Sanierungsdesign!$E$13+Sanierungsdesign!$E$15)^2)-$D$19)","v":421.73062388647543},148.58062388647545,{"$f":"(2*PI()*Sanierungsdesign!$E$10*$D$3)*(LN((Sanierungsdesign!$E$13+Sanierungsdesign!$E$15)/Sanierungsdesign!$E$13)*(AJ834-AN834))*$AH$7/1000000","v":289.44378894244568},10272.076269928002,23184.076141227502,{"$f":"AU834/Sanierungsdesign!$E$11","v":2.4447514453568071},4769280,19.558011562854457,{"$error":"#DIV/0!"},{"$error":"#DIV/0!"},{"$error":"#DIV/0!"},{"$error":"#DIV/0!"},{"$f":"(AY834/(AH834*Sanierungsdesign!$E$10))*1000000","v":{"$error":"#DIV/0!"}},{"$f":"AZ834/Sanierungsdesign!$E$12","v":{"$error":"#DIV/0!"}},{"$f":"$D$5+((-(Sanierungsdesign!$E$12)*MIN($BA$7:$BA$932))/(4*PI()*$D$3))*(-LN((4*$D$4*AH834)/(Sanierungsdesign!$E$13)^2)-$D$19)","v":{"$error":"#DIV/0!"}},{"$f":"(BB834-273.15)/Heterogenität!$D$4","v":{"$error":"#DIV/0!"}},{"$f":"IF(AI834<Berechnung!$D$7,AI834,#N/A)","v":{"$error":"#N/A"}}]
[null,null,null,null,null,null,null,null,null,null,null,null,null,null,null,null,null,null,null,null,null,null,null,null,null,null,null,null,null,null,null,null,{"$f":"Sanierungsdesign!$E$12*AH835*Sanierungsdesign!$E$10/1000000","v":38797.199999999997},5968800,69.083333333333329,{"$f":"$D$5+((-Sanierungsdesign!$E$12)/4*PI()*$D$3)*(-LN((4*$D$4*AH835)/(Sanierungsdesign!$E$13^2))-$D$19)","v":3665.4359531378468},3392.2859531378467,6761.359265581108,{"$f":"$D$3*$T$7*$AH$7*(AK835-$D$5)*(1/Sanierungsdesign!$E$15)/1000000","v":434.19888824264899},{"$f":"$D$5+(-Sanierungsdesign!$E$12/(4*PI()*$D$3))*(-LN((4*$D$4*AH835)/(Sanierungsdesign!$E$13+Sanierungsdesign!$E$15)^2)-$D$19)","v":421.82163342597573},148.67163342597576,{"$f":"(2*PI()*Sanierungsdesign!$E$10*$D$3)*(LN((Sanierungsdesign!$E$13+Sanierungsdesign!$E$15)/Sanierungsdesign!$E$13)*(AJ835-AN835))*$AH$7/1000000","v":289.58661754214148},10284.482159142892,23212.076233185504,{"$f":"AU835/Sanierungsdesign!$E$11","v":2.4459749156905453},4775040,19.567799325524362,{"$error":"#DIV/0!"},{"$error":"#DIV/0!"},{"$error":"#DIV/0!"},{"$error":"#DIV/0!"},{"$f":"(AY835/(AH835*Sanierungsdesign!$E$10))*1000000","v":{"$error":"#DIV/0!"}},{"$f":"AZ835/Sanierungsdesign!$E$12","v":{"$error":"#DIV/0!"}},{"$f":"$D$5+((-(Sanierungsdesign!$E$12)*MIN($BA$7:$BA$932))/(4*PI()*$D$3))*(-LN((4*$D$4*AH835)/(Sanierungsdesign!$E$13)^2)-$D$19)","v":{"$error":"#DIV/0!"}},{"$f":"(BB835-273.15)/Heterogenität!$D$4","v":{"$error":"#DIV/0!"}},{"$f":"IF(AI835<Berechnung!$D$7,AI835,#N/A)","v":{"$error":"#N/A"}}]
[null,null,null,null,null,null,null,null,null,null,null,null,null,null,null,null,null,null,null,null,null,null,null,null,null,null,null,null,null,null,null,null,{"$f":"Sanierungsdesign!$E$12*AH836*Sanierungsdesign!$E$10/1000000","v":38844},5976000,69.166666666666671,{"$f":"$D$5+((-Sanierungsdesign!$E$12)/4*PI()*$D$3)*(-LN((4*$D$4*AH836)/(Sanierungsdesign!$E$13^2))-$D$19)","v":3667.1247250894958},3393.9747250894957,6764.7372028447107,{"$f":"$D$3*$T$7*$AH$7*(AK836-$D$5)*(1/Sanierungsdesign!$E$15)/1000000","v":434.43472961946674},{"$f":"$D$5+(-Sanierungsdesign!$E$12/(4*PI()*$D$3))*(-LN((4*$D$4*AH836)/(Sanierungsdesign!$E$13+Sanierungsdesign!$E$15)^2)-$D$19)","v":421.91253324930784},148.76253324930786,{"$f":"(2*PI()*Sanierungsdesign!$E$10*$D$3)*(LN((Sanierungsdesign!$E$13+Sanierungsdesign!$E$15)/Sanierungsdesign!$E$13)*(AJ836-AN836))*$AH$7/1000000","v":289.72927395541859},10296.88804835778,23240.076325143509,{"$f":"AU836/Sanierungsdesign!$E$11","v":2.4471969110747591},4780800,19.577575288598073,{"$error":"#DIV/0!"},{"$error":"#DIV/0!"},{"$error":"#DIV/0!"},{"$error":"#DIV/0!"},{"$f":"(AY836/(AH836*Sanierungsdesign!$E$10))*1000000","v":{"$error":"#DIV/0!"}},{"$f":"AZ836/Sanierungsdesign!$E$12","v":{"$error":"#DIV/0!"}},{"$f":"$D$5+((-(Sanierungsdesign!$E$12)*MIN($BA$7:$BA$932))/(4*PI()*$D$3))*(-LN((4*$D$4*AH836)/(Sanierungsdesign!$E$13)^2)-$D$19)","v":{"$error":"#DIV/0!"}},{"$f":"(BB836-273.15)/Heterogenität!$D$4","v":{"$error":"#DIV/0!"}},{"$f":"IF(AI836<Berechnung!$D$7,AI836,#N/A)","v":{"$error":"#N/A"}}]
[null,null,null,null,null,null,null,null,null,null,null,null,null,null,null,null,null,null,null,null,null,null,null,null,null,null,null,null,null,null,null,null,{"$f":"Sanierungsdesign!$E$12*AH837*Sanierungsdesign!$E$10/1000000","v":38890.800000000003},5983200,69.25,{"$f":"$D$5+((-Sanierungsdesign!$E$12)/4*PI()*$D$3)*(-LN((4*$D$4*AH837)/(Sanierungsdesign!$E$13^2))-$D$19)","v":3668.8114636006158},3395.6614636006157,6768.1110727536116,{"$f":"$D$3*$T$7*$AH$7*(AK837-$D$5)*(1/Sanierungsdesign!$E$15)/1000000","v":434.67028702104807},{"$f":"$D$5+(-Sanierungsdesign!$E$12/(4*PI()*$D$3))*(-LN((4*$D$4*AH837)/(Sanierungsdesign!$E$13+Sanierungsdesign!$E$15)^2)-$D$19)","v":422.00332362068889},148.85332362068891,{"$f":"(2*PI()*Sanierungsdesign!$E$10*$D$3)*(LN((Sanierungsdesign!$E$13+Sanierungsdesign!$E$15)/Sanierungsdesign!$E$13)*(AJ837-AN837))*$AH$7/1000000","v":289.87175859693434},10309.293937572669,23268.076417101514,{"$f":"AU837/Sanierungsdesign!$E$11","v":2.4484174350614056},4786560,19.587339480491245,{"$error":"#DIV/0!"},{"$error":"#DIV/0!"},{"$error":"#DIV/0!"},{"$error":"#DIV/0!"},{"$f":"(AY837/(AH837*Sanierungsdesign!$E$10))*1000000","v":{"$error":"#DIV/0!"}},{"$f":"AZ837/Sanierungsdesign!$E$12","v":{"$error":"#DIV/0!"}},{"$f":"$D$5+((-(Sanierungsdesign!$E$12)*MIN($BA$7:$BA$932))/(4*PI()*$D$3))*(-LN((4*$D$4*AH837)/(Sanierungsdesign!$E$13)^2)-$D$19)","v":{"$error":"#DIV/0!"}},{"$f":"(BB837-273.15)/Heterogenität!$D$4","v":{"$error":"#DIV/0!"}},{"$f":"IF(AI837<Berechnung!$D$7,AI837,#N/A)","v":{"$error":"#N/A"}}]
[null,null,null,null,null,null,null,null,null,null,null,null,null,null,null,null,null,null,null,null,null,null,null,null,null,null,null,null,null,null,null,null,{"$f":"Sanierungsdesign!$E$12*AH838*Sanierungsdesign!$E$10/1000000","v":38937.599999999999},5990400,69.333333333333329,{"$f":"$D$5+((-Sanierungsdesign!$E$12)/4*PI()*$D$3)*(-LN((4*$D$4*AH838)/(Sanierungsdesign!$E$13^2))-$D$19)","v":3670.4961735622251},3397.346173562225,6771.4808850909885,{"$f":"$D$3*$T$7*$AH$7*(AK838-$D$5)*(1/Sanierungsdesign!$E$15)/1000000","v":434.90556113043652},{"$f":"$D$5+(-Sanierungsdesign!$E$12/(4*PI()*$D$3))*(-LN((4*$D$4*AH838)/(Sanierungsdesign!$E$13+Sanierungsdesign!$E$15)^2)-$D$19)","v":422.09400480338292},148.94400480338294,{"$f":"(2*PI()*Sanierungsdesign!$E$10*$D$3)*(LN((Sanierungsdesign!$E$13+Sanierungsdesign!$E$15)/Sanierungsdesign!$E$13)*(AJ838-AN838))*$AH$7/1000000","v":290.01407187985012},10321.699826787559,23296.07650905952,{"$f":"AU838/Sanierungsdesign!$E$11","v":2.4496364911896258},4792320,19.597091929517006,{"$error":"#DIV/0!"},{"$error":"#DIV/0!"},{"$error":"#DIV/0!"},{"$error":"#DIV/0!"},{"$f":"(AY838/(AH838*Sanierungsdesign!$E$10))*1000000","v":{"$error":"#DIV/0!"}},{"$f":"AZ838/Sanierungsdesign!$E$12","v":{"$error":"#DIV/0!"}},{"$f":"$D$5+((-(Sanierungsdesign!$E$12)*MIN($BA$7:$BA$932))/(4*PI()*$D$3))*(-LN((4*$D$4*AH838)/(Sanierungsdesign!$E$13)^2)-$D$19)","v":{"$error":"#DIV/0!"}},{"$f":"(BB838-273.15)/Heterogenität!$D$4","v":{"$error":"#DIV/0!"}},{"$f":"IF(AI838<Berechnung!$D$7,AI838,#N/A)","v":{"$error":"#N/A"}}]
[null,null,null,null,null,null,null,null,null,null,null,null,null,null,null,null,null,null,null,null,null,null,null,null,null,null,null,null,null,null,null,null,{"$f":"Sanierungsdesign!$E$12*AH839*Sanierungsdesign!$E$10/1000000","v":38984.400000000001},5997600,{"$f":"AH839/86400","v":69.416666666666671},{"$f":"$D$5+((-Sanierungsdesign!$E$12)/4*PI()*$D$3)*(-LN((4*$D$4*AH839)/(Sanierungsdesign!$E$13^2))-$D$19)","v":3672.1788598477178},{"$f":"AJ839-273.15","v":3399.0288598477177},6774.8466496047622,{"$f":"$D$3*$T$7*$AH$7*(AK839-$D$5)*(1/Sanierungsdesign!$E$15)/1000000","v":435.1405526282141},{"$f":"$D$5+(-Sanierungsdesign!$E$12/(4*PI()*$D$3))*(-LN((4*$D$4*AH839)/(Sanierungsdesign!$E$13+Sanierungsdesign!$E$15)^2)-$D$19)","v":422.18457705970513},{"$f":"AN839-273.15","v":149.03457705970516},{"$f":"(2*PI()*Sanierungsdesign!$E$10*$D$3)*(LN((Sanierungsdesign!$E$13+Sanierungsdesign!$E$15)/Sanierungsdesign!$E$13)*(AJ839-AN839))*$AH$7/1000000","v":290.15621421583842},10334.105716002447,23324.076601017521,{"$f":"AU839/Sanierungsdesign!$E$11","v":2.4508540829858081},4798080,19.606832663886465,{"$error":"#DIV/0!"},{"$error":"#DIV/0!"},{"$error":"#DIV/0!"},{"$f":"AG839-AX839","v":{"$error":"#DIV/0!"}},{"$f":"(AY839/(AH839*Sanierungsdesign!$E$10))*1000000","v":{"$error":"#DIV/0!"}},{"$f":"AZ839/Sanierungsdesign!$E$12","v":{"$error":"#DIV/0!"}},{"$f":"$D$5+((-(Sanierungsdesign!$E$12)*MIN($BA$7:$BA$932))/(4*PI()*$D$3))*(-LN((4*$D$4*AH839)/(Sanierungsdesign!$E$13)^2)-$D$19)","v":{"$error":"#DIV/0!"}},{"$f":"(BB839-273.15)/Heterogenität!$D$4","v":{"$error":"#DIV/0!"}},{"$f":"IF(AI839<Berechnung!$D$7,AI839,#N/A)","v":{"$error":"#N/A"}}]
[null,null,null,null,null,null,null,null,null,null,null,null,null,null,null,null,null,null,null,null,null,null,null,null,null,null,null,null,null,null,null,null,{"$f":"Sanierungsdesign!$E$12*AH840*Sanierungsdesign!$E$10/1000000","v":39031.199999999997},6004800,69.5,{"$f":"$D$5+((-Sanierungsdesign!$E$12)/4*PI()*$D$3)*(-LN((4*$D$4*AH840)/(Sanierungsdesign!$E$13^2))-$D$19)","v":3673.8595273129476},3400.7095273129476,{"$f":"$T$4*$T$7*$AH$7*(AJ840-$D$2)/1000000","v":6778.2083760077739},{"$f":"$D$3*$T$7*$AH$7*(AK840-$D$5)*(1/Sanierungsdesign!$E$15)/1000000","v":435.37526219251345},{"$f":"$D$5+(-Sanierungsdesign!$E$12/(4*PI()*$D$3))*(-LN((4*$D$4*AH840)/(Sanierungsdesign!$E$13+Sanierungsdesign!$E$15)^2)-$D$19)","v":422.2750406510267},149.12504065102672,{"$f":"(2*PI()*Sanierungsdesign!$E$10*$D$3)*(LN((Sanierungsdesign!$E$13+Sanierungsdesign!$E$15)/Sanierungsdesign!$E$13)*(AJ840-AN840))*$AH$7/1000000","v":290.29818601508998},{"$f":"$T$20*AH840","v":10346.511605217336},{"$f":"$D$12*AQ840/1000000","v":23352.07669297553},{"$f":"AU840/Sanierungsdesign!$E$11","v":2.4520702139636485},{"$f":"$T$18/$D$24*AH840","v":4803840},{"$f":"($D$10*$T$18)*(AJ840-$D$2)/1000000","v":19.616561711709188},{"$f":"($D$17*$L$10*$T$28+$L$2*$D$10*$T$28+$D$16*$L$4*$T$28+$D$18*$L$7*$T$28)*(AJ840-$D$5)/1000000","v":{"$error":"#DIV/0!"}},{"$f":"AV840*$D$28","v":{"$error":"#DIV/0!"}},{"$f":"AL840+AM840+AR840+(0.5*AP840)-(2*AW840)+AS840","v":{"$error":"#DIV/0!"}},{"$error":"#DIV/0!"},{"$f":"(AY840/(AH840*Sanierungsdesign!$E$10))*1000000","v":{"$error":"#DIV/0!"}},{"$f":"AZ840/Sanierungsdesign!$E$12","v":{"$error":"#DIV/0!"}},{"$f":"$D$5+((-(Sanierungsdesign!$E$12)*MIN($BA$7:$BA$932))/(4*PI()*$D$3))*(-LN((4*$D$4*AH840)/(Sanierungsdesign!$E$13)^2)-$D$19)","v":{"$error":"#DIV/0!"}},{"$f":"(BB840-273.15)/Heterogenität!$D$4","v":{"$error":"#DIV/0!"}},{"$f":"IF(AI840<Berechnung!$D$7,AI840,#N/A)","v":{"$error":"#N/A"}}]
[null,null,null,null,null,null,null,null,null,null,null,null,null,null,null,null,null,null,null,null,null,null,null,null,null,null,null,null,null,null,null,null,{"$f":"Sanierungsdesign!$E$12*AH841*Sanierungsdesign!$E$10/1000000","v":39078},{"$f":"AH840+$D$24","v":6012000},69.583333333333329,{"$f":"$D$5+((-Sanierungsdesign!$E$12)/4*PI()*$D$3)*(-LN((4*$D$4*AH841)/(Sanierungsdesign!$E$13^2))-$D$19)","v":3675.5381807963099},3402.3881807963098,6781.5660739779396,{"$f":"$D$3*$T$7*$AH$7*(AK841-$D$5)*(1/Sanierungsdesign!$E$15)/1000000","v":435.609690499029},{"$f":"$D$5+(-Sanierungsdesign!$E$12/(4*PI()*$D$3))*(-LN((4*$D$4*AH841)/(Sanierungsdesign!$E$13+Sanierungsdesign!$E$15)^2)-$D$19)","v":422.36539583777903},149.21539583777906,{"$f":"(2*PI()*Sanierungsdesign!$E$10*$D$3)*(LN((Sanierungsdesign!$E$13+Sanierungsdesign!$E$15)/Sanierungsdesign!$E$13)*(AJ841-AN841))*$AH$7/1000000","v":290.43998768632071},10358.917494432224,23380.076784933528,{"$f":"AU841/Sanierungsdesign!$E$11","v":2.4532848876242093},4809600,19.626279100993674,{"$error":"#DIV/0!"},{"$error":"#DIV/0!"},{"$error":"#DIV/0!"},{"$error":"#DIV/0!"},{"$f":"(AY841/(AH841*Sanierungsdesign!$E$10))*1000000","v":{"$error":"#DIV/0!"}},{"$f":"AZ841/Sanierungsdesign!$E$12","v":{"$error":"#DIV/0!"}},{"$f":"$D$5+((-(Sanierungsdesign!$E$12)*MIN($BA$7:$BA$932))/(4*PI()*$D$3))*(-LN((4*$D$4*AH841)/(Sanierungsdesign!$E$13)^2)-$D$19)","v":{"$error":"#DIV/0!"}},{"$f":"(BB841-273.15)/Heterogenität!$D$4","v":{"$error":"#DIV/0!"}},{"$f":"IF(AI841<Berechnung!$D$7,AI841,#N/A)","v":{"$error":"#N/A"}}]
[null,null,null,null,null,null,null,null,null,null,null,null,null,null,null,null,null,null,null,null,null,null,null,null,null,null,null,null,null,null,null,null,{"$f":"Sanierungsdesign!$E$12*AH842*Sanierungsdesign!$E$10/1000000","v":39124.800000000003},6019200,69.666666666666671,{"$f":"$D$5+((-Sanierungsdesign!$E$12)/4*PI()*$D$3)*(-LN((4*$D$4*AH842)/(Sanierungsdesign!$E$13^2))-$D$19)","v":3677.2148251188305},3404.0648251188304,6784.919753158435,{"$f":"$D$3*$T$7*$AH$7*(AK842-$D$5)*(1/Sanierungsdesign!$E$15)/1000000","v":435.84383822102939},{"$f":"$D$5+(-Sanierungsdesign!$E$12/(4*PI()*$D$3))*(-LN((4*$D$4*AH842)/(Sanierungsdesign!$E$13+Sanierungsdesign!$E$15)^2)-$D$19)","v":422.45564287945859},149.30564287945862,{"$f":"(2*PI()*Sanierungsdesign!$E$10*$D$3)*(LN((Sanierungsdesign!$E$13+Sanierungsdesign!$E$15)/Sanierungsdesign!$E$13)*(AJ842-AN842))*$AH$7/1000000","v":290.58161963677946},10371.323383647114,23408.076876891537,{"$f":"AU842/Sanierungsdesign!$E$11","v":2.4544981074559851},4815360,19.635984859647881,{"$error":"#DIV/0!"},{"$error":"#DIV/0!"},{"$error":"#DIV/0!"},{"$error":"#DIV/0!"},{"$f":"(AY842/(AH842*Sanierungsdesign!$E$10))*1000000","v":{"$error":"#DIV/0!"}},{"$f":"AZ842/Sanierungsdesign!$E$12","v":{"$error":"#DIV/0!"}},{"$f":"$D$5+((-(Sanierungsdesign!$E$12)*MIN($BA$7:$BA$932))/(4*PI()*$D$3))*(-LN((4*$D$4*AH842)/(Sanierungsdesign!$E$13)^2)-$D$19)","v":{"$error":"#DIV/0!"}},{"$f":"(BB842-273.15)/Heterogenität!$D$4","v":{"$error":"#DIV/0!"}},{"$f":"IF(AI842<Berechnung!$D$7,AI842,#N/A)","v":{"$error":"#N/A"}}]
[null,null,null,null,null,null,null,null,null,null,null,null,null,null,null,null,null,null,null,null,null,null,null,null,null,null,null,null,null,null,null,null,{"$f":"Sanierungsdesign!$E$12*AH843*Sanierungsdesign!$E$10/1000000","v":39171.599999999999},6026400,69.75,{"$f":"$D$5+((-Sanierungsdesign!$E$12)/4*PI()*$D$3)*(-LN((4*$D$4*AH843)/(Sanierungsdesign!$E$13^2))-$D$19)","v":3678.8894650842408},3405.7394650842407,6788.2694231578407,{"$f":"$D$3*$T$7*$AH$7*(AK843-$D$5)*(1/Sanierungsdesign!$E$15)/1000000","v":436.07770602936824},{"$f":"$D$5+(-Sanierungsdesign!$E$12/(4*PI()*$D$3))*(-LN((4*$D$4*AH843)/(Sanierungsdesign!$E$13+Sanierungsdesign!$E$15)^2)-$D$19)","v":422.54578203463109},149.39578203463111,{"$f":"(2*PI()*Sanierungsdesign!$E$10*$D$3)*(LN((Sanierungsdesign!$E$13+Sanierungsdesign!$E$15)/Sanierungsdesign!$E$13)*(AJ843-AN843))*$AH$7/1000000","v":290.72308227225403},10383.729272862003,23436.076968849542,{"$f":"AU843/Sanierungsdesign!$E$11","v":2.4557098769349563},4821120,19.645679015479651,{"$error":"#DIV/0!"},{"$error":"#DIV/0!"},{"$error":"#DIV/0!"},{"$error":"#DIV/0!"},{"$f":"(AY843/(AH843*Sanierungsdesign!$E$10))*1000000","v":{"$error":"#DIV/0!"}},{"$f":"AZ843/Sanierungsdesign!$E$12","v":{"$error":"#DIV/0!"}},{"$f":"$D$5+((-(Sanierungsdesign!$E$12)*MIN($BA$7:$BA$932))/(4*PI()*$D$3))*(-LN((4*$D$4*AH843)/(Sanierungsdesign!$E$13)^2)-$D$19)","v":{"$error":"#DIV/0!"}},{"$f":"(BB843-273.15)/Heterogenität!$D$4","v":{"$error":"#DIV/0!"}},{"$f":"IF(AI843<Berechnung!$D$7,AI843,#N/A)","v":{"$error":"#N/A"}}]
[null,null,null,null,null,null,null,null,null,null,null,null,null,null,null,null,null,null,null,null,null,null,null,null,null,null,null,null,null,null,null,null,{"$f":"Sanierungsdesign!$E$12*AH844*Sanierungsdesign!$E$10/1000000","v":39218.400000000001},6033600,69.833333333333329,{"$f":"$D$5+((-Sanierungsdesign!$E$12)/4*PI()*$D$3)*(-LN((4*$D$4*AH844)/(Sanierungsdesign!$E$13^2))-$D$19)","v":3680.5621054790672},3407.4121054790671,6791.6150935503256,{"$f":"$D$3*$T$7*$AH$7*(AK844-$D$5)*(1/Sanierungsdesign!$E$15)/1000000","v":436.31129459249632},{"$f":"$D$5+(-Sanierungsdesign!$E$12/(4*PI()*$D$3))*(-LN((4*$D$4*AH844)/(Sanierungsdesign!$E$13+Sanierungsdesign!$E$15)^2)-$D$19)","v":422.6358135609359},149.48581356093592,{"$f":"(2*PI()*Sanierungsdesign!$E$10*$D$3)*(LN((Sanierungsdesign!$E$13+Sanierungsdesign!$E$15)/Sanierungsdesign!$E$13)*(AJ844-AN844))*$AH$7/1000000","v":290.86437599707898},10396.135162076891,23464.077060807544,{"$f":"AU844/Sanierungsdesign!$E$11","v":2.4569201995246526},4826880,19.655361596197221,{"$error":"#DIV/0!"},{"$error":"#DIV/0!"},{"$error":"#DIV/0!"},{"$error":"#DIV/0!"},{"$f":"(AY844/(AH844*Sanierungsdesign!$E$10))*1000000","v":{"$error":"#DIV/0!"}},{"$f":"AZ844/Sanierungsdesign!$E$12","v":{"$error":"#DIV/0!"}},{"$f":"$D$5+((-(Sanierungsdesign!$E$12)*MIN($BA$7:$BA$932))/(4*PI()*$D$3))*(-LN((4*$D$4*AH844)/(Sanierungsdesign!$E$13)^2)-$D$19)","v":{"$error":"#DIV/0!"}},{"$f":"(BB844-273.15)/Heterogenität!$D$4","v":{"$error":"#DIV/0!"}},{"$f":"IF(AI844<Berechnung!$D$7,AI844,#N/A)","v":{"$error":"#N/A"}}]
[null,null,null,null,null,null,null,null,null,null,null,null,null,null,null,null,null,null,null,null,null,null,null,null,null,null,null,null,null,null,null,null,{"$f":"Sanierungsdesign!$E$12*AH845*Sanierungsdesign!$E$10/1000000","v":39265.199999999997},6040800,69.916666666666671,{"$f":"$D$5+((-Sanierungsdesign!$E$12)/4*PI()*$D$3)*(-LN((4*$D$4*AH845)/(Sanierungsdesign!$E$13^2))-$D$19)","v":3682.2327510727118},3409.0827510727117,6794.9567738758042,{"$f":"$D$3*$T$7*$AH$7*(AK845-$D$5)*(1/Sanierungsdesign!$E$15)/1000000","v":436.54460457647298},{"$f":"$D$5+(-Sanierungsdesign!$E$12/(4*PI()*$D$3))*(-LN((4*$D$4*AH845)/(Sanierungsdesign!$E$13+Sanierungsdesign!$E$15)^2)-$D$19)","v":422.72573771509093},149.57573771509095,{"$f":"(2*PI()*Sanierungsdesign!$E$10*$D$3)*(LN((Sanierungsdesign!$E$13+Sanierungsdesign!$E$15)/Sanierungsdesign!$E$13)*(AJ845-AN845))*$AH$7/1000000","v":291.00550121414204},10408.541051291781,23492.077152765549,{"$f":"AU845/Sanierungsdesign!$E$11","v":2.458129078676214},4832640,19.665032629409712,{"$error":"#DIV/0!"},{"$error":"#DIV/0!"},{"$error":"#DIV/0!"},{"$error":"#DIV/0!"},{"$f":"(AY845/(AH845*Sanierungsdesign!$E$10))*1000000","v":{"$error":"#DIV/0!"}},{"$f":"AZ845/Sanierungsdesign!$E$12","v":{"$error":"#DIV/0!"}},{"$f":"$D$5+((-(Sanierungsdesign!$E$12)*MIN($BA$7:$BA$932))/(4*PI()*$D$3))*(-LN((4*$D$4*AH845)/(Sanierungsdesign!$E$13)^2)-$D$19)","v":{"$error":"#DIV/0!"}},{"$f":"(BB845-273.15)/Heterogenität!$D$4","v":{"$error":"#DIV/0!"}},{"$f":"IF(AI845<Berechnung!$D$7,AI845,#N/A)","v":{"$error":"#N/A"}}]
[null,null,null,null,null,null,null,null,null,null,null,null,null,null,null,null,null,null,null,null,null,null,null,null,null,null,null,null,null,null,null,null,{"$f":"Sanierungsdesign!$E$12*AH846*Sanierungsdesign!$E$10/1000000","v":39312},6048000,70,{"$f":"$D$5+((-Sanierungsdesign!$E$12)/4*PI()*$D$3)*(-LN((4*$D$4*AH846)/(Sanierungsdesign!$E$13^2))-$D$19)","v":3683.9014066175309},3410.7514066175308,6798.2944736400959,{"$f":"$D$3*$T$7*$AH$7*(AK846-$D$5)*(1/Sanierungsdesign!$E$15)/1000000","v":436.77763664497718},{"$f":"$D$5+(-Sanierungsdesign!$E$12/(4*PI()*$D$3))*(-LN((4*$D$4*AH846)/(Sanierungsdesign!$E$13+Sanierungsdesign!$E$15)^2)-$D$19)","v":422.81555475289639},149.66555475289641,{"$f":"(2*PI()*Sanierungsdesign!$E$10*$D$3)*(LN((Sanierungsdesign!$E$13+Sanierungsdesign!$E$15)/Sanierungsdesign!$E$13)*(AJ846-AN846))*$AH$7/1000000","v":291.14645832489123},10420.946940506668,23520.07724472355,{"$f":"AU846/Sanierungsdesign!$E$11","v":2.459336517828445},4838400,19.67469214262756,{"$error":"#DIV/0!"},{"$error":"#DIV/0!"},{"$error":"#DIV/0!"},{"$error":"#DIV/0!"},{"$f":"(AY846/(AH846*Sanierungsdesign!$E$10))*1000000","v":{"$error":"#DIV/0!"}},{"$f":"AZ846/Sanierungsdesign!$E$12","v":{"$error":"#DIV/0!"}},{"$f":"$D$5+((-(Sanierungsdesign!$E$12)*MIN($BA$7:$BA$932))/(4*PI()*$D$3))*(-LN((4*$D$4*AH846)/(Sanierungsdesign!$E$13)^2)-$D$19)","v":{"$error":"#DIV/0!"}},{"$f":"(BB846-273.15)/Heterogenität!$D$4","v":{"$error":"#DIV/0!"}},{"$f":"IF(AI846<Berechnung!$D$7,AI846,#N/A)","v":{"$error":"#N/A"}}]
[null,null,null,null,null,null,null,null,null,null,null,null,null,null,null,null,null,null,null,null,null,null,null,null,null,null,null,null,null,null,null,null,{"$f":"Sanierungsdesign!$E$12*AH847*Sanierungsdesign!$E$10/1000000","v":39358.800000000003},6055200,70.083333333333329,{"$f":"$D$5+((-Sanierungsdesign!$E$12)/4*PI()*$D$3)*(-LN((4*$D$4*AH847)/(Sanierungsdesign!$E$13^2))-$D$19)","v":3685.5680768489192},3412.4180768489191,6801.6282023150925,{"$f":"$D$3*$T$7*$AH$7*(AK847-$D$5)*(1/Sanierungsdesign!$E$15)/1000000","v":437.01039145931895},{"$f":"$D$5+(-Sanierungsdesign!$E$12/(4*PI()*$D$3))*(-LN((4*$D$4*AH847)/(Sanierungsdesign!$E$13+Sanierungsdesign!$E$15)^2)-$D$19)","v":422.90526492923959},149.75526492923962,{"$f":"(2*PI()*Sanierungsdesign!$E$10*$D$3)*(LN((Sanierungsdesign!$E$13+Sanierungsdesign!$E$15)/Sanierungsdesign!$E$13)*(AJ847-AN847))*$AH$7/1000000","v":291.28724772934174},10433.352829721558,23548.077336681556,{"$f":"AU847/Sanierungsdesign!$E$11","v":2.4605425204078775},4844160,19.68434016326302,{"$error":"#DIV/0!"},{"$error":"#DIV/0!"},{"$error":"#DIV/0!"},{"$error":"#DIV/0!"},{"$f":"(AY847/(AH847*Sanierungsdesign!$E$10))*1000000","v":{"$error":"#DIV/0!"}},{"$f":"AZ847/Sanierungsdesign!$E$12","v":{"$error":"#DIV/0!"}},{"$f":"$D$5+((-(Sanierungsdesign!$E$12)*MIN($BA$7:$BA$932))/(4*PI()*$D$3))*(-LN((4*$D$4*AH847)/(Sanierungsdesign!$E$13)^2)-$D$19)","v":{"$error":"#DIV/0!"}},{"$f":"(BB847-273.15)/Heterogenität!$D$4","v":{"$error":"#DIV/0!"}},{"$f":"IF(AI847<Berechnung!$D$7,AI847,#N/A)","v":{"$error":"#N/A"}}]
[null,null,null,null,null,null,null,null,null,null,null,null,null,null,null,null,null,null,null,null,null,null,null,null,null,null,null,null,null,null,null,null,{"$f":"Sanierungsdesign!$E$12*AH848*Sanierungsdesign!$E$10/1000000","v":39405.599999999999},6062400,70.166666666666671,{"$f":"$D$5+((-Sanierungsdesign!$E$12)/4*PI()*$D$3)*(-LN((4*$D$4*AH848)/(Sanierungsdesign!$E$13^2))-$D$19)","v":3687.2327664853883},3414.0827664853882,6804.9579693389178,{"$f":"$D$3*$T$7*$AH$7*(AK848-$D$5)*(1/Sanierungsdesign!$E$15)/1000000","v":437.24286967845069},{"$f":"$D$5+(-Sanierungsdesign!$E$12/(4*PI()*$D$3))*(-LN((4*$D$4*AH848)/(Sanierungsdesign!$E$13+Sanierungsdesign!$E$15)^2)-$D$19)","v":422.99486849809921},149.84486849809923,{"$f":"(2*PI()*Sanierungsdesign!$E$10*$D$3)*(LN((Sanierungsdesign!$E$13+Sanierungsdesign!$E$15)/Sanierungsdesign!$E$13)*(AJ848-AN848))*$AH$7/1000000","v":291.42786982608271},10445.758718936448,23576.077428639561,{"$f":"AU848/Sanierungsdesign!$E$11","v":2.4617470898288265},4849920,19.693976718630612,{"$error":"#DIV/0!"},{"$error":"#DIV/0!"},{"$error":"#DIV/0!"},{"$error":"#DIV/0!"},{"$f":"(AY848/(AH848*Sanierungsdesign!$E$10))*1000000","v":{"$error":"#DIV/0!"}},{"$f":"AZ848/Sanierungsdesign!$E$12","v":{"$error":"#DIV/0!"}},{"$f":"$D$5+((-(Sanierungsdesign!$E$12)*MIN($BA$7:$BA$932))/(4*PI()*$D$3))*(-LN((4*$D$4*AH848)/(Sanierungsdesign!$E$13)^2)-$D$19)","v":{"$error":"#DIV/0!"}},{"$f":"(BB848-273.15)/Heterogenität!$D$4","v":{"$error":"#DIV/0!"}},{"$f":"IF(AI848<Berechnung!$D$7,AI848,#N/A)","v":{"$error":"#N/A"}}]
[null,null,null,null,null,null,null,null,null,null,null,null,null,null,null,null,null,null,null,null,null,null,null,null,null,null,null,null,null,null,null,null,{"$f":"Sanierungsdesign!$E$12*AH849*Sanierungsdesign!$E$10/1000000","v":39452.400000000001},6069600,70.25,{"$f":"$D$5+((-Sanierungsdesign!$E$12)/4*PI()*$D$3)*(-LN((4*$D$4*AH849)/(Sanierungsdesign!$E$13^2))-$D$19)","v":3688.8954802286503},3415.7454802286502,6808.2837841160899,{"$f":"$D$3*$T$7*$AH$7*(AK849-$D$5)*(1/Sanierungsdesign!$E$15)/1000000","v":437.47507195897867},{"$f":"$D$5+(-Sanierungsdesign!$E$12/(4*PI()*$D$3))*(-LN((4*$D$4*AH849)/(Sanierungsdesign!$E$13+Sanierungsdesign!$E$15)^2)-$D$19)","v":423.08436571254947},149.93436571254949,{"$f":"(2*PI()*Sanierungsdesign!$E$10*$D$3)*(LN((Sanierungsdesign!$E$13+Sanierungsdesign!$E$15)/Sanierungsdesign!$E$13)*(AJ849-AN849))*$AH$7/1000000","v":291.56832501228394},10458.164608151335,23604.077520597566,{"$f":"AU849/Sanierungsdesign!$E$11","v":2.4629502294934507},4855680,19.703601835947605,{"$error":"#DIV/0!"},{"$error":"#DIV/0!"},{"$error":"#DIV/0!"},{"$error":"#DIV/0!"},{"$f":"(AY849/(AH849*Sanierungsdesign!$E$10))*1000000","v":{"$error":"#DIV/0!"}},{"$f":"AZ849/Sanierungsdesign!$E$12","v":{"$error":"#DIV/0!"}},{"$f":"$D$5+((-(Sanierungsdesign!$E$12)*MIN($BA$7:$BA$932))/(4*PI()*$D$3))*(-LN((4*$D$4*AH849)/(Sanierungsdesign!$E$13)^2)-$D$19)","v":{"$error":"#DIV/0!"}},{"$f":"(BB849-273.15)/Heterogenität!$D$4","v":{"$error":"#DIV/0!"}},{"$f":"IF(AI849<Berechnung!$D$7,AI849,#N/A)","v":{"$error":"#N/A"}}]
[null,null,null,null,null,null,null,null,null,null,null,null,null,null,null,null,null,null,null,null,null,null,null,null,null,null,null,null,null,null,null,null,{"$f":"Sanierungsdesign!$E$12*AH850*Sanierungsdesign!$E$10/1000000","v":39499.199999999997},6076800,70.333333333333329,{"$f":"$D$5+((-Sanierungsdesign!$E$12)/4*PI()*$D$3)*(-LN((4*$D$4*AH850)/(Sanierungsdesign!$E$13^2))-$D$19)","v":3690.5562227636924},3417.4062227636923,6811.6056560176748,{"$f":"$D$3*$T$7*$AH$7*(AK850-$D$5)*(1/Sanierungsdesign!$E$15)/1000000","v":437.7069989551735},{"$f":"$D$5+(-Sanierungsdesign!$E$12/(4*PI()*$D$3))*(-LN((4*$D$4*AH850)/(Sanierungsdesign!$E$13+Sanierungsdesign!$E$15)^2)-$D$19)","v":423.17375682476444},150.02375682476446,{"$f":"(2*PI()*Sanierungsdesign!$E$10*$D$3)*(LN((Sanierungsdesign!$E$13+Sanierungsdesign!$E$15)/Sanierungsdesign!$E$13)*(AJ850-AN850))*$AH$7/1000000","v":291.70861368370242},10470.570497366225,23632.077612555568,{"$f":"AU850/Sanierungsdesign!$E$11","v":2.4641519427918075},4861440,19.71321554233446,{"$error":"#DIV/0!"},{"$error":"#DIV/0!"},{"$error":"#DIV/0!"},{"$error":"#DIV/0!"},{"$f":"(AY850/(AH850*Sanierungsdesign!$E$10))*1000000","v":{"$error":"#DIV/0!"}},{"$f":"AZ850/Sanierungsdesign!$E$12","v":{"$error":"#DIV/0!"}},{"$f":"$D$5+((-(Sanierungsdesign!$E$12)*MIN($BA$7:$BA$932))/(4*PI()*$D$3))*(-LN((4*$D$4*AH850)/(Sanierungsdesign!$E$13)^2)-$D$19)","v":{"$error":"#DIV/0!"}},{"$f":"(BB850-273.15)/Heterogenität!$D$4","v":{"$error":"#DIV/0!"}},{"$f":"IF(AI850<Berechnung!$D$7,AI850,#N/A)","v":{"$error":"#N/A"}}]
[null,null,null,null,null,null,null,null,null,null,null,null,null,null,null,null,null,null,null,null,null,null,null,null,null,null,null,null,null,null,null,null,{"$f":"Sanierungsdesign!$E$12*AH851*Sanierungsdesign!$E$10/1000000","v":39546},6084000,70.416666666666671,{"$f":"$D$5+((-Sanierungsdesign!$E$12)/4*PI()*$D$3)*(-LN((4*$D$4*AH851)/(Sanierungsdesign!$E$13^2))-$D$19)","v":3692.2149987588614},3419.0649987588613,6814.9235943814538,{"$f":"$D$3*$T$7*$AH$7*(AK851-$D$5)*(1/Sanierungsdesign!$E$15)/1000000","v":437.93865131898184},{"$f":"$D$5+(-Sanierungsdesign!$E$12/(4*PI()*$D$3))*(-LN((4*$D$4*AH851)/(Sanierungsdesign!$E$13+Sanierungsdesign!$E$15)^2)-$D$19)","v":423.26304208602244},150.11304208602246,{"$f":"(2*PI()*Sanierungsdesign!$E$10*$D$3)*(LN((Sanierungsdesign!$E$13+Sanierungsdesign!$E$15)/Sanierungsdesign!$E$13)*(AJ851-AN851))*$AH$7/1000000","v":291.8487362346898},10482.976386581113,23660.077704513573,{"$f":"AU851/Sanierungsdesign!$E$11","v":2.4653522331019118},4867200,19.722817864815294,{"$error":"#DIV/0!"},{"$error":"#DIV/0!"},{"$error":"#DIV/0!"},{"$error":"#DIV/0!"},{"$f":"(AY851/(AH851*Sanierungsdesign!$E$10))*1000000","v":{"$error":"#DIV/0!"}},{"$f":"AZ851/Sanierungsdesign!$E$12","v":{"$error":"#DIV/0!"}},{"$f":"$D$5+((-(Sanierungsdesign!$E$12)*MIN($BA$7:$BA$932))/(4*PI()*$D$3))*(-LN((4*$D$4*AH851)/(Sanierungsdesign!$E$13)^2)-$D$19)","v":{"$error":"#DIV/0!"}},{"$f":"(BB851-273.15)/Heterogenität!$D$4","v":{"$error":"#DIV/0!"}},{"$f":"IF(AI851<Berechnung!$D$7,AI851,#N/A)","v":{"$error":"#N/A"}}]
[null,null,null,null,null,null,null,null,null,null,null,null,null,null,null,null,null,null,null,null,null,null,null,null,null,null,null,null,null,null,null,null,{"$f":"Sanierungsdesign!$E$12*AH852*Sanierungsdesign!$E$10/1000000","v":39592.800000000003},6091200,70.5,{"$f":"$D$5+((-Sanierungsdesign!$E$12)/4*PI()*$D$3)*(-LN((4*$D$4*AH852)/(Sanierungsdesign!$E$13^2))-$D$19)","v":3693.871812865937},3420.721812865937,6818.2376085120695,{"$f":"$D$3*$T$7*$AH$7*(AK852-$D$5)*(1/Sanierungsdesign!$E$15)/1000000","v":438.17002970003688},{"$f":"$D$5+(-Sanierungsdesign!$E$12/(4*PI()*$D$3))*(-LN((4*$D$4*AH852)/(Sanierungsdesign!$E$13+Sanierungsdesign!$E$15)^2)-$D$19)","v":423.35222174671037},150.20222174671039,{"$f":"(2*PI()*Sanierungsdesign!$E$10*$D$3)*(LN((Sanierungsdesign!$E$13+Sanierungsdesign!$E$15)/Sanierungsdesign!$E$13)*(AJ852-AN852))*$AH$7/1000000","v":291.98869305819778},10495.382275796002,23688.077796471578,{"$f":"AU852/Sanierungsdesign!$E$11","v":2.4665511037897914},4872960,19.732408830318331,{"$error":"#DIV/0!"},{"$error":"#DIV/0!"},{"$error":"#DIV/0!"},{"$error":"#DIV/0!"},{"$f":"(AY852/(AH852*Sanierungsdesign!$E$10))*1000000","v":{"$error":"#DIV/0!"}},{"$f":"AZ852/Sanierungsdesign!$E$12","v":{"$error":"#DIV/0!"}},{"$f":"$D$5+((-(Sanierungsdesign!$E$12)*MIN($BA$7:$BA$932))/(4*PI()*$D$3))*(-LN((4*$D$4*AH852)/(Sanierungsdesign!$E$13)^2)-$D$19)","v":{"$error":"#DIV/0!"}},{"$f":"(BB852-273.15)/Heterogenität!$D$4","v":{"$error":"#DIV/0!"}},{"$f":"IF(AI852<Berechnung!$D$7,AI852,#N/A)","v":{"$error":"#N/A"}}]
[null,null,null,null,null,null,null,null,null,null,null,null,null,null,null,null,null,null,null,null,null,null,null,null,null,null,null,null,null,null,null,null,{"$f":"Sanierungsdesign!$E$12*AH853*Sanierungsdesign!$E$10/1000000","v":39639.599999999999},6098400,70.583333333333329,{"$f":"$D$5+((-Sanierungsdesign!$E$12)/4*PI()*$D$3)*(-LN((4*$D$4*AH853)/(Sanierungsdesign!$E$13^2))-$D$19)","v":3695.5266697202169},3422.3766697202168,6821.5477076811976,{"$f":"$D$3*$T$7*$AH$7*(AK853-$D$5)*(1/Sanierungsdesign!$E$15)/1000000","v":438.40113474566982},{"$f":"$D$5+(-Sanierungsdesign!$E$12/(4*PI()*$D$3))*(-LN((4*$D$4*AH853)/(Sanierungsdesign!$E$13+Sanierungsdesign!$E$15)^2)-$D$19)","v":423.44129605632742},150.29129605632744,{"$f":"(2*PI()*Sanierungsdesign!$E$10*$D$3)*(LN((Sanierungsdesign!$E$13+Sanierungsdesign!$E$15)/Sanierungsdesign!$E$13)*(AJ853-AN853))*$AH$7/1000000","v":292.12848454578614},10507.788165010892,23716.077888429583,{"$f":"AU853/Sanierungsdesign!$E$11","v":2.4677485582095486},4878720,19.741988465676389,{"$error":"#DIV/0!"},{"$error":"#DIV/0!"},{"$error":"#DIV/0!"},{"$error":"#DIV/0!"},{"$f":"(AY853/(AH853*Sanierungsdesign!$E$10))*1000000","v":{"$error":"#DIV/0!"}},{"$f":"AZ853/Sanierungsdesign!$E$12","v":{"$error":"#DIV/0!"}},{"$f":"$D$5+((-(Sanierungsdesign!$E$12)*MIN($BA$7:$BA$932))/(4*PI()*$D$3))*(-LN((4*$D$4*AH853)/(Sanierungsdesign!$E$13)^2)-$D$19)","v":{"$error":"#DIV/0!"}},{"$f":"(BB853-273.15)/Heterogenität!$D$4","v":{"$error":"#DIV/0!"}},{"$f":"IF(AI853<Berechnung!$D$7,AI853,#N/A)","v":{"$error":"#N/A"}}]
[null,null,null,null,null,null,null,null,null,null,null,null,null,null,null,null,null,null,null,null,null,null,null,null,null,null,null,null,null,null,null,null,{"$f":"Sanierungsdesign!$E$12*AH854*Sanierungsdesign!$E$10/1000000","v":39686.400000000001},6105600,70.666666666666671,{"$f":"$D$5+((-Sanierungsdesign!$E$12)/4*PI()*$D$3)*(-LN((4*$D$4*AH854)/(Sanierungsdesign!$E$13^2))-$D$19)","v":3697.1795739405866},3424.0295739405865,6824.8539011276835,{"$f":"$D$3*$T$7*$AH$7*(AK854-$D$5)*(1/Sanierungsdesign!$E$15)/1000000","v":438.63196710092006},{"$f":"$D$5+(-Sanierungsdesign!$E$12/(4*PI()*$D$3))*(-LN((4*$D$4*AH854)/(Sanierungsdesign!$E$13+Sanierungsdesign!$E$15)^2)-$D$19)","v":423.53026526348987},150.38026526348989,{"$f":"(2*PI()*Sanierungsdesign!$E$10*$D$3)*(LN((Sanierungsdesign!$E$13+Sanierungsdesign!$E$15)/Sanierungsdesign!$E$13)*(AJ854-AN854))*$AH$7/1000000","v":292.26811108762809},10520.19405422578,23744.077980387585,{"$f":"AU854/Sanierungsdesign!$E$11","v":2.4689445997034078},4884480,19.751556797627263,{"$error":"#DIV/0!"},{"$error":"#DIV/0!"},{"$error":"#DIV/0!"},{"$error":"#DIV/0!"},{"$f":"(AY854/(AH854*Sanierungsdesign!$E$10))*1000000","v":{"$error":"#DIV/0!"}},{"$f":"AZ854/Sanierungsdesign!$E$12","v":{"$error":"#DIV/0!"}},{"$f":"$D$5+((-(Sanierungsdesign!$E$12)*MIN($BA$7:$BA$932))/(4*PI()*$D$3))*(-LN((4*$D$4*AH854)/(Sanierungsdesign!$E$13)^2)-$D$19)","v":{"$error":"#DIV/0!"}},{"$f":"(BB854-273.15)/Heterogenität!$D$4","v":{"$error":"#DIV/0!"}},{"$f":"IF(AI854<Berechnung!$D$7,AI854,#N/A)","v":{"$error":"#N/A"}}]
[null,null,null,null,null,null,null,null,null,null,null,null,null,null,null,null,null,null,null,null,null,null,null,null,null,null,null,null,null,null,null,null,{"$f":"Sanierungsdesign!$E$12*AH855*Sanierungsdesign!$E$10/1000000","v":39733.199999999997},6112800,70.75,{"$f":"$D$5+((-Sanierungsdesign!$E$12)/4*PI()*$D$3)*(-LN((4*$D$4*AH855)/(Sanierungsdesign!$E$13^2))-$D$19)","v":3698.8305301296027},3425.6805301296026,6828.1561980577144,{"$f":"$D$3*$T$7*$AH$7*(AK855-$D$5)*(1/Sanierungsdesign!$E$15)/1000000","v":438.86252740854661},{"$f":"$D$5+(-Sanierungsdesign!$E$12/(4*PI()*$D$3))*(-LN((4*$D$4*AH855)/(Sanierungsdesign!$E$13+Sanierungsdesign!$E$15)^2)-$D$19)","v":423.61912961593487},150.46912961593489,{"$f":"(2*PI()*Sanierungsdesign!$E$10*$D$3)*(LN((Sanierungsdesign!$E$13+Sanierungsdesign!$E$15)/Sanierungsdesign!$E$13)*(AJ855-AN855))*$AH$7/1000000","v":292.40757307251749},10532.599943440669,23772.078072345594,{"$f":"AU855/Sanierungsdesign!$E$11","v":2.4701392316017801},4890240,19.76111385281424,{"$error":"#DIV/0!"},{"$error":"#DIV/0!"},{"$error":"#DIV/0!"},{"$error":"#DIV/0!"},{"$f":"(AY855/(AH855*Sanierungsdesign!$E$10))*1000000","v":{"$error":"#DIV/0!"}},{"$f":"AZ855/Sanierungsdesign!$E$12","v":{"$error":"#DIV/0!"}},{"$f":"$D$5+((-(Sanierungsdesign!$E$12)*MIN($BA$7:$BA$932))/(4*PI()*$D$3))*(-LN((4*$D$4*AH855)/(Sanierungsdesign!$E$13)^2)-$D$19)","v":{"$error":"#DIV/0!"}},{"$f":"(BB855-273.15)/Heterogenität!$D$4","v":{"$error":"#DIV/0!"}},{"$f":"IF(AI855<Berechnung!$D$7,AI855,#N/A)","v":{"$error":"#N/A"}}]
[null,null,null,null,null,null,null,null,null,null,null,null,null,null,null,null,null,null,null,null,null,null,null,null,null,null,null,null,null,null,null,null,{"$f":"Sanierungsdesign!$E$12*AH856*Sanierungsdesign!$E$10/1000000","v":39780},6120000,70.833333333333329,{"$f":"$D$5+((-Sanierungsdesign!$E$12)/4*PI()*$D$3)*(-LN((4*$D$4*AH856)/(Sanierungsdesign!$E$13^2))-$D$19)","v":3700.4795428735683},3427.3295428735682,6831.4546076449633,{"$f":"$D$3*$T$7*$AH$7*(AK856-$D$5)*(1/Sanierungsdesign!$E$15)/1000000","v":439.09281630903848},{"$f":"$D$5+(-Sanierungsdesign!$E$12/(4*PI()*$D$3))*(-LN((4*$D$4*AH856)/(Sanierungsdesign!$E$13+Sanierungsdesign!$E$15)^2)-$D$19)","v":423.70788936052463},150.55788936052465,{"$f":"(2*PI()*Sanierungsdesign!$E$10*$D$3)*(LN((Sanierungsdesign!$E$13+Sanierungsdesign!$E$15)/Sanierungsdesign!$E$13)*(AJ856-AN856))*$AH$7/1000000","v":292.5468708878754},10545.005832655557,23800.078164303592,{"$f":"AU856/Sanierungsdesign!$E$11","v":2.4713324572233137},4896000,19.77065965778651,{"$error":"#DIV/0!"},{"$error":"#DIV/0!"},{"$error":"#DIV/0!"},{"$error":"#DIV/0!"},{"$f":"(AY856/(AH856*Sanierungsdesign!$E$10))*1000000","v":{"$error":"#DIV/0!"}},{"$f":"AZ856/Sanierungsdesign!$E$12","v":{"$error":"#DIV/0!"}},{"$f":"$D$5+((-(Sanierungsdesign!$E$12)*MIN($BA$7:$BA$932))/(4*PI()*$D$3))*(-LN((4*$D$4*AH856)/(Sanierungsdesign!$E$13)^2)-$D$19)","v":{"$error":"#DIV/0!"}},{"$f":"(BB856-273.15)/Heterogenität!$D$4","v":{"$error":"#DIV/0!"}},{"$f":"IF(AI856<Berechnung!$D$7,AI856,#N/A)","v":{"$error":"#N/A"}}]
[null,null,null,null,null,null,null,null,null,null,null,null,null,null,null,null,null,null,null,null,null,null,null,null,null,null,null,null,null,null,null,null,{"$f":"Sanierungsdesign!$E$12*AH857*Sanierungsdesign!$E$10/1000000","v":39826.800000000003},6127200,70.916666666666671,{"$f":"$D$5+((-Sanierungsdesign!$E$12)/4*PI()*$D$3)*(-LN((4*$D$4*AH857)/(Sanierungsdesign!$E$13^2))-$D$19)","v":3702.1266167426083},3428.9766167426083,6834.7491390307459,{"$f":"$D$3*$T$7*$AH$7*(AK857-$D$5)*(1/Sanierungsdesign!$E$15)/1000000","v":439.32283444062551},{"$f":"$D$5+(-Sanierungsdesign!$E$12/(4*PI()*$D$3))*(-LN((4*$D$4*AH857)/(Sanierungsdesign!$E$13+Sanierungsdesign!$E$15)^2)-$D$19)","v":423.79654474325071},150.64654474325073,{"$f":"(2*PI()*Sanierungsdesign!$E$10*$D$3)*(LN((Sanierungsdesign!$E$13+Sanierungsdesign!$E$15)/Sanierungsdesign!$E$13)*(AJ857-AN857))*$AH$7/1000000","v":292.68600491975582},10557.411721870447,23828.078256261597,{"$f":"AU857/Sanierungsdesign!$E$11","v":2.4725242798749512},4901760,19.780194238999609,{"$error":"#DIV/0!"},{"$error":"#DIV/0!"},{"$error":"#DIV/0!"},{"$error":"#DIV/0!"},{"$f":"(AY857/(AH857*Sanierungsdesign!$E$10))*1000000","v":{"$error":"#DIV/0!"}},{"$f":"AZ857/Sanierungsdesign!$E$12","v":{"$error":"#DIV/0!"}},{"$f":"$D$5+((-(Sanierungsdesign!$E$12)*MIN($BA$7:$BA$932))/(4*PI()*$D$3))*(-LN((4*$D$4*AH857)/(Sanierungsdesign!$E$13)^2)-$D$19)","v":{"$error":"#DIV/0!"}},{"$f":"(BB857-273.15)/Heterogenität!$D$4","v":{"$error":"#DIV/0!"}},{"$f":"IF(AI857<Berechnung!$D$7,AI857,#N/A)","v":{"$error":"#N/A"}}]
[null,null,null,null,null,null,null,null,null,null,null,null,null,null,null,null,null,null,null,null,null,null,null,null,null,null,null,null,null,null,null,null,{"$f":"Sanierungsdesign!$E$12*AH858*Sanierungsdesign!$E$10/1000000","v":39873.599999999999},6134400,71,{"$f":"$D$5+((-Sanierungsdesign!$E$12)/4*PI()*$D$3)*(-LN((4*$D$4*AH858)/(Sanierungsdesign!$E$13^2))-$D$19)","v":3703.771756290746},3430.6217562907459,6838.0398013241675,{"$f":"$D$3*$T$7*$AH$7*(AK858-$D$5)*(1/Sanierungsdesign!$E$15)/1000000","v":439.55258243928876},{"$f":"$D$5+(-Sanierungsdesign!$E$12/(4*PI()*$D$3))*(-LN((4*$D$4*AH858)/(Sanierungsdesign!$E$13+Sanierungsdesign!$E$15)^2)-$D$19)","v":423.885096009238},150.73509600923802,{"$f":"(2*PI()*Sanierungsdesign!$E$10*$D$3)*(LN((Sanierungsdesign!$E$13+Sanierungsdesign!$E$15)/Sanierungsdesign!$E$13)*(AJ858-AN858))*$AH$7/1000000","v":292.82497555285312},10569.817611085336,23856.078348219606,{"$f":"AU858/Sanierungsdesign!$E$11","v":2.4737147028519835},4907520,19.789717622815868,{"$error":"#DIV/0!"},{"$error":"#DIV/0!"},{"$error":"#DIV/0!"},{"$error":"#DIV/0!"},{"$f":"(AY858/(AH858*Sanierungsdesign!$E$10))*1000000","v":{"$error":"#DIV/0!"}},{"$f":"AZ858/Sanierungsdesign!$E$12","v":{"$error":"#DIV/0!"}},{"$f":"$D$5+((-(Sanierungsdesign!$E$12)*MIN($BA$7:$BA$932))/(4*PI()*$D$3))*(-LN((4*$D$4*AH858)/(Sanierungsdesign!$E$13)^2)-$D$19)","v":{"$error":"#DIV/0!"}},{"$f":"(BB858-273.15)/Heterogenität!$D$4","v":{"$error":"#DIV/0!"}},{"$f":"IF(AI858<Berechnung!$D$7,AI858,#N/A)","v":{"$error":"#N/A"}}]
[null,null,null,null,null,null,null,null,null,null,null,null,null,null,null,null,null,null,null,null,null,null,null,null,null,null,null,null,null,null,null,null,{"$f":"Sanierungsdesign!$E$12*AH859*Sanierungsdesign!$E$10/1000000","v":39920.400000000001},6141600,71.083333333333329,{"$f":"$D$5+((-Sanierungsdesign!$E$12)/4*PI()*$D$3)*(-LN((4*$D$4*AH859)/(Sanierungsdesign!$E$13^2))-$D$19)","v":3705.414966055981},3432.2649660559809,6841.3266036022851,{"$f":"$D$3*$T$7*$AH$7*(AK859-$D$5)*(1/Sanierungsdesign!$E$15)/1000000","v":439.78206093877168},{"$f":"$D$5+(-Sanierungsdesign!$E$12/(4*PI()*$D$3))*(-LN((4*$D$4*AH859)/(Sanierungsdesign!$E$13+Sanierungsdesign!$E$15)^2)-$D$19)","v":423.97354340274865},150.82354340274867,{"$f":"(2*PI()*Sanierungsdesign!$E$10*$D$3)*(LN((Sanierungsdesign!$E$13+Sanierungsdesign!$E$15)/Sanierungsdesign!$E$13)*(AJ859-AN859))*$AH$7/1000000","v":292.96378317050772},10582.223500300224,23884.078440177604,{"$f":"AU859/Sanierungsdesign!$E$11","v":2.4749037294381075},4913280,19.79922983550486,{"$error":"#DIV/0!"},{"$error":"#DIV/0!"},{"$error":"#DIV/0!"},{"$error":"#DIV/0!"},{"$f":"(AY859/(AH859*Sanierungsdesign!$E$10))*1000000","v":{"$error":"#DIV/0!"}},{"$f":"AZ859/Sanierungsdesign!$E$12","v":{"$error":"#DIV/0!"}},{"$f":"$D$5+((-(Sanierungsdesign!$E$12)*MIN($BA$7:$BA$932))/(4*PI()*$D$3))*(-LN((4*$D$4*AH859)/(Sanierungsdesign!$E$13)^2)-$D$19)","v":{"$error":"#DIV/0!"}},{"$f":"(BB859-273.15)/Heterogenität!$D$4","v":{"$error":"#DIV/0!"}},{"$f":"IF(AI859<Berechnung!$D$7,AI859,#N/A)","v":{"$error":"#N/A"}}]
[null,null,null,null,null,null,null,null,null,null,null,null,null,null,null,null,null,null,null,null,null,null,null,null,null,null,null,null,null,null,null,null,{"$f":"Sanierungsdesign!$E$12*AH860*Sanierungsdesign!$E$10/1000000","v":39967.199999999997},6148800,71.166666666666671,{"$f":"$D$5+((-Sanierungsdesign!$E$12)/4*PI()*$D$3)*(-LN((4*$D$4*AH860)/(Sanierungsdesign!$E$13^2))-$D$19)","v":3707.056250560358},3433.9062505603579,6844.6095549102429,{"$f":"$D$3*$T$7*$AH$7*(AK860-$D$5)*(1/Sanierungsdesign!$E$15)/1000000","v":440.01127057058949},{"$f":"$D$5+(-Sanierungsdesign!$E$12/(4*PI()*$D$3))*(-LN((4*$D$4*AH860)/(Sanierungsdesign!$E$13+Sanierungsdesign!$E$15)^2)-$D$19)","v":424.06188716718634},150.91188716718636,{"$f":"(2*PI()*Sanierungsdesign!$E$10*$D$3)*(LN((Sanierungsdesign!$E$13+Sanierungsdesign!$E$15)/Sanierungsdesign!$E$13)*(AJ860-AN860))*$AH$7/1000000","v":293.1024281547123},10594.629389515114,23912.078532135612,{"$f":"AU860/Sanierungsdesign!$E$11","v":2.4760913629054748},4919040,19.808730903243799,{"$error":"#DIV/0!"},{"$error":"#DIV/0!"},{"$error":"#DIV/0!"},{"$error":"#DIV/0!"},{"$f":"(AY860/(AH860*Sanierungsdesign!$E$10))*1000000","v":{"$error":"#DIV/0!"}},{"$f":"AZ860/Sanierungsdesign!$E$12","v":{"$error":"#DIV/0!"}},{"$f":"$D$5+((-(Sanierungsdesign!$E$12)*MIN($BA$7:$BA$932))/(4*PI()*$D$3))*(-LN((4*$D$4*AH860)/(Sanierungsdesign!$E$13)^2)-$D$19)","v":{"$error":"#DIV/0!"}},{"$f":"(BB860-273.15)/Heterogenität!$D$4","v":{"$error":"#DIV/0!"}},{"$f":"IF(AI860<Berechnung!$D$7,AI860,#N/A)","v":{"$error":"#N/A"}}]
[null,null,null,null,null,null,null,null,null,null,null,null,null,null,null,null,null,null,null,null,null,null,null,null,null,null,null,null,null,null,null,null,{"$f":"Sanierungsdesign!$E$12*AH861*Sanierungsdesign!$E$10/1000000","v":40014},6156000,71.25,{"$f":"$D$5+((-Sanierungsdesign!$E$12)/4*PI()*$D$3)*(-LN((4*$D$4*AH861)/(Sanierungsdesign!$E$13^2))-$D$19)","v":3708.6956143100492},3435.5456143100491,6847.8886642614334,{"$f":"$D$3*$T$7*$AH$7*(AK861-$D$5)*(1/Sanierungsdesign!$E$15)/1000000","v":440.24021196404095},{"$f":"$D$5+(-Sanierungsdesign!$E$12/(4*PI()*$D$3))*(-LN((4*$D$4*AH861)/(Sanierungsdesign!$E$13+Sanierungsdesign!$E$15)^2)-$D$19)","v":424.1501275451003},151.00012754510033,{"$f":"(2*PI()*Sanierungsdesign!$E$10*$D$3)*(LN((Sanierungsdesign!$E$13+Sanierungsdesign!$E$15)/Sanierungsdesign!$E$13)*(AJ861-AN861))*$AH$7/1000000","v":293.24091088611902},10607.035278730003,23940.078624093618,{"$f":"AU861/Sanierungsdesign!$E$11","v":2.4772776065147513},4924800,19.81822085211801,{"$error":"#DIV/0!"},{"$error":"#DIV/0!"},{"$error":"#DIV/0!"},{"$error":"#DIV/0!"},{"$f":"(AY861/(AH861*Sanierungsdesign!$E$10))*1000000","v":{"$error":"#DIV/0!"}},{"$f":"AZ861/Sanierungsdesign!$E$12","v":{"$error":"#DIV/0!"}},{"$f":"$D$5+((-(Sanierungsdesign!$E$12)*MIN($BA$7:$BA$932))/(4*PI()*$D$3))*(-LN((4*$D$4*AH861)/(Sanierungsdesign!$E$13)^2)-$D$19)","v":{"$error":"#DIV/0!"}},{"$f":"(BB861-273.15)/Heterogenität!$D$4","v":{"$error":"#DIV/0!"}},{"$f":"IF(AI861<Berechnung!$D$7,AI861,#N/A)","v":{"$error":"#N/A"}}]
[null,null,null,null,null,null,null,null,null,null,null,null,null,null,null,null,null,null,null,null,null,null,null,null,null,null,null,null,null,null,null,null,{"$f":"Sanierungsdesign!$E$12*AH862*Sanierungsdesign!$E$10/1000000","v":40060.800000000003},6163200,71.333333333333329,{"$f":"$D$5+((-Sanierungsdesign!$E$12)/4*PI()*$D$3)*(-LN((4*$D$4*AH862)/(Sanierungsdesign!$E$13^2))-$D$19)","v":3710.3330617954239},3437.1830617954238,6851.1639406376416,{"$f":"$D$3*$T$7*$AH$7*(AK862-$D$5)*(1/Sanierungsdesign!$E$15)/1000000","v":440.46888574621755},{"$f":"$D$5+(-Sanierungsdesign!$E$12/(4*PI()*$D$3))*(-LN((4*$D$4*AH862)/(Sanierungsdesign!$E$13+Sanierungsdesign!$E$15)^2)-$D$19)","v":424.23826477818892},151.08826477818894,{"$f":"(2*PI()*Sanierungsdesign!$E$10*$D$3)*(LN((Sanierungsdesign!$E$13+Sanierungsdesign!$E$15)/Sanierungsdesign!$E$13)*(AJ862-AN862))*$AH$7/1000000","v":293.37923174404477},10619.441167944891,23968.078716051619,{"$f":"AU862/Sanierungsdesign!$E$11","v":2.4784624635151684},4930560,19.827699708121347,{"$error":"#DIV/0!"},{"$error":"#DIV/0!"},{"$error":"#DIV/0!"},{"$error":"#DIV/0!"},{"$f":"(AY862/(AH862*Sanierungsdesign!$E$10))*1000000","v":{"$error":"#DIV/0!"}},{"$f":"AZ862/Sanierungsdesign!$E$12","v":{"$error":"#DIV/0!"}},{"$f":"$D$5+((-(Sanierungsdesign!$E$12)*MIN($BA$7:$BA$932))/(4*PI()*$D$3))*(-LN((4*$D$4*AH862)/(Sanierungsdesign!$E$13)^2)-$D$19)","v":{"$error":"#DIV/0!"}},{"$f":"(BB862-273.15)/Heterogenität!$D$4","v":{"$error":"#DIV/0!"}},{"$f":"IF(AI862<Berechnung!$D$7,AI862,#N/A)","v":{"$error":"#N/A"}}]
[null,null,null,null,null,null,null,null,null,null,null,null,null,null,null,null,null,null,null,null,null,null,null,null,null,null,null,null,null,null,null,null,{"$f":"Sanierungsdesign!$E$12*AH863*Sanierungsdesign!$E$10/1000000","v":40107.599999999999},6170400,71.416666666666671,{"$f":"$D$5+((-Sanierungsdesign!$E$12)/4*PI()*$D$3)*(-LN((4*$D$4*AH863)/(Sanierungsdesign!$E$13^2))-$D$19)","v":3711.9685974911222},3438.8185974911221,6854.4353929891904,{"$f":"$D$3*$T$7*$AH$7*(AK863-$D$5)*(1/Sanierungsdesign!$E$15)/1000000","v":440.69729254201457},{"$f":"$D$5+(-Sanierungsdesign!$E$12/(4*PI()*$D$3))*(-LN((4*$D$4*AH863)/(Sanierungsdesign!$E$13+Sanierungsdesign!$E$15)^2)-$D$19)","v":424.32629910730424},151.17629910730426,{"$f":"(2*PI()*Sanierungsdesign!$E$10*$D$3)*(LN((Sanierungsdesign!$E$13+Sanierungsdesign!$E$15)/Sanierungsdesign!$E$13)*(AJ863-AN863))*$AH$7/1000000","v":293.51739110647799},10631.847057159781,23996.078808009624,{"$f":"AU863/Sanierungsdesign!$E$11","v":2.4796459371445758},4936320,19.837167497156607,{"$error":"#DIV/0!"},{"$error":"#DIV/0!"},{"$error":"#DIV/0!"},{"$error":"#DIV/0!"},{"$f":"(AY863/(AH863*Sanierungsdesign!$E$10))*1000000","v":{"$error":"#DIV/0!"}},{"$f":"AZ863/Sanierungsdesign!$E$12","v":{"$error":"#DIV/0!"}},{"$f":"$D$5+((-(Sanierungsdesign!$E$12)*MIN($BA$7:$BA$932))/(4*PI()*$D$3))*(-LN((4*$D$4*AH863)/(Sanierungsdesign!$E$13)^2)-$D$19)","v":{"$error":"#DIV/0!"}},{"$f":"(BB863-273.15)/Heterogenität!$D$4","v":{"$error":"#DIV/0!"}},{"$f":"IF(AI863<Berechnung!$D$7,AI863,#N/A)","v":{"$error":"#N/A"}}]
[null,null,null,null,null,null,null,null,null,null,null,null,null,null,null,null,null,null,null,null,null,null,null,null,null,null,null,null,null,null,null,null,{"$f":"Sanierungsdesign!$E$12*AH864*Sanierungsdesign!$E$10/1000000","v":40154.400000000001},6177600,71.5,{"$f":"$D$5+((-Sanierungsdesign!$E$12)/4*PI()*$D$3)*(-LN((4*$D$4*AH864)/(Sanierungsdesign!$E$13^2))-$D$19)","v":3713.6022258561302},3440.4522258561301,6857.7030302350895,{"$f":"$D$3*$T$7*$AH$7*(AK864-$D$5)*(1/Sanierungsdesign!$E$15)/1000000","v":440.92543297414079},{"$f":"$D$5+(-Sanierungsdesign!$E$12/(4*PI()*$D$3))*(-LN((4*$D$4*AH864)/(Sanierungsdesign!$E$13+Sanierungsdesign!$E$15)^2)-$D$19)","v":424.41423077245565},151.26423077245568,{"$f":"(2*PI()*Sanierungsdesign!$E$10*$D$3)*(LN((Sanierungsdesign!$E$13+Sanierungsdesign!$E$15)/Sanierungsdesign!$E$13)*(AJ864-AN864))*$AH$7/1000000","v":293.65538935008459},10644.252946374669,24024.07889996763,{"$f":"AU864/Sanierungsdesign!$E$11","v":2.4808280306294956},4942080,19.846624245035965,{"$error":"#DIV/0!"},{"$error":"#DIV/0!"},{"$error":"#DIV/0!"},{"$error":"#DIV/0!"},{"$f":"(AY864/(AH864*Sanierungsdesign!$E$10))*1000000","v":{"$error":"#DIV/0!"}},{"$f":"AZ864/Sanierungsdesign!$E$12","v":{"$error":"#DIV/0!"}},{"$f":"$D$5+((-(Sanierungsdesign!$E$12)*MIN($BA$7:$BA$932))/(4*PI()*$D$3))*(-LN((4*$D$4*AH864)/(Sanierungsdesign!$E$13)^2)-$D$19)","v":{"$error":"#DIV/0!"}},{"$f":"(BB864-273.15)/Heterogenität!$D$4","v":{"$error":"#DIV/0!"}},{"$f":"IF(AI864<Berechnung!$D$7,AI864,#N/A)","v":{"$error":"#N/A"}}]
[null,null,null,null,null,null,null,null,null,null,null,null,null,null,null,null,null,null,null,null,null,null,null,null,null,null,null,null,null,null,null,null,{"$f":"Sanierungsdesign!$E$12*AH865*Sanierungsdesign!$E$10/1000000","v":40201.199999999997},6184800,71.583333333333329,{"$f":"$D$5+((-Sanierungsdesign!$E$12)/4*PI()*$D$3)*(-LN((4*$D$4*AH865)/(Sanierungsdesign!$E$13^2))-$D$19)","v":3715.2339513338529},3442.0839513338528,6860.9668612631849,{"$f":"$D$3*$T$7*$AH$7*(AK865-$D$5)*(1/Sanierungsdesign!$E$15)/1000000","v":441.15330766312934},{"$f":"$D$5+(-Sanierungsdesign!$E$12/(4*PI()*$D$3))*(-LN((4*$D$4*AH865)/(Sanierungsdesign!$E$13+Sanierungsdesign!$E$15)^2)-$D$19)","v":424.50206001281367},151.35206001281369,{"$f":"(2*PI()*Sanierungsdesign!$E$10*$D$3)*(LN((Sanierungsdesign!$E$13+Sanierungsdesign!$E$15)/Sanierungsdesign!$E$13)*(AJ865-AN865))*$AH$7/1000000","v":293.79322685021447},10656.658835589558,24052.078991925631,{"$f":"AU865/Sanierungsdesign!$E$11","v":2.4820087471851759},4947840,19.856069977481408,{"$error":"#DIV/0!"},{"$error":"#DIV/0!"},{"$error":"#DIV/0!"},{"$error":"#DIV/0!"},{"$f":"(AY865/(AH865*Sanierungsdesign!$E$10))*1000000","v":{"$error":"#DIV/0!"}},{"$f":"AZ865/Sanierungsdesign!$E$12","v":{"$error":"#DIV/0!"}},{"$f":"$D$5+((-(Sanierungsdesign!$E$12)*MIN($BA$7:$BA$932))/(4*PI()*$D$3))*(-LN((4*$D$4*AH865)/(Sanierungsdesign!$E$13)^2)-$D$19)","v":{"$error":"#DIV/0!"}},{"$f":"(BB865-273.15)/Heterogenität!$D$4","v":{"$error":"#DIV/0!"}},{"$f":"IF(AI865<Berechnung!$D$7,AI865,#N/A)","v":{"$error":"#N/A"}}]
[null,null,null,null,null,null,null,null,null,null,null,null,null,null,null,null,null,null,null,null,null,null,null,null,null,null,null,null,null,null,null,null,{"$f":"Sanierungsdesign!$E$12*AH866*Sanierungsdesign!$E$10/1000000","v":40248},6192000,71.666666666666671,{"$f":"$D$5+((-Sanierungsdesign!$E$12)/4*PI()*$D$3)*(-LN((4*$D$4*AH866)/(Sanierungsdesign!$E$13^2))-$D$19)","v":3716.8637783521849},3443.7137783521848,6864.2268949302961,{"$f":"$D$3*$T$7*$AH$7*(AK866-$D$5)*(1/Sanierungsdesign!$E$15)/1000000","v":441.38091722734714},{"$f":"$D$5+(-Sanierungsdesign!$E$12/(4*PI()*$D$3))*(-LN((4*$D$4*AH866)/(Sanierungsdesign!$E$13+Sanierungsdesign!$E$15)^2)-$D$19)","v":424.58978706671434},151.43978706671436,{"$f":"(2*PI()*Sanierungsdesign!$E$10*$D$3)*(LN((Sanierungsdesign!$E$13+Sanierungsdesign!$E$15)/Sanierungsdesign!$E$13)*(AJ866-AN866))*$AH$7/1000000","v":293.93090398090709},10669.064724804448,24080.07908388364,{"$f":"AU866/Sanierungsdesign!$E$11","v":2.4831880900156404},4953600,19.865504720125124,{"$error":"#DIV/0!"},{"$error":"#DIV/0!"},{"$error":"#DIV/0!"},{"$error":"#DIV/0!"},{"$f":"(AY866/(AH866*Sanierungsdesign!$E$10))*1000000","v":{"$error":"#DIV/0!"}},{"$f":"AZ866/Sanierungsdesign!$E$12","v":{"$error":"#DIV/0!"}},{"$f":"$D$5+((-(Sanierungsdesign!$E$12)*MIN($BA$7:$BA$932))/(4*PI()*$D$3))*(-LN((4*$D$4*AH866)/(Sanierungsdesign!$E$13)^2)-$D$19)","v":{"$error":"#DIV/0!"}},{"$f":"(BB866-273.15)/Heterogenität!$D$4","v":{"$error":"#DIV/0!"}},{"$f":"IF(AI866<Berechnung!$D$7,AI866,#N/A)","v":{"$error":"#N/A"}}]
[null,null,null,null,null,null,null,null,null,null,null,null,null,null,null,null,null,null,null,null,null,null,null,null,null,null,null,null,null,null,null,null,{"$f":"Sanierungsdesign!$E$12*AH867*Sanierungsdesign!$E$10/1000000","v":40294.800000000003},6199200,71.75,{"$f":"$D$5+((-Sanierungsdesign!$E$12)/4*PI()*$D$3)*(-LN((4*$D$4*AH867)/(Sanierungsdesign!$E$13^2))-$D$19)","v":3718.4917113235847},3445.3417113235846,6867.483140062368,{"$f":"$D$3*$T$7*$AH$7*(AK867-$D$5)*(1/Sanierungsdesign!$E$15)/1000000","v":441.60826228300544},{"$f":"$D$5+(-Sanierungsdesign!$E$12/(4*PI()*$D$3))*(-LN((4*$D$4*AH867)/(Sanierungsdesign!$E$13+Sanierungsdesign!$E$15)^2)-$D$19)","v":424.67741217166247},151.52741217166249,{"$f":"(2*PI()*Sanierungsdesign!$E$10*$D$3)*(LN((Sanierungsdesign!$E$13+Sanierungsdesign!$E$15)/Sanierungsdesign!$E$13)*(AJ867-AN867))*$AH$7/1000000","v":294.06842111489823},10681.470614019336,24108.079175841642,{"$f":"AU867/Sanierungsdesign!$E$11","v":2.4843660623137458},4959360,19.874928498509966,{"$error":"#DIV/0!"},{"$error":"#DIV/0!"},{"$error":"#DIV/0!"},{"$error":"#DIV/0!"},{"$f":"(AY867/(AH867*Sanierungsdesign!$E$10))*1000000","v":{"$error":"#DIV/0!"}},{"$f":"AZ867/Sanierungsdesign!$E$12","v":{"$error":"#DIV/0!"}},{"$f":"$D$5+((-(Sanierungsdesign!$E$12)*MIN($BA$7:$BA$932))/(4*PI()*$D$3))*(-LN((4*$D$4*AH867)/(Sanierungsdesign!$E$13)^2)-$D$19)","v":{"$error":"#DIV/0!"}},{"$f":"(BB867-273.15)/Heterogenität!$D$4","v":{"$error":"#DIV/0!"}},{"$f":"IF(AI867<Berechnung!$D$7,AI867,#N/A)","v":{"$error":"#N/A"}}]
[null,null,null,null,null,null,null,null,null,null,null,null,null,null,null,null,null,null,null,null,null,null,null,null,null,null,null,null,null,null,null,null,{"$f":"Sanierungsdesign!$E$12*AH868*Sanierungsdesign!$E$10/1000000","v":40341.599999999999},6206400,71.833333333333329,{"$f":"$D$5+((-Sanierungsdesign!$E$12)/4*PI()*$D$3)*(-LN((4*$D$4*AH868)/(Sanierungsdesign!$E$13^2))-$D$19)","v":3720.117754645144},3446.9677546451439,6870.7356054546099,{"$f":"$D$3*$T$7*$AH$7*(AK868-$D$5)*(1/Sanierungsdesign!$E$15)/1000000","v":441.83534344416944},{"$f":"$D$5+(-Sanierungsdesign!$E$12/(4*PI()*$D$3))*(-LN((4*$D$4*AH868)/(Sanierungsdesign!$E$13+Sanierungsdesign!$E$15)^2)-$D$19)","v":424.76493556433581},151.61493556433584,{"$f":"(2*PI()*Sanierungsdesign!$E$10*$D$3)*(LN((Sanierungsdesign!$E$13+Sanierungsdesign!$E$15)/Sanierungsdesign!$E$13)*(AJ868-AN868))*$AH$7/1000000","v":294.20577862362535},10693.876503234225,24136.079267799647,{"$f":"AU868/Sanierungsdesign!$E$11","v":2.4855426672612255},4965120,19.884341338089804,{"$error":"#DIV/0!"},{"$error":"#DIV/0!"},{"$error":"#DIV/0!"},{"$error":"#DIV/0!"},{"$f":"(AY868/(AH868*Sanierungsdesign!$E$10))*1000000","v":{"$error":"#DIV/0!"}},{"$f":"AZ868/Sanierungsdesign!$E$12","v":{"$error":"#DIV/0!"}},{"$f":"$D$5+((-(Sanierungsdesign!$E$12)*MIN($BA$7:$BA$932))/(4*PI()*$D$3))*(-LN((4*$D$4*AH868)/(Sanierungsdesign!$E$13)^2)-$D$19)","v":{"$error":"#DIV/0!"}},{"$f":"(BB868-273.15)/Heterogenität!$D$4","v":{"$error":"#DIV/0!"}},{"$f":"IF(AI868<Berechnung!$D$7,AI868,#N/A)","v":{"$error":"#N/A"}}]
[null,null,null,null,null,null,null,null,null,null,null,null,null,null,null,null,null,null,null,null,null,null,null,null,null,null,null,null,null,null,null,null,{"$f":"Sanierungsdesign!$E$12*AH869*Sanierungsdesign!$E$10/1000000","v":40388.400000000001},6213600,71.916666666666671,{"$f":"$D$5+((-Sanierungsdesign!$E$12)/4*PI()*$D$3)*(-LN((4*$D$4*AH869)/(Sanierungsdesign!$E$13^2))-$D$19)","v":3721.7419126986624},3448.5919126986623,6873.9842998716404,{"$f":"$D$3*$T$7*$AH$7*(AK869-$D$5)*(1/Sanierungsdesign!$E$15)/1000000","v":442.06216132276893},{"$f":"$D$5+(-Sanierungsdesign!$E$12/(4*PI()*$D$3))*(-LN((4*$D$4*AH869)/(Sanierungsdesign!$E$13+Sanierungsdesign!$E$15)^2)-$D$19)","v":424.85235748058921},151.70235748058923,{"$f":"(2*PI()*Sanierungsdesign!$E$10*$D$3)*(LN((Sanierungsdesign!$E$13+Sanierungsdesign!$E$15)/Sanierungsdesign!$E$13)*(AJ869-AN869))*$AH$7/1000000","v":294.34297687723426},10706.282392449113,24164.079359757648,{"$f":"AU869/Sanierungsdesign!$E$11","v":2.4867179080287518},4970880,19.893743264230014,{"$error":"#DIV/0!"},{"$error":"#DIV/0!"},{"$error":"#DIV/0!"},{"$error":"#DIV/0!"},{"$f":"(AY869/(AH869*Sanierungsdesign!$E$10))*1000000","v":{"$error":"#DIV/0!"}},{"$f":"AZ869/Sanierungsdesign!$E$12","v":{"$error":"#DIV/0!"}},{"$f":"$D$5+((-(Sanierungsdesign!$E$12)*MIN($BA$7:$BA$932))/(4*PI()*$D$3))*(-LN((4*$D$4*AH869)/(Sanierungsdesign!$E$13)^2)-$D$19)","v":{"$error":"#DIV/0!"}},{"$f":"(BB869-273.15)/Heterogenität!$D$4","v":{"$error":"#DIV/0!"}},{"$f":"IF(AI869<Berechnung!$D$7,AI869,#N/A)","v":{"$error":"#N/A"}}]
[null,null,null,null,null,null,null,null,null,null,null,null,null,null,null,null,null,null,null,null,null,null,null,null,null,null,null,null,null,null,null,null,{"$f":"Sanierungsdesign!$E$12*AH870*Sanierungsdesign!$E$10/1000000","v":40435.199999999997},6220800,72,{"$f":"$D$5+((-Sanierungsdesign!$E$12)/4*PI()*$D$3)*(-LN((4*$D$4*AH870)/(Sanierungsdesign!$E$13^2))-$D$19)","v":3723.364189850713},3450.214189850713,6877.2292320476226,{"$f":"$D$3*$T$7*$AH$7*(AK870-$D$5)*(1/Sanierungsdesign!$E$15)/1000000","v":442.28871652860698},{"$f":"$D$5+(-Sanierungsdesign!$E$12/(4*PI()*$D$3))*(-LN((4*$D$4*AH870)/(Sanierungsdesign!$E$13+Sanierungsdesign!$E$15)^2)-$D$19)","v":424.93967815545773},151.78967815545775,{"$f":"(2*PI()*Sanierungsdesign!$E$10*$D$3)*(LN((Sanierungsdesign!$E$13+Sanierungsdesign!$E$15)/Sanierungsdesign!$E$13)*(AJ870-AN870))*$AH$7/1000000","v":294.48001624458448},10718.688281664003,24192.079451715654,{"$f":"AU870/Sanierungsdesign!$E$11","v":2.4878917877759759},4976640,19.903134302207807,{"$error":"#DIV/0!"},{"$error":"#DIV/0!"},{"$error":"#DIV/0!"},{"$error":"#DIV/0!"},{"$f":"(AY870/(AH870*Sanierungsdesign!$E$10))*1000000","v":{"$error":"#DIV/0!"}},{"$f":"AZ870/Sanierungsdesign!$E$12","v":{"$error":"#DIV/0!"}},{"$f":"$D$5+((-(Sanierungsdesign!$E$12)*MIN($BA$7:$BA$932))/(4*PI()*$D$3))*(-LN((4*$D$4*AH870)/(Sanierungsdesign!$E$13)^2)-$D$19)","v":{"$error":"#DIV/0!"}},{"$f":"(BB870-273.15)/Heterogenität!$D$4","v":{"$error":"#DIV/0!"}},{"$f":"IF(AI870<Berechnung!$D$7,AI870,#N/A)","v":{"$error":"#N/A"}}]
[null,null,null,null,null,null,null,null,null,null,null,null,null,null,null,null,null,null,null,null,null,null,null,null,null,null,null,null,null,null,null,null,{"$f":"Sanierungsdesign!$E$12*AH871*Sanierungsdesign!$E$10/1000000","v":40482},6228000,72.083333333333329,{"$f":"$D$5+((-Sanierungsdesign!$E$12)/4*PI()*$D$3)*(-LN((4*$D$4*AH871)/(Sanierungsdesign!$E$13^2))-$D$19)","v":3724.9845904527192},3451.8345904527191,6880.4704106864174,{"$f":"$D$3*$T$7*$AH$7*(AK871-$D$5)*(1/Sanierungsdesign!$E$15)/1000000","v":442.51500966937135},{"$f":"$D$5+(-Sanierungsdesign!$E$12/(4*PI()*$D$3))*(-LN((4*$D$4*AH871)/(Sanierungsdesign!$E$13+Sanierungsdesign!$E$15)^2)-$D$19)","v":425.02689782316099},151.87689782316102,{"$f":"(2*PI()*Sanierungsdesign!$E$10*$D$3)*(LN((Sanierungsdesign!$E$13+Sanierungsdesign!$E$15)/Sanierungsdesign!$E$13)*(AJ871-AN871))*$AH$7/1000000","v":294.61689709325594},10731.094170878892,24220.079543673659,{"$f":"AU871/Sanierungsdesign!$E$11","v":2.489064309651587},4982400,19.912514477212696,{"$error":"#DIV/0!"},{"$error":"#DIV/0!"},{"$error":"#DIV/0!"},{"$error":"#DIV/0!"},{"$f":"(AY871/(AH871*Sanierungsdesign!$E$10))*1000000","v":{"$error":"#DIV/0!"}},{"$f":"AZ871/Sanierungsdesign!$E$12","v":{"$error":"#DIV/0!"}},{"$f":"$D$5+((-(Sanierungsdesign!$E$12)*MIN($BA$7:$BA$932))/(4*PI()*$D$3))*(-LN((4*$D$4*AH871)/(Sanierungsdesign!$E$13)^2)-$D$19)","v":{"$error":"#DIV/0!"}},{"$f":"(BB871-273.15)/Heterogenität!$D$4","v":{"$error":"#DIV/0!"}},{"$f":"IF(AI871<Berechnung!$D$7,AI871,#N/A)","v":{"$error":"#N/A"}}]
[null,null,null,null,null,null,null,null,null,null,null,null,null,null,null,null,null,null,null,null,null,null,null,null,null,null,null,null,null,null,null,null,{"$f":"Sanierungsdesign!$E$12*AH872*Sanierungsdesign!$E$10/1000000","v":40528.800000000003},6235200,72.166666666666671,{"$f":"$D$5+((-Sanierungsdesign!$E$12)/4*PI()*$D$3)*(-LN((4*$D$4*AH872)/(Sanierungsdesign!$E$13^2))-$D$19)","v":3726.6031188410184},3453.4531188410183,6883.7078444617091,{"$f":"$D$3*$T$7*$AH$7*(AK872-$D$5)*(1/Sanierungsdesign!$E$15)/1000000","v":442.7410413506426},{"$f":"$D$5+(-Sanierungsdesign!$E$12/(4*PI()*$D$3))*(-LN((4*$D$4*AH872)/(Sanierungsdesign!$E$13+Sanierungsdesign!$E$15)^2)-$D$19)","v":425.11401671710678},151.9640167171068,{"$f":"(2*PI()*Sanierungsdesign!$E$10*$D$3)*(LN((Sanierungsdesign!$E$13+Sanierungsdesign!$E$15)/Sanierungsdesign!$E$13)*(AJ872-AN872))*$AH$7/1000000","v":294.75361978955391},10743.50006009378,24248.07963563166,{"$f":"AU872/Sanierungsdesign!$E$11","v":2.4902354767933605},4988160,19.921883814346884,{"$error":"#DIV/0!"},{"$error":"#DIV/0!"},{"$error":"#DIV/0!"},{"$error":"#DIV/0!"},{"$f":"(AY872/(AH872*Sanierungsdesign!$E$10))*1000000","v":{"$error":"#DIV/0!"}},{"$f":"AZ872/Sanierungsdesign!$E$12","v":{"$error":"#DIV/0!"}},{"$f":"$D$5+((-(Sanierungsdesign!$E$12)*MIN($BA$7:$BA$932))/(4*PI()*$D$3))*(-LN((4*$D$4*AH872)/(Sanierungsdesign!$E$13)^2)-$D$19)","v":{"$error":"#DIV/0!"}},{"$f":"(BB872-273.15)/Heterogenität!$D$4","v":{"$error":"#DIV/0!"}},{"$f":"IF(AI872<Berechnung!$D$7,AI872,#N/A)","v":{"$error":"#N/A"}}]
[null,null,null,null,null,null,null,null,null,null,null,null,null,null,null,null,null,null,null,null,null,null,null,null,null,null,null,null,null,null,null,null,{"$f":"Sanierungsdesign!$E$12*AH873*Sanierungsdesign!$E$10/1000000","v":40575.599999999999},6242400,72.25,{"$f":"$D$5+((-Sanierungsdesign!$E$12)/4*PI()*$D$3)*(-LN((4*$D$4*AH873)/(Sanierungsdesign!$E$13^2))-$D$19)","v":3728.2197793369369},3455.0697793369368,6886.9415420171572,{"$f":"$D$3*$T$7*$AH$7*(AK873-$D$5)*(1/Sanierungsdesign!$E$15)/1000000","v":442.9668121759052},{"$f":"$D$5+(-Sanierungsdesign!$E$12/(4*PI()*$D$3))*(-LN((4*$D$4*AH873)/(Sanierungsdesign!$E$13+Sanierungsdesign!$E$15)^2)-$D$19)","v":425.20103506989471},152.05103506989474,{"$f":"(2*PI()*Sanierungsdesign!$E$10*$D$3)*(LN((Sanierungsdesign!$E$13+Sanierungsdesign!$E$15)/Sanierungsdesign!$E$13)*(AJ873-AN873))*$AH$7/1000000","v":294.89018469851584},10755.90594930867,24276.079727589669,{"$f":"AU873/Sanierungsdesign!$E$11","v":2.4914052923282073},4993920,19.931242338625658,{"$error":"#DIV/0!"},{"$error":"#DIV/0!"},{"$error":"#DIV/0!"},{"$error":"#DIV/0!"},{"$f":"(AY873/(AH873*Sanierungsdesign!$E$10))*1000000","v":{"$error":"#DIV/0!"}},{"$f":"AZ873/Sanierungsdesign!$E$12","v":{"$error":"#DIV/0!"}},{"$f":"$D$5+((-(Sanierungsdesign!$E$12)*MIN($BA$7:$BA$932))/(4*PI()*$D$3))*(-LN((4*$D$4*AH873)/(Sanierungsdesign!$E$13)^2)-$D$19)","v":{"$error":"#DIV/0!"}},{"$f":"(BB873-273.15)/Heterogenität!$D$4","v":{"$error":"#DIV/0!"}},{"$f":"IF(AI873<Berechnung!$D$7,AI873,#N/A)","v":{"$error":"#N/A"}}]
[null,null,null,null,null,null,null,null,null,null,null,null,null,null,null,null,null,null,null,null,null,null,null,null,null,null,null,null,null,null,null,null,{"$f":"Sanierungsdesign!$E$12*AH874*Sanierungsdesign!$E$10/1000000","v":40622.400000000001},6249600,72.333333333333329,{"$f":"$D$5+((-Sanierungsdesign!$E$12)/4*PI()*$D$3)*(-LN((4*$D$4*AH874)/(Sanierungsdesign!$E$13^2))-$D$19)","v":3729.8345762468571},3456.684576246857,6890.1715119665296,{"$f":"$D$3*$T$7*$AH$7*(AK874-$D$5)*(1/Sanierungsdesign!$E$15)/1000000","v":443.19232274655661},{"$f":"$D$5+(-Sanierungsdesign!$E$12/(4*PI()*$D$3))*(-LN((4*$D$4*AH874)/(Sanierungsdesign!$E$13+Sanierungsdesign!$E$15)^2)-$D$19)","v":425.28795311331999},152.13795311332001,{"$f":"(2*PI()*Sanierungsdesign!$E$10*$D$3)*(LN((Sanierungsdesign!$E$13+Sanierungsdesign!$E$15)/Sanierungsdesign!$E$13)*(AJ874-AN874))*$AH$7/1000000","v":295.02659218391676},10768.311838523558,24304.079819547667,{"$f":"AU874/Sanierungsdesign!$E$11","v":2.4925737593722257},4999680,19.940590074977806,{"$error":"#DIV/0!"},{"$error":"#DIV/0!"},{"$error":"#DIV/0!"},{"$error":"#DIV/0!"},{"$f":"(AY874/(AH874*Sanierungsdesign!$E$10))*1000000","v":{"$error":"#DIV/0!"}},{"$f":"AZ874/Sanierungsdesign!$E$12","v":{"$error":"#DIV/0!"}},{"$f":"$D$5+((-(Sanierungsdesign!$E$12)*MIN($BA$7:$BA$932))/(4*PI()*$D$3))*(-LN((4*$D$4*AH874)/(Sanierungsdesign!$E$13)^2)-$D$19)","v":{"$error":"#DIV/0!"}},{"$f":"(BB874-273.15)/Heterogenität!$D$4","v":{"$error":"#DIV/0!"}},{"$f":"IF(AI874<Berechnung!$D$7,AI874,#N/A)","v":{"$error":"#N/A"}}]
[null,null,null,null,null,null,null,null,null,null,null,null,null,null,null,null,null,null,null,null,null,null,null,null,null,null,null,null,null,null,null,null,{"$f":"Sanierungsdesign!$E$12*AH875*Sanierungsdesign!$E$10/1000000","v":40669.199999999997},6256800,72.416666666666671,{"$f":"$D$5+((-Sanierungsdesign!$E$12)/4*PI()*$D$3)*(-LN((4*$D$4*AH875)/(Sanierungsdesign!$E$13^2))-$D$19)","v":3731.4475138622847},3458.2975138622846,6893.3977628938374,{"$f":"$D$3*$T$7*$AH$7*(AK875-$D$5)*(1/Sanierungsdesign!$E$15)/1000000","v":443.41757366191678},{"$f":"$D$5+(-Sanierungsdesign!$E$12/(4*PI()*$D$3))*(-LN((4*$D$4*AH875)/(Sanierungsdesign!$E$13+Sanierungsdesign!$E$15)^2)-$D$19)","v":425.37477107837725},152.22477107837727,{"$f":"(2*PI()*Sanierungsdesign!$E$10*$D$3)*(LN((Sanierungsdesign!$E$13+Sanierungsdesign!$E$15)/Sanierungsdesign!$E$13)*(AJ875-AN875))*$AH$7/1000000","v":295.16284260827507},10780.717727738447,24332.079911505676,{"$f":"AU875/Sanierungsdesign!$E$11","v":2.4937408810307491},5005440,19.949927048245993,{"$error":"#DIV/0!"},{"$error":"#DIV/0!"},{"$error":"#DIV/0!"},{"$error":"#DIV/0!"},{"$f":"(AY875/(AH875*Sanierungsdesign!$E$10))*1000000","v":{"$error":"#DIV/0!"}},{"$f":"AZ875/Sanierungsdesign!$E$12","v":{"$error":"#DIV/0!"}},{"$f":"$D$5+((-(Sanierungsdesign!$E$12)*MIN($BA$7:$BA$932))/(4*PI()*$D$3))*(-LN((4*$D$4*AH875)/(Sanierungsdesign!$E$13)^2)-$D$19)","v":{"$error":"#DIV/0!"}},{"$f":"(BB875-273.15)/Heterogenität!$D$4","v":{"$error":"#DIV/0!"}},{"$f":"IF(AI875<Berechnung!$D$7,AI875,#N/A)","v":{"$error":"#N/A"}}]
[null,null,null,null,null,null,null,null,null,null,null,null,null,null,null,null,null,null,null,null,null,null,null,null,null,null,null,null,null,null,null,null,{"$f":"Sanierungsdesign!$E$12*AH876*Sanierungsdesign!$E$10/1000000","v":40716},6264000,72.5,{"$f":"$D$5+((-Sanierungsdesign!$E$12)/4*PI()*$D$3)*(-LN((4*$D$4*AH876)/(Sanierungsdesign!$E$13^2))-$D$19)","v":3733.0585964599181},3459.908596459918,6896.620303353473,{"$f":"$D$3*$T$7*$AH$7*(AK876-$D$5)*(1/Sanierungsdesign!$E$15)/1000000","v":443.64256551923762},{"$f":"$D$5+(-Sanierungsdesign!$E$12/(4*PI()*$D$3))*(-LN((4*$D$4*AH876)/(Sanierungsdesign!$E$13+Sanierungsdesign!$E$15)^2)-$D$19)","v":425.46148919526405},152.31148919526407,{"$f":"(2*PI()*Sanierungsdesign!$E$10*$D$3)*(LN((Sanierungsdesign!$E$13+Sanierungsdesign!$E$15)/Sanierungsdesign!$E$13)*(AJ876-AN876))*$AH$7/1000000","v":295.2989363328582},10793.123616953337,24360.080003463681,{"$f":"AU876/Sanierungsdesign!$E$11","v":2.4949066603983963},5011200,19.95925328318717,{"$error":"#DIV/0!"},{"$error":"#DIV/0!"},{"$error":"#DIV/0!"},{"$error":"#DIV/0!"},{"$f":"(AY876/(AH876*Sanierungsdesign!$E$10))*1000000","v":{"$error":"#DIV/0!"}},{"$f":"AZ876/Sanierungsdesign!$E$12","v":{"$error":"#DIV/0!"}},{"$f":"$D$5+((-(Sanierungsdesign!$E$12)*MIN($BA$7:$BA$932))/(4*PI()*$D$3))*(-LN((4*$D$4*AH876)/(Sanierungsdesign!$E$13)^2)-$D$19)","v":{"$error":"#DIV/0!"}},{"$f":"(BB876-273.15)/Heterogenität!$D$4","v":{"$error":"#DIV/0!"}},{"$f":"IF(AI876<Berechnung!$D$7,AI876,#N/A)","v":{"$error":"#N/A"}}]
[null,null,null,null,null,null,null,null,null,null,null,null,null,null,null,null,null,null,null,null,null,null,null,null,null,null,null,null,null,null,null,null,{"$f":"Sanierungsdesign!$E$12*AH877*Sanierungsdesign!$E$10/1000000","v":40762.800000000003},6271200,72.583333333333329,{"$f":"$D$5+((-Sanierungsdesign!$E$12)/4*PI()*$D$3)*(-LN((4*$D$4*AH877)/(Sanierungsdesign!$E$13^2))-$D$19)","v":3734.66782830172},3461.5178283017199,6899.839141870355,{"$f":"$D$3*$T$7*$AH$7*(AK877-$D$5)*(1/Sanierungsdesign!$E$15)/1000000","v":443.86729891371334},{"$f":"$D$5+(-Sanierungsdesign!$E$12/(4*PI()*$D$3))*(-LN((4*$D$4*AH877)/(Sanierungsdesign!$E$13+Sanierungsdesign!$E$15)^2)-$D$19)","v":425.54810769338462},152.39810769338465,{"$f":"(2*PI()*Sanierungsdesign!$E$10*$D$3)*(LN((Sanierungsdesign!$E$13+Sanierungsdesign!$E$15)/Sanierungsdesign!$E$13)*(AJ877-AN877))*$AH$7/1000000","v":295.4348737176889},10805.529506168225,24388.080095421683,{"$f":"AU877/Sanierungsdesign!$E$11","v":2.4960711005591243},5016960,19.968568804472994,{"$error":"#DIV/0!"},{"$error":"#DIV/0!"},{"$error":"#DIV/0!"},{"$error":"#DIV/0!"},{"$f":"(AY877/(AH877*Sanierungsdesign!$E$10))*1000000","v":{"$error":"#DIV/0!"}},{"$f":"AZ877/Sanierungsdesign!$E$12","v":{"$error":"#DIV/0!"}},{"$f":"$D$5+((-(Sanierungsdesign!$E$12)*MIN($BA$7:$BA$932))/(4*PI()*$D$3))*(-LN((4*$D$4*AH877)/(Sanierungsdesign!$E$13)^2)-$D$19)","v":{"$error":"#DIV/0!"}},{"$f":"(BB877-273.15)/Heterogenität!$D$4","v":{"$error":"#DIV/0!"}},{"$f":"IF(AI877<Berechnung!$D$7,AI877,#N/A)","v":{"$error":"#N/A"}}]
[null,null,null,null,null,null,null,null,null,null,null,null,null,null,null,null,null,null,null,null,null,null,null,null,null,null,null,null,null,null,null,null,{"$f":"Sanierungsdesign!$E$12*AH878*Sanierungsdesign!$E$10/1000000","v":40809.599999999999},6278400,72.666666666666671,{"$f":"$D$5+((-Sanierungsdesign!$E$12)/4*PI()*$D$3)*(-LN((4*$D$4*AH878)/(Sanierungsdesign!$E$13^2))-$D$19)","v":3736.2752136349786},3463.1252136349785,6903.0542869400488,{"$f":"$D$3*$T$7*$AH$7*(AK878-$D$5)*(1/Sanierungsdesign!$E$15)/1000000","v":444.09177443848864},{"$f":"$D$5+(-Sanierungsdesign!$E$12/(4*PI()*$D$3))*(-LN((4*$D$4*AH878)/(Sanierungsdesign!$E$13+Sanierungsdesign!$E$15)^2)-$D$19)","v":425.63462680135365},152.48462680135367,{"$f":"(2*PI()*Sanierungsdesign!$E$10*$D$3)*(LN((Sanierungsdesign!$E$13+Sanierungsdesign!$E$15)/Sanierungsdesign!$E$13)*(AJ878-AN878))*$AH$7/1000000","v":295.57065512155043},10817.935395383114,24416.080187379688,{"$f":"AU878/Sanierungsdesign!$E$11","v":2.4972342045862703},5022720,19.977873636690163,{"$error":"#DIV/0!"},{"$error":"#DIV/0!"},{"$error":"#DIV/0!"},{"$error":"#DIV/0!"},{"$f":"(AY878/(AH878*Sanierungsdesign!$E$10))*1000000","v":{"$error":"#DIV/0!"}},{"$f":"AZ878/Sanierungsdesign!$E$12","v":{"$error":"#DIV/0!"}},{"$f":"$D$5+((-(Sanierungsdesign!$E$12)*MIN($BA$7:$BA$932))/(4*PI()*$D$3))*(-LN((4*$D$4*AH878)/(Sanierungsdesign!$E$13)^2)-$D$19)","v":{"$error":"#DIV/0!"}},{"$f":"(BB878-273.15)/Heterogenität!$D$4","v":{"$error":"#DIV/0!"}},{"$f":"IF(AI878<Berechnung!$D$7,AI878,#N/A)","v":{"$error":"#N/A"}}]
[null,null,null,null,null,null,null,null,null,null,null,null,null,null,null,null,null,null,null,null,null,null,null,null,null,null,null,null,null,null,null,null,{"$f":"Sanierungsdesign!$E$12*AH879*Sanierungsdesign!$E$10/1000000","v":40856.400000000001},6285600,72.75,{"$f":"$D$5+((-Sanierungsdesign!$E$12)/4*PI()*$D$3)*(-LN((4*$D$4*AH879)/(Sanierungsdesign!$E$13^2))-$D$19)","v":3737.8807566923792},3464.7307566923791,6906.2657470289114,{"$f":"$D$3*$T$7*$AH$7*(AK879-$D$5)*(1/Sanierungsdesign!$E$15)/1000000","v":444.31599268466908},{"$f":"$D$5+(-Sanierungsdesign!$E$12/(4*PI()*$D$3))*(-LN((4*$D$4*AH879)/(Sanierungsdesign!$E$13+Sanierungsdesign!$E$15)^2)-$D$19)","v":425.72104674699949},152.57104674699951,{"$f":"(2*PI()*Sanierungsdesign!$E$10*$D$3)*(LN((Sanierungsdesign!$E$13+Sanierungsdesign!$E$15)/Sanierungsdesign!$E$13)*(AJ879-AN879))*$AH$7/1000000","v":295.70628090199227},10830.341284598002,24444.080279337693,{"$f":"AU879/Sanierungsdesign!$E$11","v":2.4983959755426053},5028480,19.987167804340842,{"$error":"#DIV/0!"},{"$error":"#DIV/0!"},{"$error":"#DIV/0!"},{"$error":"#DIV/0!"},{"$f":"(AY879/(AH879*Sanierungsdesign!$E$10))*1000000","v":{"$error":"#DIV/0!"}},{"$f":"AZ879/Sanierungsdesign!$E$12","v":{"$error":"#DIV/0!"}},{"$f":"$D$5+((-(Sanierungsdesign!$E$12)*MIN($BA$7:$BA$932))/(4*PI()*$D$3))*(-LN((4*$D$4*AH879)/(Sanierungsdesign!$E$13)^2)-$D$19)","v":{"$error":"#DIV/0!"}},{"$f":"(BB879-273.15)/Heterogenität!$D$4","v":{"$error":"#DIV/0!"}},{"$f":"IF(AI879<Berechnung!$D$7,AI879,#N/A)","v":{"$error":"#N/A"}}]
[null,null,null,null,null,null,null,null,null,null,null,null,null,null,null,null,null,null,null,null,null,null,null,null,null,null,null,null,null,null,null,null,{"$f":"Sanierungsdesign!$E$12*AH880*Sanierungsdesign!$E$10/1000000","v":40903.199999999997},6292800,72.833333333333329,{"$f":"$D$5+((-Sanierungsdesign!$E$12)/4*PI()*$D$3)*(-LN((4*$D$4*AH880)/(Sanierungsdesign!$E$13^2))-$D$19)","v":3739.4844616920727},3466.3344616920726,6909.473530574227,{"$f":"$D$3*$T$7*$AH$7*(AK880-$D$5)*(1/Sanierungsdesign!$E$15)/1000000","v":444.53995424133029},{"$f":"$D$5+(-Sanierungsdesign!$E$12/(4*PI()*$D$3))*(-LN((4*$D$4*AH880)/(Sanierungsdesign!$E$13+Sanierungsdesign!$E$15)^2)-$D$19)","v":425.8073677573683},152.65736775736832,{"$f":"(2*PI()*Sanierungsdesign!$E$10*$D$3)*(LN((Sanierungsdesign!$E$13+Sanierungsdesign!$E$15)/Sanierungsdesign!$E$13)*(AJ880-AN880))*$AH$7/1000000","v":295.8417514153362},10842.747173812892,24472.080371295695,{"$f":"AU880/Sanierungsdesign!$E$11","v":2.4995564164803832},5034240,19.996451331843065,{"$error":"#DIV/0!"},{"$error":"#DIV/0!"},{"$error":"#DIV/0!"},{"$error":"#DIV/0!"},{"$f":"(AY880/(AH880*Sanierungsdesign!$E$10))*1000000","v":{"$error":"#DIV/0!"}},{"$f":"AZ880/Sanierungsdesign!$E$12","v":{"$error":"#DIV/0!"}},{"$f":"$D$5+((-(Sanierungsdesign!$E$12)*MIN($BA$7:$BA$932))/(4*PI()*$D$3))*(-LN((4*$D$4*AH880)/(Sanierungsdesign!$E$13)^2)-$D$19)","v":{"$error":"#DIV/0!"}},{"$f":"(BB880-273.15)/Heterogenität!$D$4","v":{"$error":"#DIV/0!"}},{"$f":"IF(AI880<Berechnung!$D$7,AI880,#N/A)","v":{"$error":"#N/A"}}]
[null,null,null,null,null,null,null,null,null,null,null,null,null,null,null,null,null,null,null,null,null,null,null,null,null,null,null,null,null,null,null,null,{"$f":"Sanierungsdesign!$E$12*AH881*Sanierungsdesign!$E$10/1000000","v":40950},6300000,72.916666666666671,{"$f":"$D$5+((-Sanierungsdesign!$E$12)/4*PI()*$D$3)*(-LN((4*$D$4*AH881)/(Sanierungsdesign!$E$13^2))-$D$19)","v":3741.086332837735},3467.9363328377349,6912.6776459843268,{"$f":"$D$3*$T$7*$AH$7*(AK881-$D$5)*(1/Sanierungsdesign!$E$15)/1000000","v":444.76365969552654},{"$f":"$D$5+(-Sanierungsdesign!$E$12/(4*PI()*$D$3))*(-LN((4*$D$4*AH881)/(Sanierungsdesign!$E$13+Sanierungsdesign!$E$15)^2)-$D$19)","v":425.89359005872711},152.74359005872714,{"$f":"(2*PI()*Sanierungsdesign!$E$10*$D$3)*(LN((Sanierungsdesign!$E$13+Sanierungsdesign!$E$15)/Sanierungsdesign!$E$13)*(AJ881-AN881))*$AH$7/1000000","v":295.97706701668125},10855.153063027781,24500.0804632537,{"$f":"AU881/Sanierungsdesign!$E$11","v":2.5007155304413846},5040000,20.005724243531077,{"$error":"#DIV/0!"},{"$error":"#DIV/0!"},{"$error":"#DIV/0!"},{"$error":"#DIV/0!"},{"$f":"(AY881/(AH881*Sanierungsdesign!$E$10))*1000000","v":{"$error":"#DIV/0!"}},{"$f":"AZ881/Sanierungsdesign!$E$12","v":{"$error":"#DIV/0!"}},{"$f":"$D$5+((-(Sanierungsdesign!$E$12)*MIN($BA$7:$BA$932))/(4*PI()*$D$3))*(-LN((4*$D$4*AH881)/(Sanierungsdesign!$E$13)^2)-$D$19)","v":{"$error":"#DIV/0!"}},{"$f":"(BB881-273.15)/Heterogenität!$D$4","v":{"$error":"#DIV/0!"}},{"$f":"IF(AI881<Berechnung!$D$7,AI881,#N/A)","v":{"$error":"#N/A"}}]
[null,null,null,null,null,null,null,null,null,null,null,null,null,null,null,null,null,null,null,null,null,null,null,null,null,null,null,null,null,null,null,null,{"$f":"Sanierungsdesign!$E$12*AH882*Sanierungsdesign!$E$10/1000000","v":40996.800000000003},6307200,73,{"$f":"$D$5+((-Sanierungsdesign!$E$12)/4*PI()*$D$3)*(-LN((4*$D$4*AH882)/(Sanierungsdesign!$E$13^2))-$D$19)","v":3742.6863743186418},3469.5363743186417,6915.8781016387366,{"$f":"$D$3*$T$7*$AH$7*(AK882-$D$5)*(1/Sanierungsdesign!$E$15)/1000000","v":444.98710963230099},{"$f":"$D$5+(-Sanierungsdesign!$E$12/(4*PI()*$D$3))*(-LN((4*$D$4*AH882)/(Sanierungsdesign!$E$13+Sanierungsdesign!$E$15)^2)-$D$19)","v":425.97971387656787},152.82971387656789,{"$f":"(2*PI()*Sanierungsdesign!$E$10*$D$3)*(LN((Sanierungsdesign!$E$13+Sanierungsdesign!$E$15)/Sanierungsdesign!$E$13)*(AJ882-AN882))*$AH$7/1000000","v":296.11222805991031},10867.558952242669,24528.080555211705,{"$f":"AU882/Sanierungsdesign!$E$11","v":2.5018733204569688},5045760,20.01498656365575,{"$error":"#DIV/0!"},{"$error":"#DIV/0!"},{"$error":"#DIV/0!"},{"$error":"#DIV/0!"},{"$f":"(AY882/(AH882*Sanierungsdesign!$E$10))*1000000","v":{"$error":"#DIV/0!"}},{"$f":"AZ882/Sanierungsdesign!$E$12","v":{"$error":"#DIV/0!"}},{"$f":"$D$5+((-(Sanierungsdesign!$E$12)*MIN($BA$7:$BA$932))/(4*PI()*$D$3))*(-LN((4*$D$4*AH882)/(Sanierungsdesign!$E$13)^2)-$D$19)","v":{"$error":"#DIV/0!"}},{"$f":"(BB882-273.15)/Heterogenität!$D$4","v":{"$error":"#DIV/0!"}},{"$f":"IF(AI882<Berechnung!$D$7,AI882,#N/A)","v":{"$error":"#N/A"}}]
[null,null,null,null,null,null,null,null,null,null,null,null,null,null,null,null,null,null,null,null,null,null,null,null,null,null,null,null,null,null,null,null,{"$f":"Sanierungsdesign!$E$12*AH883*Sanierungsdesign!$E$10/1000000","v":41043.599999999999},6314400,73.083333333333329,{"$f":"$D$5+((-Sanierungsdesign!$E$12)/4*PI()*$D$3)*(-LN((4*$D$4*AH883)/(Sanierungsdesign!$E$13^2))-$D$19)","v":3744.2845903097273},3471.1345903097272,6919.0749058882984,{"$f":"$D$3*$T$7*$AH$7*(AK883-$D$5)*(1/Sanierungsdesign!$E$15)/1000000","v":445.21030463469401},{"$f":"$D$5+(-Sanierungsdesign!$E$12/(4*PI()*$D$3))*(-LN((4*$D$4*AH883)/(Sanierungsdesign!$E$13+Sanierungsdesign!$E$15)^2)-$D$19)","v":426.06573943561045},152.91573943561048,{"$f":"(2*PI()*Sanierungsdesign!$E$10*$D$3)*(LN((Sanierungsdesign!$E$13+Sanierungsdesign!$E$15)/Sanierungsdesign!$E$13)*(AJ883-AN883))*$AH$7/1000000","v":296.24723489769417},10879.964841457559,24556.080647169707,{"$f":"AU883/Sanierungsdesign!$E$11","v":2.5030297895481182},5051520,20.024238316384945,{"$error":"#DIV/0!"},{"$error":"#DIV/0!"},{"$error":"#DIV/0!"},{"$error":"#DIV/0!"},{"$f":"(AY883/(AH883*Sanierungsdesign!$E$10))*1000000","v":{"$error":"#DIV/0!"}},{"$f":"AZ883/Sanierungsdesign!$E$12","v":{"$error":"#DIV/0!"}},{"$f":"$D$5+((-(Sanierungsdesign!$E$12)*MIN($BA$7:$BA$932))/(4*PI()*$D$3))*(-LN((4*$D$4*AH883)/(Sanierungsdesign!$E$13)^2)-$D$19)","v":{"$error":"#DIV/0!"}},{"$f":"(BB883-273.15)/Heterogenität!$D$4","v":{"$error":"#DIV/0!"}},{"$f":"IF(AI883<Berechnung!$D$7,AI883,#N/A)","v":{"$error":"#N/A"}}]
[null,null,null,null,null,null,null,null,null,null,null,null,null,null,null,null,null,null,null,null,null,null,null,null,null,null,null,null,null,null,null,null,{"$f":"Sanierungsdesign!$E$12*AH884*Sanierungsdesign!$E$10/1000000","v":41090.400000000001},6321600,73.166666666666671,{"$f":"$D$5+((-Sanierungsdesign!$E$12)/4*PI()*$D$3)*(-LN((4*$D$4*AH884)/(Sanierungsdesign!$E$13^2))-$D$19)","v":3745.8809849716531},3472.730984971653,6922.2680670553045,{"$f":"$D$3*$T$7*$AH$7*(AK884-$D$5)*(1/Sanierungsdesign!$E$15)/1000000","v":445.43324528375285},{"$f":"$D$5+(-Sanierungsdesign!$E$12/(4*PI()*$D$3))*(-LN((4*$D$4*AH884)/(Sanierungsdesign!$E$13+Sanierungsdesign!$E$15)^2)-$D$19)","v":426.15166695980668},153.0016669598067,{"$f":"(2*PI()*Sanierungsdesign!$E$10*$D$3)*(LN((Sanierungsdesign!$E$13+Sanierungsdesign!$E$15)/Sanierungsdesign!$E$13)*(AJ884-AN884))*$AH$7/1000000","v":296.38208788149853},10892.370730672446,24584.080739127712,{"$f":"AU884/Sanierungsdesign!$E$11","v":2.5041849407254877},5057280,20.033479525803902,{"$error":"#DIV/0!"},{"$error":"#DIV/0!"},{"$error":"#DIV/0!"},{"$error":"#DIV/0!"},{"$f":"(AY884/(AH884*Sanierungsdesign!$E$10))*1000000","v":{"$error":"#DIV/0!"}},{"$f":"AZ884/Sanierungsdesign!$E$12","v":{"$error":"#DIV/0!"}},{"$f":"$D$5+((-(Sanierungsdesign!$E$12)*MIN($BA$7:$BA$932))/(4*PI()*$D$3))*(-LN((4*$D$4*AH884)/(Sanierungsdesign!$E$13)^2)-$D$19)","v":{"$error":"#DIV/0!"}},{"$f":"(BB884-273.15)/Heterogenität!$D$4","v":{"$error":"#DIV/0!"}},{"$f":"IF(AI884<Berechnung!$D$7,AI884,#N/A)","v":{"$error":"#N/A"}}]
[null,null,null,null,null,null,null,null,null,null,null,null,null,null,null,null,null,null,null,null,null,null,null,null,null,null,null,null,null,null,null,null,{"$f":"Sanierungsdesign!$E$12*AH885*Sanierungsdesign!$E$10/1000000","v":41137.199999999997},6328800,73.25,{"$f":"$D$5+((-Sanierungsdesign!$E$12)/4*PI()*$D$3)*(-LN((4*$D$4*AH885)/(Sanierungsdesign!$E$13^2))-$D$19)","v":3747.4755624508734},3474.3255624508733,6925.457593433629,{"$f":"$D$3*$T$7*$AH$7*(AK885-$D$5)*(1/Sanierungsdesign!$E$15)/1000000","v":445.65593215854057},{"$f":"$D$5+(-Sanierungsdesign!$E$12/(4*PI()*$D$3))*(-LN((4*$D$4*AH885)/(Sanierungsdesign!$E$13+Sanierungsdesign!$E$15)^2)-$D$19)","v":426.23749667234358},153.0874966723436,{"$f":"(2*PI()*Sanierungsdesign!$E$10*$D$3)*(LN((Sanierungsdesign!$E$13+Sanierungsdesign!$E$15)/Sanierungsdesign!$E$13)*(AJ885-AN885))*$AH$7/1000000","v":296.51678736158868},10904.776619887336,24612.080831085717,{"$f":"AU885/Sanierungsdesign!$E$11","v":2.5053387769894515},5063040,20.042710215915612,{"$error":"#DIV/0!"},{"$error":"#DIV/0!"},{"$error":"#DIV/0!"},{"$error":"#DIV/0!"},{"$f":"(AY885/(AH885*Sanierungsdesign!$E$10))*1000000","v":{"$error":"#DIV/0!"}},{"$f":"AZ885/Sanierungsdesign!$E$12","v":{"$error":"#DIV/0!"}},{"$f":"$D$5+((-(Sanierungsdesign!$E$12)*MIN($BA$7:$BA$932))/(4*PI()*$D$3))*(-LN((4*$D$4*AH885)/(Sanierungsdesign!$E$13)^2)-$D$19)","v":{"$error":"#DIV/0!"}},{"$f":"(BB885-273.15)/Heterogenität!$D$4","v":{"$error":"#DIV/0!"}},{"$f":"IF(AI885<Berechnung!$D$7,AI885,#N/A)","v":{"$error":"#N/A"}}]
[null,null,null,null,null,null,null,null,null,null,null,null,null,null,null,null,null,null,null,null,null,null,null,null,null,null,null,null,null,null,null,null,{"$f":"Sanierungsdesign!$E$12*AH886*Sanierungsdesign!$E$10/1000000","v":41184},6336000,73.333333333333329,{"$f":"$D$5+((-Sanierungsdesign!$E$12)/4*PI()*$D$3)*(-LN((4*$D$4*AH886)/(Sanierungsdesign!$E$13^2))-$D$19)","v":3749.0683268796984},3475.9183268796983,6928.6434932888542,{"$f":"$D$3*$T$7*$AH$7*(AK886-$D$5)*(1/Sanierungsdesign!$E$15)/1000000","v":445.87836583614478},{"$f":"$D$5+(-Sanierungsdesign!$E$12/(4*PI()*$D$3))*(-LN((4*$D$4*AH886)/(Sanierungsdesign!$E$13+Sanierungsdesign!$E$15)^2)-$D$19)","v":426.32322879564674},153.17322879564676,{"$f":"(2*PI()*Sanierungsdesign!$E$10*$D$3)*(LN((Sanierungsdesign!$E$13+Sanierungsdesign!$E$15)/Sanierungsdesign!$E$13)*(AJ886-AN886))*$AH$7/1000000","v":296.65133368703516},10917.182509102226,24640.080923043723,{"$f":"AU886/Sanierungsdesign!$E$11","v":2.5064913013301493},5068800,20.051930410641194,{"$error":"#DIV/0!"},{"$error":"#DIV/0!"},{"$error":"#DIV/0!"},{"$error":"#DIV/0!"},{"$f":"(AY886/(AH886*Sanierungsdesign!$E$10))*1000000","v":{"$error":"#DIV/0!"}},{"$f":"AZ886/Sanierungsdesign!$E$12","v":{"$error":"#DIV/0!"}},{"$f":"$D$5+((-(Sanierungsdesign!$E$12)*MIN($BA$7:$BA$932))/(4*PI()*$D$3))*(-LN((4*$D$4*AH886)/(Sanierungsdesign!$E$13)^2)-$D$19)","v":{"$error":"#DIV/0!"}},{"$f":"(BB886-273.15)/Heterogenität!$D$4","v":{"$error":"#DIV/0!"}},{"$f":"IF(AI886<Berechnung!$D$7,AI886,#N/A)","v":{"$error":"#N/A"}}]
[null,null,null,null,null,null,null,null,null,null,null,null,null,null,null,null,null,null,null,null,null,null,null,null,null,null,null,null,null,null,null,null,{"$f":"Sanierungsdesign!$E$12*AH887*Sanierungsdesign!$E$10/1000000","v":41230.800000000003},6343200,73.416666666666671,{"$f":"$D$5+((-Sanierungsdesign!$E$12)/4*PI()*$D$3)*(-LN((4*$D$4*AH887)/(Sanierungsdesign!$E$13^2))-$D$19)","v":3750.6592823763581},3477.509282376358,6931.825774858401,{"$f":"$D$3*$T$7*$AH$7*(AK887-$D$5)*(1/Sanierungsdesign!$E$15)/1000000","v":446.10054689168726},{"$f":"$D$5+(-Sanierungsdesign!$E$12/(4*PI()*$D$3))*(-LN((4*$D$4*AH887)/(Sanierungsdesign!$E$13+Sanierungsdesign!$E$15)^2)-$D$19)","v":426.40886355138412},153.25886355138414,{"$f":"(2*PI()*Sanierungsdesign!$E$10*$D$3)*(LN((Sanierungsdesign!$E$13+Sanierungsdesign!$E$15)/Sanierungsdesign!$E$13)*(AJ887-AN887))*$AH$7/1000000","v":296.78572720571913},10929.588398317113,24668.081015001724,{"$f":"AU887/Sanierungsdesign!$E$11","v":2.5076425167275325},5074560,20.06114013382026,{"$error":"#DIV/0!"},{"$error":"#DIV/0!"},{"$error":"#DIV/0!"},{"$error":"#DIV/0!"},{"$f":"(AY887/(AH887*Sanierungsdesign!$E$10))*1000000","v":{"$error":"#DIV/0!"}},{"$f":"AZ887/Sanierungsdesign!$E$12","v":{"$error":"#DIV/0!"}},{"$f":"$D$5+((-(Sanierungsdesign!$E$12)*MIN($BA$7:$BA$932))/(4*PI()*$D$3))*(-LN((4*$D$4*AH887)/(Sanierungsdesign!$E$13)^2)-$D$19)","v":{"$error":"#DIV/0!"}},{"$f":"(BB887-273.15)/Heterogenität!$D$4","v":{"$error":"#DIV/0!"}},{"$f":"IF(AI887<Berechnung!$D$7,AI887,#N/A)","v":{"$error":"#N/A"}}]
[null,null,null,null,null,null,null,null,null,null,null,null,null,null,null,null,null,null,null,null,null,null,null,null,null,null,null,null,null,null,null,null,{"$f":"Sanierungsdesign!$E$12*AH888*Sanierungsdesign!$E$10/1000000","v":41277.599999999999},6350400,73.5,{"$f":"$D$5+((-Sanierungsdesign!$E$12)/4*PI()*$D$3)*(-LN((4*$D$4*AH888)/(Sanierungsdesign!$E$13^2))-$D$19)","v":3752.2484330450679},3479.0984330450678,6935.0044463516551,{"$f":"$D$3*$T$7*$AH$7*(AK888-$D$5)*(1/Sanierungsdesign!$E$15)/1000000","v":446.32247589833224},{"$f":"$D$5+(-Sanierungsdesign!$E$12/(4*PI()*$D$3))*(-LN((4*$D$4*AH888)/(Sanierungsdesign!$E$13+Sanierungsdesign!$E$15)^2)-$D$19)","v":426.49440116046901},153.34440116046903,{"$f":"(2*PI()*Sanierungsdesign!$E$10*$D$3)*(LN((Sanierungsdesign!$E$13+Sanierungsdesign!$E$15)/Sanierungsdesign!$E$13)*(AJ888-AN888))*$AH$7/1000000","v":296.9199682643378},10941.994287532003,24696.081106959733,{"$f":"AU888/Sanierungsdesign!$E$11","v":2.5087924261514107},5080320,20.070339409211286,{"$error":"#DIV/0!"},{"$error":"#DIV/0!"},{"$error":"#DIV/0!"},{"$error":"#DIV/0!"},{"$f":"(AY888/(AH888*Sanierungsdesign!$E$10))*1000000","v":{"$error":"#DIV/0!"}},{"$f":"AZ888/Sanierungsdesign!$E$12","v":{"$error":"#DIV/0!"}},{"$f":"$D$5+((-(Sanierungsdesign!$E$12)*MIN($BA$7:$BA$932))/(4*PI()*$D$3))*(-LN((4*$D$4*AH888)/(Sanierungsdesign!$E$13)^2)-$D$19)","v":{"$error":"#DIV/0!"}},{"$f":"(BB888-273.15)/Heterogenität!$D$4","v":{"$error":"#DIV/0!"}},{"$f":"IF(AI888<Berechnung!$D$7,AI888,#N/A)","v":{"$error":"#N/A"}}]
[null,null,null,null,null,null,null,null,null,null,null,null,null,null,null,null,null,null,null,null,null,null,null,null,null,null,null,null,null,null,null,null,{"$f":"Sanierungsdesign!$E$12*AH889*Sanierungsdesign!$E$10/1000000","v":41324.400000000001},6357600,73.583333333333329,{"$f":"$D$5+((-Sanierungsdesign!$E$12)/4*PI()*$D$3)*(-LN((4*$D$4*AH889)/(Sanierungsdesign!$E$13^2))-$D$19)","v":3753.8357829760894},3480.6857829760893,6938.1795159500925,{"$f":"$D$3*$T$7*$AH$7*(AK889-$D$5)*(1/Sanierungsdesign!$E$15)/1000000","v":446.54415342729521},{"$f":"$D$5+(-Sanierungsdesign!$E$12/(4*PI()*$D$3))*(-LN((4*$D$4*AH889)/(Sanierungsdesign!$E$13+Sanierungsdesign!$E$15)^2)-$D$19)","v":426.57984184306395},153.42984184306397,{"$f":"(2*PI()*Sanierungsdesign!$E$10*$D$3)*(LN((Sanierungsdesign!$E$13+Sanierungsdesign!$E$15)/Sanierungsdesign!$E$13)*(AJ889-AN889))*$AH$7/1000000","v":297.0540572084098},10954.400176746891,24724.081198917731,{"$f":"AU889/Sanierungsdesign!$E$11","v":2.5099410325614979},5086080,20.079528260491983,{"$error":"#DIV/0!"},{"$error":"#DIV/0!"},{"$error":"#DIV/0!"},{"$error":"#DIV/0!"},{"$f":"(AY889/(AH889*Sanierungsdesign!$E$10))*1000000","v":{"$error":"#DIV/0!"}},{"$f":"AZ889/Sanierungsdesign!$E$12","v":{"$error":"#DIV/0!"}},{"$f":"$D$5+((-(Sanierungsdesign!$E$12)*MIN($BA$7:$BA$932))/(4*PI()*$D$3))*(-LN((4*$D$4*AH889)/(Sanierungsdesign!$E$13)^2)-$D$19)","v":{"$error":"#DIV/0!"}},{"$f":"(BB889-273.15)/Heterogenität!$D$4","v":{"$error":"#DIV/0!"}},{"$f":"IF(AI889<Berechnung!$D$7,AI889,#N/A)","v":{"$error":"#N/A"}}]
[null,null,null,null,null,null,null,null,null,null,null,null,null,null,null,null,null,null,null,null,null,null,null,null,null,null,null,null,null,null,null,null,{"$f":"Sanierungsdesign!$E$12*AH890*Sanierungsdesign!$E$10/1000000","v":41371.199999999997},6364800,73.666666666666671,{"$f":"$D$5+((-Sanierungsdesign!$E$12)/4*PI()*$D$3)*(-LN((4*$D$4*AH890)/(Sanierungsdesign!$E$13^2))-$D$19)","v":3755.4213362457986},3482.2713362457985,6941.3509918074142,{"$f":"$D$3*$T$7*$AH$7*(AK890-$D$5)*(1/Sanierungsdesign!$E$15)/1000000","v":446.76558004785272},{"$f":"$D$5+(-Sanierungsdesign!$E$12/(4*PI()*$D$3))*(-LN((4*$D$4*AH890)/(Sanierungsdesign!$E$13+Sanierungsdesign!$E$15)^2)-$D$19)","v":426.66518581858372},153.51518581858375,{"$f":"(2*PI()*Sanierungsdesign!$E$10*$D$3)*(LN((Sanierungsdesign!$E$13+Sanierungsdesign!$E$15)/Sanierungsdesign!$E$13)*(AJ890-AN890))*$AH$7/1000000","v":297.18799438228075},10966.80606596178,24752.08129087574,{"$f":"AU890/Sanierungsdesign!$E$11","v":2.5110883389074594},5091840,20.088706711259675,{"$error":"#DIV/0!"},{"$error":"#DIV/0!"},{"$error":"#DIV/0!"},{"$error":"#DIV/0!"},{"$f":"(AY890/(AH890*Sanierungsdesign!$E$10))*1000000","v":{"$error":"#DIV/0!"}},{"$f":"AZ890/Sanierungsdesign!$E$12","v":{"$error":"#DIV/0!"}},{"$f":"$D$5+((-(Sanierungsdesign!$E$12)*MIN($BA$7:$BA$932))/(4*PI()*$D$3))*(-LN((4*$D$4*AH890)/(Sanierungsdesign!$E$13)^2)-$D$19)","v":{"$error":"#DIV/0!"}},{"$f":"(BB890-273.15)/Heterogenität!$D$4","v":{"$error":"#DIV/0!"}},{"$f":"IF(AI890<Berechnung!$D$7,AI890,#N/A)","v":{"$error":"#N/A"}}]
[null,null,null,null,null,null,null,null,null,null,null,null,null,null,null,null,null,null,null,null,null,null,null,null,null,null,null,null,null,null,null,null,{"$f":"Sanierungsdesign!$E$12*AH891*Sanierungsdesign!$E$10/1000000","v":41418},6372000,73.75,{"$f":"$D$5+((-Sanierungsdesign!$E$12)/4*PI()*$D$3)*(-LN((4*$D$4*AH891)/(Sanierungsdesign!$E$13^2))-$D$19)","v":3757.0050969167428},3483.8550969167427,6944.5188820496614,{"$f":"$D$3*$T$7*$AH$7*(AK891-$D$5)*(1/Sanierungsdesign!$E$15)/1000000","v":446.98675632735001},{"$f":"$D$5+(-Sanierungsdesign!$E$12/(4*PI()*$D$3))*(-LN((4*$D$4*AH891)/(Sanierungsdesign!$E$13+Sanierungsdesign!$E$15)^2)-$D$19)","v":426.75043330569918},153.6004333056992,{"$f":"(2*PI()*Sanierungsdesign!$E$10*$D$3)*(LN((Sanierungsdesign!$E$13+Sanierungsdesign!$E$15)/Sanierungsdesign!$E$13)*(AJ891-AN891))*$AH$7/1000000","v":297.32178012912817},10979.21195517667,24780.081382833745,{"$f":"AU891/Sanierungsdesign!$E$11","v":2.5122343481289549},5097600,20.097874785031639,{"$error":"#DIV/0!"},{"$error":"#DIV/0!"},{"$error":"#DIV/0!"},{"$error":"#DIV/0!"},{"$f":"(AY891/(AH891*Sanierungsdesign!$E$10))*1000000","v":{"$error":"#DIV/0!"}},{"$f":"AZ891/Sanierungsdesign!$E$12","v":{"$error":"#DIV/0!"}},{"$f":"$D$5+((-(Sanierungsdesign!$E$12)*MIN($BA$7:$BA$932))/(4*PI()*$D$3))*(-LN((4*$D$4*AH891)/(Sanierungsdesign!$E$13)^2)-$D$19)","v":{"$error":"#DIV/0!"}},{"$f":"(BB891-273.15)/Heterogenität!$D$4","v":{"$error":"#DIV/0!"}},{"$f":"IF(AI891<Berechnung!$D$7,AI891,#N/A)","v":{"$error":"#N/A"}}]
[null,null,null,null,null,null,null,null,null,null,null,null,null,null,null,null,null,null,null,null,null,null,null,null,null,null,null,null,null,null,null,null,{"$f":"Sanierungsdesign!$E$12*AH892*Sanierungsdesign!$E$10/1000000","v":41464.800000000003},6379200,73.833333333333329,{"$f":"$D$5+((-Sanierungsdesign!$E$12)/4*PI()*$D$3)*(-LN((4*$D$4*AH892)/(Sanierungsdesign!$E$13^2))-$D$19)","v":3758.5870690377069},3485.4370690377068,6947.6831947753481,{"$f":"$D$3*$T$7*$AH$7*(AK892-$D$5)*(1/Sanierungsdesign!$E$15)/1000000","v":447.20768283121049},{"$f":"$D$5+(-Sanierungsdesign!$E$12/(4*PI()*$D$3))*(-LN((4*$D$4*AH892)/(Sanierungsdesign!$E$13+Sanierungsdesign!$E$15)^2)-$D$19)","v":426.83558452233996},153.68558452233998,{"$f":"(2*PI()*Sanierungsdesign!$E$10*$D$3)*(LN((Sanierungsdesign!$E$13+Sanierungsdesign!$E$15)/Sanierungsdesign!$E$13)*(AJ892-AN892))*$AH$7/1000000","v":297.45541479096664},10991.617844391558,24808.081474791743,{"$f":"AU892/Sanierungsdesign!$E$11","v":2.5133790631556843},5103360,20.107032505245474,{"$error":"#DIV/0!"},{"$error":"#DIV/0!"},{"$error":"#DIV/0!"},{"$error":"#DIV/0!"},{"$f":"(AY892/(AH892*Sanierungsdesign!$E$10))*1000000","v":{"$error":"#DIV/0!"}},{"$f":"AZ892/Sanierungsdesign!$E$12","v":{"$error":"#DIV/0!"}},{"$f":"$D$5+((-(Sanierungsdesign!$E$12)*MIN($BA$7:$BA$932))/(4*PI()*$D$3))*(-LN((4*$D$4*AH892)/(Sanierungsdesign!$E$13)^2)-$D$19)","v":{"$error":"#DIV/0!"}},{"$f":"(BB892-273.15)/Heterogenität!$D$4","v":{"$error":"#DIV/0!"}},{"$f":"IF(AI892<Berechnung!$D$7,AI892,#N/A)","v":{"$error":"#N/A"}}]
[null,null,null,null,null,null,null,null,null,null,null,null,null,null,null,null,null,null,null,null,null,null,null,null,null,null,null,null,null,null,null,null,{"$f":"Sanierungsdesign!$E$12*AH893*Sanierungsdesign!$E$10/1000000","v":41511.599999999999},6386400,73.916666666666671,{"$f":"$D$5+((-Sanierungsdesign!$E$12)/4*PI()*$D$3)*(-LN((4*$D$4*AH893)/(Sanierungsdesign!$E$13^2))-$D$19)","v":3760.1672566437724},3487.0172566437723,6950.8439380555747,{"$f":"$D$3*$T$7*$AH$7*(AK893-$D$5)*(1/Sanierungsdesign!$E$15)/1000000","v":447.42836012294356},{"$f":"$D$5+(-Sanierungsdesign!$E$12/(4*PI()*$D$3))*(-LN((4*$D$4*AH893)/(Sanierungsdesign!$E$13+Sanierungsdesign!$E$15)^2)-$D$19)","v":426.92063968569852},153.77063968569854,{"$f":"(2*PI()*Sanierungsdesign!$E$10*$D$3)*(LN((Sanierungsdesign!$E$13+Sanierungsdesign!$E$15)/Sanierungsdesign!$E$13)*(AJ893-AN893))*$AH$7/1000000","v":297.58889870865374},11004.023733606447,24836.081566749752,{"$f":"AU893/Sanierungsdesign!$E$11","v":2.5145224869074334},5109120,20.116179895259467,{"$error":"#DIV/0!"},{"$error":"#DIV/0!"},{"$error":"#DIV/0!"},{"$error":"#DIV/0!"},{"$f":"(AY893/(AH893*Sanierungsdesign!$E$10))*1000000","v":{"$error":"#DIV/0!"}},{"$f":"AZ893/Sanierungsdesign!$E$12","v":{"$error":"#DIV/0!"}},{"$f":"$D$5+((-(Sanierungsdesign!$E$12)*MIN($BA$7:$BA$932))/(4*PI()*$D$3))*(-LN((4*$D$4*AH893)/(Sanierungsdesign!$E$13)^2)-$D$19)","v":{"$error":"#DIV/0!"}},{"$f":"(BB893-273.15)/Heterogenität!$D$4","v":{"$error":"#DIV/0!"}},{"$f":"IF(AI893<Berechnung!$D$7,AI893,#N/A)","v":{"$error":"#N/A"}}]
[null,null,null,null,null,null,null,null,null,null,null,null,null,null,null,null,null,null,null,null,null,null,null,null,null,null,null,null,null,null,null,null,{"$f":"Sanierungsdesign!$E$12*AH894*Sanierungsdesign!$E$10/1000000","v":41558.400000000001},6393600,74,{"$f":"$D$5+((-Sanierungsdesign!$E$12)/4*PI()*$D$3)*(-LN((4*$D$4*AH894)/(Sanierungsdesign!$E$13^2))-$D$19)","v":3761.7456637563841},3488.5956637563841,6954.0011199341698,{"$f":"$D$3*$T$7*$AH$7*(AK894-$D$5)*(1/Sanierungsdesign!$E$15)/1000000","v":447.64878876415452},{"$f":"$D$5+(-Sanierungsdesign!$E$12/(4*PI()*$D$3))*(-LN((4*$D$4*AH894)/(Sanierungsdesign!$E$13+Sanierungsdesign!$E$15)^2)-$D$19)","v":427.00559901223301},153.85559901223303,{"$f":"(2*PI()*Sanierungsdesign!$E$10*$D$3)*(LN((Sanierungsdesign!$E$13+Sanierungsdesign!$E$15)/Sanierungsdesign!$E$13)*(AJ894-AN894))*$AH$7/1000000","v":297.72223222189467},11016.429622821335,24864.081658707753,{"$f":"AU894/Sanierungsdesign!$E$11","v":2.515664622294119},5114880,20.125316978352952,{"$error":"#DIV/0!"},{"$error":"#DIV/0!"},{"$error":"#DIV/0!"},{"$error":"#DIV/0!"},{"$f":"(AY894/(AH894*Sanierungsdesign!$E$10))*1000000","v":{"$error":"#DIV/0!"}},{"$f":"AZ894/Sanierungsdesign!$E$12","v":{"$error":"#DIV/0!"}},{"$f":"$D$5+((-(Sanierungsdesign!$E$12)*MIN($BA$7:$BA$932))/(4*PI()*$D$3))*(-LN((4*$D$4*AH894)/(Sanierungsdesign!$E$13)^2)-$D$19)","v":{"$error":"#DIV/0!"}},{"$f":"(BB894-273.15)/Heterogenität!$D$4","v":{"$error":"#DIV/0!"}},{"$f":"IF(AI894<Berechnung!$D$7,AI894,#N/A)","v":{"$error":"#N/A"}}]
[null,null,null,null,null,null,null,null,null,null,null,null,null,null,null,null,null,null,null,null,null,null,null,null,null,null,null,null,null,null,null,null,{"$f":"Sanierungsdesign!$E$12*AH895*Sanierungsdesign!$E$10/1000000","v":41605.199999999997},6400800,74.083333333333329,{"$f":"$D$5+((-Sanierungsdesign!$E$12)/4*PI()*$D$3)*(-LN((4*$D$4*AH895)/(Sanierungsdesign!$E$13^2))-$D$19)","v":3763.3222943834071},3490.172294383407,6957.1547484277962,{"$f":"$D$3*$T$7*$AH$7*(AK895-$D$5)*(1/Sanierungsdesign!$E$15)/1000000","v":447.86896931455209},{"$f":"$D$5+(-Sanierungsdesign!$E$12/(4*PI()*$D$3))*(-LN((4*$D$4*AH895)/(Sanierungsdesign!$E$13+Sanierungsdesign!$E$15)^2)-$D$19)","v":427.09046271767073},153.94046271767075,{"$f":"(2*PI()*Sanierungsdesign!$E$10*$D$3)*(LN((Sanierungsdesign!$E$13+Sanierungsdesign!$E$15)/Sanierungsdesign!$E$13)*(AJ895-AN895))*$AH$7/1000000","v":297.8554156692478},11028.835512036225,24892.081750665759,{"$f":"AU895/Sanierungsdesign!$E$11","v":2.5168054722158333},5120640,20.134443777726666,{"$error":"#DIV/0!"},{"$error":"#DIV/0!"},{"$error":"#DIV/0!"},{"$error":"#DIV/0!"},{"$f":"(AY895/(AH895*Sanierungsdesign!$E$10))*1000000","v":{"$error":"#DIV/0!"}},{"$f":"AZ895/Sanierungsdesign!$E$12","v":{"$error":"#DIV/0!"}},{"$f":"$D$5+((-(Sanierungsdesign!$E$12)*MIN($BA$7:$BA$932))/(4*PI()*$D$3))*(-LN((4*$D$4*AH895)/(Sanierungsdesign!$E$13)^2)-$D$19)","v":{"$error":"#DIV/0!"}},{"$f":"(BB895-273.15)/Heterogenität!$D$4","v":{"$error":"#DIV/0!"}},{"$f":"IF(AI895<Berechnung!$D$7,AI895,#N/A)","v":{"$error":"#N/A"}}]
[null,null,null,null,null,null,null,null,null,null,null,null,null,null,null,null,null,null,null,null,null,null,null,null,null,null,null,null,null,null,null,null,{"$f":"Sanierungsdesign!$E$12*AH896*Sanierungsdesign!$E$10/1000000","v":41652},6408000,74.166666666666671,{"$f":"$D$5+((-Sanierungsdesign!$E$12)/4*PI()*$D$3)*(-LN((4*$D$4*AH896)/(Sanierungsdesign!$E$13^2))-$D$19)","v":3764.8971525191878},3491.7471525191877,6960.3048315260776,{"$f":"$D$3*$T$7*$AH$7*(AK896-$D$5)*(1/Sanierungsdesign!$E$15)/1000000","v":448.08890233195706},{"$f":"$D$5+(-Sanierungsdesign!$E$12/(4*PI()*$D$3))*(-LN((4*$D$4*AH896)/(Sanierungsdesign!$E$13+Sanierungsdesign!$E$15)^2)-$D$19)","v":427.17523101701141},154.02523101701144,{"$f":"(2*PI()*Sanierungsdesign!$E$10*$D$3)*(LN((Sanierungsdesign!$E$13+Sanierungsdesign!$E$15)/Sanierungsdesign!$E$13)*(AJ896-AN896))*$AH$7/1000000","v":297.98844938812931},11041.241401251114,24920.081842623764,{"$f":"AU896/Sanierungsdesign!$E$11","v":2.5179450395628837},5126400,20.14356031650307,{"$error":"#DIV/0!"},{"$error":"#DIV/0!"},{"$error":"#DIV/0!"},{"$error":"#DIV/0!"},{"$f":"(AY896/(AH896*Sanierungsdesign!$E$10))*1000000","v":{"$error":"#DIV/0!"}},{"$f":"AZ896/Sanierungsdesign!$E$12","v":{"$error":"#DIV/0!"}},{"$f":"$D$5+((-(Sanierungsdesign!$E$12)*MIN($BA$7:$BA$932))/(4*PI()*$D$3))*(-LN((4*$D$4*AH896)/(Sanierungsdesign!$E$13)^2)-$D$19)","v":{"$error":"#DIV/0!"}},{"$f":"(BB896-273.15)/Heterogenität!$D$4","v":{"$error":"#DIV/0!"}},{"$f":"IF(AI896<Berechnung!$D$7,AI896,#N/A)","v":{"$error":"#N/A"}}]
[null,null,null,null,null,null,null,null,null,null,null,null,null,null,null,null,null,null,null,null,null,null,null,null,null,null,null,null,null,null,null,null,{"$f":"Sanierungsdesign!$E$12*AH897*Sanierungsdesign!$E$10/1000000","v":41698.800000000003},6415200,74.25,{"$f":"$D$5+((-Sanierungsdesign!$E$12)/4*PI()*$D$3)*(-LN((4*$D$4*AH897)/(Sanierungsdesign!$E$13^2))-$D$19)","v":3766.4702421446186},3493.3202421446185,6963.4513771917254,{"$f":"$D$3*$T$7*$AH$7*(AK897-$D$5)*(1/Sanierungsdesign!$E$15)/1000000","v":448.30858837231136},{"$f":"$D$5+(-Sanierungsdesign!$E$12/(4*PI()*$D$3))*(-LN((4*$D$4*AH897)/(Sanierungsdesign!$E$13+Sanierungsdesign!$E$15)^2)-$D$19)","v":427.25990412453046},154.10990412453049,{"$f":"(2*PI()*Sanierungsdesign!$E$10*$D$3)*(LN((Sanierungsdesign!$E$13+Sanierungsdesign!$E$15)/Sanierungsdesign!$E$13)*(AJ897-AN897))*$AH$7/1000000","v":298.12133371481895},11053.647290466002,24948.081934581769,{"$f":"AU897/Sanierungsdesign!$E$11","v":2.5190833272158457},5132160,20.152666617726766,{"$error":"#DIV/0!"},{"$error":"#DIV/0!"},{"$error":"#DIV/0!"},{"$error":"#DIV/0!"},{"$f":"(AY897/(AH897*Sanierungsdesign!$E$10))*1000000","v":{"$error":"#DIV/0!"}},{"$f":"AZ897/Sanierungsdesign!$E$12","v":{"$error":"#DIV/0!"}},{"$f":"$D$5+((-(Sanierungsdesign!$E$12)*MIN($BA$7:$BA$932))/(4*PI()*$D$3))*(-LN((4*$D$4*AH897)/(Sanierungsdesign!$E$13)^2)-$D$19)","v":{"$error":"#DIV/0!"}},{"$f":"(BB897-273.15)/Heterogenität!$D$4","v":{"$error":"#DIV/0!"}},{"$f":"IF(AI897<Berechnung!$D$7,AI897,#N/A)","v":{"$error":"#N/A"}}]
[null,null,null,null,null,null,null,null,null,null,null,null,null,null,null,null,null,null,null,null,null,null,null,null,null,null,null,null,null,null,null,null,{"$f":"Sanierungsdesign!$E$12*AH898*Sanierungsdesign!$E$10/1000000","v":41745.599999999999},6422400,74.333333333333329,{"$f":"$D$5+((-Sanierungsdesign!$E$12)/4*PI()*$D$3)*(-LN((4*$D$4*AH898)/(Sanierungsdesign!$E$13^2))-$D$19)","v":3768.0415672271938},3494.8915672271937,6966.5943933606532,{"$f":"$D$3*$T$7*$AH$7*(AK898-$D$5)*(1/Sanierungsdesign!$E$15)/1000000","v":448.52802798968588},{"$f":"$D$5+(-Sanierungsdesign!$E$12/(4*PI()*$D$3))*(-LN((4*$D$4*AH898)/(Sanierungsdesign!$E$13+Sanierungsdesign!$E$15)^2)-$D$19)","v":427.34448225378219},154.19448225378221,{"$f":"(2*PI()*Sanierungsdesign!$E$10*$D$3)*(LN((Sanierungsdesign!$E$13+Sanierungsdesign!$E$15)/Sanierungsdesign!$E$13)*(AJ898-AN898))*$AH$7/1000000","v":298.25406898446482},11066.053179680892,24976.082026539771,{"$f":"AU898/Sanierungsdesign!$E$11","v":2.520220338045597},5137920,20.161762704364776,{"$error":"#DIV/0!"},{"$error":"#DIV/0!"},{"$error":"#DIV/0!"},{"$error":"#DIV/0!"},{"$f":"(AY898/(AH898*Sanierungsdesign!$E$10))*1000000","v":{"$error":"#DIV/0!"}},{"$f":"AZ898/Sanierungsdesign!$E$12","v":{"$error":"#DIV/0!"}},{"$f":"$D$5+((-(Sanierungsdesign!$E$12)*MIN($BA$7:$BA$932))/(4*PI()*$D$3))*(-LN((4*$D$4*AH898)/(Sanierungsdesign!$E$13)^2)-$D$19)","v":{"$error":"#DIV/0!"}},{"$f":"(BB898-273.15)/Heterogenität!$D$4","v":{"$error":"#DIV/0!"}},{"$f":"IF(AI898<Berechnung!$D$7,AI898,#N/A)","v":{"$error":"#N/A"}}]
[null,null,null,null,null,null,null,null,null,null,null,null,null,null,null,null,null,null,null,null,null,null,null,null,null,null,null,null,null,null,null,null,{"$f":"Sanierungsdesign!$E$12*AH899*Sanierungsdesign!$E$10/1000000","v":41792.400000000001},6429600,74.416666666666671,{"$f":"$D$5+((-Sanierungsdesign!$E$12)/4*PI()*$D$3)*(-LN((4*$D$4*AH899)/(Sanierungsdesign!$E$13^2))-$D$19)","v":3769.6111317210725},3496.4611317210724,6969.7338879420986,{"$f":"$D$3*$T$7*$AH$7*(AK899-$D$5)*(1/Sanierungsdesign!$E$15)/1000000","v":448.74722173628913},{"$f":"$D$5+(-Sanierungsdesign!$E$12/(4*PI()*$D$3))*(-LN((4*$D$4*AH899)/(Sanierungsdesign!$E$13+Sanierungsdesign!$E$15)^2)-$D$19)","v":427.42896561760324},154.27896561760326,{"$f":"(2*PI()*Sanierungsdesign!$E$10*$D$3)*(LN((Sanierungsdesign!$E$13+Sanierungsdesign!$E$15)/Sanierungsdesign!$E$13)*(AJ899-AN899))*$AH$7/1000000","v":298.38665553108831},11078.45906889578,25004.082118497776,{"$f":"AU899/Sanierungsdesign!$E$11","v":2.5213560749133674},5143680,20.17084859930694,{"$error":"#DIV/0!"},{"$error":"#DIV/0!"},{"$error":"#DIV/0!"},{"$error":"#DIV/0!"},{"$f":"(AY899/(AH899*Sanierungsdesign!$E$10))*1000000","v":{"$error":"#DIV/0!"}},{"$f":"AZ899/Sanierungsdesign!$E$12","v":{"$error":"#DIV/0!"}},{"$f":"$D$5+((-(Sanierungsdesign!$E$12)*MIN($BA$7:$BA$932))/(4*PI()*$D$3))*(-LN((4*$D$4*AH899)/(Sanierungsdesign!$E$13)^2)-$D$19)","v":{"$error":"#DIV/0!"}},{"$f":"(BB899-273.15)/Heterogenität!$D$4","v":{"$error":"#DIV/0!"}},{"$f":"IF(AI899<Berechnung!$D$7,AI899,#N/A)","v":{"$error":"#N/A"}}]
[null,null,null,null,null,null,null,null,null,null,null,null,null,null,null,null,null,null,null,null,null,null,null,null,null,null,null,null,null,null,null,null,{"$f":"Sanierungsdesign!$E$12*AH900*Sanierungsdesign!$E$10/1000000","v":41839.199999999997},6436800,74.5,{"$f":"$D$5+((-Sanierungsdesign!$E$12)/4*PI()*$D$3)*(-LN((4*$D$4*AH900)/(Sanierungsdesign!$E$13^2))-$D$19)","v":3771.1789395671381},3498.028939567138,6972.8698688187478,{"$f":"$D$3*$T$7*$AH$7*(AK900-$D$5)*(1/Sanierungsdesign!$E$15)/1000000","v":448.96617016247575},{"$f":"$D$5+(-Sanierungsdesign!$E$12/(4*PI()*$D$3))*(-LN((4*$D$4*AH900)/(Sanierungsdesign!$E$13+Sanierungsdesign!$E$15)^2)-$D$19)","v":427.51335442811535},154.36335442811537,{"$f":"(2*PI()*Sanierungsdesign!$E$10*$D$3)*(LN((Sanierungsdesign!$E$13+Sanierungsdesign!$E$15)/Sanierungsdesign!$E$13)*(AJ900-AN900))*$AH$7/1000000","v":298.51909368758947},11090.864958110669,25032.082210455781,{"$f":"AU900/Sanierungsdesign!$E$11","v":2.5224905406707809},5149440,20.179924325366247,{"$error":"#DIV/0!"},{"$error":"#DIV/0!"},{"$error":"#DIV/0!"},{"$error":"#DIV/0!"},{"$f":"(AY900/(AH900*Sanierungsdesign!$E$10))*1000000","v":{"$error":"#DIV/0!"}},{"$f":"AZ900/Sanierungsdesign!$E$12","v":{"$error":"#DIV/0!"}},{"$f":"$D$5+((-(Sanierungsdesign!$E$12)*MIN($BA$7:$BA$932))/(4*PI()*$D$3))*(-LN((4*$D$4*AH900)/(Sanierungsdesign!$E$13)^2)-$D$19)","v":{"$error":"#DIV/0!"}},{"$f":"(BB900-273.15)/Heterogenität!$D$4","v":{"$error":"#DIV/0!"}},{"$f":"IF(AI900<Berechnung!$D$7,AI900,#N/A)","v":{"$error":"#N/A"}}]
[null,null,null,null,null,null,null,null,null,null,null,null,null,null,null,null,null,null,null,null,null,null,null,null,null,null,null,null,null,null,null,null,{"$f":"Sanierungsdesign!$E$12*AH901*Sanierungsdesign!$E$10/1000000","v":41886},6444000,74.583333333333329,{"$f":"$D$5+((-Sanierungsdesign!$E$12)/4*PI()*$D$3)*(-LN((4*$D$4*AH901)/(Sanierungsdesign!$E$13^2))-$D$19)","v":3772.7449946930547},3499.5949946930546,6976.0023438468434,{"$f":"$D$3*$T$7*$AH$7*(AK901-$D$5)*(1/Sanierungsdesign!$E$15)/1000000","v":449.18487381675425},{"$f":"$D$5+(-Sanierungsdesign!$E$12/(4*PI()*$D$3))*(-LN((4*$D$4*AH901)/(Sanierungsdesign!$E$13+Sanierungsdesign!$E$15)^2)-$D$19)","v":427.59764889672908},154.44764889672911,{"$f":"(2*PI()*Sanierungsdesign!$E$10*$D$3)*(LN((Sanierungsdesign!$E$13+Sanierungsdesign!$E$15)/Sanierungsdesign!$E$13)*(AJ901-AN901))*$AH$7/1000000","v":298.65138378575182},11103.270847325559,25060.082302413786,{"$f":"AU901/Sanierungsdesign!$E$11","v":2.5236237381598938},5155200,20.188989905279151,{"$error":"#DIV/0!"},{"$error":"#DIV/0!"},{"$error":"#DIV/0!"},{"$error":"#DIV/0!"},{"$f":"(AY901/(AH901*Sanierungsdesign!$E$10))*1000000","v":{"$error":"#DIV/0!"}},{"$f":"AZ901/Sanierungsdesign!$E$12","v":{"$error":"#DIV/0!"}},{"$f":"$D$5+((-(Sanierungsdesign!$E$12)*MIN($BA$7:$BA$932))/(4*PI()*$D$3))*(-LN((4*$D$4*AH901)/(Sanierungsdesign!$E$13)^2)-$D$19)","v":{"$error":"#DIV/0!"}},{"$f":"(BB901-273.15)/Heterogenität!$D$4","v":{"$error":"#DIV/0!"}},{"$f":"IF(AI901<Berechnung!$D$7,AI901,#N/A)","v":{"$error":"#N/A"}}]
[null,null,null,null,null,null,null,null,null,null,null,null,null,null,null,null,null,null,null,null,null,null,null,null,null,null,null,null,null,null,null,null,{"$f":"Sanierungsdesign!$E$12*AH902*Sanierungsdesign!$E$10/1000000","v":41932.800000000003},6451200,74.666666666666671,{"$f":"$D$5+((-Sanierungsdesign!$E$12)/4*PI()*$D$3)*(-LN((4*$D$4*AH902)/(Sanierungsdesign!$E$13^2))-$D$19)","v":3774.3093010133298},3501.1593010133297,6979.1313208563124,{"$f":"$D$3*$T$7*$AH$7*(AK902-$D$5)*(1/Sanierungsdesign!$E$15)/1000000","v":449.40333324579552},{"$f":"$D$5+(-Sanierungsdesign!$E$12/(4*PI()*$D$3))*(-LN((4*$D$4*AH902)/(Sanierungsdesign!$E$13+Sanierungsdesign!$E$15)^2)-$D$19)","v":427.68184923414668},154.5318492341467,{"$f":"(2*PI()*Sanierungsdesign!$E$10*$D$3)*(LN((Sanierungsdesign!$E$13+Sanierungsdesign!$E$15)/Sanierungsdesign!$E$13)*(AJ902-AN902))*$AH$7/1000000","v":298.78352615624726},11115.676736540447,25088.082394371788,{"$f":"AU902/Sanierungsdesign!$E$11","v":2.5247556702132448},5160960,20.198045361705958,{"$error":"#DIV/0!"},{"$error":"#DIV/0!"},{"$error":"#DIV/0!"},{"$error":"#DIV/0!"},{"$f":"(AY902/(AH902*Sanierungsdesign!$E$10))*1000000","v":{"$error":"#DIV/0!"}},{"$f":"AZ902/Sanierungsdesign!$E$12","v":{"$error":"#DIV/0!"}},{"$f":"$D$5+((-(Sanierungsdesign!$E$12)*MIN($BA$7:$BA$932))/(4*PI()*$D$3))*(-LN((4*$D$4*AH902)/(Sanierungsdesign!$E$13)^2)-$D$19)","v":{"$error":"#DIV/0!"}},{"$f":"(BB902-273.15)/Heterogenität!$D$4","v":{"$error":"#DIV/0!"}},{"$f":"IF(AI902<Berechnung!$D$7,AI902,#N/A)","v":{"$error":"#N/A"}}]
[null,null,null,null,null,null,null,null,null,null,null,null,null,null,null,null,null,null,null,null,null,null,null,null,null,null,null,null,null,null,null,null,{"$f":"Sanierungsdesign!$E$12*AH903*Sanierungsdesign!$E$10/1000000","v":41979.6},6458400,{"$f":"AH903/86400","v":74.75},{"$f":"$D$5+((-Sanierungsdesign!$E$12)/4*PI()*$D$3)*(-LN((4*$D$4*AH903)/(Sanierungsdesign!$E$13^2))-$D$19)","v":3775.8718624293724},{"$f":"AJ903-273.15","v":3502.7218624293723},6982.2568076508805,{"$f":"$D$3*$T$7*$AH$7*(AK903-$D$5)*(1/Sanierungsdesign!$E$15)/1000000","v":449.6215489944417},{"$f":"$D$5+(-Sanierungsdesign!$E$12/(4*PI()*$D$3))*(-LN((4*$D$4*AH903)/(Sanierungsdesign!$E$13+Sanierungsdesign!$E$15)^2)-$D$19)","v":427.7659556503653},{"$f":"AN903-273.15","v":154.61595565036532},{"$f":"(2*PI()*Sanierungsdesign!$E$10*$D$3)*(LN((Sanierungsdesign!$E$13+Sanierungsdesign!$E$15)/Sanierungsdesign!$E$13)*(AJ903-AN903))*$AH$7/1000000","v":298.91552112864133},11128.082625755336,25116.082486329797,{"$f":"AU903/Sanierungsdesign!$E$11","v":2.5258863396538933},5166720,20.207090717231146,{"$error":"#DIV/0!"},{"$error":"#DIV/0!"},{"$error":"#DIV/0!"},{"$f":"AG903-AX903","v":{"$error":"#DIV/0!"}},{"$f":"(AY903/(AH903*Sanierungsdesign!$E$10))*1000000","v":{"$error":"#DIV/0!"}},{"$f":"AZ903/Sanierungsdesign!$E$12","v":{"$error":"#DIV/0!"}},{"$f":"$D$5+((-(Sanierungsdesign!$E$12)*MIN($BA$7:$BA$932))/(4*PI()*$D$3))*(-LN((4*$D$4*AH903)/(Sanierungsdesign!$E$13)^2)-$D$19)","v":{"$error":"#DIV/0!"}},{"$f":"(BB903-273.15)/Heterogenität!$D$4","v":{"$error":"#DIV/0!"}},{"$f":"IF(AI903<Berechnung!$D$7,AI903,#N/A)","v":{"$error":"#N/A"}}]
[null,null,null,null,null,null,null,null,null,null,null,null,null,null,null,null,null,null,null,null,null,null,null,null,null,null,null,null,null,null,null,null,{"$f":"Sanierungsdesign!$E$12*AH904*Sanierungsdesign!$E$10/1000000","v":42026.400000000001},6465600,74.833333333333329,{"$f":"$D$5+((-Sanierungsdesign!$E$12)/4*PI()*$D$3)*(-LN((4*$D$4*AH904)/(Sanierungsdesign!$E$13^2))-$D$19)","v":3777.4326828295493},3504.2826828295492,{"$f":"$T$4*$T$7*$AH$7*(AJ904-$D$2)/1000000","v":6985.378812008189},{"$f":"$D$3*$T$7*$AH$7*(AK904-$D$5)*(1/Sanierungsdesign!$E$15)/1000000","v":449.83952160571306},{"$f":"$D$5+(-Sanierungsdesign!$E$12/(4*PI()*$D$3))*(-LN((4*$D$4*AH904)/(Sanierungsdesign!$E$13+Sanierungsdesign!$E$15)^2)-$D$19)","v":427.84996835468019},154.69996835468021,{"$f":"(2*PI()*Sanierungsdesign!$E$10*$D$3)*(LN((Sanierungsdesign!$E$13+Sanierungsdesign!$E$15)/Sanierungsdesign!$E$13)*(AJ904-AN904))*$AH$7/1000000","v":299.04736903139775},{"$f":"$T$20*AH904","v":11140.488514970224},{"$f":"$D$12*AQ904/1000000","v":25144.082578287795},{"$f":"AU904/Sanierungsdesign!$E$11","v":2.5270157492954612},{"$f":"$T$18/$D$24*AH904","v":5172480},{"$f":"($D$10*$T$18)*(AJ904-$D$2)/1000000","v":20.21612599436369},{"$f":"($D$17*$L$10*$T$28+$L$2*$D$10*$T$28+$D$16*$L$4*$T$28+$D$18*$L$7*$T$28)*(AJ904-$D$5)/1000000","v":{"$error":"#DIV/0!"}},{"$f":"AV904*$D$28","v":{"$error":"#DIV/0!"}},{"$f":"AL904+AM904+AR904+(0.5*AP904)-(2*AW904)+AS904","v":{"$error":"#DIV/0!"}},{"$error":"#DIV/0!"},{"$f":"(AY904/(AH904*Sanierungsdesign!$E$10))*1000000","v":{"$error":"#DIV/0!"}},{"$f":"AZ904/Sanierungsdesign!$E$12","v":{"$error":"#DIV/0!"}},{"$f":"$D$5+((-(Sanierungsdesign!$E$12)*MIN($BA$7:$BA$932))/(4*PI()*$D$3))*(-LN((4*$D$4*AH904)/(Sanierungsdesign!$E$13)^2)-$D$19)","v":{"$error":"#DIV/0!"}},{"$f":"(BB904-273.15)/Heterogenität!$D$4","v":{"$error":"#DIV/0!"}},{"$f":"IF(AI904<Berechnung!$D$7,AI904,#N/A)","v":{"$error":"#N/A"}}]
[null,null,null,null,null,null,null,null,null,null,null,null,null,null,null,null,null,null,null,null,null,null,null,null,null,null,null,null,null,null,null,null,{"$f":"Sanierungsdesign!$E$12*AH905*Sanierungsdesign!$E$10/1000000","v":42073.2},{"$f":"AH904+$D$24","v":6472800},74.916666666666671,{"$f":"$D$5+((-Sanierungsdesign!$E$12)/4*PI()*$D$3)*(-LN((4*$D$4*AH905)/(Sanierungsdesign!$E$13^2))-$D$19)","v":3778.9917660892443},3505.8417660892442,6988.4973416799066,{"$f":"$D$3*$T$7*$AH$7*(AK905-$D$5)*(1/Sanierungsdesign!$E$15)/1000000","v":450.05725162081711},{"$f":"$D$5+(-Sanierungsdesign!$E$12/(4*PI()*$D$3))*(-LN((4*$D$4*AH905)/(Sanierungsdesign!$E$13+Sanierungsdesign!$E$15)^2)-$D$19)","v":427.93388755568765},154.78388755568767,{"$f":"(2*PI()*Sanierungsdesign!$E$10*$D$3)*(LN((Sanierungsdesign!$E$13+Sanierungsdesign!$E$15)/Sanierungsdesign!$E$13)*(AJ905-AN905))*$AH$7/1000000","v":299.17907019188374},11152.894404185114,25172.0826702458,{"$f":"AU905/Sanierungsdesign!$E$11","v":2.5281439019421765},5178240,20.225151215537412,{"$error":"#DIV/0!"},{"$error":"#DIV/0!"},{"$error":"#DIV/0!"},{"$error":"#DIV/0!"},{"$f":"(AY905/(AH905*Sanierungsdesign!$E$10))*1000000","v":{"$error":"#DIV/0!"}},{"$f":"AZ905/Sanierungsdesign!$E$12","v":{"$error":"#DIV/0!"}},{"$f":"$D$5+((-(Sanierungsdesign!$E$12)*MIN($BA$7:$BA$932))/(4*PI()*$D$3))*(-LN((4*$D$4*AH905)/(Sanierungsdesign!$E$13)^2)-$D$19)","v":{"$error":"#DIV/0!"}},{"$f":"(BB905-273.15)/Heterogenität!$D$4","v":{"$error":"#DIV/0!"}},{"$f":"IF(AI905<Berechnung!$D$7,AI905,#N/A)","v":{"$error":"#N/A"}}]
[null,null,null,null,null,null,null,null,null,null,null,null,null,null,null,null,null,null,null,null,null,null,null,null,null,null,null,null,null,null,null,null,{"$f":"Sanierungsdesign!$E$12*AH906*Sanierungsdesign!$E$10/1000000","v":42120},6480000,75,{"$f":"$D$5+((-Sanierungsdesign!$E$12)/4*PI()*$D$3)*(-LN((4*$D$4*AH906)/(Sanierungsdesign!$E$13^2))-$D$19)","v":3780.549116070918},3507.3991160709179,6991.6124043918553,{"$f":"$D$3*$T$7*$AH$7*(AK906-$D$5)*(1/Sanierungsdesign!$E$15)/1000000","v":450.27473957915652},{"$f":"$D$5+(-Sanierungsdesign!$E$12/(4*PI()*$D$3))*(-LN((4*$D$4*AH906)/(Sanierungsdesign!$E$13+Sanierungsdesign!$E$15)^2)-$D$19)","v":428.01771346128851},154.86771346128853,{"$f":"(2*PI()*Sanierungsdesign!$E$10*$D$3)*(LN((Sanierungsdesign!$E$13+Sanierungsdesign!$E$15)/Sanierungsdesign!$E$13)*(AJ906-AN906))*$AH$7/1000000","v":299.31062493637467},11165.300293400003,25200.082762203809,{"$f":"AU906/Sanierungsdesign!$E$11","v":2.5292708003889159},5184000,20.234166403111328,{"$error":"#DIV/0!"},{"$error":"#DIV/0!"},{"$error":"#DIV/0!"},{"$error":"#DIV/0!"},{"$f":"(AY906/(AH906*Sanierungsdesign!$E$10))*1000000","v":{"$error":"#DIV/0!"}},{"$f":"AZ906/Sanierungsdesign!$E$12","v":{"$error":"#DIV/0!"}},{"$f":"$D$5+((-(Sanierungsdesign!$E$12)*MIN($BA$7:$BA$932))/(4*PI()*$D$3))*(-LN((4*$D$4*AH906)/(Sanierungsdesign!$E$13)^2)-$D$19)","v":{"$error":"#DIV/0!"}},{"$f":"(BB906-273.15)/Heterogenität!$D$4","v":{"$error":"#DIV/0!"}},{"$f":"IF(AI906<Berechnung!$D$7,AI906,#N/A)","v":{"$error":"#N/A"}}]
[null,null,null,null,null,null,null,null,null,null,null,null,null,null,null,null,null,null,null,null,null,null,null,null,null,null,null,null,null,null,null,null,{"$f":"Sanierungsdesign!$E$12*AH907*Sanierungsdesign!$E$10/1000000","v":42166.8},6487200,75.083333333333329,{"$f":"$D$5+((-Sanierungsdesign!$E$12)/4*PI()*$D$3)*(-LN((4*$D$4*AH907)/(Sanierungsdesign!$E$13^2))-$D$19)","v":3782.1047366241601},3508.95473662416,6994.7240078441109,{"$f":"$D$3*$T$7*$AH$7*(AK907-$D$5)*(1/Sanierungsdesign!$E$15)/1000000","v":450.49198601833632},{"$f":"$D$5+(-Sanierungsdesign!$E$12/(4*PI()*$D$3))*(-LN((4*$D$4*AH907)/(Sanierungsdesign!$E$13+Sanierungsdesign!$E$15)^2)-$D$19)","v":428.10144627869067},154.9514462786907,{"$f":"(2*PI()*Sanierungsdesign!$E$10*$D$3)*(LN((Sanierungsdesign!$E$13+Sanierungsdesign!$E$15)/Sanierungsdesign!$E$13)*(AJ907-AN907))*$AH$7/1000000","v":299.44203359005877},11177.706182614891,25228.082854161807,{"$f":"AU907/Sanierungsdesign!$E$11","v":2.5303964474212419},5189760,20.243171579369935,{"$error":"#DIV/0!"},{"$error":"#DIV/0!"},{"$error":"#DIV/0!"},{"$error":"#DIV/0!"},{"$f":"(AY907/(AH907*Sanierungsdesign!$E$10))*1000000","v":{"$error":"#DIV/0!"}},{"$f":"AZ907/Sanierungsdesign!$E$12","v":{"$error":"#DIV/0!"}},{"$f":"$D$5+((-(Sanierungsdesign!$E$12)*MIN($BA$7:$BA$932))/(4*PI()*$D$3))*(-LN((4*$D$4*AH907)/(Sanierungsdesign!$E$13)^2)-$D$19)","v":{"$error":"#DIV/0!"}},{"$f":"(BB907-273.15)/Heterogenität!$D$4","v":{"$error":"#DIV/0!"}},{"$f":"IF(AI907<Berechnung!$D$7,AI907,#N/A)","v":{"$error":"#N/A"}}]
[null,null,null,null,null,null,null,null,null,null,null,null,null,null,null,null,null,null,null,null,null,null,null,null,null,null,null,null,null,null,null,null,{"$f":"Sanierungsdesign!$E$12*AH908*Sanierungsdesign!$E$10/1000000","v":42213.599999999999},6494400,75.166666666666671,{"$f":"$D$5+((-Sanierungsdesign!$E$12)/4*PI()*$D$3)*(-LN((4*$D$4*AH908)/(Sanierungsdesign!$E$13^2))-$D$19)","v":3783.6586315857526},3510.5086315857525,6997.832159711129,{"$f":"$D$3*$T$7*$AH$7*(AK908-$D$5)*(1/Sanierungsdesign!$E$15)/1000000","v":450.7089914741731},{"$f":"$D$5+(-Sanierungsdesign!$E$12/(4*PI()*$D$3))*(-LN((4*$D$4*AH908)/(Sanierungsdesign!$E$13+Sanierungsdesign!$E$15)^2)-$D$19)","v":428.18508621441288},155.0350862144129,{"$f":"(2*PI()*Sanierungsdesign!$E$10*$D$3)*(LN((Sanierungsdesign!$E$13+Sanierungsdesign!$E$15)/Sanierungsdesign!$E$13)*(AJ908-AN908))*$AH$7/1000000","v":299.57329647704216},11190.112071829781,25256.082946119815,{"$f":"AU908/Sanierungsdesign!$E$11","v":2.5315208458154501},5195520,20.252166766523601,{"$error":"#DIV/0!"},{"$error":"#DIV/0!"},{"$error":"#DIV/0!"},{"$error":"#DIV/0!"},{"$f":"(AY908/(AH908*Sanierungsdesign!$E$10))*1000000","v":{"$error":"#DIV/0!"}},{"$f":"AZ908/Sanierungsdesign!$E$12","v":{"$error":"#DIV/0!"}},{"$f":"$D$5+((-(Sanierungsdesign!$E$12)*MIN($BA$7:$BA$932))/(4*PI()*$D$3))*(-LN((4*$D$4*AH908)/(Sanierungsdesign!$E$13)^2)-$D$19)","v":{"$error":"#DIV/0!"}},{"$f":"(BB908-273.15)/Heterogenität!$D$4","v":{"$error":"#DIV/0!"}},{"$f":"IF(AI908<Berechnung!$D$7,AI908,#N/A)","v":{"$error":"#N/A"}}]
[null,null,null,null,null,null,null,null,null,null,null,null,null,null,null,null,null,null,null,null,null,null,null,null,null,null,null,null,null,null,null,null,{"$f":"Sanierungsdesign!$E$12*AH909*Sanierungsdesign!$E$10/1000000","v":42260.4},6501600,75.25,{"$f":"$D$5+((-Sanierungsdesign!$E$12)/4*PI()*$D$3)*(-LN((4*$D$4*AH909)/(Sanierungsdesign!$E$13^2))-$D$19)","v":3785.2108047797219},3512.0608047797218,7000.9368676418562,{"$f":"$D$3*$T$7*$AH$7*(AK909-$D$5)*(1/Sanierungsdesign!$E$15)/1000000","v":450.92575648070215},{"$f":"$D$5+(-Sanierungsdesign!$E$12/(4*PI()*$D$3))*(-LN((4*$D$4*AH909)/(Sanierungsdesign!$E$13+Sanierungsdesign!$E$15)^2)-$D$19)","v":428.26863347428696},155.11863347428698,{"$f":"(2*PI()*Sanierungsdesign!$E$10*$D$3)*(LN((Sanierungsdesign!$E$13+Sanierungsdesign!$E$15)/Sanierungsdesign!$E$13)*(AJ909-AN909))*$AH$7/1000000","v":299.70441392035372},11202.517961044668,25284.083038077817,{"$f":"AU909/Sanierungsdesign!$E$11","v":2.5326439983386062},5201280,20.26115198670885,{"$error":"#DIV/0!"},{"$error":"#DIV/0!"},{"$error":"#DIV/0!"},{"$error":"#DIV/0!"},{"$f":"(AY909/(AH909*Sanierungsdesign!$E$10))*1000000","v":{"$error":"#DIV/0!"}},{"$f":"AZ909/Sanierungsdesign!$E$12","v":{"$error":"#DIV/0!"}},{"$f":"$D$5+((-(Sanierungsdesign!$E$12)*MIN($BA$7:$BA$932))/(4*PI()*$D$3))*(-LN((4*$D$4*AH909)/(Sanierungsdesign!$E$13)^2)-$D$19)","v":{"$error":"#DIV/0!"}},{"$f":"(BB909-273.15)/Heterogenität!$D$4","v":{"$error":"#DIV/0!"}},{"$f":"IF(AI909<Berechnung!$D$7,AI909,#N/A)","v":{"$error":"#N/A"}}]
[null,null,null,null,null,null,null,null,null,null,null,null,null,null,null,null,null,null,null,null,null,null,null,null,null,null,null,null,null,null,null,null,{"$f":"Sanierungsdesign!$E$12*AH910*Sanierungsdesign!$E$10/1000000","v":42307.199999999997},6508800,75.333333333333329,{"$f":"$D$5+((-Sanierungsdesign!$E$12)/4*PI()*$D$3)*(-LN((4*$D$4*AH910)/(Sanierungsdesign!$E$13^2))-$D$19)","v":3786.7612600173975},3513.6112600173974,7004.0381392598374,{"$f":"$D$3*$T$7*$AH$7*(AK910-$D$5)*(1/Sanierungsdesign!$E$15)/1000000","v":451.14228157018539},{"$f":"$D$5+(-Sanierungsdesign!$E$12/(4*PI()*$D$3))*(-LN((4*$D$4*AH910)/(Sanierungsdesign!$E$13+Sanierungsdesign!$E$15)^2)-$D$19)","v":428.35208826346161},155.20208826346163,{"$f":"(2*PI()*Sanierungsdesign!$E$10*$D$3)*(LN((Sanierungsdesign!$E$13+Sanierungsdesign!$E$15)/Sanierungsdesign!$E$13)*(AJ910-AN910))*$AH$7/1000000","v":299.83538624194949},11214.923850259558,25312.083130035822,{"$f":"AU910/Sanierungsdesign!$E$11","v":2.5337659077485886},5207040,20.270127261988709,{"$error":"#DIV/0!"},{"$error":"#DIV/0!"},{"$error":"#DIV/0!"},{"$error":"#DIV/0!"},{"$f":"(AY910/(AH910*Sanierungsdesign!$E$10))*1000000","v":{"$error":"#DIV/0!"}},{"$f":"AZ910/Sanierungsdesign!$E$12","v":{"$error":"#DIV/0!"}},{"$f":"$D$5+((-(Sanierungsdesign!$E$12)*MIN($BA$7:$BA$932))/(4*PI()*$D$3))*(-LN((4*$D$4*AH910)/(Sanierungsdesign!$E$13)^2)-$D$19)","v":{"$error":"#DIV/0!"}},{"$f":"(BB910-273.15)/Heterogenität!$D$4","v":{"$error":"#DIV/0!"}},{"$f":"IF(AI910<Berechnung!$D$7,AI910,#N/A)","v":{"$error":"#N/A"}}]
[null,null,null,null,null,null,null,null,null,null,null,null,null,null,null,null,null,null,null,null,null,null,null,null,null,null,null,null,null,null,null,null,{"$f":"Sanierungsdesign!$E$12*AH911*Sanierungsdesign!$E$10/1000000","v":42354},6516000,75.416666666666671,{"$f":"$D$5+((-Sanierungsdesign!$E$12)/4*PI()*$D$3)*(-LN((4*$D$4*AH911)/(Sanierungsdesign!$E$13^2))-$D$19)","v":3788.3100010974681},3515.160001097468,7007.135982163335,{"$f":"$D$3*$T$7*$AH$7*(AK911-$D$5)*(1/Sanierungsdesign!$E$15)/1000000","v":451.35856727311955},{"$f":"$D$5+(-Sanierungsdesign!$E$12/(4*PI()*$D$3))*(-LN((4*$D$4*AH911)/(Sanierungsdesign!$E$13+Sanierungsdesign!$E$15)^2)-$D$19)","v":428.435450786405},155.28545078640502,{"$f":"(2*PI()*Sanierungsdesign!$E$10*$D$3)*(LN((Sanierungsdesign!$E$13+Sanierungsdesign!$E$15)/Sanierungsdesign!$E$13)*(AJ911-AN911))*$AH$7/1000000","v":299.9662137627181},11227.329739474448,25340.083221993827,{"$f":"AU911/Sanierungsdesign!$E$11","v":2.5348865767941273},5212800,20.279092614353019,{"$error":"#DIV/0!"},{"$error":"#DIV/0!"},{"$error":"#DIV/0!"},{"$error":"#DIV/0!"},{"$f":"(AY911/(AH911*Sanierungsdesign!$E$10))*1000000","v":{"$error":"#DIV/0!"}},{"$f":"AZ911/Sanierungsdesign!$E$12","v":{"$error":"#DIV/0!"}},{"$f":"$D$5+((-(Sanierungsdesign!$E$12)*MIN($BA$7:$BA$932))/(4*PI()*$D$3))*(-LN((4*$D$4*AH911)/(Sanierungsdesign!$E$13)^2)-$D$19)","v":{"$error":"#DIV/0!"}},{"$f":"(BB911-273.15)/Heterogenität!$D$4","v":{"$error":"#DIV/0!"}},{"$f":"IF(AI911<Berechnung!$D$7,AI911,#N/A)","v":{"$error":"#N/A"}}]
[null,null,null,null,null,null,null,null,null,null,null,null,null,null,null,null,null,null,null,null,null,null,null,null,null,null,null,null,null,null,null,null,{"$f":"Sanierungsdesign!$E$12*AH912*Sanierungsdesign!$E$10/1000000","v":42400.800000000003},6523200,75.5,{"$f":"$D$5+((-Sanierungsdesign!$E$12)/4*PI()*$D$3)*(-LN((4*$D$4*AH912)/(Sanierungsdesign!$E$13^2))-$D$19)","v":3789.8570318060379},3516.7070318060378,7010.2304039254395,{"$f":"$D$3*$T$7*$AH$7*(AK912-$D$5)*(1/Sanierungsdesign!$E$15)/1000000","v":451.57461411824391},{"$f":"$D$5+(-Sanierungsdesign!$E$12/(4*PI()*$D$3))*(-LN((4*$D$4*AH912)/(Sanierungsdesign!$E$13+Sanierungsdesign!$E$15)^2)-$D$19)","v":428.51872124690794},155.36872124690797,{"$f":"(2*PI()*Sanierungsdesign!$E$10*$D$3)*(LN((Sanierungsdesign!$E$13+Sanierungsdesign!$E$15)/Sanierungsdesign!$E$13)*(AJ912-AN912))*$AH$7/1000000","v":300.09689680248471},11239.735628689335,25368.083313951833,{"$f":"AU912/Sanierungsdesign!$E$11","v":2.5360060082148488},5218560,20.28804806571879,{"$error":"#DIV/0!"},{"$error":"#DIV/0!"},{"$error":"#DIV/0!"},{"$error":"#DIV/0!"},{"$f":"(AY912/(AH912*Sanierungsdesign!$E$10))*1000000","v":{"$error":"#DIV/0!"}},{"$f":"AZ912/Sanierungsdesign!$E$12","v":{"$error":"#DIV/0!"}},{"$f":"$D$5+((-(Sanierungsdesign!$E$12)*MIN($BA$7:$BA$932))/(4*PI()*$D$3))*(-LN((4*$D$4*AH912)/(Sanierungsdesign!$E$13)^2)-$D$19)","v":{"$error":"#DIV/0!"}},{"$f":"(BB912-273.15)/Heterogenität!$D$4","v":{"$error":"#DIV/0!"}},{"$f":"IF(AI912<Berechnung!$D$7,AI912,#N/A)","v":{"$error":"#N/A"}}]
[null,null,null,null,null,null,null,null,null,null,null,null,null,null,null,null,null,null,null,null,null,null,null,null,null,null,null,null,null,null,null,null,{"$f":"Sanierungsdesign!$E$12*AH913*Sanierungsdesign!$E$10/1000000","v":42447.6},6530400,75.583333333333329,{"$f":"$D$5+((-Sanierungsdesign!$E$12)/4*PI()*$D$3)*(-LN((4*$D$4*AH913)/(Sanierungsdesign!$E$13^2))-$D$19)","v":3791.4023559166772},3518.2523559166771,7013.3214120941702,{"$f":"$D$3*$T$7*$AH$7*(AK913-$D$5)*(1/Sanierungsdesign!$E$15)/1000000","v":451.79042263254746},{"$f":"$D$5+(-Sanierungsdesign!$E$12/(4*PI()*$D$3))*(-LN((4*$D$4*AH913)/(Sanierungsdesign!$E$13+Sanierungsdesign!$E$15)^2)-$D$19)","v":428.60189984808659},155.45189984808661,{"$f":"(2*PI()*Sanierungsdesign!$E$10*$D$3)*(LN((Sanierungsdesign!$E$13+Sanierungsdesign!$E$15)/Sanierungsdesign!$E$13)*(AJ913-AN913))*$AH$7/1000000","v":300.22743568001573},11252.141517904225,25396.083405909834,{"$f":"AU913/Sanierungsdesign!$E$11","v":2.537124204741307},5224320,20.296993637930456,{"$error":"#DIV/0!"},{"$error":"#DIV/0!"},{"$error":"#DIV/0!"},{"$error":"#DIV/0!"},{"$f":"(AY913/(AH913*Sanierungsdesign!$E$10))*1000000","v":{"$error":"#DIV/0!"}},{"$f":"AZ913/Sanierungsdesign!$E$12","v":{"$error":"#DIV/0!"}},{"$f":"$D$5+((-(Sanierungsdesign!$E$12)*MIN($BA$7:$BA$932))/(4*PI()*$D$3))*(-LN((4*$D$4*AH913)/(Sanierungsdesign!$E$13)^2)-$D$19)","v":{"$error":"#DIV/0!"}},{"$f":"(BB913-273.15)/Heterogenität!$D$4","v":{"$error":"#DIV/0!"}},{"$f":"IF(AI913<Berechnung!$D$7,AI913,#N/A)","v":{"$error":"#N/A"}}]
[null,null,null,null,null,null,null,null,null,null,null,null,null,null,null,null,null,null,null,null,null,null,null,null,null,null,null,null,null,null,null,null,{"$f":"Sanierungsdesign!$E$12*AH914*Sanierungsdesign!$E$10/1000000","v":42494.400000000001},6537600,75.666666666666671,{"$f":"$D$5+((-Sanierungsdesign!$E$12)/4*PI()*$D$3)*(-LN((4*$D$4*AH914)/(Sanierungsdesign!$E$13^2))-$D$19)","v":3792.9459771904872},3519.7959771904871,7016.4090141926072,{"$f":"$D$3*$T$7*$AH$7*(AK914-$D$5)*(1/Sanierungsdesign!$E$15)/1000000","v":452.00599334127747},{"$f":"$D$5+(-Sanierungsdesign!$E$12/(4*PI()*$D$3))*(-LN((4*$D$4*AH914)/(Sanierungsdesign!$E$13+Sanierungsdesign!$E$15)^2)-$D$19)","v":428.68498679238587},155.53498679238589,{"$f":"(2*PI()*Sanierungsdesign!$E$10*$D$3)*(LN((Sanierungsdesign!$E$13+Sanierungsdesign!$E$15)/Sanierungsdesign!$E$13)*(AJ914-AN914))*$AH$7/1000000","v":300.35783071302473},11264.547407119115,25424.083497867843,{"$f":"AU914/Sanierungsdesign!$E$11","v":2.5382411690950359},5230080,20.305929352760288,{"$error":"#DIV/0!"},{"$error":"#DIV/0!"},{"$error":"#DIV/0!"},{"$error":"#DIV/0!"},{"$f":"(AY914/(AH914*Sanierungsdesign!$E$10))*1000000","v":{"$error":"#DIV/0!"}},{"$f":"AZ914/Sanierungsdesign!$E$12","v":{"$error":"#DIV/0!"}},{"$f":"$D$5+((-(Sanierungsdesign!$E$12)*MIN($BA$7:$BA$932))/(4*PI()*$D$3))*(-LN((4*$D$4*AH914)/(Sanierungsdesign!$E$13)^2)-$D$19)","v":{"$error":"#DIV/0!"}},{"$f":"(BB914-273.15)/Heterogenität!$D$4","v":{"$error":"#DIV/0!"}},{"$f":"IF(AI914<Berechnung!$D$7,AI914,#N/A)","v":{"$error":"#N/A"}}]
[null,null,null,null,null,null,null,null,null,null,null,null,null,null,null,null,null,null,null,null,null,null,null,null,null,null,null,null,null,null,null,null,{"$f":"Sanierungsdesign!$E$12*AH915*Sanierungsdesign!$E$10/1000000","v":42541.2},6544800,75.75,{"$f":"$D$5+((-Sanierungsdesign!$E$12)/4*PI()*$D$3)*(-LN((4*$D$4*AH915)/(Sanierungsdesign!$E$13^2))-$D$19)","v":3794.4878993761458},3521.3378993761457,7019.4932177189776,{"$f":"$D$3*$T$7*$AH$7*(AK915-$D$5)*(1/Sanierungsdesign!$E$15)/1000000","v":452.22132676794666},{"$f":"$D$5+(-Sanierungsdesign!$E$12/(4*PI()*$D$3))*(-LN((4*$D$4*AH915)/(Sanierungsdesign!$E$13+Sanierungsdesign!$E$15)^2)-$D$19)","v":428.76798228158219},155.61798228158221,{"$f":"(2*PI()*Sanierungsdesign!$E$10*$D$3)*(LN((Sanierungsdesign!$E$13+Sanierungsdesign!$E$15)/Sanierungsdesign!$E$13)*(AJ915-AN915))*$AH$7/1000000","v":300.48808221817535},11276.953296334003,25452.083589825845,{"$f":"AU915/Sanierungsdesign!$E$11","v":2.5393569039885788},5235840,20.314855231908631,{"$error":"#DIV/0!"},{"$error":"#DIV/0!"},{"$error":"#DIV/0!"},{"$error":"#DIV/0!"},{"$f":"(AY915/(AH915*Sanierungsdesign!$E$10))*1000000","v":{"$error":"#DIV/0!"}},{"$f":"AZ915/Sanierungsdesign!$E$12","v":{"$error":"#DIV/0!"}},{"$f":"$D$5+((-(Sanierungsdesign!$E$12)*MIN($BA$7:$BA$932))/(4*PI()*$D$3))*(-LN((4*$D$4*AH915)/(Sanierungsdesign!$E$13)^2)-$D$19)","v":{"$error":"#DIV/0!"}},{"$f":"(BB915-273.15)/Heterogenität!$D$4","v":{"$error":"#DIV/0!"}},{"$f":"IF(AI915<Berechnung!$D$7,AI915,#N/A)","v":{"$error":"#N/A"}}]
[null,null,null,null,null,null,null,null,null,null,null,null,null,null,null,null,null,null,null,null,null,null,null,null,null,null,null,null,null,null,null,null,{"$f":"Sanierungsdesign!$E$12*AH916*Sanierungsdesign!$E$10/1000000","v":42588},6552000,75.833333333333329,{"$f":"$D$5+((-Sanierungsdesign!$E$12)/4*PI()*$D$3)*(-LN((4*$D$4*AH916)/(Sanierungsdesign!$E$13^2))-$D$19)","v":3796.0281262099661},3522.878126209966,7022.5740301467777,{"$f":"$D$3*$T$7*$AH$7*(AK916-$D$5)*(1/Sanierungsdesign!$E$15)/1000000","v":452.4364234343409},{"$f":"$D$5+(-Sanierungsdesign!$E$12/(4*PI()*$D$3))*(-LN((4*$D$4*AH916)/(Sanierungsdesign!$E$13+Sanierungsdesign!$E$15)^2)-$D$19)","v":428.85088651678626},155.70088651678628,{"$f":"(2*PI()*Sanierungsdesign!$E$10*$D$3)*(LN((Sanierungsdesign!$E$13+Sanierungsdesign!$E$15)/Sanierungsdesign!$E$13)*(AJ916-AN916))*$AH$7/1000000","v":300.61819051108682},11289.359185548892,25480.083681783846,{"$f":"AU916/Sanierungsdesign!$E$11","v":2.5404714121255312},5241600,20.323771297004249,{"$error":"#DIV/0!"},{"$error":"#DIV/0!"},{"$error":"#DIV/0!"},{"$error":"#DIV/0!"},{"$f":"(AY916/(AH916*Sanierungsdesign!$E$10))*1000000","v":{"$error":"#DIV/0!"}},{"$f":"AZ916/Sanierungsdesign!$E$12","v":{"$error":"#DIV/0!"}},{"$f":"$D$5+((-(Sanierungsdesign!$E$12)*MIN($BA$7:$BA$932))/(4*PI()*$D$3))*(-LN((4*$D$4*AH916)/(Sanierungsdesign!$E$13)^2)-$D$19)","v":{"$error":"#DIV/0!"}},{"$f":"(BB916-273.15)/Heterogenität!$D$4","v":{"$error":"#DIV/0!"}},{"$f":"IF(AI916<Berechnung!$D$7,AI916,#N/A)","v":{"$error":"#N/A"}}]
[null,null,null,null,null,null,null,null,null,null,null,null,null,null,null,null,null,null,null,null,null,null,null,null,null,null,null,null,null,null,null,null,{"$f":"Sanierungsdesign!$E$12*AH917*Sanierungsdesign!$E$10/1000000","v":42634.8},6559200,75.916666666666671,{"$f":"$D$5+((-Sanierungsdesign!$E$12)/4*PI()*$D$3)*(-LN((4*$D$4*AH917)/(Sanierungsdesign!$E$13^2))-$D$19)","v":3797.5666614159518},3524.4166614159517,7025.6514589248845,{"$f":"$D$3*$T$7*$AH$7*(AK917-$D$5)*(1/Sanierungsdesign!$E$15)/1000000","v":452.6512838605268},{"$f":"$D$5+(-Sanierungsdesign!$E$12/(4*PI()*$D$3))*(-LN((4*$D$4*AH917)/(Sanierungsdesign!$E$13+Sanierungsdesign!$E$15)^2)-$D$19)","v":428.93369969844628},155.7836996984463,{"$f":"(2*PI()*Sanierungsdesign!$E$10*$D$3)*(LN((Sanierungsdesign!$E$13+Sanierungsdesign!$E$15)/Sanierungsdesign!$E$13)*(AJ917-AN917))*$AH$7/1000000","v":300.74815590633875},11301.76507476378,25508.083773741851,{"$f":"AU917/Sanierungsdesign!$E$11","v":2.5415846962005824},5247360,20.332677569604659,{"$error":"#DIV/0!"},{"$error":"#DIV/0!"},{"$error":"#DIV/0!"},{"$error":"#DIV/0!"},{"$f":"(AY917/(AH917*Sanierungsdesign!$E$10))*1000000","v":{"$error":"#DIV/0!"}},{"$f":"AZ917/Sanierungsdesign!$E$12","v":{"$error":"#DIV/0!"}},{"$f":"$D$5+((-(Sanierungsdesign!$E$12)*MIN($BA$7:$BA$932))/(4*PI()*$D$3))*(-LN((4*$D$4*AH917)/(Sanierungsdesign!$E$13)^2)-$D$19)","v":{"$error":"#DIV/0!"}},{"$f":"(BB917-273.15)/Heterogenität!$D$4","v":{"$error":"#DIV/0!"}},{"$f":"IF(AI917<Berechnung!$D$7,AI917,#N/A)","v":{"$error":"#N/A"}}]
[null,null,null,null,null,null,null,null,null,null,null,null,null,null,null,null,null,null,null,null,null,null,null,null,null,null,null,null,null,null,null,null,{"$f":"Sanierungsdesign!$E$12*AH918*Sanierungsdesign!$E$10/1000000","v":42681.599999999999},6566400,76,{"$f":"$D$5+((-Sanierungsdesign!$E$12)/4*PI()*$D$3)*(-LN((4*$D$4*AH918)/(Sanierungsdesign!$E$13^2))-$D$19)","v":3799.103508705849},3525.9535087058489,7028.7255114776526,{"$f":"$D$3*$T$7*$AH$7*(AK918-$D$5)*(1/Sanierungsdesign!$E$15)/1000000","v":452.86590856485941},{"$f":"$D$5+(-Sanierungsdesign!$E$12/(4*PI()*$D$3))*(-LN((4*$D$4*AH918)/(Sanierungsdesign!$E$13+Sanierungsdesign!$E$15)^2)-$D$19)","v":429.0164220263506},155.86642202635062,{"$f":"(2*PI()*Sanierungsdesign!$E$10*$D$3)*(LN((Sanierungsdesign!$E$13+Sanierungsdesign!$E$15)/Sanierungsdesign!$E$13)*(AJ918-AN918))*$AH$7/1000000","v":300.87797871747506},11314.17096397867,25536.083865699857,{"$f":"AU918/Sanierungsdesign!$E$11","v":2.5426967588995519},5253120,20.341574071196415,{"$error":"#DIV/0!"},{"$error":"#DIV/0!"},{"$error":"#DIV/0!"},{"$error":"#DIV/0!"},{"$f":"(AY918/(AH918*Sanierungsdesign!$E$10))*1000000","v":{"$error":"#DIV/0!"}},{"$f":"AZ918/Sanierungsdesign!$E$12","v":{"$error":"#DIV/0!"}},{"$f":"$D$5+((-(Sanierungsdesign!$E$12)*MIN($BA$7:$BA$932))/(4*PI()*$D$3))*(-LN((4*$D$4*AH918)/(Sanierungsdesign!$E$13)^2)-$D$19)","v":{"$error":"#DIV/0!"}},{"$f":"(BB918-273.15)/Heterogenität!$D$4","v":{"$error":"#DIV/0!"}},{"$f":"IF(AI918<Berechnung!$D$7,AI918,#N/A)","v":{"$error":"#N/A"}}]
[null,null,null,null,null,null,null,null,null,null,null,null,null,null,null,null,null,null,null,null,null,null,null,null,null,null,null,null,null,null,null,null,{"$f":"Sanierungsdesign!$E$12*AH919*Sanierungsdesign!$E$10/1000000","v":42728.4},6573600,76.083333333333329,{"$f":"$D$5+((-Sanierungsdesign!$E$12)/4*PI()*$D$3)*(-LN((4*$D$4*AH919)/(Sanierungsdesign!$E$13^2))-$D$19)","v":3800.6386717791997},3527.4886717791996,7031.7961952050282,{"$f":"$D$3*$T$7*$AH$7*(AK919-$D$5)*(1/Sanierungsdesign!$E$15)/1000000","v":453.08029806398935},{"$f":"$D$5+(-Sanierungsdesign!$E$12/(4*PI()*$D$3))*(-LN((4*$D$4*AH919)/(Sanierungsdesign!$E$13+Sanierungsdesign!$E$15)^2)-$D$19)","v":429.09905369963082},155.94905369963084,{"$f":"(2*PI()*Sanierungsdesign!$E$10*$D$3)*(LN((Sanierungsdesign!$E$13+Sanierungsdesign!$E$15)/Sanierungsdesign!$E$13)*(AJ919-AN919))*$AH$7/1000000","v":301.00765925700904},11326.576853193559,25564.083957657862,{"$f":"AU919/Sanierungsdesign!$E$11","v":2.5438076028994283},5258880,20.350460823195426,{"$error":"#DIV/0!"},{"$error":"#DIV/0!"},{"$error":"#DIV/0!"},{"$error":"#DIV/0!"},{"$f":"(AY919/(AH919*Sanierungsdesign!$E$10))*1000000","v":{"$error":"#DIV/0!"}},{"$f":"AZ919/Sanierungsdesign!$E$12","v":{"$error":"#DIV/0!"}},{"$f":"$D$5+((-(Sanierungsdesign!$E$12)*MIN($BA$7:$BA$932))/(4*PI()*$D$3))*(-LN((4*$D$4*AH919)/(Sanierungsdesign!$E$13)^2)-$D$19)","v":{"$error":"#DIV/0!"}},{"$f":"(BB919-273.15)/Heterogenität!$D$4","v":{"$error":"#DIV/0!"}},{"$f":"IF(AI919<Berechnung!$D$7,AI919,#N/A)","v":{"$error":"#N/A"}}]
[null,null,null,null,null,null,null,null,null,null,null,null,null,null,null,null,null,null,null,null,null,null,null,null,null,null,null,null,null,null,null,null,{"$f":"Sanierungsdesign!$E$12*AH920*Sanierungsdesign!$E$10/1000000","v":42775.199999999997},6580800,76.166666666666671,{"$f":"$D$5+((-Sanierungsdesign!$E$12)/4*PI()*$D$3)*(-LN((4*$D$4*AH920)/(Sanierungsdesign!$E$13^2))-$D$19)","v":3802.1721543233994},3529.0221543233993,7034.8635174826622,{"$f":"$D$3*$T$7*$AH$7*(AK920-$D$5)*(1/Sanierungsdesign!$E$15)/1000000","v":453.29445287287086},{"$f":"$D$5+(-Sanierungsdesign!$E$12/(4*PI()*$D$3))*(-LN((4*$D$4*AH920)/(Sanierungsdesign!$E$13+Sanierungsdesign!$E$15)^2)-$D$19)","v":429.18159491676465},156.03159491676467,{"$f":"(2*PI()*Sanierungsdesign!$E$10*$D$3)*(LN((Sanierungsdesign!$E$13+Sanierungsdesign!$E$15)/Sanierungsdesign!$E$13)*(AJ920-AN920))*$AH$7/1000000","v":301.1371978364275},11338.982742408447,25592.084049615863,{"$f":"AU920/Sanierungsdesign!$E$11","v":2.5449172308684114},5264640,20.359337846947291,{"$error":"#DIV/0!"},{"$error":"#DIV/0!"},{"$error":"#DIV/0!"},{"$error":"#DIV/0!"},{"$f":"(AY920/(AH920*Sanierungsdesign!$E$10))*1000000","v":{"$error":"#DIV/0!"}},{"$f":"AZ920/Sanierungsdesign!$E$12","v":{"$error":"#DIV/0!"}},{"$f":"$D$5+((-(Sanierungsdesign!$E$12)*MIN($BA$7:$BA$932))/(4*PI()*$D$3))*(-LN((4*$D$4*AH920)/(Sanierungsdesign!$E$13)^2)-$D$19)","v":{"$error":"#DIV/0!"}},{"$f":"(BB920-273.15)/Heterogenität!$D$4","v":{"$error":"#DIV/0!"}},{"$f":"IF(AI920<Berechnung!$D$7,AI920,#N/A)","v":{"$error":"#N/A"}}]
[null,null,null,null,null,null,null,null,null,null,null,null,null,null,null,null,null,null,null,null,null,null,null,null,null,null,null,null,null,null,null,null,{"$f":"Sanierungsdesign!$E$12*AH921*Sanierungsdesign!$E$10/1000000","v":42822},6588000,76.25,{"$f":"$D$5+((-Sanierungsdesign!$E$12)/4*PI()*$D$3)*(-LN((4*$D$4*AH921)/(Sanierungsdesign!$E$13^2))-$D$19)","v":3803.7039600137446},3530.5539600137445,7037.9274856620023,{"$f":"$D$3*$T$7*$AH$7*(AK921-$D$5)*(1/Sanierungsdesign!$E$15)/1000000","v":453.50837350476871},{"$f":"$D$5+(-Sanierungsdesign!$E$12/(4*PI()*$D$3))*(-LN((4*$D$4*AH921)/(Sanierungsdesign!$E$13+Sanierungsdesign!$E$15)^2)-$D$19)","v":429.26404587557852},156.11404587557854,{"$f":"(2*PI()*Sanierungsdesign!$E$10*$D$3)*(LN((Sanierungsdesign!$E$13+Sanierungsdesign!$E$15)/Sanierungsdesign!$E$13)*(AJ921-AN921))*$AH$7/1000000","v":301.26659476619574},11351.388631623337,25620.084141573872,{"$f":"AU921/Sanierungsdesign!$E$11","v":2.5460256454659453},5270400,20.368205163727563,{"$error":"#DIV/0!"},{"$error":"#DIV/0!"},{"$error":"#DIV/0!"},{"$error":"#DIV/0!"},{"$f":"(AY921/(AH921*Sanierungsdesign!$E$10))*1000000","v":{"$error":"#DIV/0!"}},{"$f":"AZ921/Sanierungsdesign!$E$12","v":{"$error":"#DIV/0!"}},{"$f":"$D$5+((-(Sanierungsdesign!$E$12)*MIN($BA$7:$BA$932))/(4*PI()*$D$3))*(-LN((4*$D$4*AH921)/(Sanierungsdesign!$E$13)^2)-$D$19)","v":{"$error":"#DIV/0!"}},{"$f":"(BB921-273.15)/Heterogenität!$D$4","v":{"$error":"#DIV/0!"}},{"$f":"IF(AI921<Berechnung!$D$7,AI921,#N/A)","v":{"$error":"#N/A"}}]
[null,null,null,null,null,null,null,null,null,null,null,null,null,null,null,null,null,null,null,null,null,null,null,null,null,null,null,null,null,null,null,null,{"$f":"Sanierungsdesign!$E$12*AH922*Sanierungsdesign!$E$10/1000000","v":42868.800000000003},6595200,76.333333333333329,{"$f":"$D$5+((-Sanierungsdesign!$E$12)/4*PI()*$D$3)*(-LN((4*$D$4*AH922)/(Sanierungsdesign!$E$13^2))-$D$19)","v":3805.234092513489},3532.0840925134889,7040.9881070704096,{"$f":"$D$3*$T$7*$AH$7*(AK922-$D$5)*(1/Sanierungsdesign!$E$15)/1000000","v":453.72206047126582},{"$f":"$D$5+(-Sanierungsdesign!$E$12/(4*PI()*$D$3))*(-LN((4*$D$4*AH922)/(Sanierungsdesign!$E$13+Sanierungsdesign!$E$15)^2)-$D$19)","v":429.34640677325064},156.19640677325066,{"$f":"(2*PI()*Sanierungsdesign!$E$10*$D$3)*(LN((Sanierungsdesign!$E$13+Sanierungsdesign!$E$15)/Sanierungsdesign!$E$13)*(AJ922-AN922))*$AH$7/1000000","v":301.3958503557613},11363.794520838224,25648.08423353187,{"$f":"AU922/Sanierungsdesign!$E$11","v":2.5471328493427601},5276160,20.377062794742081,{"$error":"#DIV/0!"},{"$error":"#DIV/0!"},{"$error":"#DIV/0!"},{"$error":"#DIV/0!"},{"$f":"(AY922/(AH922*Sanierungsdesign!$E$10))*1000000","v":{"$error":"#DIV/0!"}},{"$f":"AZ922/Sanierungsdesign!$E$12","v":{"$error":"#DIV/0!"}},{"$f":"$D$5+((-(Sanierungsdesign!$E$12)*MIN($BA$7:$BA$932))/(4*PI()*$D$3))*(-LN((4*$D$4*AH922)/(Sanierungsdesign!$E$13)^2)-$D$19)","v":{"$error":"#DIV/0!"}},{"$f":"(BB922-273.15)/Heterogenität!$D$4","v":{"$error":"#DIV/0!"}},{"$f":"IF(AI922<Berechnung!$D$7,AI922,#N/A)","v":{"$error":"#N/A"}}]
[null,null,null,null,null,null,null,null,null,null,null,null,null,null,null,null,null,null,null,null,null,null,null,null,null,null,null,null,null,null,null,null,{"$f":"Sanierungsdesign!$E$12*AH923*Sanierungsdesign!$E$10/1000000","v":42915.6},6602400,76.416666666666671,{"$f":"$D$5+((-Sanierungsdesign!$E$12)/4*PI()*$D$3)*(-LN((4*$D$4*AH923)/(Sanierungsdesign!$E$13^2))-$D$19)","v":3806.7625554738952},3533.6125554738951,7044.0453890112612,{"$f":"$D$3*$T$7*$AH$7*(AK923-$D$5)*(1/Sanierungsdesign!$E$15)/1000000","v":453.93551428227033},{"$f":"$D$5+(-Sanierungsdesign!$E$12/(4*PI()*$D$3))*(-LN((4*$D$4*AH923)/(Sanierungsdesign!$E$13+Sanierungsdesign!$E$15)^2)-$D$19)","v":429.42867780631389},156.27867780631391,{"$f":"(2*PI()*Sanierungsdesign!$E$10*$D$3)*(LN((Sanierungsdesign!$E$13+Sanierungsdesign!$E$15)/Sanierungsdesign!$E$13)*(AJ923-AN923))*$AH$7/1000000","v":301.52496491355902},11376.200410053114,25676.084325489879,{"$f":"AU923/Sanierungsdesign!$E$11","v":2.5482388451409101},5281920,20.385910761127281,{"$error":"#DIV/0!"},{"$error":"#DIV/0!"},{"$error":"#DIV/0!"},{"$error":"#DIV/0!"},{"$f":"(AY923/(AH923*Sanierungsdesign!$E$10))*1000000","v":{"$error":"#DIV/0!"}},{"$f":"AZ923/Sanierungsdesign!$E$12","v":{"$error":"#DIV/0!"}},{"$f":"$D$5+((-(Sanierungsdesign!$E$12)*MIN($BA$7:$BA$932))/(4*PI()*$D$3))*(-LN((4*$D$4*AH923)/(Sanierungsdesign!$E$13)^2)-$D$19)","v":{"$error":"#DIV/0!"}},{"$f":"(BB923-273.15)/Heterogenität!$D$4","v":{"$error":"#DIV/0!"}},{"$f":"IF(AI923<Berechnung!$D$7,AI923,#N/A)","v":{"$error":"#N/A"}}]
[null,null,null,null,null,null,null,null,null,null,null,null,null,null,null,null,null,null,null,null,null,null,null,null,null,null,null,null,null,null,null,null,{"$f":"Sanierungsdesign!$E$12*AH924*Sanierungsdesign!$E$10/1000000","v":42962.400000000001},6609600,76.5,{"$f":"$D$5+((-Sanierungsdesign!$E$12)/4*PI()*$D$3)*(-LN((4*$D$4*AH924)/(Sanierungsdesign!$E$13^2))-$D$19)","v":3808.2893525342874},3535.1393525342874,7047.0993387640501,{"$f":"$D$3*$T$7*$AH$7*(AK924-$D$5)*(1/Sanierungsdesign!$E$15)/1000000","v":454.14873544602335},{"$f":"$D$5+(-Sanierungsdesign!$E$12/(4*PI()*$D$3))*(-LN((4*$D$4*AH924)/(Sanierungsdesign!$E$13+Sanierungsdesign!$E$15)^2)-$D$19)","v":429.51085917065859},156.36085917065861,{"$f":"(2*PI()*Sanierungsdesign!$E$10*$D$3)*(LN((Sanierungsdesign!$E$13+Sanierungsdesign!$E$15)/Sanierungsdesign!$E$13)*(AJ924-AN924))*$AH$7/1000000","v":301.65393874701522},11388.606299268004,25704.084417447884,{"$f":"AU924/Sanierungsdesign!$E$11","v":2.5493436354938099},5287680,20.394749083950479,{"$error":"#DIV/0!"},{"$error":"#DIV/0!"},{"$error":"#DIV/0!"},{"$error":"#DIV/0!"},{"$f":"(AY924/(AH924*Sanierungsdesign!$E$10))*1000000","v":{"$error":"#DIV/0!"}},{"$f":"AZ924/Sanierungsdesign!$E$12","v":{"$error":"#DIV/0!"}},{"$f":"$D$5+((-(Sanierungsdesign!$E$12)*MIN($BA$7:$BA$932))/(4*PI()*$D$3))*(-LN((4*$D$4*AH924)/(Sanierungsdesign!$E$13)^2)-$D$19)","v":{"$error":"#DIV/0!"}},{"$f":"(BB924-273.15)/Heterogenität!$D$4","v":{"$error":"#DIV/0!"}},{"$f":"IF(AI924<Berechnung!$D$7,AI924,#N/A)","v":{"$error":"#N/A"}}]
[null,null,null,null,null,null,null,null,null,null,null,null,null,null,null,null,null,null,null,null,null,null,null,null,null,null,null,null,null,null,null,null,{"$f":"Sanierungsdesign!$E$12*AH925*Sanierungsdesign!$E$10/1000000","v":43009.2},6616800,76.583333333333329,{"$f":"$D$5+((-Sanierungsdesign!$E$12)/4*PI()*$D$3)*(-LN((4*$D$4*AH925)/(Sanierungsdesign!$E$13^2))-$D$19)","v":3809.8144873221013},3536.6644873221012,7050.1499635844966,{"$f":"$D$3*$T$7*$AH$7*(AK925-$D$5)*(1/Sanierungsdesign!$E$15)/1000000","v":454.36172446910564},{"$f":"$D$5+(-Sanierungsdesign!$E$12/(4*PI()*$D$3))*(-LN((4*$D$4*AH925)/(Sanierungsdesign!$E$13+Sanierungsdesign!$E$15)^2)-$D$19)","v":429.59295106153496},156.44295106153498,{"$f":"(2*PI()*Sanierungsdesign!$E$10*$D$3)*(LN((Sanierungsdesign!$E$13+Sanierungsdesign!$E$15)/Sanierungsdesign!$E$13)*(AJ925-AN925))*$AH$7/1000000","v":301.78277216255196},11401.012188482891,25732.084509405886,{"$f":"AU925/Sanierungsdesign!$E$11","v":2.5504472230262718},5293440,20.403577784210174,{"$error":"#DIV/0!"},{"$error":"#DIV/0!"},{"$error":"#DIV/0!"},{"$error":"#DIV/0!"},{"$f":"(AY925/(AH925*Sanierungsdesign!$E$10))*1000000","v":{"$error":"#DIV/0!"}},{"$f":"AZ925/Sanierungsdesign!$E$12","v":{"$error":"#DIV/0!"}},{"$f":"$D$5+((-(Sanierungsdesign!$E$12)*MIN($BA$7:$BA$932))/(4*PI()*$D$3))*(-LN((4*$D$4*AH925)/(Sanierungsdesign!$E$13)^2)-$D$19)","v":{"$error":"#DIV/0!"}},{"$f":"(BB925-273.15)/Heterogenität!$D$4","v":{"$error":"#DIV/0!"}},{"$f":"IF(AI925<Berechnung!$D$7,AI925,#N/A)","v":{"$error":"#N/A"}}]
[null,null,null,null,null,null,null,null,null,null,null,null,null,null,null,null,null,null,null,null,null,null,null,null,null,null,null,null,null,null,null,null,{"$f":"Sanierungsdesign!$E$12*AH926*Sanierungsdesign!$E$10/1000000","v":43056},6624000,76.666666666666671,{"$f":"$D$5+((-Sanierungsdesign!$E$12)/4*PI()*$D$3)*(-LN((4*$D$4*AH926)/(Sanierungsdesign!$E$13^2))-$D$19)","v":3811.337963452941},3538.1879634529409,7053.197270704648,{"$f":"$D$3*$T$7*$AH$7*(AK926-$D$5)*(1/Sanierungsdesign!$E$15)/1000000","v":454.5744818564458},{"$f":"$D$5+(-Sanierungsdesign!$E$12/(4*PI()*$D$3))*(-LN((4*$D$4*AH926)/(Sanierungsdesign!$E$13+Sanierungsdesign!$E$15)^2)-$D$19)","v":429.6749536735565},156.52495367355652,{"$f":"(2*PI()*Sanierungsdesign!$E$10*$D$3)*(LN((Sanierungsdesign!$E$13+Sanierungsdesign!$E$15)/Sanierungsdesign!$E$13)*(AJ926-AN926))*$AH$7/1000000","v":301.91146546559185},11413.418077697781,25760.084601363891,{"$f":"AU926/Sanierungsdesign!$E$11","v":2.5515496103545479},5299200,20.412396882836383,{"$error":"#DIV/0!"},{"$error":"#DIV/0!"},{"$error":"#DIV/0!"},{"$error":"#DIV/0!"},{"$f":"(AY926/(AH926*Sanierungsdesign!$E$10))*1000000","v":{"$error":"#DIV/0!"}},{"$f":"AZ926/Sanierungsdesign!$E$12","v":{"$error":"#DIV/0!"}},{"$f":"$D$5+((-(Sanierungsdesign!$E$12)*MIN($BA$7:$BA$932))/(4*PI()*$D$3))*(-LN((4*$D$4*AH926)/(Sanierungsdesign!$E$13)^2)-$D$19)","v":{"$error":"#DIV/0!"}},{"$f":"(BB926-273.15)/Heterogenität!$D$4","v":{"$error":"#DIV/0!"}},{"$f":"IF(AI926<Berechnung!$D$7,AI926,#N/A)","v":{"$error":"#N/A"}}]
[null,null,null,null,null,null,null,null,null,null,null,null,null,null,null,null,null,null,null,null,null,null,null,null,null,null,null,null,null,null,null,null,{"$f":"Sanierungsdesign!$E$12*AH927*Sanierungsdesign!$E$10/1000000","v":43102.8},6631200,76.75,{"$f":"$D$5+((-Sanierungsdesign!$E$12)/4*PI()*$D$3)*(-LN((4*$D$4*AH927)/(Sanierungsdesign!$E$13^2))-$D$19)","v":3812.8597845306235},3539.7097845306234,7056.2412673329782,{"$f":"$D$3*$T$7*$AH$7*(AK927-$D$5)*(1/Sanierungsdesign!$E$15)/1000000","v":454.78700811132609},{"$f":"$D$5+(-Sanierungsdesign!$E$12/(4*PI()*$D$3))*(-LN((4*$D$4*AH927)/(Sanierungsdesign!$E$13+Sanierungsdesign!$E$15)^2)-$D$19)","v":429.75686720070217},156.6068672007022,{"$f":"(2*PI()*Sanierungsdesign!$E$10*$D$3)*(LN((Sanierungsdesign!$E$13+Sanierungsdesign!$E$15)/Sanierungsdesign!$E$13)*(AJ927-AN927))*$AH$7/1000000","v":302.04001896056167},11425.823966912669,25788.084693321893,{"$f":"AU927/Sanierungsdesign!$E$11","v":2.5526508000863588},5304960,20.42120640069087,{"$error":"#DIV/0!"},{"$error":"#DIV/0!"},{"$error":"#DIV/0!"},{"$error":"#DIV/0!"},{"$f":"(AY927/(AH927*Sanierungsdesign!$E$10))*1000000","v":{"$error":"#DIV/0!"}},{"$f":"AZ927/Sanierungsdesign!$E$12","v":{"$error":"#DIV/0!"}},{"$f":"$D$5+((-(Sanierungsdesign!$E$12)*MIN($BA$7:$BA$932))/(4*PI()*$D$3))*(-LN((4*$D$4*AH927)/(Sanierungsdesign!$E$13)^2)-$D$19)","v":{"$error":"#DIV/0!"}},{"$f":"(BB927-273.15)/Heterogenität!$D$4","v":{"$error":"#DIV/0!"}},{"$f":"IF(AI927<Berechnung!$D$7,AI927,#N/A)","v":{"$error":"#N/A"}}]
[null,null,null,null,null,null,null,null,null,null,null,null,null,null,null,null,null,null,null,null,null,null,null,null,null,null,null,null,null,null,null,null,{"$f":"Sanierungsdesign!$E$12*AH928*Sanierungsdesign!$E$10/1000000","v":43149.599999999999},6638400,76.833333333333329,{"$f":"$D$5+((-Sanierungsdesign!$E$12)/4*PI()*$D$3)*(-LN((4*$D$4*AH928)/(Sanierungsdesign!$E$13^2))-$D$19)","v":3814.3799541472363},3541.2299541472362,7059.2819606544999,{"$f":"$D$3*$T$7*$AH$7*(AK928-$D$5)*(1/Sanierungsdesign!$E$15)/1000000","v":454.99930373539081},{"$f":"$D$5+(-Sanierungsdesign!$E$12/(4*PI()*$D$3))*(-LN((4*$D$4*AH928)/(Sanierungsdesign!$E$13+Sanierungsdesign!$E$15)^2)-$D$19)","v":429.83869183631975},156.68869183631978,{"$f":"(2*PI()*Sanierungsdesign!$E$10*$D$3)*(LN((Sanierungsdesign!$E$13+Sanierungsdesign!$E$15)/Sanierungsdesign!$E$13)*(AJ928-AN928))*$AH$7/1000000","v":302.16843295089768},11438.229856127558,25816.084785279898,{"$f":"AU928/Sanierungsdesign!$E$11","v":2.5537507948209397},5310720,20.430006358567518,{"$error":"#DIV/0!"},{"$error":"#DIV/0!"},{"$error":"#DIV/0!"},{"$error":"#DIV/0!"},{"$f":"(AY928/(AH928*Sanierungsdesign!$E$10))*1000000","v":{"$error":"#DIV/0!"}},{"$f":"AZ928/Sanierungsdesign!$E$12","v":{"$error":"#DIV/0!"}},{"$f":"$D$5+((-(Sanierungsdesign!$E$12)*MIN($BA$7:$BA$932))/(4*PI()*$D$3))*(-LN((4*$D$4*AH928)/(Sanierungsdesign!$E$13)^2)-$D$19)","v":{"$error":"#DIV/0!"}},{"$f":"(BB928-273.15)/Heterogenität!$D$4","v":{"$error":"#DIV/0!"}},{"$f":"IF(AI928<Berechnung!$D$7,AI928,#N/A)","v":{"$error":"#N/A"}}]
[null,null,null,null,null,null,null,null,null,null,null,null,null,null,null,null,null,null,null,null,null,null,null,null,null,null,null,null,null,null,null,null,{"$f":"Sanierungsdesign!$E$12*AH929*Sanierungsdesign!$E$10/1000000","v":43196.4},6645600,76.916666666666671,{"$f":"$D$5+((-Sanierungsdesign!$E$12)/4*PI()*$D$3)*(-LN((4*$D$4*AH929)/(Sanierungsdesign!$E$13^2))-$D$19)","v":3815.8984758831812},3542.7484758831811,7062.319357830851,{"$f":"$D$3*$T$7*$AH$7*(AK929-$D$5)*(1/Sanierungsdesign!$E$15)/1000000","v":455.21136922865242},{"$f":"$D$5+(-Sanierungsdesign!$E$12/(4*PI()*$D$3))*(-LN((4*$D$4*AH929)/(Sanierungsdesign!$E$13+Sanierungsdesign!$E$15)^2)-$D$19)","v":429.92042777312781},156.77042777312784,{"$f":"(2*PI()*Sanierungsdesign!$E$10*$D$3)*(LN((Sanierungsdesign!$E$13+Sanierungsdesign!$E$15)/Sanierungsdesign!$E$13)*(AJ929-AN929))*$AH$7/1000000","v":302.29670773904871},11450.635745342448,25844.084877237903,{"$f":"AU929/Sanierungsdesign!$E$11","v":2.5548495971490692},5316480,20.438796777192554,{"$error":"#DIV/0!"},{"$error":"#DIV/0!"},{"$error":"#DIV/0!"},{"$error":"#DIV/0!"},{"$f":"(AY929/(AH929*Sanierungsdesign!$E$10))*1000000","v":{"$error":"#DIV/0!"}},{"$f":"AZ929/Sanierungsdesign!$E$12","v":{"$error":"#DIV/0!"}},{"$f":"$D$5+((-(Sanierungsdesign!$E$12)*MIN($BA$7:$BA$932))/(4*PI()*$D$3))*(-LN((4*$D$4*AH929)/(Sanierungsdesign!$E$13)^2)-$D$19)","v":{"$error":"#DIV/0!"}},{"$f":"(BB929-273.15)/Heterogenität!$D$4","v":{"$error":"#DIV/0!"}},{"$f":"IF(AI929<Berechnung!$D$7,AI929,#N/A)","v":{"$error":"#N/A"}}]
[null,null,null,null,null,null,null,null,null,null,null,null,null,null,null,null,null,null,null,null,null,null,null,null,null,null,null,null,null,null,null,null,{"$f":"Sanierungsdesign!$E$12*AH930*Sanierungsdesign!$E$10/1000000","v":43243.199999999997},6652800,77,{"$f":"$D$5+((-Sanierungsdesign!$E$12)/4*PI()*$D$3)*(-LN((4*$D$4*AH930)/(Sanierungsdesign!$E$13^2))-$D$19)","v":3817.4153533072349},3544.2653533072348,7065.3534660004143,{"$f":"$D$3*$T$7*$AH$7*(AK930-$D$5)*(1/Sanierungsdesign!$E$15)/1000000","v":455.42320508949979},{"$f":"$D$5+(-Sanierungsdesign!$E$12/(4*PI()*$D$3))*(-LN((4*$D$4*AH930)/(Sanierungsdesign!$E$13+Sanierungsdesign!$E$15)^2)-$D$19)","v":430.00207520321942},156.85207520321944,{"$f":"(2*PI()*Sanierungsdesign!$E$10*$D$3)*(LN((Sanierungsdesign!$E$13+Sanierungsdesign!$E$15)/Sanierungsdesign!$E$13)*(AJ930-AN930))*$AH$7/1000000","v":302.42484362648167},11463.041634557336,25872.084969195908,{"$f":"AU930/Sanierungsdesign!$E$11","v":2.5559472096531151},5322240,20.44757767722492,{"$error":"#DIV/0!"},{"$error":"#DIV/0!"},{"$error":"#DIV/0!"},{"$error":"#DIV/0!"},{"$f":"(AY930/(AH930*Sanierungsdesign!$E$10))*1000000","v":{"$error":"#DIV/0!"}},{"$f":"AZ930/Sanierungsdesign!$E$12","v":{"$error":"#DIV/0!"}},{"$f":"$D$5+((-(Sanierungsdesign!$E$12)*MIN($BA$7:$BA$932))/(4*PI()*$D$3))*(-LN((4*$D$4*AH930)/(Sanierungsdesign!$E$13)^2)-$D$19)","v":{"$error":"#DIV/0!"}},{"$f":"(BB930-273.15)/Heterogenität!$D$4","v":{"$error":"#DIV/0!"}},{"$f":"IF(AI930<Berechnung!$D$7,AI930,#N/A)","v":{"$error":"#N/A"}}]
[null,null,null,null,null,null,null,null,null,null,null,null,null,null,null,null,null,null,null,null,null,null,null,null,null,null,null,null,null,null,null,null,{"$f":"Sanierungsdesign!$E$12*AH931*Sanierungsdesign!$E$10/1000000","v":43290},6660000,77.083333333333329,{"$f":"$D$5+((-Sanierungsdesign!$E$12)/4*PI()*$D$3)*(-LN((4*$D$4*AH931)/(Sanierungsdesign!$E$13^2))-$D$19)","v":3818.9305899765882},3545.7805899765881,7068.3842922784006,{"$f":"$D$3*$T$7*$AH$7*(AK931-$D$5)*(1/Sanierungsdesign!$E$15)/1000000","v":455.63481181470382},{"$f":"$D$5+(-Sanierungsdesign!$E$12/(4*PI()*$D$3))*(-LN((4*$D$4*AH931)/(Sanierungsdesign!$E$13+Sanierungsdesign!$E$15)^2)-$D$19)","v":430.08363431806373},156.93363431806375,{"$f":"(2*PI()*Sanierungsdesign!$E$10*$D$3)*(LN((Sanierungsdesign!$E$13+Sanierungsdesign!$E$15)/Sanierungsdesign!$E$13)*(AJ931-AN931))*$AH$7/1000000","v":302.5528409136848},11475.447523772225,25900.08506115391,{"$f":"AU931/Sanierungsdesign!$E$11","v":2.5570436349070591},5328000,20.456349079256473,{"$error":"#DIV/0!"},{"$error":"#DIV/0!"},{"$error":"#DIV/0!"},{"$error":"#DIV/0!"},{"$f":"(AY931/(AH931*Sanierungsdesign!$E$10))*1000000","v":{"$error":"#DIV/0!"}},{"$f":"AZ931/Sanierungsdesign!$E$12","v":{"$error":"#DIV/0!"}},{"$f":"$D$5+((-(Sanierungsdesign!$E$12)*MIN($BA$7:$BA$932))/(4*PI()*$D$3))*(-LN((4*$D$4*AH931)/(Sanierungsdesign!$E$13)^2)-$D$19)","v":{"$error":"#DIV/0!"}},{"$f":"(BB931-273.15)/Heterogenität!$D$4","v":{"$error":"#DIV/0!"}},{"$f":"IF(AI931<Berechnung!$D$7,AI931,#N/A)","v":{"$error":"#N/A"}}]
[null,null,null,null,null,null,null,null,null,null,null,null,null,null,null,null,null,null,null,null,null,null,null,null,null,null,null,null,null,null,null,null,{"$f":"Sanierungsdesign!$E$12*AH932*Sanierungsdesign!$E$10/1000000","v":43336.800000000003},{"$f":"AH931+$D$24","v":6667200},77.166666666666671,{"$f":"$D$5+((-Sanierungsdesign!$E$12)/4*PI()*$D$3)*(-LN((4*$D$4*AH932)/(Sanierungsdesign!$E$13^2))-$D$19)","v":3820.4441894369047},3547.2941894369046,7071.4118437569641,{"$f":"$D$3*$T$7*$AH$7*(AK932-$D$5)*(1/Sanierungsdesign!$E$15)/1000000","v":455.84618989942567},{"$f":"$D$5+(-Sanierungsdesign!$E$12/(4*PI()*$D$3))*(-LN((4*$D$4*AH932)/(Sanierungsdesign!$E$13+Sanierungsdesign!$E$15)^2)-$D$19)","v":430.16510530850974},157.01510530850976,{"$f":"(2*PI()*Sanierungsdesign!$E$10*$D$3)*(LN((Sanierungsdesign!$E$13+Sanierungsdesign!$E$15)/Sanierungsdesign!$E$13)*(AJ932-AN932))*$AH$7/1000000","v":302.68069990017261},11487.853412987113,25928.085153111915,{"$f":"AU932/Sanierungsdesign!$E$11","v":2.5581388754765437},5333760,20.46511100381235,{"$error":"#DIV/0!"},{"$error":"#DIV/0!"},{"$error":"#DIV/0!"},{"$error":"#DIV/0!"},{"$f":"(AY932/(AH932*Sanierungsdesign!$E$10))*1000000","v":{"$error":"#DIV/0!"}},{"$f":"AZ932/Sanierungsdesign!$E$12","v":{"$error":"#DIV/0!"}},{"$f":"$D$5+((-(Sanierungsdesign!$E$12)*MIN($BA$7:$BA$932))/(4*PI()*$D$3))*(-LN((4*$D$4*AH932)/(Sanierungsdesign!$E$13)^2)-$D$19)","v":{"$error":"#DIV/0!"}},{"$f":"(BB932-273.15)/Heterogenität!$D$4","v":{"$error":"#DIV/0!"}},{"$f":"IF(AI932<Berechnung!$D$7,AI932,#N/A)","v":{"$error":"#N/A"}}]
[]
[null,null,null,null,null,null,null,null,null,null,null,null,null,null,null,null,null,null,null,null,null,null,null,null,null,null,null,null,null,null,null,null,null,null,null,null,{"$f":"OFFSET(AH6,MATCH($U$33,(AK7:AK932),1),0)","v":525600},null,null,null,null,null,null,null,null,null,null,null,null,null,null,null,null,null,{"$f":"OFFSET(AH6,MATCH($U$33,(BC7:BC932),1),0)","v":{"$error":"#N/A"}}]
[null,null,null,null,null,null,null,null,null,null,null,null,null,null,null,null,null,null,null,null,null,null,null,null,null,null,null,null,null,null,null,null,null,null,null,null,null,null,null,null,null,null,null,null,null,null,null,null,null,null,null,null,null,null,{"$f":"OFFSET(BA6,MATCH($U$33,(BC7:BC932),1),0)","v":{"$error":"#N/A"}}]

{"sheet":"Heterogenität","index":8,"n_rows":15,"n_cols":7,"rows_kept":15,"cut":false,"hidden":true,"merged":[[2,0,2,1],[3,0,3,1]]}
[]
[]
["  Heterogenität (Gini-Koeffizient)",null,"Gering",0.2]
["  Korrekturfaktor",null,null,{"$f":"1/(1-(1-2.45068336614863*(Schadstoffbelastung!$K$4*Schadstoffbelastung!$K$5)^-0.457209937280527)*$D$3)","v":{"$error":"#DIV/0!"}}]
[]
[null,null,null,null,null,"Sondierung","Gini-Koeffizient"]
[]
[]
[]
[]
[]
[]
[]
[]
[null,null,"Höhe",0.4]

{"sheet":"Stoffdatenbank","index":9,"n_rows":55,"n_cols":19,"rows_kept":55,"cut":false,"hidden":true,"merged":[[3,0,3,18],[17,0,17,18],[35,0,35,18],[42,0,42,18],[0,0,0,21]]}
[]
[null,"Abbaurate (Permang.)","Abbaurate (Sufat-Radikal)","Abbaurate (ERD)","Abbaurate (O2)","Abbaurate (Nitrat)","Abbaurate (Sulfat)"," Ver-dampfungswärme","Gemisch-siedetemp. mit Wasser","Sorptions-koeffizient","Henry-Koeffizient","Diffussions-koeffizient (in Wasser)","Diffussions-koeffizient (in Luft)","Löslichkeit","Dampf-druck","Siede-punkt","Dichte ","Molekular-gewicht"]
["Verbindung","lPM \n[mol-1 s-1]","lPM \n[mol-1 s-1]","lERD \n[d-1]","lOx \n[d-1]","lNO3 \n[d-1]","lSO4 \n[d-1]"," ΔHv \n[kJ/kg]","\n°C","KOC \n[L/kg]","H (15°C) \n[-]","Dw (15°C) \n[m²/s]","Da (15°C) \n[m²/s]","Lw (20°C) \n[mg/L]","Po (15°C) \n[Pa]","\n°C","\n[kg/L]","Mm \n[g/mol]","Bemerkung"]
["Leichtflüchtige chlorierte Kohlenwasserstoffe (LCKW)"]
["Tetrachlorethen",3.7999999999999999E-2,null,null,"--","--","--",239.22,88.7,{"$f":"0.36*1000","v":360},0.64,7.49E-10,6.6200000000000001E-6,160,1479,121.075,1.6240000000000001,166]
["Trichlorethen",0.67,null,null,"--","--","--",263.14999999999998,73.5,130,0.33,8.08E-10,7.1199999999999996E-6,1000,6064,86.974999999999994,1.4641999999999999,131]
["cis-1,2-Dichlorethen",null,null,null,"--","--","--",319.07,55.3,50,0.2,8.9500000000000001E-10,7.8800000000000008E-6,3500,17284,60.1875,1.2837000000000001,97,"LW (cDCE) bei 25 °C"]
["trans-1,2-Dichlorethen",43.6,null,null,"--","--","--",306.55,45.3,60,0.19,8.8600000000000004E-10,8.8300000000000002E-6,6300,29294,48.066000000000003,1.2565,97]
["1,1-Dichlorethen",2.3199999999999998,null,null,"--","--","--",274.33,{"$f":"I7","v":55.3},70.510000000000005,0.8,1.173E-9,9.8649999999999996E-6,2500,6792.77,31.4,1.218,97]
["Vinylchlorid",null,null,null,0.03,2E-3,2E-3,364.6,-13,60,6.78,5.7799999999999997E-10,5.9399999999999999E-6,1100,285916,-13.757999999999999,0.91210000000000002,63]
["Tetrachlormethan",null,null,null,"--","--","--",201.95,66,285.60000000000002,1.153,7.2929999999999995E-10,6.3230000000000003E-6,800,11940,76.760000000000005,1.5940000000000001,154]
["Trichlormethan",null,null,null,"--","--","--",273.11,56.1,51.21,0.185,8.245E-10,7.1409999999999999E-6,8200,20900,61.12,1.4850000000000001,119]
["Dichlormethan",null,null,null,"--","--","--",343.36,43.5,12.149999999999999,0.1159,9.8300000000000002E-10,8.4409999999999993E-6,17799,39156.78,39.950000000000003,1.3280000000000001,85]
["1,1,1-Trichlorethan",null,null,null,"--","--","--",243.62,86,144,1,7.6099999999999996E-10,6.7700000000000004E-6,1300,1369.81,74.05,1.339,133.404]
["1,1,2-Trichlorethan",null,null,null,"--","--","--",301.33999999999997,86,43.64,3.7999999999999999E-2,6.8000000000000003E-10,7.6000000000000001E-6,4500,2500,13.65,1.4410000000000001,133.404,"D abgeschätzt"]
["1,1-Dichlorethan",null,null,null,"--","--","--",310.27999999999997,72.8,35.74,0.25700000000000001,1.14E-9,8.6999999999999997E-6,8690,29100,57.4,1.2350000000000001,98.96,"D abgeschätzt"]
["1,2-Dichlorethan",null,null,null,"--","--","--",354.69,72.844999999999999,39.6,5.0799999999999998E-2,9.2000000000000003E-10,7.8299999999999996E-6,8690,10000,83.6,null,98.96]
["(Mono)aromatische Kohlenwasserstoffe (AKW)"]
["Benzol",6.9999999999999999E-6,1680000000,"--",0.15,1.5E-3,0.01,434.62,69.3,80,0.15,8.1499999999999998E-10,7.5900000000000002E-6,1770,7941,80.150000000000006,0.877,78]
["Toluol",5.6999999999999998E-4,1870000000,"--",0.23,0.5,0.05,390.22,84.6,300,0.16,7.3400000000000005E-10,6.9E-6,520,2215,110.7,0.87,92]
["Ethylbenzol",7.0699999999999999E-3,1000000000,"--",0.15,0.25,3.0000000000000001E-3,386.76,91.5,1100,0.19,6.7600000000000004E-10,6.3899999999999998E-6,170,728,136.19999999999999,0.86599999999999999,106]
["o-Xylol",1.47E-3,null,"--",7.0000000000000007E-2,2.5000000000000001E-2,0.04,396.23,93.3,830,0.12,6.8000000000000003E-10,6.4200000000000004E-6,180,492,143.9,0.88,106]
["m-Xylol",1E-3,null,"--",0.1,0.1,0.08,386.79,93.3,980,0.16,6.7099999999999996E-10,6.3600000000000001E-6,174,615,139.19999999999999,0.86399999999999999,106]
["p-Xylol",2.2200000000000002E-3,2700000000,"--",0.1,0.05,0.04,396.23,93.3,880,0.15,6.7099999999999996E-10,6.3600000000000001E-6,200,657,138.30000000000001,0.86099999999999999,106]
["n-Propylbenzol",null,null,"--",0.1,0.02,3.0000000000000001E-3,383.33,96.5,980,0.2,6.2000000000000003E-10,6.0000000000000002E-6,60,237,158.9,0.86,120,"LW bei 25 °C"]
["Isopropylbenzol",null,null,"--",0.15,0.02,0.02,366.67,95,940,0.43,6.2000000000000003E-10,6.0000000000000002E-6,50,427,151.9,0.86199999999999999,120,"LW bei 25 °C"]
["o-Ethyltoluol",null,null,"--",0.05,0.02,0.04,395.25,96.5,790,0.11,6.3E-10,6.0000000000000002E-6,93,202,165.2,0.88,120]
["m-Ethyltoluol",null,null,"--",0.15,0.1,0.08,390,96.5,760,0.1,6.2000000000000003E-10,6.0000000000000002E-6,97,202,161.4,0.86399999999999999,120]
["p-Ethyltoluol",null,null,"--",0.15,0.05,0.04,388.92,96.5,900,0.12,6.2000000000000003E-10,6.0000000000000002E-6,95,230,162,0.86099999999999999,120]
["1,2-Diethylbenzol",null,null,"--",7.0000000000000007E-2,1.4999999999999999E-2,0.04,394.03,96.5,500,0.16,5.9000000000000003E-10,5.6999999999999996E-6,24,67,182.9,0.88,134]
["1,3-Diethylbenzol",null,null,"--",7.0000000000000007E-2,0.05,0.08,391.79,96.5,420,0.23,5.7999999999999996E-10,5.5999999999999997E-6,27,109,180.9,0.86,134]
["1,4-Diethylbenzol",null,null,"--",7.0000000000000007E-2,0.03,0.04,391.79,96.5,460,0.23,5.7999999999999996E-10,5.5999999999999997E-6,25,101,183.7,0.86199999999999999,134]
["1,2,3-Trimethylbenzol",null,null,"--",0.12,3.0000000000000001E-3,0.03,408.33,96.5,650,0.08,6.3999999999999996E-10,6.0000000000000002E-6,75,125,176.1,0.89400000000000002,120]
["1,2,4-Trimethylbenzol",null,null,"--",0.17,3.0000000000000001E-3,0.05,391.67,96.5,650,0.12,6.3E-10,6.0000000000000002E-6,60,147,169.3,0.876,120,"LW bei 25 °C"]
["1,3,5-Trimethylbenzol",null,null,"--",0.05,3.0000000000000001E-3,0.05,395.92,96.5,670,0.48,6.3E-10,6.0000000000000002E-6,20,193,164.7,0.86499999999999999,120]
["n-Alkane"]
["n-Pentan",null,125000000,"--",0.06,0.01,5.0000000000000001E-3,370,34.6,870,35.69,7.0099999999999996E-10,6.8900000000000001E-6,39000,46219,36.049999999999997,0.626,72]
["n-Hexan",null,160000000,"--",0.11,0.01,5.0000000000000001E-3,360.47,61.6,2040,46.48,6.4900000000000003E-10,6.3600000000000001E-6,10000,12922,68.75,0.66,86]
["n-Heptan",null,247000000,"--",0.15,0.01,5.0000000000000001E-3,360,79.599999999999994,5250,69.3,6.0499999999999998E-10,5.9200000000000001E-6,2200,3645,98.35,0.68400000000000005,100,"LW bei 25 °C"]
["n-Octan",null,337000000,"--",0.19,0.01,5.0000000000000001E-3,359.65,89.5,17380,70.89,5.69E-10,5.5799999999999999E-6,700,1041,125.6,0.70250000000000001,114]
["n-Nonan",null,null,"--",0.22,0.01,5.0000000000000001E-3,363.28,94.8,27540,156.63,5.4099999999999999E-10,5.31E-6,120,351,150.69999999999999,0.72,128,"LW bei 25 °C"]
["n-Decan",null,null,"--",0.22,0.01,5.0000000000000001E-3,361.27,97.2,218780,140.30000000000001,5.1299999999999999E-10,5.0499999999999999E-6,50,118,174.1,0.73,142]
["Oxigenate"]
["MTBE (Methyl-tert-butylether)",null,31000000,"--",7.0000000000000007E-2,3.0000000000000001E-3,2E-3,340.34,52.4,11,2.7E-2,9.5130000000000001E-10,8.2859999999999999E-6,51259,33300,55.65,0.74,88.147999999999996]
["ETBE (Ethyl-tert-butylether)",null,null,"--",7.0000000000000007E-2,3.0000000000000001E-3,2E-3,323.37,65.2,9,8.1000000000000003E-2,7.3379629629629627E-10,6.9444444444444439E-6,12000,16500,72.825000000000003,0.75,102.1748]
["TBA (tert-Butylalkohol) ",null,740000,"--",7.0000000000000007E-2,1E-3,2E-3,620.6,79.900000000000006,37,6.0999999999999997E-4,6.9999999999999996E-10,{"$f":"M44/(L44/L46)","v":6.0971302428256071E-6},"mischbar",5430,82.35,0.79,74.121600000000001]
["blau = berechnet, grau = abgeschätzt"]
[]
[]
["n-Pentan",null,125000000,"--",0.06,0.01,5.0000000000000001E-3,370,34.6,870,35.69,7.0099999999999996E-10,6.8900000000000001E-6,39000,46219,36.049999999999997,0.626,72]
["n-Hexan",null,160000000,"--",0.11,0.01,5.0000000000000001E-3,360.47,61.6,2040,46.48,6.4900000000000003E-10,6.3600000000000001E-6,10000,12922,68.75,0.66,86]
["n-Heptan",null,247000000,"--",0.15,0.01,5.0000000000000001E-3,360,79.599999999999994,5250,69.3,6.0499999999999998E-10,5.9200000000000001E-6,2200,3645,98.35,0.68400000000000005,100,"LW bei 25 °C"]
["n-Octan",null,337000000,"--",0.19,0.01,5.0000000000000001E-3,359.65,89.5,17380,70.89,5.69E-10,5.5799999999999999E-6,700,1041,125.6,0.70250000000000001,114]
["n-Nonan",null,null,"--",0.22,0.01,5.0000000000000001E-3,363.28,94.8,27540,156.63,5.4099999999999999E-10,5.31E-6,120,351,150.69999999999999,0.72,128,"LW bei 25 °C"]
["n-Decan",null,null,"--",0.22,0.01,5.0000000000000001E-3,361.27,97.2,218780,140.30000000000001,5.1299999999999999E-10,5.0499999999999999E-6,50,118,174.1,0.73,142]

{"sheet":"Schadstoffkonzentrationen Unge","index":10,"n_rows":107,"n_cols":29,"rows_kept":107,"cut":false,"hidden":true,"merged":[[56,27,57,27],[56,28,57,28],[74,0,74,20],[94,0,94,20],[102,0,102,20],[56,22,57,22],[56,23,57,23],[56,24,57,24],[56,25,57,25],[56,26,57,26],[56,0,57,0],[55,0,55,20],[2,21,3,21],[2,24,4,24],[2,25,4,25],[2,23,4,23],[48,0,48,21],[3,26,20,26],[0,0,0,21],[1,0,1,21],[20,0,20,21],[40,0,40,21],[5,0,5,21],[2,22,4,22]]}
[]
["Mittlere Schadstoffmasse im gesättigten Boden (Einheitsfläche) (MB) [mg/m²]                             "]
["Sondierung Nr.",1,2,3,4,5,6,7,8,9,10,11,12,13,14,15,16,17,18,19,20,"Summe \n[kg]"," Mittlere Flächen-Konz. (MB) [mg/m²]"," Standard-abweich. (MB) [mg/m²]","MB + 2 s  [mg/m²]"," Inventar \n(MB-bezogen) [kg]"]
["Bezeichnung"]
["Flächenrepräsentanz [m²]",null,null,null,null,null,null,null,null,null,null,null,null,null,null,null,null,null,null,null,null,{"$f":"IF(SUM(B5:U5)=Schadstoffbelastung!$K$6,SUM(B5:U5),\"Σ ≠ \"&Schadstoffbelastung!$K$6&\"!\")","v":0}]
["   Leichtflüchtige chlorierte Kohlenwasserstoffe (LCKW) ",null,null,null,null,null,null,null,null,null,null,null,null,null,null,null,null,null,null,null,null,"kg"]
["Tetrachlorethen",null,null,null,null,null,null,null,null,null,null,null,null,null,null,null,null,null,null,null,null,{"$f":"SUMPRODUCT($B$5:$U$5,B7:U7)*10^-6","v":0},{"$f":"IFERROR(AVERAGE($B7:$U7),0)","v":0},{"$f":"IF(SUM($B7:$U7)>0,_xlfn.STDEV.S(B7:U7),\"\")","v":""},{"$f":"IF(SUM($B7:$U7)>0,W7+X7*2,\"\")","v":""},{"$f":"IFERROR(Y7*$V$5/1000/1000,0)","v":0}]
["Trichlorethen",null,null,null,null,null,null,null,null,null,null,null,null,null,null,null,null,null,null,null,null,{"$f":"SUMPRODUCT($B$5:$U$5,B8:U8)*10^-6","v":0},{"$f":"IFERROR(AVERAGE($B8:$U8),0)","v":0},{"$f":"IF(SUM($B8:$U8)>0,_xlfn.STDEV.S(B8:U8),\"\")","v":""},{"$f":"IF(SUM($B8:$U8)>0,W8+X8*2,\"\")","v":""},{"$f":"IFERROR(Y8*$V$5/1000/1000,0)","v":0}]
["cis-1,2-Dichlorethen",null,null,null,null,null,null,null,null,null,null,null,null,null,null,null,null,null,null,null,null,0,0,{"$f":"IF(SUM($B9:$U9)>0,_xlfn.STDEV.S(B9:U9),\"\")","v":""},"",0]
["trans-1,2-Dichlorethen",null,null,null,null,null,null,null,null,null,null,null,null,null,null,null,null,null,null,null,null,0,0,{"$f":"IF(SUM($B10:$U10)>0,_xlfn.STDEV.S(B10:U10),\"\")","v":""},"",0]
["1,1-Dichlorethen",null,null,null,null,null,null,null,null,null,null,null,null,null,null,null,null,null,null,null,null,0,0,"","",0]
["Vinylchlorid",null,null,null,null,null,null,null,null,null,null,null,null,null,null,null,null,null,null,null,null,{"$f":"SUMPRODUCT($B$5:$U$5,B12:U12)*10^-6","v":0},0,"","",0]
["Tetrachlormethan",null,null,null,null,null,null,null,null,null,null,null,null,null,null,null,null,null,null,null,null,0,0,"","",0]
["Trichlormethan",null,null,null,null,null,null,null,null,null,null,null,null,null,null,null,null,null,null,null,null,0,0,"","",0]
["Dichlormethan",null,null,null,null,null,null,null,null,null,null,null,null,null,null,null,null,null,null,null,null,0,0,"","",0]
["1,1,1-Trichlorethan",null,null,null,null,null,null,null,null,null,null,null,null,null,null,null,null,null,null,null,null,{"$f":"SUMPRODUCT($B$5:$U$5,B16:U16)*10^-6","v":0},0,"","",0]
["1,1,2-Trichlorethan",null,null,null,null,null,null,null,null,null,null,null,null,null,null,null,null,null,null,null,null,0,0,"","",0]
["1,1-Dichlorethan",null,null,null,null,null,null,null,null,null,null,null,null,null,null,null,null,null,null,null,null,0,0,"","",0]
["1,2-Dichlorethan",null,null,null,null,null,null,null,null,null,null,null,null,null,null,null,null,null,null,null,null,0,0,"","",{"$f":"IFERROR(Y19*$V$5/1000/1000,0)","v":0}]
["LCKW",{"$f":"IF(SUM(B7:B19)>0,SUM(B7:B19),\"\")","v":""},{"$f":"IF(SUM(C7:C19)>0,SUM(C7:C19),\"\")","v":""},"","","","","","","","","","","","","","","","","","",{"$f":"SUM(V7:V19)","v":0},0,"",{"$f":"IF(SUM($B20:$U20)>0,W20+X20*2,\"\")","v":""},{"$f":"SUM(Z7:Z19)","v":0}]
["   (Mono)aromatische Kohlenwasserstoffe (AKW) "]
["Benzol",null,null,null,null,null,null,null,null,null,null,null,null,null,null,null,null,null,null,null,null,{"$f":"SUMPRODUCT($B$5:$U$5,B22:U22)*10^-6","v":0},{"$f":"IFERROR(AVERAGE($B22:$U22),0)","v":0},{"$f":"IF(SUM($B22:$U22)>0,_xlfn.STDEV.S(B22:U22),\"\")","v":""},{"$f":"IF(SUM($B22:$U22)>0,W22+X22*2,\"\")","v":""},{"$f":"IFERROR(Y22*$V$5/1000/1000,0)","v":0}]
["Toluol",null,null,null,null,null,null,null,null,null,null,null,null,null,null,null,null,null,null,null,null,{"$f":"SUMPRODUCT($B$5:$U$5,B23:U23)*10^-6","v":0},{"$f":"IFERROR(AVERAGE($B23:$U23),0)","v":0},{"$f":"IF(SUM($B23:$U23)>0,_xlfn.STDEV.S(B23:U23),\"\")","v":""},{"$f":"IF(SUM($B23:$U23)>0,W23+X23*2,\"\")","v":""},0]
["Ethylbenzol",null,null,null,null,null,null,null,null,null,null,null,null,null,null,null,null,null,null,null,null,0,0,"","",0]
["o-Xylol",null,null,null,null,null,null,null,null,null,null,null,null,null,null,null,null,null,null,null,null,0,0,"","",0]
["m-Xylol",null,null,null,null,null,null,null,null,null,null,null,null,null,null,null,null,null,null,null,null,0,0,"","",0]
["p-Xylol",null,null,null,null,null,null,null,null,null,null,null,null,null,null,null,null,null,null,null,null,0,0,"","",0]
["n-Propylbenzol",null,null,null,null,null,null,null,null,null,null,null,null,null,null,null,null,null,null,null,null,0,0,"","",0]
["Isopropylbenzol",null,null,null,null,null,null,null,null,null,null,null,null,null,null,null,null,null,null,null,null,0,0,"","",0]
["o-Ethyltoluol",null,null,null,null,null,null,null,null,null,null,null,null,null,null,null,null,null,null,null,null,0,0,"","",0]
["m-Ethyltoluol",null,null,null,null,null,null,null,null,null,null,null,null,null,null,null,null,null,null,null,null,0,0,"","",0]
["p-Ethyltoluol",null,null,null,null,null,null,null,null,null,null,null,null,null,null,null,null,null,null,null,null,0,0,"","",0]
["1,2-Diethylbenzol",null,null,null,null,null,null,null,null,null,null,null,null,null,null,null,null,null,null,null,null,0,0,"","",0]
["1,3-Diethylbenzol",null,null,null,null,null,null,null,null,null,null,null,null,null,null,null,null,null,null,null,null,0,0,"","",0]
["1,4-Diethylbenzol",null,null,null,null,null,null,null,null,null,null,null,null,null,null,null,null,null,null,null,null,0,0,"","",0]
["1,2,3-Trimethylbenzol",null,null,null,null,null,null,null,null,null,null,null,null,null,null,null,null,null,null,null,null,0,0,"","",0]
["1,2,4-Trimethylbenzol",null,null,null,null,null,null,null,null,null,null,null,null,null,null,null,null,null,null,null,null,0,0,"","",0]
["1,3,5-Trimethylbenzol",null,null,null,null,null,null,null,null,null,null,null,null,null,null,null,null,null,null,null,null,0,0,"","",0]
["BTEX",{"$f":"IF(SUM(B22:B27)>0,SUM(B22:B27),\"\")","v":""},{"$f":"IF(SUM(C22:C27)>0,SUM(C22:C27),\"\")","v":""},"","","","","","","","","","","","","","","","","",{"$f":"IF(SUM(U22:U27)>0,SUM(U22:U27),\"\")","v":""},{"$f":"SUM(V22:V27)","v":0},0,"","",{"$f":"SUM(Z22:Z27)","v":0}]
["AKW",{"$f":"IF(SUM(B22:B38)>0,SUM(B22:B38),\"\")","v":""},{"$f":"IF(SUM(C22:C38)>0,SUM(C22:C38),\"\")","v":""},"","","","","","","","","","","","","","","","","","",{"$f":"SUM(V22:V38)","v":0},0,"","",{"$f":"SUM(Z22:Z38)","v":0}]
[{"$f":"Stoffdatenbank!$A$36","v":"n-Alkane"},{"$f":"[3]Stoffdatenbank!$A$36","v":"n-Alkane"},{"$f":"[3]Stoffdatenbank!$A$36","v":"n-Alkane"},{"$f":"[3]Stoffdatenbank!$A$36","v":"n-Alkane"},{"$f":"[3]Stoffdatenbank!$A$36","v":"n-Alkane"},{"$f":"[3]Stoffdatenbank!$A$36","v":"n-Alkane"},{"$f":"[3]Stoffdatenbank!$A$36","v":"n-Alkane"},{"$f":"[3]Stoffdatenbank!$A$36","v":"n-Alkane"},{"$f":"[3]Stoffdatenbank!$A$36","v":"n-Alkane"},{"$f":"[3]Stoffdatenbank!$A$36","v":"n-Alkane"},{"$f":"[3]Stoffdatenbank!$A$36","v":"n-Alkane"},{"$f":"[3]Stoffdatenbank!$A$36","v":"n-Alkane"},{"$f":"[3]Stoffdatenbank!$A$36","v":"n-Alkane"},{"$f":"[3]Stoffdatenbank!$A$36","v":"n-Alkane"},{"$f":"[3]Stoffdatenbank!$A$36","v":"n-Alkane"},{"$f":"[3]Stoffdatenbank!$A$36","v":"n-Alkane"},{"$f":"[3]Stoffdatenbank!$A$36","v":"n-Alkane"},{"$f":"[3]Stoffdatenbank!$A$36","v":"n-Alkane"},{"$f":"[3]Stoffdatenbank!$A$36","v":"n-Alkane"},{"$f":"[3]Stoffdatenbank!$A$36","v":"n-Alkane"},{"$f":"[3]Stoffdatenbank!$A$36","v":"n-Alkane"},{"$f":"[3]Stoffdatenbank!$A$36","v":"n-Alkane"}]
[{"$f":"Stoffdatenbank!$A$37","v":"n-Pentan"},null,null,null,null,null,null,null,null,null,null,null,null,null,null,null,null,null,null,null,null,{"$f":"SUMPRODUCT($B$5:$U$5,B42:U42)*10^-6","v":0},0,{"$f":"IF(SUM($B42:$U42)>0,_xlfn.STDEV.S(B42:U42),\"\")","v":""},{"$f":"IF(SUM($B42:$U42)>0,W42+X42*2,\"\")","v":""},{"$f":"IFERROR(Y42*$V$5/1000/1000,0)","v":0}]
[{"$f":"Stoffdatenbank!$A$38","v":"n-Hexan"},null,null,null,null,null,null,null,null,null,null,null,null,null,null,null,null,null,null,null,null,0,0,"","",0]
[{"$f":"Stoffdatenbank!$A$39","v":"n-Heptan"},null,null,null,null,null,null,null,null,null,null,null,null,null,null,null,null,null,null,null,null,0,0,"","",0]
[{"$f":"Stoffdatenbank!$A$40","v":"n-Octan"},null,null,null,null,null,null,null,null,null,null,null,null,null,null,null,null,null,null,null,null,0,0,"","",0]
[{"$f":"Stoffdatenbank!$A$41","v":"n-Nonan"},null,null,null,null,null,null,null,null,null,null,null,null,null,null,null,null,null,null,null,null,0,0,"","",0]
[{"$f":"Stoffdatenbank!$A$42","v":"n-Decan"},null,null,null,null,null,null,null,null,null,null,null,null,null,null,null,null,null,null,null,null,0,0,"","",0]
[{"$f":"Stoffdatenbank!$A$36","v":"n-Alkane"},{"$f":"IF(SUM(B42:B47)>0,SUM(B42:B47),\"\")","v":""},{"$f":"IF(SUM(C42:C47)>0,SUM(C42:C47),\"\")","v":""},"","","","","","","","","","","","","","","","","","",{"$f":"SUM(V42:V46)","v":0},0,"","",{"$f":"SUM(Z42:Z47)","v":0}]
["   Oxigenate"]
[" MTBE (Methyl-tert-butylether)",null,null,null,null,null,null,null,null,null,null,null,null,null,null,null,null,null,null,null,null,{"$f":"SUMPRODUCT($B$5:$U$5,B50:U50)*10^-6","v":0},0,{"$f":"IF(SUM($B50:$U50)>0,_xlfn.STDEV.S(B50:U50),\"\")","v":""},{"$f":"IF(SUM($B50:$U50)>0,W50+X50*2,\"\")","v":""},{"$f":"IFERROR(Y50*$V$5/1000/1000,0)","v":0}]
[" ETBE (Ethyl-tert-butylether)",null,null,null,null,null,null,null,null,null,null,null,null,null,null,null,null,null,null,null,null,0,0,{"$f":"IF(SUM($B51:$U51)>0,_xlfn.STDEV.S(B51:U51),\"\")","v":""},{"$f":"IF(SUM($B51:$U51)>0,W51+X51*2,\"\")","v":""},0]
[" TBA (tert-Butylalkohol) ",null,null,null,null,null,null,null,null,null,null,null,null,null,null,null,null,null,null,null,null,0,0,{"$f":"IF(SUM($B52:$U52)>0,_xlfn.STDEV.S(B52:U52),\"\")","v":""},{"$f":"IF(SUM($B52:$U52)>0,W52+X52*2,\"\")","v":""},0]
[" Oxigenate ",{"$f":"IF(SUM(B50:B52)>0,SUM(B50:B52),\"\")","v":""},{"$f":"IF(SUM(C50:C52)>0,SUM(C50:C52),\"\")","v":""},"","","","","","","","","","","","","","","","","","",{"$f":"SUM(V50:V52)","v":0},0,{"$f":"IF(SUM($B53:$U53)>0,_xlfn.STDEV.S(B53:U53),\"\")","v":""},{"$f":"IF(SUM($B53:$U53)>0,W53+X53*2,\"\")","v":""},{"$f":"SUM(Z50:Z52)","v":0}]
[]
[]
["Analysierte Schadstoffkonzentrationen im gesättigten Boden  [mg/kg]                             "]
["Sondierung",1,2,3,4,5,6,7,8,9,10,11,12,13,14,15,16,17,18,19,20,null," Minimum [mg/kg OS]"," Maximum [mg/kg OS]"," Median [mg/kg OS]"," Mittlere Konz. (MW) [mg/kg OS]"," Standard-abweich.  [mg/kg OS]","MW + 2 s  [mg/kg OS]"," Inventar \n(Mittelwert-bezogen) [kg]"]
[]
["Flächenrepräsentanz [m²]"]
["Leichtflüchtige chlorierte Kohlenwasserstoffe (LCKW) "]
["Tetrachlorethen",null,null,null,null,null,null,null,null,null,null,null,null,null,null,null,null,null,null,null,null,null,{"$f":"MIN(B61:U61)","v":0},{"$f":"MAX($B61:$U61)","v":0},{"$f":"IFERROR(MEDIAN($B61:$U61),\"\")","v":""},{"$f":"IFERROR(AVERAGE($B61:$U61),\"\")","v":""},{"$f":"IFERROR(_xlfn.STDEV.S(B61:U61),\"\")","v":""},{"$f":"IFERROR(Z61+AA61*2,\"\")","v":""},{"$f":"IFERROR(AB61*Tonnage/1000,\"\")","v":""}]
["Trichlorethen",null,null,null,null,null,null,null,null,null,null,null,null,null,null,null,null,null,null,null,null,null,0,0,"","","","",""]
["cis-1,2-Dichlorethen",null,null,null,null,null,null,null,null,null,null,null,null,null,null,null,null,null,null,null,null,null,0,0,"","","","",""]
["trans-1,2-Dichlorethen",null,null,null,null,null,null,null,null,null,null,null,null,null,null,null,null,null,null,null,null,null,0,0,"","","","",""]
["1,1-Dichlorethen",null,null,null,null,null,null,null,null,null,null,null,null,null,null,null,null,null,null,null,null,null,0,0,"","","","",""]
["Vinylchlorid",null,null,null,null,null,null,null,null,null,null,null,null,null,null,null,null,null,null,null,null,null,0,0,"","","","",""]
["Tetrachlormethan",null,null,null,null,null,null,null,null,null,null,null,null,null,null,null,null,null,null,null,null,null,0,0,"","","","",""]
["Trichlormethan",null,null,null,null,null,null,null,null,null,null,null,null,null,null,null,null,null,null,null,null,null,0,0,"","","","",""]
["Dichlormethan",null,null,null,null,null,null,null,null,null,null,null,null,null,null,null,null,null,null,null,null,null,0,0,"","","","",""]
["1,1,1-Trichlorethan",null,null,null,null,null,null,null,null,null,null,null,null,null,null,null,null,null,null,null,null,null,0,0,"",{"$f":"IFERROR(AVERAGE($B70:$U70),\"\")","v":""},"","",""]
["1,1,2-Trichlorethan",null,null,null,null,null,null,null,null,null,null,null,null,null,null,null,null,null,null,null,null,null,0,0,"",{"$f":"IFERROR(AVERAGE($B71:$U71),\"\")","v":""},"","",""]
["1,1-Dichlorethan",null,null,null,null,null,null,null,null,null,null,null,null,null,null,null,null,null,null,null,null,null,0,0,"","","","",""]
["1,2-Dichlorethan",null,null,null,null,null,null,null,null,null,null,null,null,null,null,null,null,null,null,null,null,null,0,0,"","","","",""]
["LCKW",{"$f":"IF(SUM(B61:B73)>0,SUM(B61:B73),\"\")","v":""},{"$f":"IF(SUM(C61:C73)>0,SUM(C61:C73),\"\")","v":""},"","","","","","","","","","","","","","","","","","",null,0,0,"","",{"$f":"IFERROR(_xlfn.STDEV.S(B74:U74),\"\")","v":""},{"$f":"IFERROR(Z74+AA74*2,\"\")","v":""},{"$f":"IF(COUNT(B74:U74)=1, Z74*Tonnage/1000,IFERROR(AB74*Tonnage/1000,\"\"))","v":""}]
["  (Mono)aromatische Kohlenwasserstoffe (AKW) "]
["Benzol",null,null,null,null,null,null,null,null,null,null,null,null,null,null,null,null,null,null,null,null,null,{"$f":"MIN(B76:U76)","v":0},{"$f":"MAX($B76:$U76)","v":0},"","",{"$f":"IFERROR(_xlfn.STDEV.S(B76:U76),\"\")","v":""},{"$f":"IFERROR(Z76+AA76*2,\"\")","v":""},{"$f":"IFERROR(AB76*Tonnage/1000,\"\")","v":""}]
["Toluol",null,null,null,null,null,null,null,null,null,null,null,null,null,null,null,null,null,null,null,null,null,{"$f":"MIN(B77:U77)","v":0},0,"","","","",""]
["Ethylbenzol",null,null,null,null,null,null,null,null,null,null,null,null,null,null,null,null,null,null,null,null,null,0,0,"","","","",""]
["o-Xylol",null,null,null,null,null,null,null,null,null,null,null,null,null,null,null,null,null,null,null,null,null,0,0,"","","","",""]
["m-Xylol",null,null,null,null,null,null,null,null,null,null,null,null,null,null,null,null,null,null,null,null,null,0,0,"","","","",""]
["p-Xylol",null,null,null,null,null,null,null,null,null,null,null,null,null,null,null,null,null,null,null,null,null,0,0,"","","","",""]
["n-Propylbenzol",null,null,null,null,null,null,null,null,null,null,null,null,null,null,null,null,null,null,null,null,null,0,0,"","","","",""]
["Isopropylbenzol",null,null,null,null,null,null,null,null,null,null,null,null,null,null,null,null,null,null,null,null,null,0,0,"","","","",""]
["o-Ethyltoluol",null,null,null,null,null,null,null,null,null,null,null,null,null,null,null,null,null,null,null,null,null,0,0,"","","","",""]
["m-Ethyltoluol",null,null,null,null,null,null,null,null,null,null,null,null,null,null,null,null,null,null,null,null,null,0,0,"","","","",""]
["p-Ethyltoluol",null,null,null,null,null,null,null,null,null,null,null,null,null,null,null,null,null,null,null,null,null,0,0,"","","","",""]
["1,2-Diethylbenzol",null,null,null,null,null,null,null,null,null,null,null,null,null,null,null,null,null,null,null,null,null,0,0,"","","","",""]
["1,3-Diethylbenzol",null,null,null,null,null,null,null,null,null,null,null,null,null,null,null,null,null,null,null,null,null,0,0,"","","","",""]
["1,4-Diethylbenzol",null,null,null,null,null,null,null,null,null,null,null,null,null,null,null,null,null,null,null,null,null,0,0,"","","","",""]
["1,2,3-Trimethylbenzol",null,null,null,null,null,null,null,null,null,null,null,null,null,null,null,null,null,null,null,null,null,0,0,"","","","",""]
["1,2,4-Trimethylbenzol",null,null,null,null,null,null,null,null,null,null,null,null,null,null,null,null,null,null,null,null,null,0,0,"","","","",""]
["1,3,5-Trimethylbenzol",null,null,null,null,null,null,null,null,null,null,null,null,null,null,null,null,null,null,null,null,null,0,0,"","","","",""]
["BTEX",{"$f":"IF(SUM(B76:B81)>0,SUM(B76:B81),\"\")","v":""},{"$f":"IF(SUM(C76:C81)>0,SUM(C76:C81),\"\")","v":""},"","","","","","","","","","","","","","","",{"$f":"IF(SUM(S76:S81)>0,SUM(S76:S81),\"\")","v":""},"","",null,0,0,"","","","",{"$f":"IF(COUNT(B93:U93)=1, Z93*Tonnage/1000,IFERROR(AB93*Tonnage/1000,\"\"))","v":""}]
["AKW",{"$f":"IF(SUM(B76:B92)>0,SUM(B76:B92),\"\")","v":""},{"$f":"IF(SUM(C76:C92)>0,SUM(C76:C92),\"\")","v":""},"","","","","","","","","","","","","","","","",{"$f":"IF(SUM(T76:T92)>0,SUM(T76:T92),\"\")","v":""},"",null,0,0,"","","","",{"$f":"IF(COUNT(B94:U94)=1, Z94*Tonnage/1000,IFERROR(AB94*Tonnage/1000,\"\"))","v":""}]
[{"$f":"Stoffdatenbank!$A$36","v":"n-Alkane"},{"$f":"[3]Stoffdatenbank!$A$36","v":"n-Alkane"},{"$f":"[3]Stoffdatenbank!$A$36","v":"n-Alkane"},{"$f":"[3]Stoffdatenbank!$A$36","v":"n-Alkane"},{"$f":"[3]Stoffdatenbank!$A$36","v":"n-Alkane"},{"$f":"[3]Stoffdatenbank!$A$36","v":"n-Alkane"},{"$f":"[3]Stoffdatenbank!$A$36","v":"n-Alkane"},{"$f":"[3]Stoffdatenbank!$A$36","v":"n-Alkane"},{"$f":"[3]Stoffdatenbank!$A$36","v":"n-Alkane"},{"$f":"[3]Stoffdatenbank!$A$36","v":"n-Alkane"},{"$f":"[3]Stoffdatenbank!$A$36","v":"n-Alkane"},{"$f":"[3]Stoffdatenbank!$A$36","v":"n-Alkane"},{"$f":"[3]Stoffdatenbank!$A$36","v":"n-Alkane"},{"$f":"[3]Stoffdatenbank!$A$36","v":"n-Alkane"},{"$f":"[3]Stoffdatenbank!$A$36","v":"n-Alkane"},{"$f":"[3]Stoffdatenbank!$A$36","v":"n-Alkane"},{"$f":"[3]Stoffdatenbank!$A$36","v":"n-Alkane"},{"$f":"[3]Stoffdatenbank!$A$36","v":"n-Alkane"},{"$f":"[3]Stoffdatenbank!$A$36","v":"n-Alkane"},{"$f":"[3]Stoffdatenbank!$A$36","v":"n-Alkane"},{"$f":"[3]Stoffdatenbank!$A$36","v":"n-Alkane"}]
[{"$f":"Stoffdatenbank!$A$37","v":"n-Pentan"},null,null,null,null,null,null,null,null,null,null,null,null,null,null,null,null,null,null,null,null,null,{"$f":"MIN(B96:U96)","v":0},{"$f":"MAX($B96:$U96)","v":0},"","",{"$f":"IFERROR(_xlfn.STDEV.S(B96:U96),\"\")","v":""},{"$f":"IFERROR(Z96+AA96*2,\"\")","v":""},{"$f":"IFERROR(AB96*Tonnage/1000,\"\")","v":""}]
[{"$f":"Stoffdatenbank!$A$38","v":"n-Hexan"},null,null,null,null,null,null,null,null,null,null,null,null,null,null,null,null,null,null,null,null,null,{"$f":"MIN(B97:U97)","v":0},0,"","","","",""]
[{"$f":"Stoffdatenbank!$A$39","v":"n-Heptan"},null,null,null,null,null,null,null,null,null,null,null,null,null,null,null,null,null,null,null,null,null,0,0,"","","","",""]
[{"$f":"Stoffdatenbank!$A$40","v":"n-Octan"},null,null,null,null,null,null,null,null,null,null,null,null,null,null,null,null,null,null,null,null,null,0,0,"","","","",""]
[{"$f":"Stoffdatenbank!$A$41","v":"n-Nonan"},null,null,null,null,null,null,null,null,null,null,null,null,null,null,null,null,null,null,null,null,null,0,0,"","","","",""]
[{"$f":"Stoffdatenbank!$A$42","v":"n-Decan"},null,null,null,null,null,null,null,null,null,null,null,null,null,null,null,null,null,null,null,null,null,0,0,"","","","",""]
[{"$f":"Stoffdatenbank!$A$36","v":"n-Alkane"},{"$f":"IF(SUM(B96:B101)>0,SUM(B96:B101),\"\")","v":""},{"$f":"IF(SUM(C96:C101)>0,SUM(C96:C101),\"\")","v":""},"","","","","","","","","","","","","","","","","","",null,{"$f":"MIN(B102:U102)","v":0},0,"","","","",{"$f":"IF(COUNT(B102:U102)=1, Z102*Tonnage/1000,IFERROR(AB102*Tonnage/1000,\"\"))","v":""}]
["   Oxigenate"]
[" MTBE (Methyl-tert-butylether)",null,null,null,null,null,null,null,null,null,null,null,null,null,null,null,null,null,null,null,null,null,{"$f":"MIN(B104:U104)","v":0},{"$f":"MAX($B104:$U104)","v":0},"","",{"$f":"IFERROR(_xlfn.STDEV.S(B104:U104),\"\")","v":""},{"$f":"IFERROR(Z104+AA104*2,\"\")","v":""},{"$f":"IFERROR(AB104*Tonnage/1000,\"\")","v":""}]
[" ETBE (Ethyl-tert-butylether)",null,null,null,null,null,null,null,null,null,null,null,null,null,null,null,null,null,null,null,null,null,{"$f":"MIN(B105:U105)","v":0},{"$f":"MAX($B105:$U105)","v":0},"","","","",{"$f":"IFERROR(AB105*Tonnage/1000,\"\")","v":""}]
[" TBA (tert-Butylalkohol) ",null,null,null,null,null,null,null,null,null,null,null,null,null,null,null,null,null,null,null,null,null,{"$f":"MIN(B106:U106)","v":0},{"$f":"MAX($B106:$U106)","v":0},"","","","",{"$f":"IFERROR(AB106*Tonnage/1000,\"\")","v":""}]
[" Oxigenate ",{"$f":"IF(SUM(B104:B106)>0,SUM(B104:B106),\"\")","v":""},{"$f":"IF(SUM(C104:C106)>0,SUM(C104:C106),\"\")","v":""},"","","","","","","","","","","","","","","","","","",null,{"$f":"MIN(B107:U107)","v":0},{"$f":"MAX($B107:$U107)","v":0},"","","",{"$f":"IFERROR(Z107+AA107*2,\"\")","v":""},{"$f":"IF(COUNT(B107:U107)=1, Z107*Tonnage/1000,IFERROR(AB107*Tonnage/1000,\"\"))","v":""}]

{"sheet":"Schadstoffkonzentrationen Boden","index":11,"n_rows":126,"n_cols":29,"rows_kept":126,"cut":false,"hidden":true,"merged":[[76,29,78,29],[78,0,78,20],[0,0,0,21],[21,21,22,21],[21,22,23,22],[21,23,23,23],[21,24,23,24],[22,26,24,26],[21,25,23,25],[20,0,20,21],[24,0,24,21],[39,0,39,21],[67,0,67,21],[59,0,59,21],[75,0,76,0],[75,22,76,22],[74,0,74,20],[75,21,125,21],[75,26,76,26],[75,27,76,27],[75,28,76,28],[93,0,93,20],[121,0,121,20],[113,0,113,20],[75,23,76,23],[75,24,76,24],[75,25,76,25]]}
[]
[]
[]
[]
[]
[]
[]
[]
[]
[]
[]
[]
[]
[]
[]
[]
[]
[]
[]
[]
["    Mittlere Schadstoffmasse im gesättigten Boden (Einheitsfläche) (MB) [mg/m²]                             "]
["Sondierung Nr.",1,2,3,4,5,6,7,8,9,10,11,12,13,14,15,16,17,18,19,20,"Summe \n[kg]"," Mittlere Flächen-Konz. (MB) [mg/m²]"," Standard-abweich. (MB) [mg/m²]","MB + 2 s  [mg/m²]"," Inventar \n(MB-bezogen) [kg]"]
["Bezeichnung"]
["Flächenrepräsentanz [m²]",null,null,null,null,null,null,null,null,null,null,null,null,null,null,null,null,null,null,null,null,{"$f":"IF(SUM(B24:U24)=Schadstoffbelastung!$K$6,SUM(B24:U24),\"Σ ≠ \"&Schadstoffbelastung!$K$6&\"!\")","v":0}]
["    Leichtflüchtige chlorierte Kohlenwasserstoffe (LCKW) "]
["Tetrachlorethen",null,null,null,null,null,null,null,null,null,null,null,null,null,null,null,null,null,null,null,null,{"$f":"SUMPRODUCT($B$24:$U$24,$B26:$U26)*0.000001","v":0},{"$f":"IFERROR(AVERAGE($B26:$U26),0)","v":0},{"$f":"IF(SUM($B26:$U26)>0,_xlfn.STDEV.S(B26:U26),\"\")","v":""},{"$f":"IF(SUM($B26:$U26)>0,W26+X26*2,\"\")","v":""},{"$f":"Y26*$V$24/1000/1000","v":{"$error":"#VALUE!"}}]
["Trichlorethen",null,null,null,null,null,null,null,null,null,null,null,null,null,null,null,null,null,null,null,null,{"$f":"SUMPRODUCT($B$24:$U$24,$B27:$U27)*0.000001","v":0},{"$f":"IFERROR(AVERAGE($B27:$U27),0)","v":0},{"$f":"IF(SUM($B27:$U27)>0,_xlfn.STDEV.S(B27:U27),\"\")","v":""},{"$f":"IF(SUM($B27:$U27)>0,W27+X27*2,\"\")","v":""},{"$f":"Y27*$V$24/1000/1000","v":{"$error":"#VALUE!"}}]
["cis-1,2-Dichlorethen",null,null,null,null,null,null,null,null,null,null,null,null,null,null,null,null,null,null,null,null,0,0,"","",{"$error":"#VALUE!"}]
["trans-1,2-Dichlorethen",null,null,null,null,null,null,null,null,null,null,null,null,null,null,null,null,null,null,null,null,0,0,"","",{"$error":"#VALUE!"}]
["1,1-Dichlorethen",null,null,null,null,null,null,null,null,null,null,null,null,null,null,null,null,null,null,null,null,0,0,"","",{"$error":"#VALUE!"}]
["Vinylchlorid",null,null,null,null,null,null,null,null,null,null,null,null,null,null,null,null,null,null,null,null,0,0,"","",{"$error":"#VALUE!"}]
["Tetrachlormethan",null,null,null,null,null,null,null,null,null,null,null,null,null,null,null,null,null,null,null,null,{"$f":"SUMPRODUCT($B$24:$U$24,$B32:$U32)*0.000001","v":0},0,"","",{"$error":"#VALUE!"}]
["Trichlormethan",null,null,null,null,null,null,null,null,null,null,null,null,null,null,null,null,null,null,null,null,0,0,"","",{"$error":"#VALUE!"}]
["Dichlormethan",null,null,null,null,null,null,null,null,null,null,null,null,null,null,null,null,null,null,null,null,0,0,"","",{"$error":"#VALUE!"}]
["1,1,1-Trichlorethan",null,null,null,null,null,null,null,null,null,null,null,null,null,null,null,null,null,null,null,null,0,0,"","",{"$error":"#VALUE!"}]
["1,1,2-Trichlorethan",null,null,null,null,null,null,null,null,null,null,null,null,null,null,null,null,null,null,null,null,0,0,"","",{"$error":"#VALUE!"}]
["1,1-Dichlorethan",null,null,null,null,null,null,null,null,null,null,null,null,null,null,null,null,null,null,null,null,0,0,"","",{"$error":"#VALUE!"}]
["1,2-Dichlorethan",null,null,null,null,null,null,null,null,null,null,null,null,null,null,null,null,null,null,null,null,0,0,"","",{"$error":"#VALUE!"}]
["LCKW",{"$f":"IF(SUM(B26:B38)>0,SUM(B26:B38),\"\")","v":""},{"$f":"IF(SUM(C26:C38)>0,SUM(C26:C38),\"\")","v":""},"","","","","",{"$f":"IF(SUM(I26:I38)>0,SUM(I26:I38),\"\")","v":""},"","","","","","","","","","","","",{"$f":"SUM(V26:V38)","v":0},0,"","",{"$f":"SUM(Z26:Z38)","v":{"$error":"#VALUE!"}}]
["  (Mono)aromatische Kohlenwasserstoffe (AKW) "]
["Benzol",null,null,null,null,null,null,null,null,null,null,null,null,null,null,null,null,null,null,null,null,0,0,{"$f":"IF(SUM($B41:$U41)>0,_xlfn.STDEV.S(B41:U41),\"\")","v":""},{"$f":"IF(SUM($B41:$U41)>0,W41+X41*2,\"\")","v":""},{"$error":"#VALUE!"}]
["Toluol",null,null,null,null,null,null,null,null,null,null,null,null,null,null,null,null,null,null,null,null,0,0,"","",{"$error":"#VALUE!"}]
["Ethylbenzol",null,null,null,null,null,null,null,null,null,null,null,null,null,null,null,null,null,null,null,null,0,0,"","",{"$error":"#VALUE!"}]
["o-Xylol",null,null,null,null,null,null,null,null,null,null,null,null,null,null,null,null,null,null,null,null,0,0,"","",{"$error":"#VALUE!"}]
["m-Xylol",null,null,null,null,null,null,null,null,null,null,null,null,null,null,null,null,null,null,null,null,0,0,"","",{"$error":"#VALUE!"}]
["p-Xylol",null,null,null,null,null,null,null,null,null,null,null,null,null,null,null,null,null,null,null,null,0,0,"","",{"$error":"#VALUE!"}]
["n-Propylbenzol",null,null,null,null,null,null,null,null,null,null,null,null,null,null,null,null,null,null,null,null,0,0,"","",{"$error":"#VALUE!"}]
["Isopropylbenzol",null,null,null,null,null,null,null,null,null,null,null,null,null,null,null,null,null,null,null,null,0,0,"","",{"$error":"#VALUE!"}]
["o-Ethyltoluol",null,null,null,null,null,null,null,null,null,null,null,null,null,null,null,null,null,null,null,null,{"$f":"SUMPRODUCT($B$24:$U$24,$B49:$U49)*0.000001","v":0},0,"","",{"$error":"#VALUE!"}]
["m-Ethyltoluol",null,null,null,null,null,null,null,null,null,null,null,null,null,null,null,null,null,null,null,null,0,0,"","",{"$error":"#VALUE!"}]
["p-Ethyltoluol",null,null,null,null,null,null,null,null,null,null,null,null,null,null,null,null,null,null,null,null,0,0,"","",{"$error":"#VALUE!"}]
["1,2-Diethylbenzol",null,null,null,null,null,null,null,null,null,null,null,null,null,null,null,null,null,null,null,null,0,0,"","",{"$error":"#VALUE!"}]
["1,3-Diethylbenzol",null,null,null,null,null,null,null,null,null,null,null,null,null,null,null,null,null,null,null,null,0,0,"","",{"$error":"#VALUE!"}]
["1,4-Diethylbenzol",null,null,null,null,null,null,null,null,null,null,null,null,null,null,null,null,null,null,null,null,0,0,"","",{"$error":"#VALUE!"}]
["1,2,3-Trimethylbenzol",null,null,null,null,null,null,null,null,null,null,null,null,null,null,null,null,null,null,null,null,0,0,"","",{"$error":"#VALUE!"}]
["1,2,4-Trimethylbenzol",null,null,null,null,null,null,null,null,null,null,null,null,null,null,null,null,null,null,null,null,0,0,"","",{"$error":"#VALUE!"}]
["1,3,5-Trimethylbenzol",null,null,null,null,null,null,null,null,null,null,null,null,null,null,null,null,null,null,null,null,0,0,"","",{"$error":"#VALUE!"}]
["BTEX",{"$f":"IF(SUM(B41:B46)>0,SUM(B41:B46),\"\")","v":""},{"$f":"IF(SUM(C41:C46)>0,SUM(C41:C46),\"\")","v":""},"","","","","","","","","","","","","","","","","","",{"$f":"SUM(V41:V46)","v":0},0,"","",{"$f":"SUM(Z41:Z46)","v":{"$error":"#VALUE!"}}]
["AKW",{"$f":"IF(SUM(B41:B57)>0,SUM(B41:B57),\"\")","v":""},{"$f":"IF(SUM(C41:C57)>0,SUM(C41:C57),\"\")","v":""},"","","","","","","","","","","","","","","","","","",{"$f":"SUM(V41:V57)","v":0},0,"","",{"$f":"SUM(Z41:Z57)","v":{"$error":"#VALUE!"}}]
["   n-Alkane "]
["n-Pentan",null,null,null,null,null,null,null,null,null,null,null,null,null,null,null,null,null,null,null,null,{"$f":"SUMPRODUCT($B$24:$U$24,$B61:$U61)*0.000001","v":0},{"$f":"IFERROR(AVERAGE($B61:$U61),0)","v":0},{"$f":"IF(SUM($B61:$U61)>0,_xlfn.STDEV.S(B61:U61),\"\")","v":""},{"$f":"IF(SUM($B61:$U61)>0,W61+X61*2,\"\")","v":""},{"$f":"Y61*$V$24/1000/1000","v":{"$error":"#VALUE!"}}]
["n-Hexan",null,null,null,null,null,null,null,null,null,null,null,null,null,null,null,null,null,null,null,null,0,0,"","",{"$error":"#VALUE!"}]
["n-Heptan",null,null,null,null,null,null,null,null,null,null,null,null,null,null,null,null,null,null,null,null,0,0,"","",{"$error":"#VALUE!"}]
["n-Octan",null,null,null,null,null,null,null,null,null,null,null,null,null,null,null,null,null,null,null,null,0,0,"","",{"$error":"#VALUE!"}]
["n-Nonan",null,null,null,null,null,null,null,null,null,null,null,null,null,null,null,null,null,null,null,null,0,0,"","",{"$error":"#VALUE!"}]
["n-Decan",null,null,null,null,null,null,null,null,null,null,null,null,null,null,null,null,null,null,null,null,0,0,"","",{"$error":"#VALUE!"}]
["n-Alkane ",{"$f":"IF(SUM(B61:B66)>0,SUM(B61:B66),\"\")","v":""},{"$f":"IF(SUM(C61:C66)>0,SUM(C61:C66),\"\")","v":""},"","","","","","","","","","","","","","","","","","",{"$f":"SUM(V61:V65)","v":0},0,"","",{"$f":"SUM(Z61:Z65)","v":{"$error":"#VALUE!"}}]
["   Oxigenate"]
[" MTBE (Methyl-tert-butylether)",null,null,null,null,null,null,null,null,null,null,null,null,null,null,null,null,null,null,null,null,{"$f":"SUMPRODUCT($B$24:$U$24,$B69:$U69)*0.000001","v":0},0,{"$f":"IF(SUM($B69:$U69)>0,_xlfn.STDEV.S(B69:U69),\"\")","v":""},{"$f":"IF(SUM($B69:$U69)>0,W69+X69*2,\"\")","v":""},{"$error":"#VALUE!"}]
[" ETBE (Ethyl-tert-butylether)",null,null,null,null,null,null,null,null,null,null,null,null,null,null,null,null,null,null,null,null,{"$f":"SUMPRODUCT($B$24:$U$24,$B70:$U70)*0.000001","v":0},0,"","",{"$error":"#VALUE!"}]
[" TBA (tert-Butylalkohol) ",null,null,null,null,null,null,null,null,null,null,null,null,null,null,null,null,null,null,null,null,0,0,"","",{"$error":"#VALUE!"}]
[" Oxigenate ",{"$f":"IF(SUM(B69:B71)>0,SUM(B69:B71),\"\")","v":""},{"$f":"IF(SUM(C69:C71)>0,SUM(C69:C71),\"\")","v":""},"","","","","","","","","","","","","","","","","","",{"$f":"SUM(V69:V71)","v":0},0,"","",{"$f":"SUM(Z69:Z71)","v":{"$error":"#VALUE!"}}]
[]
[]
["Analysierte Schadstoffkonzentrationen im gesättigten Boden  [mg/kg]                             "]
["Sondierung",1,2,3,4,5,6,7,8,9,10,11,12,13,14,15,16,17,18,19,20,null," Minimum [mg/kg OS]"," Maximum [mg/kg OS]"," Median [mg/kg OS]"," Mittlere Konz. (MW) [mg/kg OS]"," Standard-abweich.  [mg/kg OS]","MW + 2 s  [mg/kg OS]"," Inventar \n(Mittelwert-bezogen) [kg]"]
[]
[]
["    Leichtflüchtige chlorierte Kohlenwasserstoffe (LCKW) ",null,null,null,null,null,null,null,null,null,null,null,null,null,null,null,null,null,null,null,null,null,null,null,{"$f":"IFERROR(MEDIAN($B79:$U79),\"\")","v":""},{"$f":"IF(SUM($B79:$U79)>0,AVERAGE($B79:$U79),\"\")","v":""},{"$f":"IF(SUM($B79:$U79)>0,_xlfn.STDEV.S(B79:U79),\"\")","v":""},{"$f":"IF(SUM($B79:$U79)>0,Z79+AA79*2,\"\")","v":""}]
["Tetrachlorethen",null,null,null,null,null,null,null,null,null,null,null,null,null,null,null,null,null,null,null,null,null,{"$f":"MIN(B80:U80)","v":0},{"$f":"MAX($B80:$U80)","v":0},{"$f":"IFERROR(MEDIAN($B80:$U80),\"\")","v":""},{"$f":"IF(SUM($B80:$U80)>0,AVERAGE($B80:$U80),\"\")","v":""},{"$f":"IF(SUM($B80:$U80)>0,_xlfn.STDEV.S(B80:U80),\"\")","v":""},"",{"$f":"AB80*Schadstoffbelastung!$K$12/1000","v":{"$error":"#VALUE!"}}]
["Trichlorethen",null,null,null,null,null,null,null,null,null,null,null,null,null,null,null,null,null,null,null,null,null,{"$f":"MIN(B81:U81)","v":0},{"$f":"MAX($B81:$U81)","v":0},{"$f":"IFERROR(MEDIAN($B81:$U81),\"\")","v":""},{"$f":"IF(SUM($B81:$U81)>0,AVERAGE($B81:$U81),\"\")","v":""},{"$f":"IF(SUM($B81:$U81)>0,_xlfn.STDEV.S(B81:U81),\"\")","v":""},{"$f":"IF(SUM($B81:$U81)>0,Z81+AA81*2,\"\")","v":""},{"$f":"AB81*Schadstoffbelastung!$K$12/1000","v":{"$error":"#VALUE!"}}]
["cis-1,2-Dichlorethen",null,null,null,null,null,null,null,null,null,null,null,null,null,null,null,null,null,null,null,null,null,0,0,"","","","",{"$f":"AB82*Schadstoffbelastung!$K$12/1000","v":{"$error":"#VALUE!"}}]
["trans-1,2-Dichlorethen",null,null,null,null,null,null,null,null,null,null,null,null,null,null,null,null,null,null,null,null,null,0,0,"","","","",{"$f":"AB83*Schadstoffbelastung!$K$12/1000","v":{"$error":"#VALUE!"}}]
["1,1-Dichlorethen",null,null,null,null,null,null,null,null,null,null,null,null,null,null,null,null,null,null,null,null,null,0,0,"","","","",{"$f":"AB84*Schadstoffbelastung!$K$12/1000","v":{"$error":"#VALUE!"}}]
["Vinylchlorid",null,null,null,null,null,null,null,null,null,null,null,null,null,null,null,null,null,null,null,null,null,0,0,"","","","",{"$f":"AB85*Schadstoffbelastung!$K$12/1000","v":{"$error":"#VALUE!"}}]
["Tetrachlormethan",null,null,null,null,null,null,null,null,null,null,null,null,null,null,null,null,null,null,null,null,null,0,0,"","","","",{"$f":"AB86*Schadstoffbelastung!$K$12/1000","v":{"$error":"#VALUE!"}}]
["Trichlormethan",null,null,null,null,null,null,null,null,null,null,null,null,null,null,null,null,null,null,null,null,null,0,0,"","","","",{"$f":"AB87*Schadstoffbelastung!$K$12/1000","v":{"$error":"#VALUE!"}}]
["Dichlormethan",null,null,null,null,null,null,null,null,null,null,null,null,null,null,null,null,null,null,null,null,null,0,0,"","","","",{"$f":"AB88*Schadstoffbelastung!$K$12/1000","v":{"$error":"#VALUE!"}}]
["1,1,1-Trichlorethan",null,null,null,null,null,null,null,null,null,null,null,null,null,null,null,null,null,null,null,null,null,0,0,"","","","",{"$f":"AB89*Schadstoffbelastung!$K$12/1000","v":{"$error":"#VALUE!"}}]
["1,1,2-Trichlorethan",null,null,null,null,null,null,null,null,null,null,null,null,null,null,null,null,null,null,null,null,null,0,0,"","","","",{"$f":"AB90*Schadstoffbelastung!$K$12/1000","v":{"$error":"#VALUE!"}}]
["1,1-Dichlorethan",null,null,null,null,null,null,null,null,null,null,null,null,null,null,null,null,null,null,null,null,null,0,0,"","","","",{"$f":"AB91*Schadstoffbelastung!$K$12/1000","v":{"$error":"#VALUE!"}}]
["1,2-Dichlorethan",null,null,null,null,null,null,null,null,null,null,null,null,null,null,null,null,null,null,null,null,null,0,0,"","","","",{"$f":"AB92*Schadstoffbelastung!$K$12/1000","v":{"$error":"#VALUE!"}}]
["LCKW",{"$f":"IF(SUM(B80:B92)>0,SUM(B80:B92),\"\")","v":""},{"$f":"IF(SUM(C80:C92)>0,SUM(C80:C92),\"\")","v":""},"","","","","","","","","","","","","","","","","","",null,{"$f":"MIN(B93:U93)","v":0},0,"","",{"$f":"IF(SUM($B93:$U93)>0,_xlfn.STDEV.S(B93:U93),\"\")","v":""},{"$f":"IF(SUM($B93:$U93)>0,Z93+AA93*2,\"\")","v":""},{"$f":"SUM(AC80:AC92)","v":{"$error":"#VALUE!"}}]
["  (Mono)aromatische Kohlenwasserstoffe (AKW) "]
["Benzol",null,null,null,null,null,null,null,null,null,null,null,null,null,null,null,null,null,null,null,null,null,{"$f":"MIN(B95:U95)","v":0},{"$f":"MAX($B95:$U95)","v":0},{"$f":"IFERROR(MEDIAN($B95:$U95),\"\")","v":""},{"$f":"IF(SUM($B95:$U95)>0,AVERAGE($B95:$U95),\"\")","v":""},{"$f":"IF(SUM($B95:$U95)>0,_xlfn.STDEV.S(B95:U95),\"\")","v":""},{"$f":"IF(SUM($B95:$U95)>0,Z95+AA95*2,\"\")","v":""},{"$f":"AB95*Schadstoffbelastung!$K$12/1000","v":{"$error":"#VALUE!"}}]
["Toluol",null,null,null,null,null,null,null,null,null,null,null,null,null,null,null,null,null,null,null,null,null,0,0,"","","","",{"$f":"AB96*Schadstoffbelastung!$K$12/1000","v":{"$error":"#VALUE!"}}]
["Ethylbenzol",null,null,null,null,null,null,null,null,null,null,null,null,null,null,null,null,null,null,null,null,null,0,0,"","","","",{"$f":"AB97*Schadstoffbelastung!$K$12/1000","v":{"$error":"#VALUE!"}}]
["o-Xylol",null,null,null,null,null,null,null,null,null,null,null,null,null,null,null,null,null,null,null,null,null,0,0,"","","","",{"$f":"AB98*Schadstoffbelastung!$K$12/1000","v":{"$error":"#VALUE!"}}]
["m-Xylol",null,null,null,null,null,null,null,null,null,null,null,null,null,null,null,null,null,null,null,null,null,0,0,"","","","",{"$f":"AB99*Schadstoffbelastung!$K$12/1000","v":{"$error":"#VALUE!"}}]
["p-Xylol",null,null,null,null,null,null,null,null,null,null,null,null,null,null,null,null,null,null,null,null,null,0,0,"","","","",{"$f":"AB100*Schadstoffbelastung!$K$12/1000","v":{"$error":"#VALUE!"}}]
["n-Propylbenzol",null,null,null,null,null,null,null,null,null,null,null,null,null,null,null,null,null,null,null,null,null,0,0,"","","","",{"$f":"AB101*Schadstoffbelastung!$K$12/1000","v":{"$error":"#VALUE!"}}]
["Isopropylbenzol",null,null,null,null,null,null,null,null,null,null,null,null,null,null,null,null,null,null,null,null,null,0,0,"","","","",{"$f":"AB102*Schadstoffbelastung!$K$12/1000","v":{"$error":"#VALUE!"}}]
["o-Ethyltoluol",null,null,null,null,null,null,null,null,null,null,null,null,null,null,null,null,null,null,null,null,null,0,0,"","","","",{"$f":"AB103*Schadstoffbelastung!$K$12/1000","v":{"$error":"#VALUE!"}}]
["m-Ethyltoluol",null,null,null,null,null,null,null,null,null,null,null,null,null,null,null,null,null,null,null,null,null,0,0,"","","","",{"$f":"AB104*Schadstoffbelastung!$K$12/1000","v":{"$error":"#VALUE!"}}]
["p-Ethyltoluol",null,null,null,null,null,null,null,null,null,null,null,null,null,null,null,null,null,null,null,null,null,0,0,"","","","",{"$f":"AB105*Schadstoffbelastung!$K$12/1000","v":{"$error":"#VALUE!"}}]
["1,2-Diethylbenzol",null,null,null,null,null,null,null,null,null,null,null,null,null,null,null,null,null,null,null,null,null,0,0,"","","","",{"$f":"AB106*Schadstoffbelastung!$K$12/1000","v":{"$error":"#VALUE!"}}]
["1,3-Diethylbenzol",null,null,null,null,null,null,null,null,null,null,null,null,null,null,null,null,null,null,null,null,null,0,0,"","","","",{"$f":"AB107*Schadstoffbelastung!$K$12/1000","v":{"$error":"#VALUE!"}}]
["1,4-Diethylbenzol",null,null,null,null,null,null,null,null,null,null,null,null,null,null,null,null,null,null,null,null,null,0,0,"","","","",{"$f":"AB108*Schadstoffbelastung!$K$12/1000","v":{"$error":"#VALUE!"}}]
["1,2,3-Trimethylbenzol",null,null,null,null,null,null,null,null,null,null,null,null,null,null,null,null,null,null,null,null,null,0,0,"","","","",{"$f":"AB109*Schadstoffbelastung!$K$12/1000","v":{"$error":"#VALUE!"}}]
["1,2,4-Trimethylbenzol",null,null,null,null,null,null,null,null,null,null,null,null,null,null,null,null,null,null,null,null,null,0,0,"","","","",{"$f":"AB110*Schadstoffbelastung!$K$12/1000","v":{"$error":"#VALUE!"}}]
["1,3,5-Trimethylbenzol",null,null,null,null,null,null,null,null,null,null,null,null,null,null,null,null,null,null,null,null,null,{"$f":"MIN(B111:U111)","v":0},0,"","",{"$f":"IF(SUM($B111:$U111)>0,_xlfn.STDEV.S(B111:U111),\"\")","v":""},{"$f":"IF(SUM($B111:$U111)>0,Z111+AA111*2,\"\")","v":""},{"$f":"AB111*Schadstoffbelastung!$K$12/1000","v":{"$error":"#VALUE!"}}]
["BTEX",{"$f":"IF(SUM(B95:B100)>0,SUM(B95:B100),\"\")","v":""},{"$f":"IF(SUM(C95:C100)>0,SUM(C95:C100),\"\")","v":""},"","","","","","","","","","","","","","","","","","",null,{"$f":"MIN(B112:U112)","v":0},{"$f":"MAX($B112:$U112)","v":0},{"$f":"IFERROR(MEDIAN($B112:$U112),\"\")","v":""},{"$f":"IF(SUM($B112:$U112)>0,AVERAGE($B112:$U112),\"\")","v":""},{"$f":"IF(SUM($B112:$U112)>0,_xlfn.STDEV.S(B112:U112),\"\")","v":""},{"$f":"IF(SUM($B112:$U112)>0,Z112+AA112*2,\"\")","v":""},{"$f":"SUM(AC95:AC100)","v":{"$error":"#VALUE!"}}]
["AKW",{"$f":"IF(SUM(B95:B111)>0,SUM(B95:B111),\"\")","v":""},{"$f":"IF(SUM(C95:C111)>0,SUM(C95:C111),\"\")","v":""},"","","","","","","","","","","","","","","","","","",null,0,0,"","","","",{"$f":"SUM(AC95:AC111)","v":{"$error":"#VALUE!"}}]
["   n-Alkane "]
["n-Pentan",null,null,null,null,null,null,null,null,null,null,null,null,null,null,null,null,null,null,null,null,null,{"$f":"MIN(B115:U115)","v":0},{"$f":"MAX($B115:$U115)","v":0},{"$f":"IFERROR(MEDIAN($B115:$U115),\"\")","v":""},{"$f":"IF(SUM($B115:$U115)>0,AVERAGE($B115:$U115),\"\")","v":""},{"$f":"IF(SUM($B115:$U115)>0,_xlfn.STDEV.S(B115:U115),\"\")","v":""},{"$f":"IF(SUM($B115:$U115)>0,Z115+AA115*2,\"\")","v":""},{"$f":"AB115*Schadstoffbelastung!$K$12/1000","v":{"$error":"#VALUE!"}}]
["n-Hexan",null,null,null,null,null,null,null,null,null,null,null,null,null,null,null,null,null,null,null,null,null,0,0,"","","","",{"$f":"AB116*Schadstoffbelastung!$K$12/1000","v":{"$error":"#VALUE!"}}]
["n-Heptan",null,null,null,null,null,null,null,null,null,null,null,null,null,null,null,null,null,null,null,null,null,0,0,"","","","",{"$f":"AB117*Schadstoffbelastung!$K$12/1000","v":{"$error":"#VALUE!"}}]
["n-Octan",null,null,null,null,null,null,null,null,null,null,null,null,null,null,null,null,null,null,null,null,null,0,0,"","","","",{"$f":"AB118*Schadstoffbelastung!$K$12/1000","v":{"$error":"#VALUE!"}}]
["n-Nonan",null,null,null,null,null,null,null,null,null,null,null,null,null,null,null,null,null,null,null,null,null,0,0,"","","","",{"$f":"AB119*Schadstoffbelastung!$K$12/1000","v":{"$error":"#VALUE!"}}]
["n-Decan",null,null,null,null,null,null,null,null,null,null,null,null,null,null,null,null,null,null,null,null,null,0,0,"","","","",{"$f":"AB120*Schadstoffbelastung!$K$12/1000","v":{"$error":"#VALUE!"}}]
["n-Alkane ",{"$f":"IF(SUM(B115:B120)>0,SUM(B115:B120),\"\")","v":""},{"$f":"IF(SUM(C115:C120)>0,SUM(C115:C120),\"\")","v":""},"","","","","","","","","","","","","","","","","","",null,0,0,"","","","",{"$f":"SUM(AC115:AC120)","v":{"$error":"#VALUE!"}}]
["    Oxigenate"]
[" MTBE (Methyl-tert-butylether)",null,null,null,null,null,null,null,null,null,null,null,null,null,null,null,null,null,null,null,null,null,{"$f":"MIN(B123:U123)","v":0},{"$f":"MAX($B123:$U123)","v":0},{"$f":"IFERROR(MEDIAN($B123:$U123),\"\")","v":""},{"$f":"IF(SUM($B123:$U123)>0,AVERAGE($B123:$U123),\"\")","v":""},{"$f":"IF(SUM($B123:$U123)>0,_xlfn.STDEV.S(B123:U123),\"\")","v":""},{"$f":"IF(SUM($B123:$U123)>0,Z123+AA123*2,\"\")","v":""},{"$f":"AB123*Schadstoffbelastung!$K$12/1000","v":{"$error":"#VALUE!"}}]
[" ETBE (Ethyl-tert-butylether)",null,null,null,null,null,null,null,null,null,null,null,null,null,null,null,null,null,null,null,null,null,0,0,"","","","",{"$f":"AB124*Schadstoffbelastung!$K$12/1000","v":{"$error":"#VALUE!"}}]
[" TBA (tert-Butylalkohol) ",null,null,null,null,null,null,null,null,null,null,null,null,null,null,null,null,null,null,null,null,null,0,0,"","","","",{"$f":"AB125*Schadstoffbelastung!$K$12/1000","v":{"$error":"#VALUE!"}}]
[" Oxigenate ",{"$f":"IF(SUM(B123:B125)>0,SUM(B123:B125),\"\")","v":""},{"$f":"IF(SUM(C123:C125)>0,SUM(C123:C125),\"\")","v":""},"","","","","","","","","","","","","","","","","","",null,0,0,"","","","",{"$f":"SUM(AC123:AC125)","v":{"$error":"#VALUE!"}}]

{"sheet":"Tabelle1","index":12,"n_rows":11,"n_cols":21,"rows_kept":11,"cut":false,"hidden":true,"merged":[]}
["LCKW",{"$f":"'Schadstoffkonzentrationen Boden'!B93","v":""},{"$f":"'Schadstoffkonzentrationen Boden'!C93","v":""},{"$f":"'Schadstoffkonzentrationen Boden'!D93","v":""},{"$f":"'Schadstoffkonzentrationen Boden'!E93","v":""},{"$f":"'Schadstoffkonzentrationen Boden'!F93","v":""},{"$f":"'Schadstoffkonzentrationen Boden'!G93","v":""},{"$f":"'Schadstoffkonzentrationen Boden'!H93","v":""},{"$f":"'Schadstoffkonzentrationen Boden'!I93","v":""},{"$f":"'Schadstoffkonzentrationen Boden'!J93","v":""},{"$f":"'Schadstoffkonzentrationen Boden'!K93","v":""},{"$f":"'Schadstoffkonzentrationen Boden'!L93","v":""},{"$f":"'Schadstoffkonzentrationen Boden'!M93","v":""},{"$f":"'Schadstoffkonzentrationen Boden'!N93","v":""},{"$f":"'Schadstoffkonzentrationen Boden'!O93","v":""},{"$f":"'Schadstoffkonzentrationen Boden'!P93","v":""},{"$f":"'Schadstoffkonzentrationen Boden'!Q93","v":""},{"$f":"'Schadstoffkonzentrationen Boden'!R93","v":""},{"$f":"'Schadstoffkonzentrationen Boden'!S93","v":""},{"$f":"'Schadstoffkonzentrationen Boden'!T93","v":""},{"$f":"'Schadstoffkonzentrationen Boden'!U93","v":""}]
["LCKW",{"$f":"_xlfn.RANK.EQ(B1,$B$1:$U$1)","v":{"$error":"#VALUE!"}},{"$f":"_xlfn.RANK.EQ(C1,$B$1:$U$1)","v":{"$error":"#VALUE!"}},{"$error":"#VALUE!"},{"$error":"#VALUE!"},{"$error":"#VALUE!"},{"$error":"#VALUE!"},{"$error":"#VALUE!"},{"$error":"#VALUE!"},{"$error":"#VALUE!"},{"$error":"#VALUE!"},{"$error":"#VALUE!"},{"$error":"#VALUE!"},{"$error":"#VALUE!"},{"$error":"#VALUE!"},{"$error":"#VALUE!"},{"$error":"#VALUE!"},{"$error":"#VALUE!"},{"$error":"#VALUE!"},{"$error":"#VALUE!"},{"$error":"#VALUE!"}]
[]
["AKW",{"$f":"'Schadstoffkonzentrationen Boden'!B113","v":""},{"$f":"'Schadstoffkonzentrationen Boden'!C113","v":""},{"$f":"'Schadstoffkonzentrationen Boden'!D113","v":""},{"$f":"'Schadstoffkonzentrationen Boden'!E113","v":""},{"$f":"'Schadstoffkonzentrationen Boden'!F113","v":""},{"$f":"'Schadstoffkonzentrationen Boden'!G113","v":""},{"$f":"'Schadstoffkonzentrationen Boden'!H113","v":""},{"$f":"'Schadstoffkonzentrationen Boden'!I113","v":""},{"$f":"'Schadstoffkonzentrationen Boden'!J113","v":""},{"$f":"'Schadstoffkonzentrationen Boden'!K113","v":""},{"$f":"'Schadstoffkonzentrationen Boden'!L113","v":""},{"$f":"'Schadstoffkonzentrationen Boden'!M113","v":""},{"$f":"'Schadstoffkonzentrationen Boden'!N113","v":""},{"$f":"'Schadstoffkonzentrationen Boden'!O113","v":""},{"$f":"'Schadstoffkonzentrationen Boden'!P113","v":""},{"$f":"'Schadstoffkonzentrationen Boden'!Q113","v":""},{"$f":"'Schadstoffkonzentrationen Boden'!R113","v":""},{"$f":"'Schadstoffkonzentrationen Boden'!S113","v":""},{"$f":"'Schadstoffkonzentrationen Boden'!T113","v":""},{"$f":"'Schadstoffkonzentrationen Boden'!U113","v":""}]
["AKW",{"$f":"_xlfn.RANK.EQ(B4,$B$4:$U$4)","v":{"$error":"#VALUE!"}},{"$f":"_xlfn.RANK.EQ(C4,$B$4:$U$4)","v":{"$error":"#VALUE!"}},{"$error":"#VALUE!"},{"$error":"#VALUE!"},{"$error":"#VALUE!"},{"$error":"#VALUE!"},{"$error":"#VALUE!"},{"$error":"#VALUE!"},{"$error":"#VALUE!"},{"$error":"#VALUE!"},{"$error":"#VALUE!"},{"$error":"#VALUE!"},{"$error":"#VALUE!"},{"$error":"#VALUE!"},{"$error":"#VALUE!"},{"$error":"#VALUE!"},{"$error":"#VALUE!"},{"$error":"#VALUE!"},{"$error":"#VALUE!"},{"$error":"#VALUE!"}]
[]
["n-Alkane",{"$f":"'Schadstoffkonzentrationen Boden'!B121","v":""},{"$f":"'Schadstoffkonzentrationen Boden'!C121","v":""},{"$f":"'Schadstoffkonzentrationen Boden'!D121","v":""},{"$f":"'Schadstoffkonzentrationen Boden'!E121","v":""},{"$f":"'Schadstoffkonzentrationen Boden'!F121","v":""},{"$f":"'Schadstoffkonzentrationen Boden'!G121","v":""},{"$f":"'Schadstoffkonzentrationen Boden'!H121","v":""},{"$f":"'Schadstoffkonzentrationen Boden'!I121","v":""},{"$f":"'Schadstoffkonzentrationen Boden'!J121","v":""},{"$f":"'Schadstoffkonzentrationen Boden'!K121","v":""},{"$f":"'Schadstoffkonzentrationen Boden'!L121","v":""},{"$f":"'Schadstoffkonzentrationen Boden'!M121","v":""},{"$f":"'Schadstoffkonzentrationen Boden'!N121","v":""},{"$f":"'Schadstoffkonzentrationen Boden'!O121","v":""},{"$f":"'Schadstoffkonzentrationen Boden'!P121","v":""},{"$f":"'Schadstoffkonzentrationen Boden'!Q121","v":""},{"$f":"'Schadstoffkonzentrationen Boden'!R121","v":""},{"$f":"'Schadstoffkonzentrationen Boden'!S121","v":""},{"$f":"'Schadstoffkonzentrationen Boden'!T121","v":""},{"$f":"'Schadstoffkonzentrationen Boden'!U121","v":""}]
["n-Alkane",{"$f":"_xlfn.RANK.EQ(B7,$B$7:$U$7)","v":{"$error":"#VALUE!"}},{"$f":"_xlfn.RANK.EQ(C7,$B$7:$U$7)","v":{"$error":"#VALUE!"}},{"$error":"#VALUE!"},{"$error":"#VALUE!"},{"$error":"#VALUE!"},{"$error":"#VALUE!"},{"$error":"#VALUE!"},{"$error":"#VALUE!"},{"$error":"#VALUE!"},{"$error":"#VALUE!"},{"$error":"#VALUE!"},{"$error":"#VALUE!"},{"$error":"#VALUE!"},{"$error":"#VALUE!"},{"$error":"#VALUE!"},{"$error":"#VALUE!"},{"$error":"#VALUE!"},{"$error":"#VALUE!"},{"$error":"#VALUE!"},{"$error":"#VALUE!"}]
[]
["Oxigenate",{"$f":"'Schadstoffkonzentrationen Boden'!B126","v":""},{"$f":"'Schadstoffkonzentrationen Boden'!C126","v":""},{"$f":"'Schadstoffkonzentrationen Boden'!D126","v":""},{"$f":"'Schadstoffkonzentrationen Boden'!E126","v":""},{"$f":"'Schadstoffkonzentrationen Boden'!F126","v":""},{"$f":"'Schadstoffkonzentrationen Boden'!G126","v":""},{"$f":"'Schadstoffkonzentrationen Boden'!H126","v":""},{"$f":"'Schadstoffkonzentrationen Boden'!I126","v":""},{"$f":"'Schadstoffkonzentrationen Boden'!J126","v":""},{"$f":"'Schadstoffkonzentrationen Boden'!K126","v":""},{"$f":"'Schadstoffkonzentrationen Boden'!L126","v":""},{"$f":"'Schadstoffkonzentrationen Boden'!M126","v":""},{"$f":"'Schadstoffkonzentrationen Boden'!N126","v":""},{"$f":"'Schadstoffkonzentrationen Boden'!O126","v":""},{"$f":"'Schadstoffkonzentrationen Boden'!P126","v":""},{"$f":"'Schadstoffkonzentrationen Boden'!Q126","v":""},{"$f":"'Schadstoffkonzentrationen Boden'!R126","v":""},{"$f":"'Schadstoffkonzentrationen Boden'!S126","v":""},{"$f":"'Schadstoffkonzentrationen Boden'!T126","v":""},{"$f":"'Schadstoffkonzentrationen Boden'!U126","v":""}]
["Oxigenate",{"$f":"_xlfn.RANK.EQ(B10,$B$10:$U$10)","v":{"$error":"#VALUE!"}},{"$f":"_xlfn.RANK.EQ(C10,$B$10:$U$10)","v":{"$error":"#VALUE!"}},{"$error":"#VALUE!"},{"$error":"#VALUE!"},{"$error":"#VALUE!"},{"$error":"#VALUE!"},{"$error":"#VALUE!"},{"$error":"#VALUE!"},{"$error":"#VALUE!"},{"$error":"#VALUE!"},{"$error":"#VALUE!"},{"$error":"#VALUE!"},{"$error":"#VALUE!"},{"$error":"#VALUE!"},{"$error":"#VALUE!"},{"$error":"#VALUE!"},{"$error":"#VALUE!"},{"$error":"#VALUE!"},{"$error":"#VALUE!"},{"$error":"#VALUE!"}]